{"text_format":"1","workbook":"xlsx","n_sheets":7,"sheets":["Regional Impact-Highways","Regional Impact-Transit","Division Needs-Highways","Division Needs-Aviation","Division Needs-Bike and Ped","Division Needs-Ferry","Division Needs-Transit"],"not_rendered":{"charts":0,"images":0,"macros":1,"external_links":5,"defined_names":376,"comments":0,"pivot_tables":0},"unopened":[],"bounds":{"document_bytes":16777216,"sheet_cells":100000,"rows_first":2000,"rows_last":500,"rows_between":2000,"halvings":0,"cell_chars":16384,"cell_head_chars":4096},"cells_cut":0,"cells_raw":0,"read":"whole","date_system":"1900"}

{"sheet":"Regional Impact-Highways","index":0,"n_rows":186,"n_cols":140,"rows_kept":186,"cut":false,"hidden":false,"merged":[[5,71,5,76],[6,20,6,29],[6,30,6,42],[1,4,1,44],[5,0,5,4],[5,6,5,39]]}
[]
[null,null,null,null," "]
[]
[null,null,null,null,null,null,null,null,null,"Projects in blue are fully funded for construction and not eligible for local input point assignment ",null,"*Projects over $200M may be subject to the corridor cap",null,null,null,null,null,null,null,null,null,null,null,null,null,null,null,null,null,null,null,null,null,null,null,null,null,null,null,null,null,null,null,null,null,null,null,null,null,null,null,null,null,null,null,null,null,null,null,null,null,null,null,null,null,null,null,null,null,null,null,null,null,null,null,null,null,null,null,null,null,null,null,null,null,null,null,null,null,null,null,null,null,null,null,null,null,null,null,null,null,null,null,null,null,null,null,null,null,null,null,null,null,null,null,null,null,null,null,null,null,null,null,null,null,null,null,null,null,null,null,null,null,null,null,null,null,"*Projects over $200M may be subject to the corridor cap"]
[]
["DRAFT",null,null,null,null,null,"Division One Regional Impact Point Assignment-Highways",null,null,null,null,null,null,null,null,null,null,null,null,null,null,null,null,null,null,null,null,null,null,null,null,null,null,null,null,null,null,null,null,null,null,null,null,null,null,null,null,null,null,null,null,null,null,null,null,null,null,null,null,null,null,null,null,null,null,null,null,null,null,null,null,"DRAFT"]
[null,null,null,null,null,null,null,null,null,null,null,null,null,null,null,null,null,null,null,null,"Regional Criteria",null,null,null,null,null,null,null,null,null,"Division Needs"]
["SPOT ID","County","RPO","MODE","Project Category","TIP","Route","From / Cross Street","To","Description","Specific Improvement Type","Cost to NCDOT","Statewide Mobility Quantiative Score\n(Out of 100)",null,"Regional Impact Quantiative Score\n(Out of 70)","Regional Impact RPO Score (Out of 15)","Division Needs Quantiative Score\n(Out of 50)","Division Needs RPO Score (Out of 25)","Total Division Needs (Out of 100)",null,"Safety Score (15pts)","Cost Effectiveness Score (15pts)","Cost Effectiveness","Freight Volume Score                (10pts)","Transportation Plan Consistency Score (20pts)","Transportation Plan Consistency (Yes/No)","Corridor Continuity Score (20pts)","Corridor Continuity (Yes/No)","Public Support Score (20pts)","Public Support","Safety Score (20pts)","Cost Effectiveness (20pts)","Transportation Plan Consistency (15pts)","Multimodal Accomodations (10pts)","Multimodal (Yes/No)","Project Feasibility (15pts)","Project Feasibility (Significant/Minimal)","Public Support (10pts)","Public Support (Yes/No)","Airport Safety (5pts)","Airport Safety (Yes/No)","Transit Expansion (5pts)","Transit (Yes/No)","Congestion","[Travel Time] Benefit/Cost","Safety","Multimodal + [Freight & Military]","Economic Competitiveness","Accessibility / Connectivity","Lane Width","[Paved] Shoulder Width",null,null,null," MPO/RPO","First MPO/RPO %","Second MPO/RPO","Second MPO/RPO %","Third MPO/RPO","Third MPO/RPO %","First Division","First Division %","Second Division","Second Division %","Third Division","Third Division %","Divisin Methodology Preliminary Ranking","Division Methodology Preliminary Ranking","Preliminary Ranking","Preliminary Ranking","Division Engineer Local Points REGIONAL","Division Engineer Local Points DIVISION NEEDS","SPOT + Division Points","Comments","SPOT + Division Points","SPOT + RPO + Division","Comments","County","First County %","Second County","Second County %","Third County","Third County %","Fourth County","Fourth County %","Highest Division","Funding Region","All Divisions","All MPOs/RPOs","All Counties","Existing Length (Miles)","Project Length (Miles)","Existing Facility Type","Project Facility Type","Existing Lanes Per Direction","Project Lanes Per Direction","Existing Median Type","Project Median Type","Existing Speed Limit","Project Speed Limit","Truck %","Auto %","Existing Volume","Existing Capacity","Existing Volume / Capacity Ratio","Auto Volume","Truck Volume","Travel Time Savings Over 30 Years Autos (Hrs)","Travel Time Savings Over 30 Years Trucks (Hrs)","Travel Time Savings Over 30 Years Total (Hrs)","Travel Time Savings Over 30 Years Total ($)","Crash Density Points Segment","Crash Severity Points Segment","Critical Crash Rate Points Segment","Crash Frequency Points Intersection","Severity Index Points Intersection","Long Term Employment","Percent Change In Value Added","Non-Interstate STRAHNet Route","Direct Connection to Transportation Terminal","Existing Lane Width","DOT Design Standard Lane Width","Existing Roadway Has Curb & Gutter","Existing Paved Shoulder Width","DOT Design Paved Shoulder Width","Existing Cross Section","Project Cross Section","Existing Access Control","Project Access Control","County Tier","Upgrade Roadway Eligible","Census Average Commute Time","Construction Cost","Right-Of-Way Cost","Utilities Cost","Actual Project Cost","Other Funds","Cost to NCDOT","Cost Used in Benefit/Cost Analysis","Other Funds Source"]
["T130121","Dare","Albemarle RPO","Transit","Division Needs",null,null,null,null,"Expansion Vehicle-Due to expected increased demand for public transportation within the community we would like to have a 13-passenger LTV as part of our fleet in FY 2018. For the period FY2011-FY2014, we have seen an approximate increase of 15% each year for demand, riders, and trips. This trend is expected to continue as the elderly population in the region increases.",null,6655,null,null,null,null,4.03,9.75,{"$f":"Q9+#REF!+R9","v":{"$error":"#REF!"}},null,{"$f":"IF(AT9<30,0,IF(AT9<50,5,IF(AT9<65,10,IF(AT9>66,15))))","v":5},0,{"$f":"(EH9/CY9)/CN9","v":1.4999485992069509E-6},0," ","Yes",{"$f":"IF(AB9=\"Yes\",10,0)","v":0},"No",{"$f":"IF(AD9=\"Yes\",10,0)","v":0},"No",{"$f":"IF(AT9<30,0,IF(AT9<50,5,IF(AT9<65,10,IF(AT9<79,15,IF(AT9>80,20)))))","v":5},{"$f":"IF(W9<999,20,IF(W9<1499,15,IF(W9<1999,10,IF(W9<3999,5,IF(W9>4000,0)))))","v":20},{"$f":"IF(Z9=\"Yes\",15,0)","v":15},{"$f":"IF(AI9=\"Yes\",10,0)","v":10},"Yes",{"$f":"IF(AK9=\"Minimal\",15,0)","v":15},"Minimal",{"$f":"IF(AM9=\"Yes\",10,0)","v":10},"Yes",{"$f":"IF(AO9=\"Yes\",5,0)","v":0},"No",{"$f":"IF(AQ9=\"Yes\",5,0)","v":5},"Yes",null,null,31.2,null,null,null,null,null,null,null,null,"Albemarle RPO",null,null,null,null,null,null,null,null,null,null,null,null,{"$f":"SUM(AE9+AF9+AG9+AH9+AJ9+AL9+AN9+AP9)","v":80},null,null,null,100,{"$f":"Q9+BT9*0.25","v":29.03},null,null,null,null,"Dare",null,null,null,null,null,null,null,null,null,null,null,null,null,248868,null,null,null,null,null,null,null,null,null,null,17828,null,null,null,null,null,null,null,null,null,null,null,null,null,null,null,null,null,null,null,null,null,null,null,null,null,null,null,null,null,null,null,null,66550,null,6655,null,"Fed:$53,240                        Local:$6,655"]
["T130109","Martin","Mid-East RPO","Transit","Division Needs",null,null,null,null,"Expansion Vehicle-Martin County  Transit provides curb to curb public transportation service in a demand-response system.   Many of the riders are elderly and/or disabled that depend on Martin County Transit as his/her's only means of transportation to services and resources.   Martin County Transit works closely with Social Services to provide transportation for these vulnerable adults. ",null,6010," ",null," ",null,3.19,null,{"$f":"Q10+#REF!+R10","v":{"$error":"#REF!"}},null,5,0,0,0," ","Yes",{"$f":"IF(AB10=\"Yes\",10,0)","v":0},"No",{"$f":"IF(AD10=\"Yes\",10,0)","v":0},"No",5,20,15,10,"Yes",15,"Minimal",10,"Yes",0,"No",5,"Yes",null,null,31.2,null,null,null,null,null,null,null,null,"Mid-East RPO",null,null,null,null,null,null,null,null,null,null,null,null,80,null,null,null,null,null,null,null,null,null,"Martin",null,null,null,null,null,null,null,null,null,null,null,null,null,33392,null,null,null,null,null,null,null,null,null,null,2280,null,null,null,null,null,null,null,null,null,null,null,null,null,null,null,null,null,null,null,null,null,null,null,null,null,null,null,null,null,null,null,null,60100,null,6010,null,"Fed:$48,080 Local:$6,010"]
["T130017","Pasquotank","Albemarle RPO","Transit","Regional Impact",null,null,null,null,"Expansion Vehicle-ARHS-ICPTA’s covers a little over 1000 square miles across five counties.  Our agency wants to purchase an expansion vehicle to meet client demand. ",null,8205,null,null,5.35,3.15,5.01,9.75,{"$f":"Q11+#REF!+R11","v":{"$error":"#REF!"}},null,5,{"$f":"IF(W11<499,15,IF(W11<999,10,IF(W11<1499,5,IF(W11>1500,0))))","v":15},{"$f":"(EH11/CY11)/CN11","v":2.0337951039078898E-5},0,{"$f":"IF(Z11=\"Yes\",20,0)","v":20},"Yes",{"$f":"IF(AB11=\"Yes\",20,0)","v":0},"No",{"$f":"IF(AD11=\"Yes\",20,0)","v":20},"Yes",5,20,15,10,"Yes",15,"Minimal",10,"Yes",0,"No",5,"Yes",null,null,31.2,null,null,null,null,null,null,null,null,"Albemarle RPO",null,null,null,null,null,null,null,null,null,null,null,{"$f":"SUM(U11+V11+X11+Y11+AA11+AC11)","v":60},80,null,null,null,null,null,null,{"$f":"O11+BS11*0.25","v":5.35},null,null,"Pasquotank",null,null,null,null,null,null,null,null,null,null,null,null,null,870586,null,null,null,null,null,null,null,null,null,null,98611,null,null,null,null,null,null,null,null,null,null,null,null,null,null,null,null,null,null,null,null,null,null,null,null,null,null,null,null,null,null,null,null,82050,null,1746000,null,"Fed:$65,640                            Local:$8,205"]
["T130018","Pasquotank","Albemarle RPO","Transit","Regional Impact",null,null,null,null,"Expansion Vehicle-ARHS-ICPTA’s covers a little over 1000 square miles across five counties.  Our agency wants to purchase an expansion vehicle to meet client demand. ",null,8205,null,null,4.8,3.15,4.46,9.75,{"$f":"Q12+#REF!+R12","v":{"$error":"#REF!"}},null,5,15,9.5574391910448089E-8,0,20,"Yes",0,"No",20,"Yes",5,20,15,10,"Yes",15,"Minimal",10,"Yes",0,"No",5,"Yes",null,null,31.2,null,null,null,null,null,null,null,null,"Albemarle RPO",null,null,null,null,null,null,null,null,null,null,null,60,80,null,null,null,null,null,null,4.8,null,null,"Pasquotank",null,null,null,null,null,null,null,null,null,null,null,null,null,870586,null,null,null,null,null,null,null,null,null,null,98611,null,null,null,null,null,null,null,null,null,null,null,null,null,null,null,null,null,null,null,null,null,null,null,null,null,null,null,null,null,null,null,null,82050,null,8205,null,"Fed:$65,640                            Local:$8,205"]
["T130019","Pasquotank","Albemarle RPO","Transit","Regional Impact",null,null,null,null,"Expansion Vehicle-ARHS-ICPTA’s covers a little over 1000 square miles across five counties.  Our agency wants to purchase an expansion vehicle to meet client demand. ",null,8205,null,null,4.8,3.15,4.46,9.75,{"$f":"Q13+#REF!+R13","v":{"$error":"#REF!"}},null,5,15,9.5574391910448089E-8,0,20,"Yes",0,"No",20,"Yes",5,20,15,10,"Yes",15,"Minimal",10,"Yes",0,"No",5,"Yes",null,null,31.2,null,null,null,null,"Fed:$65,640                            Local:$8,205",null,null,null,"Albemarle RPO",null,null,null,null,null,null,null,null,null,null,null,60,80,null,null,null,null,null,null,4.8,null,null,"Pasquotank",null,null,null,null,null,null,null,null,null,null,null,null,null,870586,null,null,null,null,null,null,null,null,null,null,98611,null,null,null,null,null,null,null,null,null,null,null,null,null,null,null,null,null,null,null,null,null,null,null,null,null,null,null,null,null,null,null,null,82050,null,8205,null,"Fed:$65,640                            Local:$8,205"]
["T130020","Pasquotank","Albemarle RPO","Transit","Regional Impact",null,null,null,null,"Expansion Vehicle-ARHS-ICPTA’s covers a little over 1000 square miles across five counties.  Our agency wants to purchase an expansion vehicle to meet client demand. ",null,8205,null,null,4.8,3.15,4.46,9.75,{"$f":"Q14+#REF!+R14","v":{"$error":"#REF!"}},null,5,15,9.5574391910448089E-8,0,20,"Yes",0,"No",20,"Yes",5,20,15,10,"Yes",15,"Minimal",10,"Yes",0,"No",5,"Yes",null,null,31.2,null,null,null,null,"Fed:$65,640                            Local:$8,205",null,null,null,"Albemarle RPO",null,null,null,null,null,null,null,null,null,null,null,60,80,null,null,null,null,null,null,4.8,null,null,"Pasquotank",null,null,null,null,null,null,null,null,null,null,null,null,null,870586,null,null,null,null,null,null,null,null,null,null,98611,null,null,null,null,null,null,null,null,null,null,null,null,null,null,null,null,null,null,null,null,null,null,null,null,null,null,null,null,null,null,null,null,82050,null,8205,null,"Fed:$65,640                            Local:$8,205"]
["T130021","Pasquotank","Albemarle RPO","Transit","Regional Impact",null,null,null,null,"Expansion Vehicle-ARHS-ICPTA’s covers a little over 1000 square miles across five counties.  Our agency wants to purchase an expansion vehicle to meet client demand. ",null,8205,null,null,4.8,3.15,4.46,9.75,{"$f":"Q15+#REF!+R15","v":{"$error":"#REF!"}},null,5,15,9.5574391910448089E-8,0,20,"Yes",0,"No",20,"Yes",5,20,15,10,"Yes",15,"Minimal",10,"Yes",0,"No",5,"Yes",null,null,31.2,null,null,null,null,"Fed:$65,640                            Local:$8,205",null,null,null,"Albemarle RPO",null,null,null,null,null,null,null,null,null,null,null,60,80,null,null,null,null,null,null,4.8,null,null,"Pasquotank",null,null,null,null,null,null,null,null,null,null,null,null,null,870586,null,null,null,null,null,null,null,null,null,null,98611,null,null,null,null,null,null,null,null,null,null,null,null,null,null,null,null,null,null,null,null,null,null,null,null,null,null,null,null,null,null,null,null,82050,null,8205,null,"Fed:$65,640                            Local:$8,205"]
["T130072","Bertie","Peanut Belt RPO","Transit","Regional Impact",null,null,null,null,"Expansion Vehicle-Purpose of expanding routes for employment, education, and/or medical purposes. Etc.  ",null,6783,null,null,2.97,3.15,2.85,null,{"$f":"Q16+#REF!+R16","v":{"$error":"#REF!"}},null,5,15,1.1956010382247026E-7,0,20,"Yes",0,"No",20,"Yes",5,20,15,10,"Yes",15,"Minimal",10,"Yes",0,"No",5,"Yes",null,null,31.2,null,null,null,null,null,null,null,null,"Peanut Belt RPO",null,null,null,null,null,null,null,null,null,null,null,60,80,null,null,null,null,null,null,2.97,null,null,"Bertie",null,null,null,null,null,null,null,null,null,null,null,null,null,1238603,null,null,null,null,null,null,null,null,null,null,45804,null,null,null,null,null,null,null,null,null,null,null,null,null,null,null,null,null,null,null,null,null,null,null,null,null,null,null,null,null,null,null,null,67830,null,6783,null,"Fed:$54,264              Local:$6,783"]
["H090230","Dare","Albemarle RPO","Highway","Statewide Mobility","R-3419","US-158 ","US 64-NC 12","Eastern End of Currituck Sound Bridge","Add Additional Lanes.","1 - Widen Existing Roadway",85428000,33.826595565109983,null,22.42,12.3,15.67,6.75,{"$f":"Q17+#REF!+R17","v":{"$error":"#REF!"}},null,{"$f":"IF(AT17<30,0,IF(AT17<50,5,IF(AT17<65,10,IF(AT17>66,15))))","v":15},{"$f":"IF(W17<499,15,IF(W17<999,10,IF(W17<1499,5,IF(W17>1500,0))))","v":15},{"$f":"(EH17/CY17)/CN17","v":183.5913006327666},{"$f":"IF(DC17<500,0,IF(DC17<1000,5,IF(DC17>1000,10)))","v":10},{"$f":"IF(Z17=\"Yes\",20,0)","v":20},"Yes",{"$f":"IF(AB17=\"Yes\",20,0)","v":20},"Yes",{"$f":"IF(AD17=\"Yes\",20,0)","v":20},"Yes",{"$f":"IF(AT17<30,0,IF(AT17<50,5,IF(AT17<65,10,IF(AT17<79,15,IF(AT17>80,20)))))","v":15},{"$f":"IF(BL15<999,20,IF(BL15<1499,15,IF(BL15<1999,10,IF(BL15<3999,5,IF(BL15>4000,0)))))","v":20},{"$f":"IF(Z17=\"Yes\",15,0)","v":15},10,"No",{"$f":"IF(AK17=\"Minimal\",15,0)","v":15},"Minimal",{"$f":"IF(AM17=\"Yes\",10,0)","v":10},"Yes",{"$f":"IF(AO17=\"Yes\",10,0)","v":0},"No",{"$f":"IF(AQ17=\"Yes\",10,0)","v":0},"No",61.663206108983005,3.1984238540057124,66.848834021375993,12.296076997726795,52.240077745304099,17.929986580000001,0,25,null,null,null,"Albemarle RPO",100,"","","","","01",100,"","","","",{"$f":"SUM(U17+V17+X17+Y17+AA17+AC17)","v":100},{"$f":"SUM(AE17+AF17+AG17+AH17+AJ17+AL17+AN17+AP17)","v":85},null,null,100,null,{"$f":"Q17+BT17*0.25","v":15.67},"Exceeds cap of $15 million for Statewide & Regional Projects cascading to Division Needs",47.42,{"$f":"BW17+P17","v":59.72},null,"Dare",100,"","","","","","",1,"A","01, , ","Albemarle RPO, , ","Dare, , , ",17.3012275,17.3012275,"Arterial","Arterial",2,3,"TWLTL","Divided",50,45,9.1437711105651012,90.856228889434902,26894.979869999999,31700.06882,0.8484202360163835,24435.76447045464,2459.2153995453591,10869853.540386515,1093942.0884352552,11963795.62882177,273234953,66.845883279999995,76.036630419999995,57.684045019999999,"","",200,8.4480155490608197E-4,"No","No",12,12,"No",3,4,"4 Lane with TWLTL (Five Lane)","6E - 6 Lane Divided (23' Raised Median) with Curb & Gutter, Wide Outside Lanes, and Sidewalks","None","Partial",2,"No",18,56202000,26095000,3131000,85428000,"",85428000,85428000,""]
["H129043","Dare","Albemarle RPO","Highway","Division Needs","R-5014","SR-1217 Collington Road","US 158","Dead End","Operational-Safety Improvements","16 - Modernize Roadway",4850000,null,null,null,null,23.32,9,{"$f":"Q18+#REF!+R18","v":{"$error":"#REF!"}},null,"N/A",null,57.991491345712276,null,null,"Yes",null,null,null,null,15,{"$f":"IF(BL16<999,20,IF(BL16<1499,15,IF(BL16<1999,10,IF(BL16<3999,5,IF(BL16>4000,0)))))","v":20},15,10,"No",{"$f":"IF(AK18=\"Minimal\",15,0)","v":15},"Minimal",10,"Yes",{"$f":"IF(AO18=\"Yes\",10,0)","v":0},"No",{"$f":"IF(AQ18=\"Yes\",10,0)","v":0},"No",41.974683544303801,0,66.21829770798,0,"N/A","N/A",25,100,null,null,null,"Albemarle RPO",100,"","","","","01",100,"","","","",null,{"$f":"SUM(AE18+AF18+AG18+AH18+AJ18+AL18+AN18+AP18)","v":85},null,null,null,100,{"$f":"Q18+BT18*0.25","v":48.32},null,null,null,null,"Dare",100,"","","","","","",1,"A","01, , ","Albemarle RPO, , ","Dare, , , ",4.3454650700000004,4.3454650700000004,"Arterial","Arterial",1,1,"Undivided","Undivided",33,33,0,100,10000,15800,0.63291139240506333,10000,0,0,0,0,0,95.975087430000002,64.447475030000007,38.252198139999997,"","","","","No","No",11,12,"No",0,4,"2 Lane Undivided","","None","None",2,"No",25,4350000,500000,0,4850000,"",2520000,4850000,""]
["H141222","Perquimans","Albemarle RPO","Highway","Division Needs","","SR-1301 ","SR 1302","SR 1303","Widen and repave New Hope Road (Phase 2)","16 - Modernize Roadway",1114000,null,null,null,null,14.9,5.25,{"$f":"Q19+#REF!+R19","v":{"$error":"#REF!"}},null,"N/A",null,469.54674256434129,null,null,"Yes",null,null,null,null,15,{"$f":"IF(W19<999,20,IF(W19<1499,15,IF(W19<1999,10,IF(W19<3999,5,IF(W19>4000,0)))))","v":20},15,10,"No",{"$f":"IF(AK19=\"Minimal\",15,0)","v":15},"Minimal",10,"Yes",{"$f":"IF(AO19=\"Yes\",10,0)","v":0},"No",{"$f":"IF(AQ19=\"Yes\",10,0)","v":0},"No",4.6980645161290324,0,69.325207669245003,0,"N/A","N/A",75,0,null,null,null,"Albemarle RPO",100,"","","","","01",100,"","","","",null,{"$f":"SUM(AE19+AF19+AG19+AH19+AJ19+AL19+AN19+AP19)","v":85},null,null,null,100,{"$f":"Q19+BT19*0.25","v":39.9},null,null,null,null,"Perquimans",100,"","","","","","",1,"A","01, , ","Albemarle RPO, , ","Perquimans, , , ",1.3068696,1.3068696,"Two Lane Highway","Two Lane Highway",1,1,"Undivided","Undivided",55,55,0,100,1100,15500,7.0967741935483872E-2,1100,0,0,0,0,0,75.594077170000006,94.347974910000005,38.054370570000003,"","","","","No","No",9,12,"No",0,0,"2 Lane Undivided","3A - 2 Lane with Two Way Left Turn Lane, and Paved Shoulders","None","None",2,"No",30,1114000,0,0,1114000,"",675000,1114000,""]
["H090289","Martin","Mid-East RPO","Highway","Division Needs","R-4705","SR-1142 ","NC 903","SR 1182","NC 903 to SR 1182.   Upgrade Facility.","16 - Modernize Roadway",11200000,null,null,null,null,10.09,null,{"$f":"Q20+#REF!+R20","v":{"$error":"#REF!"}},null,"N/A",null,298.96243736795947,null,null,"Yes",null,null,null,null,10,20,15,{"$f":"IF(AI20=\"Yes\",10,0)","v":10},"Yes",15,"Minimal",10,"Yes",{"$f":"IF(AO20=\"Yes\",10,0)","v":0},"No",{"$f":"IF(AQ20=\"Yes\",10,0)","v":0},"No",16.672666819006448,0,59.268861974388003,0.78073851317326326,"N/A","N/A",25,0,null,null,null,"Mid-East RPO",100,"","","","","01",100,"","","","",null,{"$f":"SUM(AE20+AF20+AG20+AH20+AJ20+AL20+AN20+AP20)","v":80},null,null,null,100,{"$f":"Q20+BT20*0.25","v":35.090000000000003},null,null,null,null,"Martin",100,"","","","","","",1,"A","01, , ","Mid-East RPO, , ","Martin, , , ",9.5967154299999997,9.5967154299999997,"Two Lane Highway","Two Lane Highway",1,1,"Undivided","Undivided",55,55,3.9999707795377004,96.000029220462295,3903.7210829999999,15500,0.25185297309677418,3747.5733803653475,156.14770263465266,0,0,0,0,87.040487170000006,47.05679026,43.727090930000003,"","","","","No","No",11,12,"No",0,0,"2 Lane Undivided","","None","None",1,"No",21,7200000,4000000,0,11200000,"",11200000,11200000,""]
["F130003","Dare","Albemarle RPO","Ferry","Division Needs",null,"Hatteras - South Dock (NC 12)",null,null,"Replacement Vessel – River Class Ferry (Baum-H)",null,12000000,null,null,null,null,36.700000000000003,6.75,{"$f":"Q21+#REF!+R21","v":{"$error":"#REF!"}},null,null,null,89.223959053811043,null,null,"Yes",null,null,null,null,5,20,15,10,"Yes",{"$f":"IF(AK21=\"Minimal\",15,0)","v":15},"Minimal",10,"Yes",{"$f":"IF(AO21=\"Yes\",5,0)","v":0},"No",{"$f":"IF(AQ21=\"Yes\",5,0)","v":0},"No",null,null,47,null,null,null,null,null,null,null,null,"Albemarle RPO",null,null,null,null,null,null,null,null,null,null,null,null,{"$f":"SUM(AE21+AF21+AG21+AH21++AJ21+AL21+AN21+AP21)","v":75},null,null,null,100,{"$f":"Q21+BT21*0.25","v":61.7},null,null,null,null,"Dare",null,null,null,null,null,null,null,null,null,null,null,null,null,{"$f":"5*2","v":10},null,null,null,null,null,null,null,null,null,null,21687,null,null,null,null,null,null,null,null,null,null,null,null,null,null,null,null,null,null,null,null,null,null,null,null,null,null,null,null,null,null,null,null,12000000,null,19350000]
["T130063","Hyde","Albemarle RPO","Transit","Division Needs",null,null,null,null,"Facilities-Bus Shelter-This funding request is for 2 shelters and 20 benches to support the Ocracoke Park and Ride Project.  ",null,7600,null,null,null,null,31.19,12,{"$f":"Q22+#REF!+R22","v":{"$error":"#REF!"}},null,0,0,2.8524159963489075E-7,0," ","Yes",{"$f":"IF(AB22=\"Yes\",10,0)","v":0},"No",{"$f":"IF(AD22=\"Yes\",10,0)","v":0},"No",0,20,15,10,"Yes",15,"Minimal",10,"Yes",0,"No",{"$f":"IF(AQ22=\"Yes\",5,0)","v":5},"Yes",null,null,0,null,null,null,null,null,null,null,null,"Albemarle RPO",null,null,null,null,null,null,null,null,null,null,null,null,{"$f":"SUM(AE22+AF22+AG22+AH22+AJ22+AL22+AN22+AP22)","v":75},null,null,null,null,null,null,null,null,null,"Hyde",null,null,null,null,null,null,null,null,null,null,null,null,null,175290,null,null,null,null,null,null,null,null,null,null,152000,null,null,null,null,null,null,null,null,null,null,null,null,null,null,null,null,null,null,null,null,null,null,null,null,null,null,null,null,null,null,null,null,76000,null,7600,null,"Fed:$60,800                        Local:$7,600"]
["F130007","Dare","Albemarle RPO","Ferry","Division Needs",null,"Hatteras-South Dock",null,null,"Replacement Vessel-River Class Ferry( Chico)",null,12000000,null,null,null,null,29.6,7.5,{"$f":"Q23+#REF!+R23","v":{"$error":"#REF!"}},null,null,null,4.6686955318854615,null,null,"Yes",null,null,null,null,5,20,15,10,"Yes",15,"Minimal",10,"Yes",0,"No",{"$f":"IF(AQ23=\"Yes\",5,0)","v":0},"No",null,null,47,null,null,null,null,null,null,null,null,"Albemarle RPO",null,null,null,null,null,null,null,null,null,null,null,null,{"$f":"SUM(AE23+AF23+AG23+AH23++AJ23+AL23+AN23+AP23)","v":75},null,null,null,null,null,null,null,null,null,null,null,null,null,null,null,null,null,null,null,null,null,null,null,{"$f":"5*2","v":10},null,null,null,null,null,null,null,null,null,null,21687,null,null,null,null,null,null,null,null,null,null,null,null,null,null,null,null,null,null,null,null,null,null,null,null,null,null,null,null,null,null,null,null,12000000,null,1012500]
["F130008","Dare","Albemarle RPO","Ferry","Division Needs",null,"Hatteras-South Dock",null,null,"Replacement Vessel-River Class Ferry (Frisco)",null,12000000,null,null,null,null,28.3,7.5,{"$f":"Q24+#REF!+R24","v":{"$error":"#REF!"}},null,null,null,1.8674782127541847,null,null,"Yes",null,null,null,null,5,20,15,10,"Yes",15,"Minimal",10,"Yes",0,"No",{"$f":"IF(AQ24=\"Yes\",5,0)","v":0},"No",null,null,47,null,null,null,null,null,null,null,null,"Albemarle RPO",null,null,null,null,null,null,null,null,null,null,null,null,{"$f":"SUM(AE24+AF24+AG24+AH24++AJ24+AL24+AN24+AP24)","v":75},null,null,null,null,null,null,null,null,null,null,null,null,null,null,null,null,null,null,null,null,null,null,null,{"$f":"5*2","v":10},null,null,null,null,null,null,null,null,null,null,21687,null,null,null,null,null,null,null,null,null,null,null,null,null,null,null,null,null,null,null,null,null,null,null,null,null,null,null,null,null,null,null,null,12000000,null,405000]
["A130412","Hertford","Peanut Belt RPO","Aviation","Division Needs",null,"Tri-County",null,null,"Design",null,1602288,null,null,null,null,25.95,null,{"$f":"Q25+#REF!+R25","v":{"$error":"#REF!"}},null,"N/A",null,52522.839394883056,null,null,"Yes",{"$f":"IF(AB25=\"Yes\",10,0)","v":0},null,{"$f":"IF(AD25=\"Yes\",10,0)","v":0},null,0,{"$f":"IF(BL23<999,20,IF(BL23<1499,15,IF(BL23<1999,10,IF(BL23<3999,5,IF(BL23>4000,0)))))","v":20},15,10,"Yes",15,"Minimal",10,"Yes",5,"Yes",{"$f":"IF(AQ25=\"Yes\",10,0)","v":0},"No",null,null,null,null,null,null,null,null,null,null,null,"Peanut Belt RPO",null,null,null,null,null,null,null,null,null,null,null,null,{"$f":"SUM(AE25+AF25+AG25+AH25+AJ25+AL25+AN25+AP25)","v":75},null,null,null,null,null,null,null,null,null,"Hertford",null,null,null,null,null,null,null,null,null,null,null,null,null,0.85,null,null,null,null,null,null,null,null,null,null,35.89,null,null,null,null,null,null,null,null,null,null,null,null,null,null,null,null,null,null,null,null,null,null,null,null,null,null,null,null,null,null,null,null,1780320,null,1602288]
["F130011","Hyde","Albemarle RPO","Ferry","Division Needs",null,"Swan Quarter-Ocracoke",null,null,"Replacement Vessel-Sound Class Ferry (Pamlico)",null,16000000,null,null,null,null,14.4,7.5,{"$f":"Q26+#REF!+R26","v":{"$error":"#REF!"}},null,null,null,185.57179308745071,null,null,"Yes",null,null,null,null,5,{"$f":"IF(W26<999,20,IF(W26<1499,15,IF(W26<1999,10,IF(W26<3999,5,IF(W26>4000,0)))))","v":20},15,10,"Yes",15,"Minimal",10,"Yes",0,"No",{"$f":"IF(AQ26=\"Yes\",5,0)","v":0},"No",null,null,34,null,null,null,null,null,null,null,null,"Albemarle RPO",null,null,null,null,null,null,null,null,null,null,null,null,{"$f":"SUM(AE26+AF26+AG26+AH26++AJ26+AL26+AN26+AP26)","v":75},null,null,null,null,null,null,null,null,null,"Hyde",null,null,null,null,null,null,null,null,null,null,null,null,null,{"$f":"30*2","v":60},null,null,null,null,null,null,null,null,null,null,1437,null,null,null,null,null,null,null,null,null,null,null,null,null,null,null,null,null,null,null,null,null,null,null,null,null,null,null,null,null,null,null,null,16000000,null,16000000]
["B141355","Perquimans","Albemarle RPO","Bike & Ped","Division Needs",null,"Harvey Point Road","US-17","N. Commerce Drive","Construct 5' wide multi-use path along eastern side of Harvey Point Road","2. Construct multi-use trail / greenway / sidepath or on-road bike lane on local roadway",400000,null,null,null,null,13.463021372661501,9.75,{"$f":"Q27+#REF!+R27","v":{"$error":"#REF!"}},null,"N/A",null,1441.3118527042577,null,null,"Yes",null,null,null,null,10,15,15,10,"Yes",15,"Minimal",10,"Yes",{"$f":"IF(AO27=\"Yes\",10,0)","v":0},"No",{"$f":"IF(AQ27=\"Yes\",10,0)","v":0},"No",null,null,50,null,null,null,null,null,null,null,null,"Albemarle RPO",null,null,null,null,null,null,null,null,null,null,null,null,{"$f":"SUM(AE27+AF27+AG27+AH27+AJ27+AL27+AN27)","v":75},null,null,null,null,null,null,null,null,null,"Perquimans County",null,null,null,null,null,null,null,null,null,null,null,null,null,0.66,null,null,null,null,null,null,null,null,null,null,158,null,null,null,null,null,null,null,null,null,null,null,null,null,null,null,null,null,null,null,null,null,null,null,null,null,null,null,null,null,380000,0,null,400000,0,150300]
["F130012","Currituck","Albemarle RPO","Ferry","Division Needs",null,"Currituck - Knotts Island",null,null,"Replacement Vessel-River Class Ferry (Hunt)",null,12000000,null,null,null,null,12.3,7.5,{"$f":"Q28+#REF!+R28","v":{"$error":"#REF!"}},null,null,null,660.42927903137047,null,null,"Yes",null,null,null,null,5,20,15,10,"Yes",15,"Minimal",10,"Yes",{"$f":"IF(AO28=\"Yes\",5,0)","v":0},"No",{"$f":"IF(AQ28=\"Yes\",5,0)","v":0},"No",null,null,46,null,null,null,null,null,null,null,null,"Albemarle RPO",null,null,null,null,null,null,null,null,null,null,null,null,{"$f":"SUM(AE28+AF28+AG28+AH28++AJ28+AL28+AN28+AP28)","v":75},null,null,null,null,null,null,null,null,null,null,null,null,null,null,null,null,null,null,null,null,null,null,null,{"$f":"5*2","v":10},null,null,null,null,null,null,null,null,null,null,1817,null,null,null,null,null,null,null,null,null,null,null,null,null,null,null,null,null,null,null,null,null,null,null,null,null,null,null,null,null,null,null,null,12000000,null,12000000]
["T130067","Hyde","Albemarle RPO","Transit","Division Needs",null,null,null,null,"Expansion Vehicle-This funding request is for 6 LTV and 3 Trams to support the Ocracoke Park and Ride Project.",null,85500,null,null,null,null,11.36,12,{"$f":"Q29+#REF!+R29","v":{"$error":"#REF!"}},null,{"$f":"IF(AT29<30,0,IF(AT29<50,5,IF(AT29<65,10,IF(AT29>66,15))))","v":0},0,3.2089679958925209E-6,0," ","Yes",{"$f":"IF(AB29=\"Yes\",10,0)","v":0},"No",{"$f":"IF(AD29=\"Yes\",10,0)","v":0},"No",0,20,15,10,"Yes",15,"Minimal",10,"Yes",{"$f":"IF(AO29=\"Yes\",5,0)","v":0},"No",{"$f":"IF(AQ29=\"Yes\",5,0)","v":5},"Yes",null,null,20.6,null,null,null,null,null,null,null,null,"Albemarle RPO",null,null,null,null,null,null,null,null,null,null,null,null,{"$f":"SUM(AE29+AF29+AG29+AH29+AJ29+AL29+AN29+AP29)","v":75},null,null,null,null,null,null,null,null,null,"Hyde",null,null,null,null,null,null,null,null,null,null,null,null,null,175290,null,null,null,null,null,null,null,null,null,null,152000,null,null,null,null,null,null,null,null,null,null,null,null,null,null,null,null,null,null,null,null,null,null,null,null,null,null,null,null,null,null,null,null,855000,null,85500,null,"Fed:$684,000   Local:$85,500"]
["F130013","Hyde","Albemarle RPO","Ferry","Division Needs",null,"Cedar Island-Ocracoke",null,null,"Replacement Vessel-Sound Class Ferry (Silver Lake)",null,16000000,null,null,null,null,16.3,7.5,{"$f":"Q30+#REF!+R30","v":{"$error":"#REF!"}},null,null,null,263.20984404816738,null,null,"Yes",null,null,null,null,5,20,15,10,"Yes",15,"Minimal",10,"Yes",{"$f":"IF(AO30=\"Yes\",5,0)","v":0},"No",{"$f":"IF(AQ30=\"Yes\",5,0)","v":0},"No",null,null,38.5,null,null,null,null,null,null,null,null,"Albemarle RPO",null,null,null,null,null,null,null,null,null,null,null,null,{"$f":"SUM(AE30+AF30+AG30+AH30++AJ30+AL30+AN30+AP30)","v":75},null,null,null,null,null,null,null,null,null,null,null,null,null,null,null,null,null,null,null,null,null,null,null,{"$f":"13*2","v":26},null,null,null,null,null,null,null,null,null,null,2338,null,null,null,null,null,null,null,null,null,null,null,null,null,null,null,null,null,null,null,null,null,null,null,null,null,null,null,null,null,null,null,null,16000000,null,16000000]
["F130014","Hyde","Albemarle RPO","Ferry","Division Needs",null,"Cedar Island-Ocracoke",null,null,"Replacement Vessel-Sound Class Ferry (Carteret)",null,16000000,null,null,null,null,15.3,7.5,{"$f":"Q31+#REF!+R31","v":{"$error":"#REF!"}},null,null,null,263.20984404816738,null,null,"Yes",null,null,null,null,5,20,15,10,"Yes",15,"Minimal",10,"Yes",{"$f":"IF(AO31=\"Yes\",5,0)","v":0},"No",{"$f":"IF(AQ31=\"Yes\",5,0)","v":0},"No",null,null,38.5,null,null,null,null,null,null,null,null,"Albemarle RPO",null,null,null,null,null,null,null,null,null,null,null,null,{"$f":"SUM(AE31+AF31+AG31+AH31++AJ31+AL31+AN31+AP31)","v":75},null,null,null,null,null,null,null,null,null,"Currituck",null,null,null,null,null,null,null,null,null,null,null,null,null,{"$f":"13*2","v":26},null,null,null,null,null,null,null,null,null,null,2338,null,null,null,null,null,null,null,null,null,null,null,null,null,null,null,null,null,null,null,null,null,null,null,null,null,null,null,null,null,null,null,null,16000000,null,16000000]
["A130413","Hertford","Peanut Belt RPO","Aviation","Division Needs",null,"Tri-County",null,null,"Corporate & T-hanger Taxiways",null,230400,null,null,null,null,7.47,null,{"$f":"Q32+#REF!+R32","v":{"$error":"#REF!"}},null,"N/A",null,7552.4888138593415,null,null,"Yes",{"$f":"IF(AB32=\"Yes\",10,0)","v":0},null,{"$f":"IF(AD32=\"Yes\",10,0)","v":0},null,0,{"$f":"IF(BL30<999,20,IF(BL30<1499,15,IF(BL30<1999,10,IF(BL30<3999,5,IF(BL30>4000,0)))))","v":20},15,10,"Yes",15,"Minimal",10,"Yes",{"$f":"IF(AO32=\"Yes\",5,0)","v":5},"Yes",{"$f":"IF(AQ32=\"Yes\",10,0)","v":0},"No",null,null,null,null,null,null,null,null,null,null,null,"Peanut Belt RPO",null,null,null,null,null,null,null,null,null,null,null,null,{"$f":"SUM(AE32+AF32+AG32+AH32+AJ32+AL32+AN32+AP32)","v":75},null,null,null,null,null,null,null,null,null,"Hertford",null,null,null,null,null,null,null,null,null,null,null,null,null,0.85,null,null,null,null,null,null,null,null,null,null,35.89,null,null,null,null,null,null,null,null,null,null,null,null,null,null,null,null,null,null,null,null,null,null,null,null,null,null,null,null,null,null,null,null,256000,null,230400]
["H129515","Currituck","Albemarle RPO","Highway","Statewide Mobility","R-2576","- New Location Mid-Currituck Bridge","Coinjock","Corolla","Construct New Bridge Over Currituck Sound","5 - Construct Roadway on New Location",173304000,23.342830564038344,null,15.726629282408148,12.3,11.853563286896481,9,{"$f":"Q33+#REF!+R33","v":{"$error":"#REF!"}},null,{"$f":"IF(AT33<30,0,IF(AT33<50,5,IF(AT33<65,10,IF(AT33>66,15))))","v":5},{"$f":"IF(W33<499,15,IF(W33<999,10,IF(W33<1499,5,IF(W33>1500,0))))","v":0},2285.8539293439476,{"$f":"IF(DC33<500,0,IF(DC33<1000,5,IF(DC33>1000,10)))","v":5},{"$f":"IF(Z33=\"Yes\",20,0)","v":20},"Yes",{"$f":"IF(AB33=\"Yes\",20,0)","v":20},"Yes",{"$f":"IF(AD33=\"Yes\",20,0)","v":20},"Yes",5,{"$f":"IF(BL31<999,20,IF(BL31<1499,15,IF(BL31<1999,10,IF(BL31<3999,5,IF(BL31>4000,0)))))","v":20},15,0,"No",15,"Minimal",10,"Yes",{"$f":"IF(AO33=\"Yes\",10,0)","v":0},"No",0,"No",18.793795397608299,8.9256870412685227,40.816150430087994,4.7268539468324926,100,15.360235206666667,25,25,null,null,null,"Albemarle RPO",100,"","","","","01",100,"","","","",{"$f":"SUM(U33+V33+X33+Y33+AA33+AC33)","v":70},{"$f":"SUM(AE33+AF33+AG33+AH33+AJ33+AL33+AN33+AP33)","v":65},null,null,100,null,{"$f":"Q33+BT33*0.25","v":11.853563286896481},"Exceeds cap of $15 million for Statewide & Regional Projects cascading to Division Needs",{"$f":"O33+BS33*0.25","v":40.726629282408148},{"$f":"BW33+P33","v":53.026629282408152},null,"Currituck",100,"","","","","","",1,"A","01, , ","Albemarle RPO, , ","Currituck, , , ",43.4,6.8671598999999999,"Multi-Lane Highway","Two Lane Highway",2,1,"Undivided","Undivided",48,55,8.5628675608103002,91.437132439189696,11040.35281,46072.965450000003,0.23962757122680498,10094.982020633501,945.37078936649846,62075426.132216401,5813214.3755113408,67888640.507727742,1546857267,39.093044159999998,53.593429299999997,29.774223899999999,"","",2016,5.7389172778583896E-3,"No","No",11,12,"No",3,4,"New Roadway","2A - 2 Lane Undivided with Paved Shoulders, 55 mph","None","None",2,"No",24,383281000,25592000,1947000,410820000,237516000,173304000,173304000,"Toll Revenue less Roadway Maintenance and Financing"]
["H111228","Camden","Albemarle RPO","Highway","Division Needs","","SR-1227 ","NC 168","NC 343 in Camden County","Widen to 24 Feet with Paved Shoulders and Turn Lanes Where Necessary from\nthe Camden County Line to the Location of the Proposed NC 168 Bypass.","16 - Modernize Roadway",12540000,null,null,null,null,10.43,9.75,{"$f":"Q34+#REF!+R34","v":{"$error":"#REF!"}},null,"N/A",null,7.9858468392354567,null,null,"Yes",null,null,null,null,5,{"$f":"IF(W34<999,20,IF(W34<1499,15,IF(W34<1999,10,IF(W34<3999,5,IF(W34>4000,0)))))","v":20},15,10,"No",15,"Minimal",10,"Yes",{"$f":"IF(AO34=\"Yes\",10,0)","v":0},"No",0,"No",9.3998067385422761,0,44.936317592166006,0,"N/A","N/A",50,0,null,null,null,"Albemarle RPO",100,"","","","","01",100,"","","","",null,{"$f":"SUM(AE34+AF34+AG34+AH34+AJ34+AL34+AN34+AP34)","v":75},null,null,null,100,{"$f":"Q34+BT34*0.25","v":35.43},null,null,null,null,"Camden",55.7,"Currituck",44.3,"","","","",1,"A","01, , ","Albemarle RPO, , ","Camden, Currituck, , ",11.004277439999999,11.004277439999999,"Two Lane Highway","Two Lane Highway",1,1,"Undivided","Undivided",54,54,0,100,2201.904411,15508.10743,0.14198408290237127,2201.904411,0,0,0,0,0,69.443972479999999,39.267785250000003,26.110677290000002,"","","","","No","No",10,12,"No",0,0,"2 Lane Undivided","","None","None",1,"No",34,12540000,0,0,12540000,"",193500,12540000,""]
["H090139","Currituck","Albemarle RPO","Highway","Statewide Mobility","R-2574","US-158 ","East of NC 34 at Belcross in Camden County","NC 168 in Currituck County","Widen to Multi-Lanes.","1 - Widen Existing Roadway",124500000,12.917806507523943,null,15.32,11.85,11.88,9,{"$f":"Q35+#REF!+R35","v":{"$error":"#REF!"}},null,{"$f":"IF(AT35<30,0,IF(AT35<50,5,IF(AT35<65,10,IF(AT35>66,15))))","v":5},{"$f":"IF(W35<499,15,IF(W35<999,10,IF(W35<1499,5,IF(W35>1500,0))))","v":0},1995.9908209645782,{"$f":"IF(DC35<500,0,IF(DC35<1000,5,IF(DC35>1000,10)))","v":5},{"$f":"IF(Z35=\"Yes\",20,0)","v":20},"Yes",{"$f":"IF(AB35=\"Yes\",20,0)","v":20},"Yes",{"$f":"IF(AD35=\"Yes\",20,0)","v":20},"Yes",5,{"$f":"IF(BL33<999,20,IF(BL33<1499,15,IF(BL33<1999,10,IF(BL33<3999,5,IF(BL33>4000,0)))))","v":0},15,10,"No",15,"Minimal",10,"Yes",{"$f":"IF(AO35=\"Yes\",10,0)","v":0},"No",0,"No",25.899192792202655,4.9311622489959836E-2,42.817742247555003,3.7513246389685184,1.0121603056695501,40.175551936000005,0,50,null,null,null,"Albemarle RPO",100,"","","","","01",100,"","","","",{"$f":"SUM(U35+V35+X35+Y35+AA35+AC35)","v":70},{"$f":"SUM(AE35+AF35+AG35+AH35+AJ35+AL35+AN35+AP35)","v":55},null,null,100,null,{"$f":"Q35+BT35*0.25","v":11.88},"Exceeds cap of $15 million for Statewide & Regional Projects cascading to Division Needs",{"$f":"O35+BS35*0.25","v":40.32},{"$f":"BW35+P35","v":52.17},null,"Currituck",81.819999999999993,"Camden",18.18,"","","","",1,"A","01, , ","Albemarle RPO, , ","Currituck, Camden, , ",10.2830142,10.2830142,"Two Lane Highway","Multi-Lane Highway",1,2,"Undivided","Divided",55,55,12.3687060697064,87.631293930293594,6065.8319760000004,15505.137360000001,0.39121433336337758,5315.5670482062969,750.26492779370369,232553.67338973124,32823.753964834919,265377.42735456617,6139297,47.387447479999999,46.640021480000001,34.438604390000002,"","",4,1.6243206113391E-5,"No","No",12,12,"No",0,2,"2 Lane Undivided","4A - 4 Lane Divided (46' Depressed Median) with Paved Shoulders","None","Partial",2,"Yes",32,82500000,40600000,1400000,124500000,"",124500000,124500000,""]
["B141365","Dare","Albemarle RPO","Bike & Ped","Division Needs",null,"Us 158 sidewalk","Bennett Street","Worthington Lane","Construct 6000' of sidewalk on west side of US 158","5. Construct Sidewalk",282000,null,null,null,null,15.295680447883793,9.75,{"$f":"Q36+#REF!+R36","v":{"$error":"#REF!"}},null,"N/A",null,3163.9556096077831,null,null,"Yes",null,null,null,null,15,{"$f":"IF(W36<999,20,IF(W36<1499,15,IF(W36<1999,10,IF(W36<3999,5,IF(W36>4000,0)))))","v":5},15,{"$f":"IF(AI36=\"Yes\",10,0)","v":10},"Yes",15,"Minimal",10,"Yes",{"$f":"IF(AO36=\"Yes\",10,0)","v":0},"No",0,"No",null,null,65,null,null,null,null,null,null,null,null,"Albemarle RPO",null,null,null,null,null,null,null,null,null,null,null,null,{"$f":"SUM(AE36+AF36+AG36+AH36+AJ36+AL36+AN36)","v":70},null,null,null,null,null,null,null,null,null,"Dare County",null,null,null,null,null,null,null,null,null,null,null,null,null,1.56,null,null,null,null,null,null,null,null,null,null,{"$f":"1012*0.1","v":101.2},null,null,null,null,null,null,null,null,null,null,null,null,null,null,null,null,null,null,null,null,null,null,null,null,null,null,null,null,null,272000,0,null,282000,0,499500]
["A130011","Pasquotank","Albemarle RPO","Aviation","Division Needs",null,"Elizabeth City Coast Guard Air Station/Regional",null,null,"Hangers and Economic Development",null,150300,null,null,null,null,5.76,13.5,{"$f":"Q37+#REF!+R37","v":{"$error":"#REF!"}},null,"N/A",null,1061.0615133292763,null,null,"Yes",{"$f":"IF(AB37=\"Yes\",10,0)","v":0},null,{"$f":"IF(AD37=\"Yes\",10,0)","v":0},null,0,{"$f":"IF(W37<999,20,IF(W37<1499,15,IF(W37<1999,10,IF(W37<3999,5,IF(W37>4000,0)))))","v":15},15,{"$f":"IF(AI37=\"Yes\",10,0)","v":10},"Yes",15,"Minimal",10,"Yes",{"$f":"IF(AO37=\"Yes\",5,0)","v":5},"Yes",0,"No",null,null,null,null,null,null,null,null,null,null,null,"Albemarle RPO",null,null,null,null,null,null,null,null,null,null,null,null,{"$f":"SUM(AE37+AF37+AG37+AH37+AJ37+AL37+AN37+AP37)","v":70},null,null,null,null,null,null,null,null,null,"Pasquotank",null,null,null,null,null,null,null,null,null,null,null,null,null,0.86,null,null,null,null,null,null,null,null,null,null,164.71,null,null,null,null,null,null,null,null,null,null,null,null,null,null,null,null,null,null,null,null,null,null,null,null,null,null,null,null,null,null,null,null,167000,null,150300]
["H129108","Martin","Mid-East RPO","Highway","Regional Impact","R-3826","NC-125 NC 125","SR 1182 (East of College Road)","NC 125 Northwest of Williamston","Construct Two Lanes, Part on New Location","5 - Construct Roadway on New Location",13455000,null,null,16.96,10,13.65,null,{"$f":"Q38+#REF!+R38","v":{"$error":"#REF!"}},null,{"$f":"IF(AT38<30,0,IF(AT38<50,5,IF(AT38<65,10,IF(AT38>66,15))))","v":5},{"$f":"IF(W38<499,15,IF(W38<999,10,IF(W38<1499,5,IF(W38>1500,0))))","v":10},807.05092750951746,{"$f":"IF(DC38<500,0,IF(DC38<1000,5,IF(DC38>1000,10)))","v":0},{"$f":"IF(Z38=\"Yes\",20,0)","v":20},"Yes",{"$f":"IF(AB38=\"Yes\",20,0)","v":20},"Yes",{"$f":"IF(AD38=\"Yes\",10,0)","v":10},"Yes",5,{"$f":"IF(BL36<999,20,IF(BL36<1499,15,IF(BL36<1999,10,IF(BL36<3999,5,IF(BL36>4000,0)))))","v":20},15,{"$f":"IF(AI38=\"Yes\",10,0)","v":10},"Yes",15,"Minimal",10,"Yes",{"$f":"IF(AO38=\"Yes\",10,0)","v":0},"No",0,"No",22.757972274033232,4.6692109996283913,34.092816780692999,2.0332975245396128,"N/A",11.222159958999999,25,50,null,null,null,"Mid-East RPO",100,"","","","","01",100,"","","","",{"$f":"SUM(U38+V38+X38+Y38+AA38+AC38)","v":65},75,null,null,100,100,{"$f":"Q38+BT38*0.25","v":38.65},null,{"$f":"O38+BS38*0.25","v":41.96},{"$f":"BW38+P38","v":51.96},null,"Martin",100,"","","","","","",1,"A","01, , ","Mid-East RPO, , ","Martin, , , ",3.6,2.3084244100000002,"Arterial","Arterial",1,1,"Undivided","Undivided",42,40,5.6307186107274996,94.369281389272501,7222.1599589999996,21809.21213,0.33115180484055384,6815.5004540920772,406.65950490792255,2633056.1127941757,157106.18793675935,2790162.3007309353,62824234,27.046175269999999,38.234234950000001,37.008268989999998,"","","","","No","No",11,12,"No",0,2,"New Roadway","2B - 2 Lane Undivided with Paved Shoulders, 25-45 mph","None","None",1,"No",22,10800000,2400000,255000,13455000,"",13455000,13455000,""]
["H090869","Camden","Albemarle RPO","Highway","Regional Impact","","NC-343 ","US 158","SR 1119 in Shiloh","Upgrade Roadway with Wider Shoulders and New Culvert(S).","16 - Modernize Roadway",17898000,null,null,14.28,10.95,11.19,6.75,{"$f":"Q39+#REF!+R39","v":{"$error":"#REF!"}},null,{"$f":"IF(AT39<30,0,IF(AT39<50,5,IF(AT39<65,10,IF(AT39>66,15))))","v":5},{"$f":"IF(W39<499,15,IF(W39<999,10,IF(W39<1499,5,IF(W39>1500,0))))","v":10},902.06866756128704,{"$f":"IF(DC39<500,0,IF(DC39<1000,5,IF(DC39>1000,10)))","v":0},{"$f":"IF(Z39=\"Yes\",20,0)","v":20},"Yes",{"$f":"IF(AB39=\"Yes\",20,0)","v":0},"No",{"$f":"IF(AD39=\"Yes\",20,0)","v":0},"No",5,{"$f":"IF(BL37<999,20,IF(BL37<1499,15,IF(BL37<1999,10,IF(BL37<3999,5,IF(BL37>4000,0)))))","v":20},15,10,"No",{"$f":"IF(AK39=\"Minimal\",15,0)","v":15},"Minimal",10,"Yes",0,"No",0,"No",12.434121680232257,0,49.452596115812995,0.63988824624267526,"N/A",26.911312477999999,50,0,null,null,null,"Albemarle RPO",100,"","","","","01",100,"","","","",{"$f":"SUM(U39+V39+X39+Y39+AA39+AC39)","v":35},75,null,null,100,null,11.19,"Exceeds cap of $15 million for Statewide & Regional Projects cascading to Division Needs",{"$f":"O39+BS39*0.25","v":39.28},{"$f":"BW39+P39","v":50.230000000000004},null,"Camden",100,"","","","","","",1,"A","01, , ","Albemarle RPO, , ","Camden, , , ",6.8151604299999997,6.8151604299999997,"Two Lane Highway","Two Lane Highway",1,1,"Undivided","Undivided",55,55,4.3958747202722996,95.604125279727697,2911.3124779999998,15500,0.18782661148387095,2783.334828751465,127.97764924853506,0,0,0,0,55.740450629999998,49.081060229999999,43.551114750000004,"","","","","No","No",10,12,"No",0,0,"2 Lane Undivided","","None","None",1,"No",32,17898000,0,0,17898000,"",17898000,17898000,""]
["H090400","Pasquotank","Albemarle RPO","Highway","Division Needs","U-3420","SR-1309 New Route - Main Street Extension","Proposed US 17 Bypass","US 17","Proposed US 17 Bypass to US 17 Bypass (Hughes Boulevard). Upgrade Roadway, Some New Location with interchange at the  Proposed US 17 Bypass.","6 - Widen Existing Roadway and Construct Part on New Location",37604000,null,null,null,null,7.4926218010578971,9.75,{"$f":"Q40+#REF!+R40","v":{"$error":"#REF!"}},null,"N/A",null,570.59042489894205,null,null,"Yes",null,null,null,null,10,{"$f":"IF(W40<999,20,IF(W40<1499,15,IF(W40<1999,10,IF(W40<3999,5,IF(W40>4000,0)))))","v":20},15,{"$f":"IF(AI40=\"Yes\",10,0)","v":0},"No",{"$f":"IF(AK40=\"Minimal\",15,0)","v":15},"Minimal",10,"Yes",0,"No",0,"No",21.23955152748097,0,53.686666483098001,2.2125776482960196,"N/A","N/A",0,0,null,null,null,"Albemarle RPO",100,"","","","","01",100,"","","","",null,70,null,null,null,null,7.4926218010578971,"Exceeds cap of $15 million for Statewide & Regional Projects cascading to Division Needs",null,null,null,"Pasquotank",100,"","","","","","",1,"A","01, , ","Albemarle RPO, , ","Pasquotank, , , ",8.1,4.4965362500000001,"Multi-Lane Highway","Arterial",2,2,"Divided","Divided",53,45,3.0192359281745,96.980764071825504,14656.54027,57189.055699999997,0.25628225699134949,14214.024740340796,442.51552965920388,0,0,0,0,45.39256322,70.290980619999999,45.39256322,"","","","","No","No",12,12,"No",4,4,"New Roadway","4B - 4 Lane Divided (23' Raised Median) with Paved Shoulders and Sidewalks","None","Partial",2,"No",23,32490000,4566000,548000,37604000,"",37604000,37604000,""]
["H090102","Martin","Mid-East RPO","Highway","Statewide Mobility","R-2511","US-17 ","Washington Bypass North of NC 171","Multi-Lanes South of Williamston","Widen to Multi-Lanes.","1 - Widen Existing Roadway",72100000,13.736271562618974,null,13.18,12,9.6199999999999992,null,{"$f":"Q41+#REF!+R41","v":{"$error":"#REF!"}},null,{"$f":"IF(AT41<30,0,IF(AT41<50,5,IF(AT41<65,10,IF(AT41>66,15))))","v":5},{"$f":"IF(W41<499,15,IF(W41<999,10,IF(W41<1499,5,IF(W41>1500,0))))","v":5},1431.1007695384499,{"$f":"IF(DC41<500,0,IF(DC41<1000,5,IF(DC41>1000,10)))","v":5},{"$f":"IF(Z41=\"Yes\",20,0)","v":20},"Yes",{"$f":"IF(AB41=\"Yes\",20,0)","v":20},"Yes",{"$f":"IF(AD41=\"Yes\",10,0)","v":10},"Yes",5,{"$f":"IF(BL39<999,20,IF(BL39<1499,15,IF(BL39<1999,10,IF(BL39<3999,5,IF(BL39>4000,0)))))","v":0},15,{"$f":"IF(AI41=\"Yes\",10,0)","v":10},"Yes",15,"Minimal",10,"Yes",0,"No",0,"No",21.525655987638711,4.5849292649098476E-2,49.622986325087993,11.243927572853604,0.53735831453110849,17.119984946000002,0,25,null,null,null,"Mid-East RPO",100,"","","","","01",61.75,"02",38.25,"","",{"$f":"SUM(U41+V41+X41+Y41+AA41+AC41)","v":65},55,null,null,100,null,9.6199999999999992,"Exceeds cap of $15 million for Statewide & Regional Projects cascading to Division Needs",{"$f":"O41+BS41*0.25","v":38.18},{"$f":"BW41+P41","v":50.18},null,"Martin",61.75,"Beaufort",38.25,"","","","",1,"A","01, 02, ","Mid-East RPO, , ","Martin, Beaufort, , ",9.9962002000000005,9.9962002000000005,"Two Lane Highway","Multi-Lane Highway",1,2,"Undivided","Divided",55,55,12.3607401176475,87.639259882352505,5039.9949820000002,15500,0.32516096658064519,4417.0143003325056,622.98068166749499,125234.98255004203,17663.283270730833,142898.26582077285,3305734,70.895399049999995,20.985946729999998,57.002501580000001,"","",2,8.7471662906221696E-6,"Yes","No",12,12,"No",1,2,"2 Lane Undivided","4A - 4 Lane Divided (46' Depressed Median) with Paved Shoulders","None","Partial",1,"Yes",21,51700000,16000000,4400000,72100000,"",72100000,72100000,""]
["H111225","Currituck","Albemarle RPO","Highway","Statewide Mobility","","US-158 ","Proposed Mid Currituck Bridge","Dare County Line","Upgrade the Existing 5-Lane Boulevard to a 4-Lane Divided Boulevard fromtheproposed Mid-Currituck Bridge to the Dare County Line.","11 - Access Management",130843000,11.16234915458393,null,12.45,12.3,9.1300000000000008,9,{"$f":"Q42+#REF!+R42","v":{"$error":"#REF!"}},null,{"$f":"IF(AT42<30,0,IF(AT42<50,5,IF(AT42<65,10,IF(AT42>66,15))))","v":5},{"$f":"IF(W42<499,15,IF(W42<999,10,IF(W42<1499,5,IF(W42>1500,0))))","v":15},484.12802715559553,{"$f":"IF(DC42<500,0,IF(DC42<1000,5,IF(DC42>1000,10)))","v":10},{"$f":"IF(Z42=\"Yes\",20,0)","v":20},"Yes",{"$f":"IF(AB42=\"Yes\",20,0)","v":20},"Yes",{"$f":"IF(AD42=\"Yes\",20,0)","v":20},"Yes",5,{"$f":"IF(W42<999,20,IF(W42<1499,15,IF(W42<1999,10,IF(W42<3999,5,IF(W42>4000,0)))))","v":20},15,{"$f":"IF(AI42=\"Yes\",10,0)","v":0},"No",{"$f":"IF(AK42=\"Minimal\",15,0)","v":15},"Minimal",10,"Yes",0,"No",0,"No",16.869019924360721,0,49.446054653357997,5.7851885596995665,0,19.311718553333336,0,25,null,null,null,"Albemarle RPO",100,"","","","","01",100,"","","","",{"$f":"SUM(U42+V42+X42+Y42+AA42+AC42)","v":90},65,null,null,100,null,9.1300000000000008,"Exceeds cap of $15 million for Statewide & Regional Projects cascading to Division Needs",{"$f":"O42+BS42*0.25","v":37.450000000000003},{"$f":"BW42+P42","v":49.75},null,"Currituck",100,"","","","","","",1,"A","01, , ","Albemarle RPO, , ","Currituck, , , ",19.349474180000001,19.349474180000001,"Multi-Lane Highway","Multi-Lane Highway",2,2,"TWLTL","Divided",55,55,8.2837391423356994,91.716260857664295,13967.57783,74282.529899999994,0.18803314653934533,12810.540118060086,1157.0377119399134,0,0,0,0,46.775181750000002,60.689393699999997,40.888423809999999,"","",0,0,"No","No",12,12,"No",3,4,"4 Lane with TWLTL (Five Lane)","4E - 4 Lane Divided (17'-6\"' Raised Median) with Paved Shoulders and Sidewalks","None","None",2,"No",25,125286000,4962000,595000,130843000,"",130843000,130843000,""]
["H111227","Currituck","Albemarle RPO","Highway","Statewide Mobility","","NC-168 ","Virginia Line","US 158","Upgrade the Existing 5-Lane Major Thoroughfare to a 4-Lane Divided Boulevardfrom the Virginia Line to US 158","11 - Access Management",122633000,9.259530084621499,null,10.46,12.3,7.81,9,{"$f":"Q43+#REF!+R43","v":{"$error":"#REF!"}},null,{"$f":"IF(AT43<30,0,IF(AT43<50,5,IF(AT43<65,10,IF(AT43>66,15))))","v":5},{"$f":"IF(W43<499,15,IF(W43<999,10,IF(W43<1499,5,IF(W43>1500,0))))","v":10},512.62152970794932,{"$f":"IF(DC43<500,0,IF(DC43<1000,5,IF(DC43>1000,10)))","v":5},{"$f":"IF(Z43=\"Yes\",20,0)","v":20},"Yes",{"$f":"IF(AB43=\"Yes\",20,0)","v":20},"Yes",{"$f":"IF(AD43=\"Yes\",20,0)","v":20},"Yes",5,20,15,{"$f":"IF(AI43=\"Yes\",10,0)","v":0},"No",15,"Minimal",10,"Yes",0,"No",0,"No",15.564629295984382,0,37.494202474773004,4.2036052417444214,0,36.707706353333336,0,25,null,null,null,"Albemarle RPO",100,"","","","","01",100,"","","","",{"$f":"SUM(U43+V43+X43+Y43+AA43+AC43)","v":80},65,null,null,100,null,7.81,"Exceeds cap of $15 million for Statewide & Regional Projects cascading to Division Needs",{"$f":"O43+BS43*0.25","v":35.46},{"$f":"BW43+P43","v":47.760000000000005},null,"Currituck",100,"","","","","","",1,"A","01, , ","Albemarle RPO, , ","Currituck, , , ",18.31536071,18.31536071,"Multi-Lane Highway","Multi-Lane Highway",2,2,"TWLTL","Divided",55,55,6.4366054177367005,93.5633945822633,13061.55953,75792.37487,0.17233342473307303,12220.838481651117,840.72104834888432,0,0,0,0,39.915379160000001,42.339522950000003,30.238954700000001,"","",0,0,"No","No",12,12,"No",3,4,"4 Lane with TWLTL (Five Lane)","4E - 4 Lane Divided (17'-6\"' Raised Median) with Paved Shoulders and Sidewalks","None","None",2,"No",34,120156000,2212000,265000,122633000,"",122633000,122633000,""]
["H090099-B","Gates","Albemarle RPO","Highway","Statewide Mobility","R-2507B","US-13 ","US 158 Bypass in Tarheel","SR 1202 (Eure Road/Gates School Road)","Widen to Multi-Lanes.","1 - Widen Existing Roadway",26200000,11.662716525966273,null,12.49,3.6,9.16,5.25,{"$f":"Q44+#REF!+R44","v":{"$error":"#REF!"}},null,{"$f":"IF(AT44<30,0,IF(AT44<50,5,IF(AT44<65,10,IF(AT44>66,15))))","v":10},{"$f":"IF(W44<499,15,IF(W44<999,10,IF(W44<1499,5,IF(W44>1500,0))))","v":0},1700.8127716901893,{"$f":"IF(DC44<500,0,IF(DC44<1000,5,IF(DC44>1000,10)))","v":5},{"$f":"IF(Z44=\"Yes\",20,0)","v":20},"Yes",{"$f":"IF(AB44=\"Yes\",20,0)","v":20},"Yes",{"$f":"IF(AD44=\"Yes\",20,0)","v":20},"Yes",10,10,15,10,"No",15,"Minimal",10,"Yes",0,"No",0,"No",15.80258064516129,1.9666755725190839E-2,50.766884000546995,9.1677418804838702,5.8055295488545502E-2,45.1,25,0,null,null,null,"Albemarle RPO",100,"","","","","01",100,"","","","",{"$f":"SUM(U44+V44+X44+Y44+AA44+AC44)","v":75},70,null,null,100,null,9.16,"Exceeds cap of $15 million for Statewide & Regional Projects cascading to Division Needs",{"$f":"O44+BS44*0.25","v":37.49},{"$f":"BW44+P44","v":41.09},null,"Gates",100,"","","","","","",1,"A","01, , ","Albemarle RPO, , ","Gates, , , ",4.1633513100000004,4.1633513100000004,"Two Lane Highway","Multi-Lane Highway",1,2,"Undivided","Divided",55,55,17.297297,82.702703,3700,15500,0.23870967741935484,3060.0000110000001,639.99998900000003,18067.430804417563,3778.8089786008504,21846.239783018413,515269,59.821943230000002,36.671154739999999,55.822785619999998,"","",0,1.16110590977091E-6,"Yes","No",11,12,"No",2,0,"2 Lane Undivided","4A - 4 Lane Divided (46' Depressed Median) with Paved Shoulders","None","Partial",1,"Yes",37,23200000,1800000,1200000,26200000,"",26200000,26200000,""]
["H141218","Perquimans","Albemarle RPO","Highway","Division Needs","","SR-1329","SR 1331","SR 1300","Widen and repave Woodville Road Phase 2","16 - Modernize Roadway",734000,null,null,null,null,8.27,5.25,{"$f":"Q45+#REF!+R45","v":{"$error":"#REF!"}},null,"N/A",null,548.01863437169857,null,null,"Yes",null,null,null,null,0,20,15,10,"No",15,"Minimal",10,"Yes",0,"No",0,"No",7.6877419354838707,0,0,0,"N/A","N/A",75,0,null,null,null,"Albemarle RPO",100,"","","","","01",100,"","","","",null,70,null,null,null,100,33.269999999999996,null,null,null,null,"Perquimans",100,"","","","","","",1,"A","01, , ","Albemarle RPO, , ","Perquimans, , , ",0.74409473000000004,0.74409473000000004,"Two Lane Highway","Two Lane Highway",1,1,"Undivided","Undivided",55,55,0,100,1800,15500,0.11612903225806452,1800,0,0,0,0,0,0,0,0,"","","","","No","No",9,12,"No",0,0,"2 Lane Undivided","3A - 2 Lane with Two Way Left Turn Lane, and Paved Shoulders","None","None",2,"No",30,734000,0,0,734000,"",734000,734000,""]
["H090099-C","Gates","Albemarle RPO","Highway","Statewide Mobility","R-2507C","US-13 ","SR 1202 (Eure Road/Gates School Road)","Virginia State Line","Widen to Multi-Lanes.","1 - Widen Existing Roadway",31000000,12.467522810856204,null,10.977776395583573,3.15,7.3178708035073292,5.25,{"$f":"Q46+#REF!+R46","v":{"$error":"#REF!"}},null,{"$f":"IF(AT46<30,0,IF(AT46<50,5,IF(AT46<65,10,IF(AT46>66,15))))","v":10},{"$f":"IF(W46<499,15,IF(W46<999,10,IF(W46<1499,5,IF(W46>1500,0))))","v":0},1720.1381017321557,{"$f":"IF(DC46<500,0,IF(DC46<1000,5,IF(DC46>1000,10)))","v":5},{"$f":"IF(Z46=\"Yes\",20,0)","v":20},"Yes",{"$f":"IF(AB46=\"Yes\",20,0)","v":20},"Yes",{"$f":"IF(AD46=\"Yes\",20,0)","v":20},"Yes",10,10,15,10,"No",15,"Minimal",10,"Yes",0,"No",0,"No",16.327877726309676,1.9403806451612902E-2,56.831426502311999,9.3663279759304228,6.9301056105317504E-2,45.468977557000002,0,0,null,null,null,"Albemarle RPO",100,"","","","","01",100,"","","","",{"$f":"SUM(U46+V46+X46+Y46+AA46+AC46)","v":75},70,null,null,100,null,7.3178708035073292,"Exceeds cap of $15 million for Statewide & Regional Projects cascading to Division Needs",{"$f":"O46+BS46*0.25","v":35.977776395583575},{"$f":"BW46+P46","v":39.127776395583574},null,"Gates",100,"","","","","","",1,"A","01, , ","Albemarle RPO, , ","Gates, , , ",4.71405809,4.71405809,"Two Lane Highway","Multi-Lane Highway",1,2,"Undivided","Divided",55,55,16.741916150222998,83.258083849776995,3822.9925189999999,15500,0.24664467864516129,3182.9503170397215,640.04220196027802,21279.268908809252,4278.9326794035505,25558.201588212803,601518,71.452794549999993,31.798630360000001,67.25990573,"","",0,1.38602112210635E-6,"Yes","No",12,12,"No",0,0,"2 Lane Undivided","4A - 4 Lane Divided (46' Depressed Median) with Paved Shoulders","None","Partial",1,"Yes",37,23800000,6000000,1200000,31000000,"",31000000,31000000,""]
["F130002","Hyde","Albemarle RPO","Ferry","Division Needs",null,"Statewide: Support Vessel",null,null,"Replacement Vessel-Tug (Dare)",null,1725000,null,null,null,null,25.9,6,{"$f":"Q47+#REF!+R47","v":{"$error":"#REF!"}},null,null,null,0.4157119961235074,null,null,"Yes",null,null,null,null,5,20,15,{"$f":"IF(AI47=\"Yes\",10,0)","v":0},"No",15,"Minimal",10,"Yes",{"$f":"IF(AO47=\"Yes\",5,0)","v":0},"No",{"$f":"IF(AQ47=\"Yes\",5,0)","v":0},"No",null,null,39.43,null,null,null,null,null,null,null,null,"Albemarle RPO",null,null,null,null,null,null,null,null,null,null,null,null,{"$f":"SUM(AE47+AF47+AG47+AH47++AJ47+AL47+AN47+AP47)","v":65},null,null,null,null,null,null,null,null,null,"Hyde",null,null,null,null,null,null,null,null,null,null,null,null,null,{"$f":"9.5*2","v":19},null,null,null,null,null,null,null,null,null,null,60391,null,null,null,null,null,null,null,null,null,null,null,null,null,null,null,null,null,null,null,null,null,null,null,null,null,null,null,null,null,null,null,null,1725000,null,477000]
["F130004",null,"Albemarle RPO","Ferry","Division Needs",null,"Statewide: Support Vessel",null,null,"Replacement Vessel-Tug  (Buxton Jr.)",null,1725000,null,null,null,null,23.4,6,{"$f":"Q48+#REF!+R48","v":{"$error":"#REF!"}},null,null,null,0.20079673775022244,null,null,"Yes",null,null,null,null,5,20,15,0,"No",15,"Minimal",10,"Yes",{"$f":"IF(AO48=\"Yes\",5,0)","v":0},"No",{"$f":"IF(AQ48=\"Yes\",5,0)","v":0},"No",null,null,39.43,null,null,null,null,null,null,null,null,"Albemarle RPO",null,null,null,null,null,null,null,null,null,null,null,null,{"$f":"SUM(AE48+AF48+AG48+AH48++AJ48+AL48+AN48+AP48)","v":65},null,null,null,null,null,null,null,null,null,null,null,null,null,null,null,null,null,null,null,null,null,null,null,{"$f":"9.5*2","v":19},null,null,null,null,null,null,null,null,null,null,60391,null,null,null,null,null,null,null,null,null,null,null,null,null,null,null,null,null,null,null,null,null,null,null,null,null,null,null,null,null,null,null,null,1725000,null,230400]
["F130001","Hyde","Albemarle RPO","Ferry","Division Needs",null,"Statewide: Support Vessel",null,null,"Replacement Vessel-Tug(Albemarle)",null,5000000,null,null,null,null,19.3,6,{"$f":"Q49+#REF!+R49","v":{"$error":"#REF!"}},null,null,null,{"$f":"(EH49/CY49)/CN49","v":1.0039836887511122},null,null,"Yes",null,null,null,null,{"$f":"IF(AT49<30,0,IF(AT49<50,5,IF(AT49<65,10,IF(AT49<79,15,IF(AT49>80,20)))))","v":5},20,{"$f":"IF(Z49=\"Yes\",15,0)","v":15},0,"No",15,"Minimal",10,"Yes",{"$f":"IF(AO49=\"Yes\",5,0)","v":0},"No",{"$f":"IF(AQ49=\"Yes\",5,0)","v":0},"No",null,null,39.43,null,null,null,null,null,null,null,null,"Albemarle RPO",null,null,null,null,null,null,null,null,null,null,null,null,{"$f":"SUM(AE49+AF49+AG49+AH49++AJ49+AL49+AN49+AP49)","v":65},null,null,null,null,null,null,null,null,null,"Hyde",null,null,null,null,null,null,null,null,null,null,null,null,null,{"$f":"9.5*2","v":19},null,null,null,null,null,null,null,null,null,null,60391,null,null,null,null,null,null,null,null,null,null,null,null,null,null,null,null,null,null,null,null,null,null,null,null,null,null,null,null,null,null,null,null,5000000,null,1152000]
["B141476","Dare","Albemarle RPO","Bike & Ped","Division Needs",null,"Kill Devil Hills Multi Use Path","Ocean Acres","Atlantic","Construct Multi-Use Path","2. Construct multi-use trail / greenway / sidepath or on-road bike lane on local roadway",356500,null,null,null,null,18.504548236546277,9.75,{"$f":"Q50+#REF!+R50","v":{"$error":"#REF!"}},null,"N/A",null,7756.7101699088889,null,null,"Yes",null,null,null,null,15,0,15,10,"Yes",15,"Minimal",10,"Yes",{"$f":"IF(AO50=\"Yes\",10,0)","v":0},"No",{"$f":"IF(AQ50=\"Yes\",10,0)","v":0},"No",null,null,75,null,null,null,null,null,null,null,null,"Albemarle RPO",null,null,null,null,null,null,null,null,null,null,null,null,{"$f":"SUM(AE50+AF50+AG50+AH50+AJ50+AL50+AN50)","v":65},null,null,null,null,null,null,null,null,null,"Dare County",null,null,null,null,null,null,null,null,null,null,null,null,null,0.31,null,null,null,null,null,null,null,null,null,null,{"$f":"786*0.1","v":78.600000000000009},null,null,null,null,null,null,null,null,null,null,null,null,null,null,null,null,null,null,null,null,null,null,null,null,null,null,null,null,null,310000,0,null,356500,0,189000]
["F130005",null,"Albemarle RPO","Ferry","Division Needs",null,"Statewide: Support Vessel",null,null,"Replacement Vessel-Barge (NC-2 Fuel Barge)",null,200000,null,null,null,null,18.2,3,{"$f":"Q51+#REF!+R51","v":{"$error":"#REF!"}},null,null,null,0.28609613318122518,null,null,"Yes",null,null,null,null,5,20,15,0,"No",15,"Minimal",10,"Yes",{"$f":"IF(AO51=\"Yes\",5,0)","v":0},"No",{"$f":"IF(AQ51=\"Yes\",5,0)","v":0},"No",null,null,39.43,null,null,null,null,null,null,null,null,"Albemarle RPO",null,null,null,null,null,null,null,null,null,null,null,null,{"$f":"SUM(AE51+AF51+AG51+AH51++AJ51+AL51+AN51+AP51)","v":65},null,null,null,null,null,null,null,null,null,null,null,null,null,null,null,null,null,null,null,null,null,null,null,{"$f":"9.5*2","v":19},null,null,null,null,null,null,null,null,null,null,60391,null,null,null,null,null,null,null,null,null,null,null,null,null,null,null,null,null,null,null,null,null,null,null,null,null,null,null,null,null,null,null,null,200000,null,328275]
["B141349","Dare","Albemarle RPO","Bike & Ped","Division Needs",null,"NC 12","Gull Street","Jennettes Pier","Construct sidewalk on west side of NC 12 from Gull Street south to Jennets Pier","5. Construct Sidewalk",100000,null,null,null,null,15.642500000000002,6.75,{"$f":"Q52+#REF!+R52","v":{"$error":"#REF!"}},null,"N/A",null,1461.0389610389611,null,null,"Yes",null,null,null,null,0,15,15,10,"Yes",15,"Minimal",10,"Yes",{"$f":"IF(AO52=\"Yes\",10,0)","v":0},"No",{"$f":"IF(AQ52=\"Yes\",10,0)","v":0},"No",null,null,12.5,null,null,null,null,null,null,null,null,"Albemarle RPO",null,null,null,null,null,null,null,null,null,null,null,null,{"$f":"SUM(AE52+AF52+AG52+AH52+AJ52+AL52+AN52)","v":65},null,null,null,null,null,null,null,null,null,"Dare County",null,null,null,null,null,null,null,null,null,null,null,null,null,0.3,null,null,null,null,null,null,null,null,null,null,308,null,null,null,null,null,null,null,null,null,null,null,null,null,null,null,null,null,null,null,null,null,null,null,null,null,null,null,null,null,90000,0,null,100000,0,135000]
["F130009","Hyde","Albemarle RPO","Ferry","Division Needs",null,"Statewide: Support Vessel",null,null,"Replacement Vessel-Barge (NC-1 Pipeline Barge)",null,185000,null,null,null,null,13.7,3,{"$f":"Q53+#REF!+R53","v":{"$error":"#REF!"}},null,null,null,1.7255969650409739,null,null,"Yes",null,null,null,null,5,20,15,0,"No",15,"Minimal",10,"Yes",{"$f":"IF(AO53=\"Yes\",5,0)","v":0},"No",{"$f":"IF(AQ53=\"Yes\",5,0)","v":0},"No",null,null,39.43,null,null,null,null,null,null,null,null,"Albemarle RPO",null,null,null,null,null,null,null,null,null,null,null,null,{"$f":"SUM(AE53+AF53+AG53+AH53++AJ53+AL53+AN53+AP53)","v":65},null,null,null,null,null,null,null,null,null,"Hyde",null,null,null,null,null,null,null,null,null,null,null,null,null,{"$f":"9.5*2","v":19},null,null,null,null,null,null,null,null,null,null,60391,null,null,null,null,null,null,null,null,null,null,null,null,null,null,null,null,null,null,null,null,null,null,null,null,null,null,null,null,null,null,null,null,185000,null,1980000]
["F130010","Hyde","Albemarle RPO","Ferry","Division Needs",null,"Statewide: Support Vessel",null,null,"Replacement Vessel-Barge (NC-3 Equipment Barge)",null,185000,null,null,null,null,13.7,3,{"$f":"Q54+#REF!+R54","v":{"$error":"#REF!"}},null,null,null,0.5804280700592368,null,null,"Yes",null,null,null,null,5,20,15,0,"No",15,"Minimal",10,"Yes",{"$f":"IF(AO54=\"Yes\",5,0)","v":0},"No",{"$f":"IF(AQ54=\"Yes\",5,0)","v":0},"No",null,null,39.43,null,null,null,null,null,null,null,null,"Albemarle RPO",null,null,null,null,null,null,null,null,null,null,null,null,{"$f":"SUM(AE54+AF54+AG54+AH54++AJ54+AL54+AN54+AP54)","v":65},null,null,null,null,null,null,null,null,null,"Hyde",null,null,null,null,null,null,null,null,null,null,null,null,null,{"$f":"9.5*2","v":19},null,null,null,null,null,null,null,null,null,null,60391,null,null,null,null,null,null,null,null,null,null,null,null,null,null,null,null,null,null,null,null,null,null,null,null,null,null,null,null,null,null,null,null,185000,null,666000]
["H129676-A","Hertford","Peanut Belt RPO","Highway","Statewide Mobility","R-5311A","NC-11 ","SR 1213 (Old NC 11 Road)","","Upgrade At-Grade Intersecton to Interchange.","7 - Upgrade At-grade Intersection to Interchange or Grade Separation",9460000,15.194668034134692,null,13.574471535535771,null,8.9410226938807895,null,{"$f":"Q55+#REF!+R55","v":{"$error":"#REF!"}},null,{"$f":"IF(AT55<30,0,IF(AT55<50,5,IF(AT55<65,10,IF(AT55>66,15))))","v":15},{"$f":"IF(W55<499,15,IF(W55<999,10,IF(W55<1499,5,IF(W55>1500,0))))","v":10},566.46164208284017,{"$f":"IF(DC55<500,0,IF(DC55<1000,5,IF(DC55>1000,10)))","v":10},{"$f":"IF(Z55=\"Yes\",20,0)","v":20},"Yes",{"$f":"IF(AB55=\"Yes\",20,0)","v":20},"Yes",{"$f":"IF(AD55=\"Yes\",20,0)","v":20},"Yes",15,{"$f":"IF(BL53<999,20,IF(BL53<1499,15,IF(BL53<1999,10,IF(BL53<3999,5,IF(BL53>4000,0)))))","v":20},15,10,"Yes",15,"Minimal",10,"Yes",{"$f":"IF(AO55=\"Yes\",10,0)","v":0},"No",{"$f":"IF(AQ55=\"Yes\",10,0)","v":0},"No",19.501477044516125,3.2587498942917548,66.650000000000006,6.2469894638882204,4.5220205971468346,25.050239849999997,0,0,null,null,null,"Peanut Belt RPO",100,"","","","","01",100,"","","","",{"$f":"SUM(U55+V55+X55+Y55+AA55+AC55)","v":95},{"$f":"SUM(AE55+AF55+AG55+AH55+AJ55+AL55+AN55+AP55)","v":85},null,null,100,100,{"$f":"Q55+BT55*0.25","v":33.94102269388079},null,{"$f":"O55+BS55*0.25","v":38.574471535535771},{"$f":"BW55+P55","v":38.574471535535771},null,"Hertford",100,"","","","","","",1,"A","01, , ","Peanut Belt RPO, , ","Hertford, , , ",2,2,"Two Lane Highway","Multi-Lane Highway",1,1,"Undivided","Divided",49.999892227322199,55,14.962705749633502,85.0372942503665,8350.0799499999994,31000,0.26935741774193545,7100.6820572223551,1249.3978927776441,1121641.911162334,197358.08883766588,1319000,30827774,"","","",33.299999999999997,100,21,6.9440411942936698E-5,"No","No",12,12,"No",2,2,"2 Lane Undivided","","None","Full",1,"Yes",19.565219056081599,8900000,500000,60000,9460000,"",9460000,9460000,""]
["H141680","Northampton","Peanut Belt RPO","Highway","Regional Impact","","NC-46 ","Virginia State Line","NC 48 in Gaston","Currently a 2-lane major thoroughfare from the Virginia State Line to NC 48 (TIP#U-2419), this project recommends to upgrade the existing facility to 24 feet w/ paved shoulders; while modifying sharp horizontal curves. This would provide safer maneuvering in a 12-foot lane; while tying in bike lane recommendations.\n","16 - Modernize Roadway",8587000,null,null,12.09,null,8.89,null,{"$f":"Q56+#REF!+R56","v":{"$error":"#REF!"}},null,{"$f":"IF(AT56<30,0,IF(AT56<50,5,IF(AT56<65,10,IF(AT56>66,15))))","v":5},{"$f":"IF(W56<499,15,IF(W56<999,10,IF(W56<1499,5,IF(W56>1500,0))))","v":15},226.17036161740458,{"$f":"IF(DC56<500,0,IF(DC56<1000,5,IF(DC56>1000,10)))","v":0},{"$f":"IF(Z56=\"Yes\",20,0)","v":20},"Yes",{"$f":"IF(AB56=\"Yes\",20,0)","v":20},"Yes",{"$f":"IF(AD56=\"Yes\",10,0)","v":10},"Yes",5,{"$f":"IF(BL54<999,20,IF(BL54<1499,15,IF(BL54<1999,10,IF(BL54<3999,5,IF(BL54>4000,0)))))","v":20},15,10,"Yes",15,"Minimal",10,"Yes",{"$f":"IF(AO56=\"Yes\",10,0)","v":0},"No",0,"No",15.582930485979688,0,48.359228950130998,1.1083439460534406,"N/A",17.64857133735174,25,0,null,null,null,"Peanut Belt RPO",100,"","","","","01",100,"","","","",{"$f":"SUM(U56+V56+X56+Y56+AA56+AC56)","v":70},75,null,null,100,100,{"$f":"Q56+BT56*0.25","v":33.89},null,{"$f":"O56+BS56*0.25","v":37.090000000000003},{"$f":"BW56+P56","v":37.090000000000003},null,"Northampton",100,"","","","","","",1,"A","01, , ","Peanut Belt RPO, , ","Northampton, , , ",10.4059785999999,10.4059785999999,"Two Lane Highway","Two Lane Highway",1,1,"Undivided","Undivided",55,55,6.0754955492136,93.924504450786401,3648.5713373517401,15500,0.23539169918398323,3426.9025481410522,221.66878921068809,0,0,0,0,52.554759300000001,46.363860670000001,46.173576099999998,"","","","","No","No",11,12,"No",2,0,"2 Lane Undivided","3A - 2 Lane with Two Way Left Turn Lane, and Paved Shoulders","None","None",1,"No",27,8587000,0,0,8587000,"",8587000,8587000,""]
["H129113-A","Northampton","Peanut Belt RPO","Highway","Statewide Mobility","R-2582A","US-158 , NC-46 ","I-95/NC 46 in Roanoke Rapids","SR 1312 (St. John Church Road)","Widen to Multi-Lanes.","1 - Widen Existing Roadway",61600000,10.75557238499411,null,10.87,null,8.0399999999999991,null,{"$f":"Q57+#REF!+R57","v":{"$error":"#REF!"}},null,{"$f":"IF(AT57<30,0,IF(AT57<50,5,IF(AT57<65,10,IF(AT57>66,15))))","v":5},{"$f":"IF(W57<499,15,IF(W57<999,10,IF(W57<1499,5,IF(W57>1500,0))))","v":0},2091.14740608183,{"$f":"IF(DC57<500,0,IF(DC57<1000,5,IF(DC57>1000,10)))","v":5},{"$f":"IF(Z57=\"Yes\",20,0)","v":20},"Yes",{"$f":"IF(AB57=\"Yes\",20,0)","v":20},"Yes",10,"Yes",5,{"$f":"IF(BL55<999,20,IF(BL55<1499,15,IF(BL55<1999,10,IF(BL55<3999,5,IF(BL55>4000,0)))))","v":0},15,10,"Yes",15,"Minimal",10,"Yes",{"$f":"IF(AO57=\"Yes\",10,0)","v":0},"No",0,"No",16.653337707758549,1.1873089610389611,37.553088508914001,2.7725679898764266,10.935559354881701,15.814667089,25,0,null,null,null,"Peanut Belt RPO",100,"","","","","01",100,"","","","",{"$f":"SUM(U57+V57+X57+Y57+AA57+AC57)","v":60},55,null,null,100,null,{"$f":"Q57+BT57*0.25","v":8.0399999999999991},"Exceeds cap of $15 million for Statewide & Regional Projects cascading to Division Needs",{"$f":"O57+BS57*0.25","v":35.869999999999997},{"$f":"BW57+P57","v":35.869999999999997},null,"Northampton",100,"","","","","","",1,"A","01, , ","Peanut Belt RPO, , ","Northampton, , , ",7.4799006700000001,7.4799006700000001,"Arterial","Multi-Lane Highway",1,2,"Undivided","Divided",50,50,14.080301894199701,85.919698105800293,3938.2223629999999,15671.3475,0.25130081270930915,3383.7087650247145,554.51359797528528,2698025.2618860388,442145.52707987302,3140170.7889659116,73138232,40.937157169999999,38.616381390000001,33.11699402,"","",50,1.6871118709763401E-4,"No","No",11,12,"No",1,0,"2 Lane Undivided","4A - 4 Lane Divided (46' Depressed Median) with Paved Shoulders","None","Partial",1,"Yes",22,54000000,7600000,0,61600000,"",61600000,61600000,""]
["A130008","Pasquotank","Albemarle RPO","Aviation","Division Needs",null,"Elizabeth City Coast Guard Air Station/Regional",null,null,"Land Acquisition-Apron Construction",null,1800000,null,null,null,null,8.59,13.5,{"$f":"Q58+#REF!+R58","v":{"$error":"#REF!"}},null,"N/A",null,1588.4154391156831,null,null,"Yes",{"$f":"IF(AB58=\"Yes\",10,0)","v":0},null,0,null,0,{"$f":"IF(W58<999,20,IF(W58<1499,15,IF(W58<1999,10,IF(W58<3999,5,IF(W58>4000,0)))))","v":10},15,10,"Yes",{"$f":"IF(AK58=\"Minimal\",15,0)","v":15},"Minimal",10,"Yes",{"$f":"IF(AO58=\"Yes\",5,0)","v":5},"Yes",0,"No",null,null,null,null,null,null,null,null,null,null,null,"Albemarle RPO",null,null,null,null,null,null,null,null,null,null,null,null,65,null,null,null,null,null,null,null,null,null,"Pasquotank",null,null,null,null,null,null,null,null,null,null,null,null,null,0.86,null,null,null,null,null,null,null,null,null,null,164.71,null,null,null,null,null,null,null,null,null,null,null,null,null,null,null,null,null,null,null,null,null,null,null,null,null,null,null,null,null,null,null,null,2000000,null,225000]
["A130007","Pasquotank","Albemarle RPO","Aviation","Division Needs",null,"Elizabeth City Coast Guard Air Station/Regional",null,null,"Permitting/mitigation/preliminary",null,247500,null,null,null,null,7.89,13.5,{"$f":"Q59+#REF!+R59","v":{"$error":"#REF!"}},null,"N/A",null,1747.2569830272516,null,null,"Yes",{"$f":"IF(AB59=\"Yes\",10,0)","v":0},null,0,null,0,{"$f":"IF(W59<999,20,IF(W59<1499,15,IF(W59<1999,10,IF(W59<3999,5,IF(W59>4000,0)))))","v":10},15,10,"Yes",{"$f":"IF(AK59=\"Minimal\",15,0)","v":15},"Minimal",10,"Yes",{"$f":"IF(AO59=\"Yes\",5,0)","v":5},"Yes",0,"No",null,null,null,null,null,null,null,null,null,null,null,"Albemarle RPO",null,null,null,null,null,null,null,null,null,null,null,null,65,null,null,null,null,null,null,null,null,null,"Pasquotank",null,null,null,null,null,null,null,null,null,null,null,null,null,0.86,null,null,null,null,null,null,null,null,null,null,164.71,null,null,null,null,null,null,null,null,null,null,null,null,null,null,null,null,null,null,null,null,null,null,null,null,null,null,null,null,null,null,null,null,275000,null,247500]
["A130036","Currituck","Albemarle RPO","Aviation","Division Needs",null,"Currituck County Regional",null,null,"Acquire Equipment Shelter",null,135000,null,null,null,null,5.56,15,{"$f":"Q60+#REF!+R60","v":{"$error":"#REF!"}},null,"N/A",null,1895.2794905488729,null,null,"Yes",{"$f":"IF(AB60=\"Yes\",10,0)","v":0},null,0,null,0,{"$f":"IF(W60<999,20,IF(W60<1499,15,IF(W60<1999,10,IF(W60<3999,5,IF(W60>4000,0)))))","v":10},15,10,"Yes",{"$f":"IF(AK60=\"Minimal\",15,0)","v":15},"Minimal",10,"Yes",{"$f":"IF(AO60=\"Yes\",5,0)","v":5},"Yes",0,"No",null,null,null,null,null,null,null,null,null,null,null,"Albemarle RPO",null,null,null,null,null,null,null,null,null,null,null,null,65,null,null,null,null,null,null,null,null,null,"Currituck",null,null,null,null,null,null,null,null,null,null,null,null,null,1.04,null,null,null,null,null,null,null,null,null,null,68.489999999999995,null,null,null,null,null,null,null,null,null,null,null,null,null,null,null,null,null,null,null,null,null,null,null,null,null,null,null,null,null,null,null,null,150000,null,135000]
["H129676-B","Hertford","Peanut Belt RPO","Highway","Statewide Mobility","R-5311B","US-13 , NC-11 ","NC 11/NC 561 Near Ahoskie","US 158/NC 45 Near Winton","Widen to Multi-Lanes.","1 - Widen Existing Roadway",78190000,14.294078398139709,null,10.371087217043794,null,6.9127386775858319,null,{"$f":"Q61+#REF!+R61","v":{"$error":"#REF!"}},null,{"$f":"IF(AT61<30,0,IF(AT61<50,5,IF(AT61<65,10,IF(AT61>66,15))))","v":5},{"$f":"IF(W61<499,15,IF(W61<999,10,IF(W61<1499,5,IF(W61>1500,0))))","v":0},1789.7333075371355,{"$f":"IF(DC61<500,0,IF(DC61<1000,5,IF(DC61>1000,10)))","v":5},{"$f":"IF(Z61=\"Yes\",20,0)","v":20},"Yes",{"$f":"IF(AB61=\"Yes\",20,0)","v":20},"Yes",10,"Yes",5,{"$f":"IF(BL59<999,20,IF(BL59<1499,15,IF(BL59<1999,10,IF(BL59<3999,5,IF(BL59>4000,0)))))","v":20},15,10,"Yes",15,"Minimal",10,"Yes",{"$f":"IF(AO61=\"Yes\",10,0)","v":0},"No",0,"No",24.001832373834379,3.9584013300933626E-2,45.085970388722998,12.62287902978008,0.48480637170798752,24.870691912999998,0,0,null,null,null,"Peanut Belt RPO",100,"","","","","01",100,"","","","",{"$f":"SUM(U61+V61+X61+Y61+AA61+AC61)","v":60},75,null,null,100,null,{"$f":"Q61+BT61*0.25","v":6.9127386775858319},"Exceeds cap of $15 million for Statewide & Regional Projects cascading to Division Needs",{"$f":"O61+BS61*0.25","v":35.371087217043794},{"$f":"BW61+P61","v":35.371087217043794},null,"Hertford",100,"","","","","","",1,"A","01, , ","Peanut Belt RPO, , ","Hertford, , , ",7.7687519099999998,7.7687519099999998,"Two Lane Highway","Multi-Lane Highway",1,2,"Undivided","Divided",51,51,12.658791545258499,87.341208454741505,5623.5639709999996,15511.563459999999,0.36254011309057299,4911.6887304968486,711.87524050315096,116717.64369008195,16916.462999159405,133634.10668924137,3095074,59.757713440000003,36.965768650000001,38.547956220000003,"","",2.1084775792553301,7.5876498549044201E-6,"Yes","No",12,12,"No",4,2,"2 Lane Undivided","4A - 4 Lane Divided (46' Depressed Median) with Paved Shoulders","None","Partial",1,"Yes",24,73100000,4425000,665000,78190000,"",78190000,78190000,""]
["H090284","Dare","Albemarle RPO","Highway","Statewide Mobility","R-4457","US-158 ","NC 12","","Improve intersection ","7 - Upgrade At-grade Intersection to Interchange or Grade Separation",23870000,25.088572426440816,null,23.24,12.3,17.98,9,{"$f":"Q62+#REF!+R62","v":{"$error":"#REF!"}},null,10,5,1254.6033770323088,10,20,"Yes",20,"Yes",{"$f":"IF(AD62=\"Yes\",20,0)","v":0},"No",10,{"$f":"IF(BL60<999,20,IF(BL60<1499,15,IF(BL60<1999,10,IF(BL60<3999,5,IF(BL60>4000,0)))))","v":20},15,0,"No",{"$f":"IF(AK62=\"Minimal\",15,0)","v":15},"Minimal",10,"Yes",0,"No",0,"No",54.50533413736671,0.3082017176372015,50,17.576238950973607,1.2926387974492148,100,0,75,null,null,null,"Albemarle RPO",100,"","","","","01",100,"","","","",65,70,null,null,0,null,17.98,null,23.24,35.54,"Minimal Local Support","Dare",100,"","","","","","",1,"A","01, , ","Albemarle RPO, , ","Dare, , , ",0.5,0.5,"Arterial","Arterial",2,2,"TWLTL","Divided",50.0000000000014,50.0000000000014,9.2380430429066998,90.761956957093304,38051.866329999997,58117.244420000003,0.6547431267561119,34536.618539805277,3515.2477901947218,292253.50140184048,29746.498598159575,322000.00000000006,7356775,"","","",66.7,33.299999999999997,5,2.0852775948984299E-5,"No","No",12,12,"No",1,4,"4 Lane with TWLTL (Five Lane)","","None","Partial",2,"Yes",18.899999992478101,19250000,4620000,0,23870000,"",23870000,23870000,""]
["H090442","Dare","Albemarle RPO","Highway","Statewide Mobility","U-3815","US-64 ","US 64 Business/NC 345","","US 64-US 64 Bypass-NC 345.  Improve intersection.","10 - Improve Intersection",1550000,26.823169613838097,null,21.9385617456722,11.85,13.654173443351365,9,{"$f":"Q63+#REF!+R63","v":{"$error":"#REF!"}},null,15,15,139.0264115479155,10,20,"Yes",0,"No",{"$f":"IF(AD63=\"Yes\",20,0)","v":0},"No",20,{"$f":"IF(BL61<999,20,IF(BL61<1499,15,IF(BL61<1999,10,IF(BL61<3999,5,IF(BL61>4000,0)))))","v":0},15,0,"No",0,"Significant",{"$f":"AP63","v":0},"No",0,"No",0,"No",24.045702820610419,29.146031612903226,83.35,8.2540013041944356,8.7984902294512004,14.865280946666667,0,0,null,null,null,"Albemarle RPO",100,"","","","","01",100,"","","","",60,35,null,null,0,null,13.654173443351365,"Minimal Local Support",21.9385617456722,33.788561745672197,"Minimal Local Support","Dare",100,"","","","","","",1,"A","01, , ","Albemarle RPO, , ","Dare, , , ",0.5,0.5,"Multi-Lane Highway","Multi-Lane Highway",2,2,"Undivided","Undivided",52.507045460133803,55,7.4033818208643005,92.596618179135703,22297.921419999999,88445.592550000001,0.25210890421017368,20647.121159161114,1650.800260838887,1844524.6341283831,147475.36587161687,1992000,45176349,"","","",66.7,100,33,1.4296980458902399E-4,"No","No",12,12,"No",4,4,"2 Lane Undivided","","Limited","Partial",2,"No",14.753019576345601,1250000,300000,0,1550000,"",1550000,1550000,""]
["H090376","Dare","Albemarle RPO","Highway","Regional Impact","U-2917","NC-12 ","Vicinity of SR 1206 in Kitty Hawk","","Roadway Improvements.","16 - Modernize Roadway",21318000,null,null,15.32,10.95,11.87,7.5,{"$f":"Q64+#REF!+R64","v":{"$error":"#REF!"}},null,10,5,1416.5434087463095,0,20,"Yes",0,"No",{"$f":"IF(AD64=\"Yes\",20,0)","v":0},"No",10,{"$f":"IF(BL62<999,20,IF(BL62<1499,15,IF(BL62<1999,10,IF(BL62<3999,5,IF(BL62>4000,0)))))","v":0},15,10,"No",15,"Minimal",{"$f":"IF(AM64=\"Yes\",10,0)","v":10},"Yes",0,"No",0,"No",15.607000817638772,0,53.139971694710994,0.88886058751024577,"N/A",2.4787958946666668,50,0,null,null,null,"Albemarle RPO",100,"","","","","01",100,"","","","",35,60,null,null,0,null,11.87,"Exceeds cap of $15 million for Statewide & Regional Projects cascading to Division Needs",15.32,26.27,"Minimal Local Support","Dare",100,"","","","","","",1,"A","01, , ","Albemarle RPO, , ","Dare, , , ",4.04747843,4.04747843,"Arterial","Arterial",1,1,"Undivided","Undivided",35,35,4.7811417332246,95.218858266775399,3718.1938420000001,15800.000190000001,0.23532872134731284,3540.4217244979513,177.77211750204916,0,0,0,0,47.458223420000003,43.976591910000003,68.001043339999995,"","","","","No","No",10,12,"No",4,0,"2 Lane Undivided","","None","None",2,"No",19,21318000,0,0,21318000,"",21318000,21318000,""]
["H141869","Chowan","Albemarle RPO","Highway","Statewide Mobility","","US-17-BYP-Edenton Bypass","South end of Chowan River Bridge","US 17 Business (North) in Edenton (Broad Street)","Upgrade freeway to interstate standards","17 - Upgrade Freeway to Interstate Standards",39943000,8.7484760417394707,null,13.199578131959568,10.95,10.466385421306379,7.5,{"$f":"Q65+#REF!+R65","v":{"$error":"#REF!"}},null,5,10,527.48148407603003,10,20,"Yes",20,"Yes",{"$f":"IF(AD65=\"Yes\",20,0)","v":20},"Yes",5,{"$f":"IF(W65<999,20,IF(W65<1499,15,IF(W65<1999,10,IF(W65<3999,5,IF(W65>4000,0)))))","v":20},15,{"$f":"IF(AI65=\"Yes\",10,0)","v":0},"No",15,"Minimal",10,"Yes",0,"No",0,"No",10.143372066527785,0,44.520482146535997,5.8742929410305047,0.78557618921433359,18.241940617180788,25,25,null,null,null,"Albemarle RPO",90.31,"Peanut Belt RPO",9.69,"","","01",100,"","","","",85,65,null,null,0,null,10.466385421306379,"Delay Prioritization pending outcome of Future Interstate Designation; Exceeds cap of $15 million for Statewide & Regional Projects cascading to Division Needs",13.199578131959568,24.149578131959565,"Delay Division Local Input Scoring pending outcome of Future Interstate Designation","Chowan",90.31,"Bertie",9.69,"","","","",1,"A","01, , ","Albemarle RPO, Peanut Belt RPO, ","Chowan, Bertie, , ",9.1876402099999996,9.1876402099999996,"Freeway","Freeway",2,2,"Divided","Divided",58.657857951946099,58.657857951946099,14.2546354405544,85.745364559445605,8241.9406171807896,72228.075098455607,0.11410993032759113,7067.0820289746889,1174.8585882061009,0,0,0,0,49.239147449999997,33.660043209999998,50.675613259999999,"","",3.5297729597742702,1.21817508245124E-5,"No","No",11,12,"No",3,4,"4 Lane with Median - Full Control","","Full","Full",1,"No",25,39943000,0,0,39943000,"",39943000,39943000,""]
["H090285","Perquimans","Albemarle RPO","Highway","Statewide Mobility","R-4458","US-17 ","SR 1300 (New Hope Road)","","Convert at-Grade intersection to An interchange","7 - Upgrade At-grade Intersection to Interchange or Grade Separation",12906000,11.908335891675366,null,12.64,10.95,9.24,7.5,{"$f":"Q66+#REF!+R66","v":{"$error":"#REF!"}},null,10,15,407.68760462512967,10,20,"Yes",20,"Yes",{"$f":"IF(AD66=\"Yes\",20,0)","v":0},"no",10,{"$f":"IF(BL64<999,20,IF(BL64<1499,15,IF(BL64<1999,10,IF(BL64<3999,5,IF(BL64>4000,0)))))","v":0},15,0,"No",15,"Minimal",10,"Yes",0,"No",0,"No",16.727256327764458,0.67404679993801331,50,7.7049196029202633,1.46961032780572,63.408788800000011,0,25,null,null,null,"Albemarle RPO",100,"","","","","01",100,"","","","",75,50,null,null,0,null,9.24,"Delay Prioritization pending outcome of Future Interstate Designation; Need to coordinate this project with SPOT ID#H141929",12.64,23.59,"Delay Division Local Input Scoring  pending outcome of Future Interstate Designation; Need to coordinate this project with SPOT ID#H090286 & TIP#R-4459","Perquimans",100,"","","","","","",1,"A","01, , ","Albemarle RPO, , ","Perquimans, , , ",2,2,"Multi-Lane Highway","Freeway",2,2,"Divided","Divided",55,55,9.7356275119906002,90.2643724880094,15828.2958,91352.771370000002,0.17326563346274099,14287.311879415947,1540.9839205840526,343004.6154544357,36995.38454556428,380000,8699248,"","","",0,100,6,2.3392206556114398E-5,"no","No",12,12,"No",3,4,"2 Lane Undivided","","None","Full",2,"Yes",30.6,10716000,2190000,0,12906000,"",12906000,12906000,""]
["B141773","Dare","Albemarle RPO","Bike & Ped","Division Needs",null,"NC 12 Duck","1174 Duck Road","Cook Drive","Construct Sidewalk on West side of NC 12","2. Construct multi-use trail / greenway / sidepath or on-road bike lane on local roadway",303600,null,null,null,null,20.72,13.5,{"$f":"Q67+#REF!+R67","v":{"$error":"#REF!"}},null,"N/A",null,14426.229508196724,null,null,"Yes",null,null,null,null,10,{"$f":"IF(W67<999,20,IF(W67<1499,15,IF(W67<1999,10,IF(W67<3999,5,IF(W67>4000,0)))))","v":0},15,10,"Yes",15,"Minimal",10,"Yes",0,"No",0,"No",null,null,62.5,null,null,null,null,null,null,null,null,"Albemarle RPO",null,null,null,null,null,null,null,null,null,null,null,null,{"$f":"SUM(AE67+AF67+AG67+AH67+AJ67+AL67+AN67)","v":60},null,null,null,null,null,null,null,null,null,"Dare County",null,null,null,null,null,null,null,null,null,null,null,null,null,0.69,null,null,null,null,null,null,null,null,null,null,{"$f":"305*0.1","v":30.5},null,null,null,null,null,null,null,null,null,null,null,null,null,null,null,null,null,null,null,null,null,null,null,null,null,null,null,null,null,385000,0,null,442000,138400,303600]
["B141770","Dare","Albemarle RPO","Bike & Ped","Division Needs",null,"NC 12 Duck","Four Seasons Lane","Cook Drive","Connect share path and construct sidewalk","5. Construct Sidewalk",286000,null,null,null,null,19.84,13.5,{"$f":"Q68+#REF!+R68","v":{"$error":"#REF!"}},null,"N/A",null,9712.7677237257158,null,null,"Yes",null,null,null,null,10,0,15,10,"Yes",15,"Minimal",10,"Yes",0,"No",0,"No",null,null,62.5,null,null,null,null,null,null,null,null,"Albemarle RPO",null,null,null,null,null,null,null,null,null,null,null,null,60,null,null,null,null,null,null,null,null,null,"Dare County",null,null,null,null,null,null,null,null,null,null,null,null,null,2.4700000000000002,null,null,null,null,null,null,null,null,null,null,{"$f":"317*0.1","v":31.700000000000003},null,null,null,null,null,null,null,null,null,null,null,null,null,null,null,null,null,null,null,null,null,null,null,null,null,null,null,null,null,365000,0,null,420000,134000,760500]
["B141788","Camden","Albemarle RPO","Bike & Ped","Division Needs",null,"SR 1216","US 17","End Pavement","Construct Sidewalks","5. Construct Sidewalk",200000,null,null,null,null,19.2234926866,8.25,{"$f":"Q69+#REF!+R69","v":{"$error":"#REF!"}},null,"N/A",null,18705.574261129816,null,null,"Yes",null,null,null,null,10,0,15,10,"Yes",15,"Minimal",10,"Yes",0,"No",0,"No",null,null,50,null,null,null,null,null,null,null,null,"Albemarle RPO",null,null,null,null,null,null,null,null,null,null,null,null,60,null,null,null,null,null,null,null,null,null,"Camden County",null,null,null,null,null,null,null,null,null,null,null,null,null,0.33,null,null,null,null,null,null,null,null,null,null,{"$f":"324*0.1","v":32.4},null,null,null,null,null,null,null,null,null,null,null,null,null,null,null,null,null,null,null,null,null,null,null,null,null,null,null,null,null,170000,0,null,200000,0,200000]
["B141479","Dare","Albemarle RPO","Bike & Ped","Division Needs",null,"Kill Devil Hills Multi Use Path","Eighth Street","Ocean Acres","Construct Multi use path","2. Construct multi-use trail / greenway / sidepath or on-road bike lane on local roadway",414000,null,null,null,null,15.233988893053294,9.75,{"$f":"Q70+#REF!+R70","v":{"$error":"#REF!"}},null,"N/A",null,16290.726817042605,null,null,"Yes",null,null,null,null,10,0,15,10,"Yes",15,"Minimal",10,"Yes",0,"No",0,"No",null,null,55,null,null,null,null,null,null,null,null,"Albemarle RPO",null,null,null,null,null,null,null,null,null,null,null,null,60,null,null,null,null,null,null,null,null,null,"Dare County",null,null,null,null,null,null,null,null,null,null,null,null,null,0.36,null,null,null,null,null,null,null,null,null,null,{"$f":"798*0.1","v":79.800000000000011},null,null,null,null,null,null,null,null,null,null,null,null,null,null,null,null,null,null,null,null,null,null,null,null,null,null,null,null,null,360000,0,null,414000,0,468000]
["B141368","Dare","Albemarle RPO","Bike & Ped","Division Needs",null,"US 158","Worthington Lane","Jejac Street","Construct approximately 8200' of sidewalk on the west side of US 158","5. Construct Sidewalk",405375,null,null,null,null,14.980262092711737,9.75,{"$f":"Q71+#REF!+R71","v":{"$error":"#REF!"}},null,"N/A",null,2732.7935222672068,null,null,"Yes",null,null,null,null,5,5,15,10,"Yes",15,"Minimal",10,"Yes",0,"No",0,"No",null,null,42.5,null,null,null,null,null,null,null,null,"Albemarle RPO",null,null,null,null,null,null,null,null,null,null,null,null,60,null,null,null,null,null,null,null,null,null,"Dare County",null,null,null,null,null,null,null,null,null,null,null,null,null,3.12,null,null,null,null,null,null,null,null,null,null,{"$f":"950*0.1","v":95},null,null,null,null,null,null,null,null,null,null,null,null,null,null,null,null,null,null,null,null,null,null,null,null,null,null,null,null,null,385375,0,null,405375,0,810000]
["B141956","Camden","Albemarle RPO","Bike & Ped","Division Needs",null,"Dismal Swamp Trail","McPherson Road",null,"Construct a 10' wide trail running between US 17 and the historic Dismal Swamp. (Phase 1)","2. Construct multi-use trail / greenway / sidepath or on-road bike lane on local roadway",400000,null,null,null,null,14.580441313826976,7.5,{"$f":"Q72+#REF!+R72","v":{"$error":"#REF!"}},null,"N/A",null,94562.647754137128,null,null,"Yes",null,null,null,null,10,0,15,10,"Yes",15,"Minimal",10,"Yes",0,"No",0,"No",null,null,50,null,null,null,null,null,null,null,null,"Albemarle RPO",null,null,null,null,null,null,null,null,null,null,null,null,60,null,null,null,null,null,null,null,null,null,"Camden County",null,null,null,null,null,null,null,null,null,null,null,null,null,0.47,null,null,null,null,null,null,null,null,null,null,{"$f":"90*0.1","v":9},null,null,null,null,null,null,null,null,null,null,null,null,null,null,null,null,null,null,null,null,null,null,null,null,null,null,null,null,null,380000,0,null,400000,0,400000]
["B141965","Camden","Albemarle RPO","Bike & Ped","Division Needs",null,"Dismal Swamp Trail",null,null,"Construct a 10' wide trail running between US 17 and the historic Dismal Swamp (Phase 2)","2. Construct multi-use trail / greenway / sidepath or on-road bike lane on local roadway",400000,null,null,null,null,14.551587373051026,7.5,{"$f":"Q73+#REF!+R73","v":{"$error":"#REF!"}},null,"N/A",null,120809.42313500452,null,null,"Yes",null,null,null,null,10,0,15,10,"Yes",15,"Minimal",10,"Yes",0,"No",0,"No",null,null,50,null,null,null,null,null,null,null,null,"Albemarle RPO",null,null,null,null,null,null,null,null,null,null,null,null,60,null,null,null,null,null,null,null,null,null,"Camden County",null,null,null,null,null,null,null,null,null,null,null,null,null,0.43,null,null,null,null,null,null,null,null,null,null,{"$f":"77*0.1","v":7.7},null,null,null,null,null,null,null,null,null,null,null,null,null,null,null,null,null,null,null,null,null,null,null,null,null,null,null,null,null,380000,0,null,400000,0,400000]
["H141929","Perquimans","Albemarle RPO","Highway","Statewide Mobility","","US-17","US 17 Business (North) in Edenton (Broad Street)","SR 1100 / 1140 (Okisko Road)","Upgrade roadway to Interstate","2 - Upgrade Arterial to Freeway/Expressway",362296000,12.231591398447446,null,9.98,10.95,7.47,7.5,{"$f":"Q74+#REF!+R74","v":{"$error":"#REF!"}},null,{"$f":"IF(AT74<30,0,IF(AT74<50,5,IF(AT74<65,10,IF(AT74>66,15))))","v":5},{"$f":"IF(W74<499,15,IF(W74<999,10,IF(W74<1499,5,IF(W74>1500,0))))","v":5},1471.2174057748716,{"$f":"IF(DC74<500,0,IF(DC74<1000,5,IF(DC74>1000,10)))","v":10},{"$f":"IF(Z74=\"Yes\",20,0)","v":20},"Yes",{"$f":"IF(AB74=\"Yes\",20,0)","v":20},"Yes",{"$f":"IF(AD74=\"Yes\",20,0)","v":20},"Yes",5,15,15,0,"No",15,"Minimal",10,"Yes",0,"No",0,"No",15.310184131456303,0.46260251838275884,33.909394688070002,6.3722125822879949,28.343734182311298,50.155493607634938,0,25,null,null,null,"Albemarle RPO",100,"","","","","01",100,"","","","",{"$f":"SUM(U74+V74+X74+Y74+AA74+AC74)","v":80},{"$f":"SUM(AE74+AF74+AG74+AH74+AJ74+AL74+AN74+AP74)","v":60},null,null,0,null,{"$f":"Q74+BT74*0.25","v":7.47},"Delay Prioritization pending outcome of Future Interstate Designation; Exceeds cap of $15 million for Statewide & Regional Projects cascading to Division Needs",{"$f":"O74+BS74*0.25","v":9.98},{"$f":"BW74+P74","v":20.93},"Delay Division Local Input Scoring pending outcome of Future Interstate Designation/Under Threshold of SPOT Score of \"10\"","Perquimans",89.76,"Chowan",8.6,"Pasquotank",1.63,"","",1,"A","01, , ","Albemarle RPO, , ","Perquimans, Chowan, Pasquotank, ",19.226261770000001,19.226261770000001,"Multi-Lane Highway","Freeway",2,2,"Divided","Divided",55.267216771237202,70,9.9501222739189998,90.049877726081007,12808.310102863101,75440.184645582907,0.16978100150518441,11533.867586405504,1274.4425164575989,6586938.0592921842,727828.18539802916,7314766.2446902134,167599042,27.89512178,40.943156899999998,32.900079220000002,"","",116.79099750996799,4.5008368613625799E-4,"No","No",12,12,"No",3,4,"4 Lane with Median - Partial Control","4A - 4 Lane Divided (46' Depressed Median) with Paved Shoulders","None","None",2,"Yes",28,248047000,102008000,12241000,362296000,"",362296000,362296000,""]
["B141867","Chowan","Albemarle RPO","Bike & Ped","Division Needs",null,";;",";;",";;","Connect path where existing sidewalk stops near Twiddy Ave. and extend towards Pembroke to the west side of town, connecting  residential subdivisions and over the US 17 bypass overpass, terminating at the new Chowan River fishing pier. (Phase 1)","2. Construct multi-use trail / greenway / sidepath or on-road bike lane on local roadway",400000,null,null,null,null,9.2594271087650011,3.75,{"$f":"Q75+#REF!+R75","v":{"$error":"#REF!"}},null,"N/A",null,1871.3051080641271,null,null,"Yes",null,null,null,null,0,10,15,10,"Yes",15,"Minimal",10,"Yes",0,"No",0,"No",null,null,12.5,null,null,null,null,null,null,null,null,"Albemarle RPO",null,null,null,null,null,null,null,null,null,null,null,null,{"$f":"SUM(AE75+AF75+AG75+AH75+AJ75+AL75+AN75)","v":60},null,null,null,null,null,null,null,null,null,"Chowan County",null,null,null,null,null,null,null,null,null,null,null,null,null,0.96,null,null,null,null,null,null,null,null,null,null,{"$f":"2226.61*0.1","v":222.66100000000003},null,null,null,null,null,null,null,null,null,null,null,null,null,null,null,null,null,null,null,null,null,null,null,null,null,null,null,null,null,380000,0,null,400000,0,400000]
["H090329","Northampton","Peanut Belt RPO","Highway","Regional Impact","U-2419","NC-48 ","Roanoke Avenue in Halifax County","NC 46 in Gaston in Northampton County","Roanoke Avenue in Halifax County to NC 46 in Gaston in Northampton County. Widen to Multi-Lanes.","1 - Widen Existing Roadway",30987000,null,null,20.72,null,17.12,null,{"$f":"Q76+#REF!+R76","v":{"$error":"#REF!"}},null,{"$f":"IF(AT76<30,0,IF(AT76<50,5,IF(AT76<65,10,IF(AT76>66,15))))","v":0},{"$f":"IF(W76<499,15,IF(W76<999,10,IF(W76<1499,5,IF(W76>1500,0))))","v":0},1638.8925354054695,{"$f":"IF(DC76<500,0,IF(DC76<1000,5,IF(DC76>1000,10)))","v":5},{"$f":"IF(Z76=\"Yes\",20,0)","v":20},"Yes",{"$f":"IF(AB76=\"Yes\",20,0)","v":20},"Yes",{"$f":"IF(AD76=\"Yes\",10,0)","v":10},"Yes",0,{"$f":"IF(BL74<999,20,IF(BL74<1499,15,IF(BL74<1999,10,IF(BL74<3999,5,IF(BL74>4000,0)))))","v":0},15,10,"Yes",15,"Minimal",10,"Yes",0,"No",0,"No",46.280282747314516,0.8176696033820634,24.093813457691997,4.1616023981484593,"N/A",19.025870580000003,0,100,null,null,null,"Peanut Belt RPO",100,"","","","","01",79.88,"04",20.12,"","",{"$f":"SUM(U76+V76+X76+Y76+AA76+AC76)","v":55},{"$f":"SUM(AE76+AF76+AG76+AH76+AJ76+AL76+AN76+AP76)","v":50},null,null,0,null,{"$f":"Q76+BT76*0.25","v":17.12},"Exceeds cap of $15 million for Statewide & Regional Projects cascading to Division Needs",{"$f":"O76+BS76*0.25","v":20.72},{"$f":"BW76+P76","v":20.72},"Portion of this project is in Div. 4;therefore, it is not beneficial to assign points if Div. 4 does not","Northampton",79.88,"Halifax",20.12,"","","","",1,"A","01, 04, ","Peanut Belt RPO, , ","Northampton, Halifax, , ",1.71481062,1.71481062,"Arterial","Arterial",1,2,"Undivided","Divided",43,45,7.5487960210548,92.451203978945202,11025.870580000001,15800.17362,0.69783224192190874,10193.550100370308,832.32047962969182,1032268.9976535406,84286.496733129708,1116555.4943866702,25337128,16.88552645,55.403142789999997,0,"","","","","No","No",12,12,"No",0,4,"2 Lane Undivided","4C - 4 Lane Divided (23' Raised Median) with Curb & Gutter, Wide Outside Lanes, and Sidewalks","None","Partial",1,"No",24,29754000,1101000,132000,30987000,"",30987000,30987000,""]
["H141724","Bertie","Peanut Belt RPO","Highway","Statewide Mobility","","US-17 , US-13 ","US 64 at Williamston","US 13 North at Windsor","Upgrade roadway to Interstate","2 - Upgrade Arterial to Freeway/Expressway",296415000,13.963177203030861,null,18.190000000000001,null,14.61,null,{"$f":"Q77+#REF!+R77","v":{"$error":"#REF!"}},null,{"$f":"IF(AT77<30,0,IF(AT77<50,5,IF(AT77<65,10,IF(AT77>66,15))))","v":10},{"$f":"IF(W77<499,15,IF(W77<999,10,IF(W77<1499,5,IF(W77>1500,0))))","v":0},1821.1995352104639,{"$f":"IF(DC77<500,0,IF(DC77<1000,5,IF(DC77>1000,10)))","v":10},{"$f":"IF(Z77=\"Yes\",20,0)","v":20},"Yes",{"$f":"IF(AB77=\"Yes\",20,0)","v":20},"Yes",{"$f":"IF(AD77=\"Yes\",10,0)","v":10},"Yes",10,{"$f":"IF(BL75<999,20,IF(BL75<1499,15,IF(BL75<1999,10,IF(BL75<3999,5,IF(BL75>4000,0)))))","v":20},15,10,"Yes",15,"Minimal",10,"Yes",0,"No",0,"No",13.832167036632629,0.39403603056525477,56.903493981509996,10.770627201140798,18.508414444923371,35.755430809828404,0,75,null,null,null,"Peanut Belt RPO",89.61,"Mid-East RPO",10.39,"","","01",100,"","","","",{"$f":"SUM(U77+V77+X77+Y77+AA77+AC77)","v":70},80,null,null,0,null,{"$f":"Q77+BT77*0.25","v":14.61},"Delay Prioritization pending outcome of Future Interstate Designation; Exceeds cap of $15 million for Statewide & Regional Projects cascading to Division Needs",{"$f":"O77+BS77*0.25","v":18.190000000000001},{"$f":"BW77+P77","v":18.190000000000001},"Delay Division Local Input Scoring  pending outcome of Future Interstate Designation","Bertie",89.61,"Martin",10.39,"","","","",1,"A","01, , ","Peanut Belt RPO, Mid-East RPO, ","Bertie, Martin, , ",14.46506022,14.46506022,"Multi-Lane Highway","Freeway",2,2,"Divided","Divided",54.750299643765302,70,12.233633194568,87.766366805432,11251.8102699428,72347.719571150898,0.15552404881092519,9875.3050737692665,1376.5051961735337,4433453.3141525285,617972.96167929168,5051426.2758318204,116798190,56.167965979999998,51.059687429999997,63.499901289999997,"","",79.840633949681404,2.9032765494878602E-4,"Yes","No",12,12,"No",1,4,"4 Lane with Median - Partial Control","4A - 4 Lane Divided (46' Depressed Median) with Paved Shoulders","None","Full",1,"Yes",21,226794000,62162000,7459000,296415000,"",296415000,296415000,""]
["H090182","Martin","Mid-East RPO","Highway","Regional Impact","R-2700","NC-11 ","US 64 Relocation North of Bethel","NC 903","Widen to Four Lanes with a Bypass of Oak City on New Location.","6 - Widen Existing Roadway and Construct Part on New Location",120488000,null,null,7.5066214316192408,10,5.0029548834901352,null,{"$f":"Q78+#REF!+R78","v":{"$error":"#REF!"}},null,{"$f":"IF(AT78<30,0,IF(AT78<50,5,IF(AT78<65,10,IF(AT78>66,15))))","v":5},{"$f":"IF(W78<499,15,IF(W78<999,10,IF(W78<1499,5,IF(W78>1500,0))))","v":0},2117.0917484054085,{"$f":"IF(DC78<500,0,IF(DC78<1000,5,IF(DC78>1000,10)))","v":5},{"$f":"IF(Z78=\"Yes\",20,0)","v":20},"Yes",{"$f":"IF(AB78=\"Yes\",20,0)","v":20},"Yes",{"$f":"IF(AD78=\"Yes\",10,0)","v":10},"Yes",5,{"$f":"IF(W78<999,20,IF(W78<1499,15,IF(W78<1999,10,IF(W78<3999,5,IF(W78>4000,0)))))","v":5},15,10,"Yes",15,"Minimal",10,"Yes",0,"No",0,"No",16.498670475081592,4.3782127680764893E-2,33.487096232138995,3.4346861968498441,"N/A",23.602926140999998,0,0,null,null,null,"Mid-East RPO",86.92,"Upper Coastal Plain RPO",13.08,"","","01",86.92,"04",13.08,"","",{"$f":"SUM(U78+V78+X78+Y78+AA78+AC78)","v":60},60,null,null,0,null,{"$f":"Q78+BT78*0.25","v":5.0029548834901352},"Exceeds cap of $15 million for Statewide & Regional Projects cascading to Division Needs",{"$f":"O78+BS78*0.25","v":7.5066214316192408},{"$f":"BW78+P78","v":17.506621431619241},"Under Threshold of SPOT Score of \"10\"","Martin",86.92,"Edgecombe",13.08,"","","","",1,"A","01, 04, ","Mid-East RPO, Upper Coastal Plain RPO, ","Martin, Edgecombe, , ",14.7,14.714917890000001,"Two Lane Highway","Multi-Lane Highway",1,2,"Undivided","Divided",54,55,17.761137949743897,82.238862050256103,3867.6420469999998,15520.633970000001,0.24919356093802653,3180.7048076300312,686.93723936996878,183602.25972227845,39652.60439546586,223254.86411774432,5275221,43.679475170000003,30.094417199999999,26.697443459999999,"","","","","No","No",12,12,"No",3,0,"New Roadway","4A - 4 Lane Divided (46' Depressed Median) with Paved Shoulders","None","Partial",1,"Yes",26,113088000,6607000,793000,120488000,"",120488000,120488000,""]
["A130009","Pasquotank","Albemarle RPO","Aviation","Division Needs",null,"Elizabeth City Coast Guard Air Station/Regional",null,null,"Install MALS/MALSF/MALSR",null,900000,null,null,null,null,12.05,13.5,{"$f":"Q79+#REF!+R79","v":{"$error":"#REF!"}},null,"N/A",null,3176.8308782313661,null,null,"Yes",{"$f":"IF(AB79=\"Yes\",10,0)","v":0},null,{"$f":"IF(AD79=\"Yes\",10,0)","v":0},null,0,{"$f":"IF(W79<999,20,IF(W79<1499,15,IF(W79<1999,10,IF(W79<3999,5,IF(W79>4000,0)))))","v":5},15,10,"Yes",{"$f":"IF(AK79=\"Minimal\",15,0)","v":15},"Minimal",10,"Yes",{"$f":"IF(AO79=\"Yes\",5,0)","v":5},"Yes",0,"No",null,null,null,null,null,null,null,null,null,null,null,"Albemarle RPO",null,null,null,null,null,null,null,null,null,null,null,null,60,null,null,null,null,null,null,null,null,null,"Pasquotank",null,null,null,null,null,null,null,null,null,null,null,null,null,0.86,null,null,null,null,null,null,null,null,null,null,164.71,null,null,null,null,null,null,null,null,null,null,null,null,null,null,null,null,null,null,null,null,null,null,null,null,null,null,null,null,null,null,null,null,1000000,null,450000]
["A130010","Pasquotank","Albemarle RPO","Aviation","Division Needs",null,"Elizabeth City Coast Guard Air Station/Regional",null,null,"Acquire Equipment Shelter",null,490500,null,null,null,null,7.11,13.5,{"$f":"Q80+#REF!+R80","v":{"$error":"#REF!"}},null,"N/A",null,3462.7456572721894,null,null,"Yes",{"$f":"IF(AB80=\"Yes\",10,0)","v":0},null,{"$f":"IF(AD80=\"Yes\",10,0)","v":0},null,0,{"$f":"IF(W80<999,20,IF(W80<1499,15,IF(W80<1999,10,IF(W80<3999,5,IF(W80>4000,0)))))","v":5},15,10,"Yes",{"$f":"IF(AK80=\"Minimal\",15,0)","v":15},"Minimal",10,"Yes",{"$f":"IF(AO80=\"Yes\",5,0)","v":5},"Yes",0,"No",null,null,null,null,null,null,null,null,null,null,null,"Albemarle RPO",null,null,null,null,null,null,null,null,null,null,null,null,60,null,null,null,null,null,null,null,null,null,"Pasquotank",null,null,null,null,null,null,null,null,null,null,null,null,null,0.86,null,null,null,null,null,null,null,null,null,null,164.71,null,null,null,null,null,null,null,null,null,null,null,null,null,null,null,null,null,null,null,null,null,null,null,null,null,null,null,null,null,null,null,null,545000,null,490500]
["H129070-B","Dare","Albemarle RPO","Highway","Statewide Mobility","R-2545B","US-64 ","West of Alligator River","East of SR 1153 (Old Ferry Landing Road)","Widen to Multi-Lanes and construct new multi-lane bridge","1 - Widen Existing Roadway",209520000,8.7940938845902572,null,10.91,6.3,8.11,9,{"$f":"Q81+#REF!+R81","v":{"$error":"#REF!"}},null,{"$f":"IF(AT81<30,0,IF(AT81<50,5,IF(AT81<65,10,IF(AT81>66,15))))","v":5},{"$f":"IF(W81<499,15,IF(W81<999,10,IF(W81<1499,5,IF(W81>1500,0))))","v":0},{"$f":"(EH81/CY81)/CN81","v":29096.895469661078},{"$f":"IF(DC81<500,0,IF(DC81<1000,5,IF(DC81>1000,10)))","v":0},{"$f":"IF(Z81=\"Yes\",20,0)","v":20},"Yes",{"$f":"IF(AB81=\"Yes\",20,0)","v":20},"Yes",{"$f":"IF(AD81=\"Yes\",20,0)","v":20},"Yes",{"$f":"IF(AT81<30,0,IF(AT81<50,5,IF(AT81<65,10,IF(AT81<79,15,IF(AT81>80,20)))))","v":5},{"$f":"IF(W81<999,20,IF(W81<1499,15,IF(W81<1999,10,IF(W81<3999,5,IF(W81>4000,0)))))","v":0},{"$f":"IF(Z81=\"Yes\",15,0)","v":15},10,"No",{"$f":"IF(AK81=\"Minimal\",15,0)","v":15},"Minimal",10,"Yes",{"$f":"IF(AO81=\"Yes\",10,0)","v":0},"No",0,"No",14.270585729083869,1.1163993890798015E-3,41.794293499331999,1.6490928707611838,3.3353219629360747E-2,16.910134090666666,25,0,null,null,null,"Albemarle RPO",100,"","","","","01",100,"","","","",{"$f":"SUM(U81+V81+X81+Y81+AA81+AC81)","v":65},55,null,null,0,null,{"$f":"Q81+BT81*0.25","v":8.11},"Exceeds cap of $15 million for Statewide & Regional Projects cascading to Division Needs",{"$f":"O81+BS81*0.25","v":10.91},{"$f":"BW81+P81","v":17.21},"All Phases of US 64 should be programmed together; not beneficial to do just one phase; ","Dare",100,"","","","","","",1,"A","01, , ","Albemarle RPO, , ","Dare, , , ",2.1550796399999999,2.1550796399999999,"Two Lane Highway","Multi-Lane Highway",1,2,"Undivided","Divided",55,55,9.8709647777421008,90.129035222257897,3341.3002839999999,15500,0.21556776025806451,3011.4817098477629,329.81857415223675,9203.9757762141344,1008.0227806517644,10211.998556865899,233908,51.108556550000003,38.599637540000003,35.687225949999998,"","",0,6.6706439258721495E-7,"No","No",12,12,"No",0,0,"2 Lane Undivided","4A - 4 Lane Divided (46' Depressed Median) with Paved Shoulders","None","Partial",2,"Yes",24,208200000,1220000,100000,209520000,"",209520000,209520000,""]
["H129208","Northampton","Peanut Belt RPO","Highway","Statewide Mobility","","I-95 ","Halifax/Northampton County Line","Virginia State Line","Widen Roadway to 6 Lanes.","1 - Widen Existing Roadway",301845000,28.416150288621655,null,16.180642213015471,null,10.783881430066547,null,{"$f":"Q82+#REF!+R82","v":{"$error":"#REF!"}},null,10,5,1106.3946563455881,10,20,"Yes",20,"Yes",{"$f":"IF(AD82=\"Yes\",10,0)","v":10},"Yes",10,{"$f":"IF(BL80<999,20,IF(BL80<1499,15,IF(BL80<1999,10,IF(BL80<3999,5,IF(BL80>4000,0)))))","v":20},15,0,"Yes",15,"Minimal",10,"Yes",0,"No",0,"No",47.900877747680426,9.640135831304146E-2,59.841535194671998,38.259352094788944,3.8094261839862646,40.362556689999998,0,0,null,null,null,"Peanut Belt RPO",100,"","","","","01",100,"","","04","",75,70,null,null,0,null,10.783881430066547,"Exceeds cap of $15 million for Statewide & Regional Projects cascading to Division Needs",16.180642213015471,16.180642213015471,"Project to costly for Regional Impact","Northampton",100,"","","Halifax","","","",1,"A","01, , 04","Peanut Belt RPO, , ","Northampton, , Halifax, ",7.5027332400000004,7.5027332400000004,"Freeway","Freeway",2,3,"Divided","Divided",70,70,21.0432684483435,78.956731551656503,36362.556689999998,65408.408710000003,0.55593091786134041,28710.68627104221,7651.8704189577884,960106.99302050809,255884.31532331507,1215991.3083438231,29098268,57.640053430000002,53.200470930000002,68.702035480000006,"","",19,5.7188523679725298E-5,"No","No",12,12,"No",11,10,"4 Lane with Median - Full Control","6A - 6 Lane Divided (46' Depressed Median) with Paved Shoulders","Full","Full",1,"No",22,300960000,790000,95000,301845000,"",301845000,301845000,""]
["H090399","Chowan","Albemarle RPO","Highway","Regional Impact","U-3419","NC-94 Soundside Road","NC 32","US 17 Bypass","NC 32  to US 17 Bypass. Two Lanes  on New Location.","5 - Construct Roadway on New Location",24738000,null,null,12.13,3.6,9.75,5.25,{"$f":"Q83+#REF!+R83","v":{"$error":"#REF!"}},null,0,0,1818.1844987799473,0,20,"Yes",20,"Yes",{"$f":"IF(AD83=\"Yes\",20,0)","v":0},"no",0,{"$f":"IF(W83<999,20,IF(W83<1499,15,IF(W83<1999,10,IF(W83<3999,5,IF(W83>4000,0)))))","v":10},15,10,"No",{"$f":"IF(AK83=\"Minimal\",15,0)","v":15},"Minimal",10,"Yes",0,"No",0,"No",20.802069229215935,0,26.713074408734997,1.0562003183467636,"N/A",24.906870215000001,0,50,null,null,null,"Albemarle RPO",100,"","","","","01",100,"","","","",40,60,null,null,0,null,9.75,"Exceeds cap of $15 million for Statewide & Regional Projects cascading to Division Needs",12.13,15.73,"Minimal Local Support; Not competitve","Chowan",100,"","","","","","",1,"A","01, , ","Albemarle RPO, , ","Chowan, , , ",3.7,2.77282246,"Two Lane Highway","Arterial",1,1,"Undivided","Undivided",46,45,4.3049857529063003,95.695014247093695,4906.8702149999999,15627.53831,0.31398868572026556,4695.6301513306471,211.24006366935274,0,0,0,0,29.14122888,21.864780190000001,29.14122888,"","","","","No","No",12,12,"No",0,2,"New Roadway","2B - 2 Lane Undivided with Paved Shoulders, 25-45 mph","None","None",1,"No",30,24510000,204000,24000,24738000,"",24738000,24738000,""]
["H090286","Perquimans","Albemarle RPO","Highway","Statewide Mobility","R-4459","US-17 ","SR 1336 (Harvey Point Road) and SR 1338 (Wayne Fork Road)","","Convert at-Grade intersection to An interchange","7 - Upgrade At-grade Intersection to Interchange or Grade Separation",17124000,11.326621906015168,null,10.49,4.95,7.79,7.5,{"$f":"Q84+#REF!+R84","v":{"$error":"#REF!"}},null,5,15,485.15757135953902,10,20,"Yes",20,"Yes",{"$f":"IF(AD84=\"Yes\",20,0)","v":0},"no",5,{"$f":"IF(W84<999,20,IF(W84<1499,15,IF(W84<1999,10,IF(W84<3999,5,IF(W84>4000,0)))))","v":20},15,{"$f":"IF(AI84=\"Yes\",10,0)","v":0},"No",{"$f":"IF(AK84=\"Minimal\",15,0)","v":15},"Minimal",10,"Yes",0,"No",0,"No",18.637613344626359,0.98769090165849105,33.299999999999997,9.1293282844147789,2.8316497524675701,58.660999040000007,0,25,null,null,null,"Albemarle RPO",100,"","","","","01",100,"","","","",70,65,null,null,0,null,7.79,"Exceeds cap of $15 million for Statewide & Regional Projects cascading to Division Needs",10.49,15.440000000000001,"Delay Division Local Input Scoring  pending outcome of Future Interstate Designation; Need to coordinate this project with SPOT ID#H090285 & TIP#R-4458","Perquimans",100,"","","","","","",1,"A","01, , ","Albemarle RPO, , ","Perquimans, , , ",2,2,"Multi-Lane Highway","Freeway",2,2,"Divided","Divided",55,55,10.346093759894,89.653906240105997,17647.874640000002,91451.899420000002,0.19297439147710599,15822.008983117046,1825.8656568829558,660749.28898958117,76250.711010418774,737000,16913219,"","","",33.299999999999997,33.299999999999997,12,4.4632995049351403E-5,"No","No",12,12,"No",3,4,"2 Lane Undivided","","Limited","Full",2,"Yes",25.8,14934000,2190000,0,17124000,"",17124000,17124000,""]
["H090055","Bertie","Peanut Belt RPO","Highway","Statewide Mobility","R-2205","US-13 ","NC 42 at Powellsville. in Bertie County","US 13 Bypass North of Ahoskie in Hertford County","Construct Multi-Lanes with Bypass of Ahoskie on New Location.","1 - Widen Existing Roadway",49575000,16.451595973936445,null,15.16,null,10.94,null,{"$f":"Q85+#REF!+R85","v":{"$error":"#REF!"}},null,10,0,4708.3774991272439,0,20,"Yes",20,"Yes",{"$f":"IF(AD85=\"Yes\",10,0)","v":10},"Yes",10,{"$f":"IF(BL83<999,20,IF(BL83<1499,15,IF(BL83<1999,10,IF(BL83<3999,5,IF(BL83>4000,0)))))","v":0},15,{"$f":"IF(AI85=\"Yes\",10,0)","v":10},"Yes",15,"Minimal",10,"Yes",0,"No",0,"No",27.533278106761291,2.989666162380232E-2,56.820126272447993,12.360755065048751,0.28479903166367554,27.339840362,25,0,null,null,null,"Peanut Belt RPO",100,"","","","","01",100,"","","","",60,60,null,null,0,null,10.94,"Exceeds cap of $15 million for Statewide & Regional Projects cascading to Division Needs",15.16,15.16,"R-2205 & R-2506 beneficial to program together; Portion of R-2205 is incorporated in R-5311B, which Division Local Points are assigned.","Bertie",51.94,"Hertford",48.06,"","","","",1,"A","01, , ","Peanut Belt RPO, , ","Bertie, Hertford, , ",1.6332768900000001,1.6332768900000001,"Two Lane Highway","Multi-Lane Highway",1,2,"Undivided","Divided",50,50,6.0899926560569,93.910007343943107,6446.6134540000003,15500,0.41591054541935485,6054.0151680870249,392.59828591297605,61700.390330254988,4001.2234543961185,65701.613784651112,1482127,71.632139179999996,31.628654959999999,67.216632419999996,"","",1,4.6959806332735103E-6,"Yes","No",11,12,"No",3,2,"2 Lane Undivided","4A - 4 Lane Divided (46' Depressed Median) with Paved Shoulders","None","Limited",1,"Yes",24,46000000,3575000,0,49575000,"",49575000,49575000,""]
["H141931","Camden","Albemarle RPO","Highway","Statewide Mobility","","US-17","US 17/158 north of Elizabeth City (North Road Street)","Virginia State LIne","Upgrade roadway to Interstate","2 - Upgrade Arterial to Freeway/Expressway",66692000,11.444817563368547,null,9.1,4.95,6.84,7.5,{"$f":"Q86+#REF!+R86","v":{"$error":"#REF!"}},null,0,15,380.94657353193423,10,20,"Yes",20,"Yes",{"$f":"IF(AD86=\"Yes\",20,0)","v":20},"Yes",0,{"$f":"IF(W86<999,20,IF(W86<1499,15,IF(W86<1999,10,IF(W86<3999,5,IF(W86>4000,0)))))","v":20},15,{"$f":"IF(AI86=\"Yes\",10,0)","v":0},"No",{"$f":"IF(AK86=\"Minimal\",15,0)","v":15},"Minimal",10,"Yes",0,"No",0,"No",16.058654438177065,1.8246393120614166,25.536049133033998,6.3980551436151325,22.466134962705745,64.340570639189394,0,25,null,null,null,"Albemarle RPO",100,"","","","","01",100,"","","","",85,60,null,null,0,null,6.84,"Delay Prioritization pending outcome of Future Interstate Designation; Exceeds cap of $15 million for Statewide & Regional Projects cascading to Division Needs",9.1,14.05,"Delay Division Local Input Scoring  pending outcome of Future Interstate Designation/Under Threshold of SPOT Score of \"10\"","Camden",73.67,"Pasquotank",26.33,"","","","",1,"A","01, , ","Albemarle RPO, , ","Camden, Pasquotank, , ",13.01933756,13.01933756,"Multi-Lane Highway","Freeway",2,2,"Divided","Divided",55,70,9.5160604457086997,90.483939554291297,13446.856879729799,75544.764459042606,0.17799852810475245,12167.245851006774,1279.6110287230265,4814002.4068682343,506281.42535790673,5320283.8322261414,121688845,16.545985770000001,37.384043830000003,22.68577938,"","",86.358414733329894,3.6296428452078499E-4,"No","No",12,12,"No",3,4,"4 Lane with Median - Limited Control","4A - 4 Lane Divided (46' Depressed Median) with Paved Shoulders","Limited","Limited",1,"Yes",32,54160000,11189000,1343000,66692000,"",66692000,66692000,""]
["H090124-B","Dare","Peanut Belt RPO","Highway","Statewide Mobility","R-2544B","US-64 ","West of SR 1102 (East Lake Road)","East of Dare County Landfill","Widen to Multi-Lanes.","1 - Widen Existing Roadway",26450000,7.7762964530412519,null,7.4354279530602927,6.3,4.9569519687068624,9,{"$f":"Q87+#REF!+R87","v":{"$error":"#REF!"}},null,5,5,1021.2769561031048,0,20,"Yes",20,"Yes",{"$f":"IF(AD87=\"Yes\",20,0)","v":20},"Yes",5,15,15,{"$f":"IF(AI87=\"Yes\",10,0)","v":0},"No",15,"Minimal",10,"Yes",0,"No",{"$f":"IF(AQ87=\"Yes\",10,0)","v":0},"No",12.646326065699627,0,36.923193621368995,1.4503963559723212,0,15.895993893333333,0,0,null,null,null,"Albemarle RPO",100,"","","","","01",100,"","","","",70,60,null,null,0,null,4.9569519687068624,"Exceeds cap of $15 million for Statewide & Regional Projects cascading to Division Needs",7.4354279530602927,13.735427953060292,"All Phases of US 64 should be programmed together; not beneficial to do just one phase; Under Threshold of SPOT Score of \"10\"","Dare",100,"","","","","","",1,"A","01, , ","Albemarle RPO, , ","Dare, , , ",8.7466968000000005,8.7466968000000005,"Two Lane Highway","Multi-Lane Highway",1,2,"Undivided","Divided",55,55,9.796673270458701,90.203326729541303,2960.9977100000001,15499.99951,0.19103211636166045,2670.918438805536,290.07927119446424,0,0,0,0,44.270671739999997,26.617315269999999,39.892671919999998,"","",0,0,"No","No",12,12,"No",0,0,"2 Lane Undivided","4A - 4 Lane Divided (46' Depressed Median) with Paved Shoulders","None","Partial",2,"Yes",24,23300000,2100000,1050000,26450000,"",26450000,26450000,""]
["H090146","Pasquotank","Albemarle RPO","Highway","Statewide Mobility","R-2579","US-158 ","NC 32 in Sunbury in Gates County","US 17 at Morgan's County in Pasquotank County","Widen to Multi-Lanes.","1 - Widen Existing Roadway",116900000,10.169185073380103,null,9.8457510643364152,3.6,6.5632928241854991,5.25,{"$f":"Q88+#REF!+R88","v":{"$error":"#REF!"}},null,5,0,1998.9636506206675,0,20,"Yes",20,"Yes",{"$f":"IF(AD88=\"Yes\",20,0)","v":20},"Yes",5,10,15,10,"No",15,"Minimal",10,"Yes",0,"No",0,"No",16.037487030331597,1.6236561163387512E-2,49.579204650359998,1.8147225661842494,0.32203017658757549,44.018879968,0,0,null,null,null,"Albemarle RPO",100,"","","","","01",100,"","","","",65,65,null,null,0,null,6.5632928241854991,"Exceeds cap of $15 million for Statewide & Regional Projects cascading to Division Needs",9.8457510643364152,13.445751064336415,"Under Threshold of SPOT Score of \"10\"","Pasquotank",50.79,"Gates",49.21,"","","","",1,"A","01, , ","Albemarle RPO, , ","Pasquotank, Gates, , ",15.565360119999999,15.565360119999999,"Two Lane Highway","Multi-Lane Highway",1,2,"Undivided","Divided",55,55,9.6602817719101992,90.339718228089794,3757.079988,15509.470209999999,0.24224425058552662,3394.1354747631499,362.9445132368499,74923.879907980401,8011.8225466282393,82935.702454608647,1898054,55.621653420000001,44.958995770000001,48.171840009999997,"","",1,5.4406035317515099E-6,"No","No",12,12,"No",1,0,"2 Lane Undivided","4A - 4 Lane Divided (46' Depressed Median) with Paved Shoulders","None","Partial",2,"Yes",37,91500000,20000000,5400000,116900000,"",116900000,116900000,""]
["H112082","Dare","Albemarle RPO","Highway","Division Needs","","SR-1208 W. Kitty Hawk Road","SR 1210 (Bob Perry Road)","Ivy Lane","Modernize Roadway with Wide Shoulders For Bicyclists","16 - Modernize Roadway",2736000,null,null,null,null,9.57,6.75,{"$f":"Q89+#REF!+R89","v":{"$error":"#REF!"}},null,"N/A",null,2827.9496762997946,null,null,"Yes",null,null,null,null,5,5,15,10,"No",15,"Minimal",10,"Yes",0,"No",0,"No",3.8196962025316457,0,41.863874847167999,0,"N/A","N/A",50,0,null,null,null,"Albemarle RPO",100,"","","","","01",100,"","","","",null,60,null,null,null,100,34.57,null,null,null,null,"Dare",100,"","","","","","",1,"A","01, , ","Albemarle RPO, , ","Dare, , , ",1.06317076,1.06317076,"Arterial","Arterial",1,1,"Undivided","Undivided",35,35,0,100,910,15800,5.7594936708860761E-2,910,0,0,0,0,0,31.412820159999999,47.095682400000001,47.095682400000001,"","","","","No","No",9,11,"No",0,0,"2 Lane Undivided","","None","None",2,"No",18,2736000,0,0,2736000,"",2736000,2736000,""]
["H090145","Gates","Albemarle RPO","Highway","Statewide Mobility","R-2578","US-158 ","US 13","NC 32 in Sunbury","Widen to Multi-Lanes.","1 - Widen Existing Roadway",110400000,8.2154544470739186,null,8.1873220710655996,4.95,5.4582147140437334,7.5,{"$f":"Q90+#REF!+R90","v":{"$error":"#REF!"}},null,{"$f":"IF(AT90<30,0,IF(AT90<50,5,IF(AT90<65,10,IF(AT90>66,15))))","v":5},{"$f":"IF(W90<499,15,IF(W90<999,10,IF(W90<1499,5,IF(W90>1500,0))))","v":0},2636.408006233883,{"$f":"IF(DC90<500,0,IF(DC90<1000,5,IF(DC90>1000,10)))","v":0},{"$f":"IF(Z90=\"Yes\",20,0)","v":20},"Yes",{"$f":"IF(AB90=\"Yes\",20,0)","v":20},"Yes",{"$f":"IF(AD90=\"Yes\",20,0)","v":20},"Yes",5,5,15,10,"No",15,"Minimal",10,"Yes",0,"No",0,"No",11.950545640279334,0,42.631601500157998,1.8356530248715976,0,48.394265506000004,0,0,null,null,null,"Albemarle RPO",100,"","","","","01",100,"","","","",{"$f":"SUM(U90+V90+X90+Y90+AA90+AC90)","v":65},60,null,null,0,null,5.4582147140437334,"Exceeds cap of $15 million for Statewide & Regional Projects cascading to Division Needs",{"$f":"O90+BS90*0.25","v":8.1873220710655996},{"$f":"BW90+P90","v":13.137322071065601},"Under Threshold of SPOT Score of \"10\"","Gates",100,"","","","","","",1,"A","01, , ","Albemarle RPO, , ","Gates, , , ",14.96563003,14.96563003,"Two Lane Highway","Multi-Lane Highway",1,2,"Undivided","Divided",55,55,13.120764575956201,86.879235424043799,2798.0885020000001,15500.00013,0.18052183732465557,2430.9578970256807,367.13060497431951,0,0,0,0,42.384867309999997,36.449745309999997,49.072982639999999,"","",0,0,"No","No",12,12,"No",0,0,"2 Lane Undivided","4A - 4 Lane Divided (46' Depressed Median) with Paved Shoulders","None","Partial",1,"Yes",40,65000000,35500000,9900000,110400000,"",110400000,110400000,""]
["H090124-A","Dare","Albemarle RPO","Highway","Statewide Mobility","R-2544A","US-64 ","East of SR 1153 (Old Ferry Landing Road)","West of SR 1102 (East Lake Road)","Widen to Multi-Lanes.","1 - Widen Existing Roadway",15800000,6.9067768278857349,null,6.2094234301841915,6.3,4.1396156201227949,9,{"$f":"Q91+#REF!+R91","v":{"$error":"#REF!"}},null,{"$f":"IF(AT91<30,0,IF(AT91<50,5,IF(AT91<65,10,IF(AT91>66,15))))","v":0},{"$f":"IF(W91<499,15,IF(W91<999,10,IF(W91<1499,5,IF(W91>1500,0))))","v":0},2473.1357746167182,{"$f":"IF(DC91<500,0,IF(DC91<1000,5,IF(DC91>1000,10)))","v":0},{"$f":"IF(Z91=\"Yes\",20,0)","v":20},"Yes",{"$f":"IF(AB91=\"Yes\",20,0)","v":20},"Yes",{"$f":"IF(AD91=\"Yes\",20,0)","v":20},"Yes",0,5,15,10,"No",15,"Minimal",10,"Yes",0,"No",0,"No",12.385806333013942,0,29.010349868214,1.4499997058007565,0,15.733332549333333,0,0,null,null,null,"Albemarle RPO",100,"","","","","01",100,"","","","",{"$f":"SUM(U91+V91+X91+Y91+AA91+AC91)","v":60},55,null,null,0,null,4.1396156201227949,"Exceeds cap of $15 million for Statewide & Regional Projects cascading to Division Needs",{"$f":"O91+BS91*0.25","v":6.2094234301841915},{"$f":"BW91+P91","v":12.509423430184192},"All Phases of US 64 should be programmed together; not beneficial to do just one phase; Under Threshold of SPOT Score of \"10\"","Dare",100,"","","","","","",1,"A","01, , ","Albemarle RPO, , ","Dare, , , ",2.2029831400000002,2.2029831400000002,"Two Lane Highway","Multi-Lane Highway",1,2,"Undivided","Divided",55,55,9.9999989848327004,90.0000010151673,2899.9997060000001,15499.99843,0.18709677417689907,2609.9997648398489,289.99994116015131,0,0,0,0,46.148892490000001,0,40.890861090000001,"","",0,0,"No","No",12,12,"No",0,0,"2 Lane Undivided","4A - 4 Lane Divided (46' Depressed Median) with Paved Shoulders","None","Partial",2,"Yes",24,14700000,1030000,70000,15800000,"",15800000,15800000,""]
["A130016","Dare","Albemarle RPO","Aviation","Division Needs",null,"Dare County Regional",null,null,"Land Acquisition-Runway Approach",null,428000,null,null,null,null,38.049999999999997,9.75,{"$f":"Q92+#REF!+R92","v":{"$error":"#REF!"}},null,"N/A",null,11239.259679418501,null,{"$f":"IF(Z92=\"Yes\",15,0)","v":15},"Yes",{"$f":"IF(AB92=\"Yes\",10,0)","v":0},null,{"$f":"IF(AD92=\"Yes\",10,0)","v":0},null,0,0,15,{"$f":"IF(AI92=\"Yes\",10,0)","v":10},"Yes",15,"Minimal",10,"Yes",{"$f":"IF(AO92=\"Yes\",5,0)","v":5},"Yes",0,"No",null,null,null,null,null,null,null,null,null,null,null,"Albemarle RPO",null,null,null,null,null,null,null,null,null,null,null,null,55,null,null,null,null,null,null,null,null,null,"Dare",null,null,null,null,null,null,null,null,null,null,null,null,null,0.82,null,null,null,null,null,null,null,null,null,null,46.44,null,null,null,null,null,null,null,null,null,null,null,null,null,null,null,null,null,null,null,null,null,null,null,null,null,null,null,null,null,null,null,null,475555,null,428000]
["A130018","Dare","Albemarle RPO","Aviation","Division Needs",null,"Dare County Regional",null,null,"Land Acquisition-Runway Approach",null,454815,null,null,null,null,38.049999999999997,9.75,{"$f":"Q93+#REF!+R93","v":{"$error":"#REF!"}},null,"N/A",null,11943.420306296088,null,{"$f":"IF(Z93=\"Yes\",15,0)","v":15},"Yes",{"$f":"IF(AB93=\"Yes\",10,0)","v":0},null,{"$f":"IF(AD93=\"Yes\",10,0)","v":0},null,0,0,15,10,"Yes",15,"Minimal",10,"Yes",{"$f":"IF(AO93=\"Yes\",5,0)","v":5},"Yes",0,"No",null,null,null,null,null,null,null,null,null,null,null,"Albemarle RPO",null,null,null,null,null,null,null,null,null,null,null,null,55,null,null,null,null,null,null,null,null,null,"Dare",null,null,null,null,null,null,null,null,null,null,null,null,null,0.82,null,null,null,null,null,null,null,null,null,null,46.44,null,null,null,null,null,null,null,null,null,null,null,null,null,null,null,null,null,null,null,null,null,null,null,null,null,null,null,null,null,null,null,null,505350,null,454815]
["A130019","Dare","Albemarle RPO","Aviation","Division Needs",null,"Dare County Regional",null,null,"Land Acquisition-Runway Approach",null,3325500,null,null,null,null,38.049999999999997,9.75,{"$f":"Q94+#REF!+R94","v":{"$error":"#REF!"}},null,"N/A",null,87327.47211193043,null,{"$f":"IF(Z94=\"Yes\",15,0)","v":15},"Yes",{"$f":"IF(AB94=\"Yes\",10,0)","v":0},null,{"$f":"IF(AD94=\"Yes\",10,0)","v":0},null,0,0,15,10,"Yes",15,"Minimal",10,"Yes",{"$f":"IF(AO94=\"Yes\",5,0)","v":5},"Yes",0,"No",null,null,null,null,null,null,null,null,null,null,null,"Albemarle RPO",null,null,null,null,null,null,null,null,null,null,null,null,55,null,null,null,null,null,null,null,null,null,"Dare",null,null,null,null,null,null,null,null,null,null,null,null,null,0.82,null,null,null,null,null,null,null,null,null,null,46.44,null,null,null,null,null,null,null,null,null,null,null,null,null,null,null,null,null,null,null,null,null,null,null,null,null,null,null,null,null,null,null,null,3695000,null,3325500]
["A130028","Dare","Albemarle RPO","Aviation","Division Needs",null,"Dare County Regional",null,null,"Land Acquisition-Obstruction Removal",null,1152000,null,null,null,null,36.85,9.75,{"$f":"Q95+#REF!+R95","v":{"$error":"#REF!"}},null,"N/A",null,30251.465305350732,null,{"$f":"IF(Z95=\"Yes\",15,0)","v":15},"Yes",{"$f":"IF(AB95=\"Yes\",10,0)","v":0},null,{"$f":"IF(AD95=\"Yes\",10,0)","v":0},null,0,0,15,10,"Yes",15,"Minimal",10,"Yes",{"$f":"IF(AO95=\"Yes\",5,0)","v":5},"Yes",0,"No",null,null,null,null,null,null,null,null,null,null,null,"Albemarle RPO",null,null,null,null,null,null,null,null,null,null,null,null,55,null,null,null,null,null,null,null,null,null,"Dare",null,null,null,null,null,null,null,null,null,null,null,null,null,0.82,null,null,null,null,null,null,null,null,null,null,46.44,null,null,null,null,null,null,null,null,null,null,null,null,null,null,null,null,null,null,null,null,null,null,null,null,null,null,null,null,null,null,null,null,1280000,null,1152000]
["A130415","Hertford","Peanut Belt RPO","Aviation","Division Needs",null,"Tri-County",null,null,"Land Acquisition-Runway Approach",null,450000,null,null,null,null,35.35,null,{"$f":"Q96+#REF!+R96","v":{"$error":"#REF!"}},null,"N/A",null,14750.954714569027,null,{"$f":"IF(Z96=\"Yes\",15,0)","v":15},"Yes",{"$f":"IF(AB96=\"Yes\",10,0)","v":0},null,{"$f":"IF(AD96=\"Yes\",10,0)","v":0},null,0,0,15,10,"Yes",15,"Minimal",{"$f":"IF(AM96=\"Yes\",10,0)","v":10},"Yes",{"$f":"IF(AO96=\"Yes\",5,0)","v":5},"Yes",0,"No",null,null,null,null,null,null,null,null,null,null,null,"Peanut Belt RPO",null,null,null,null,null,null,null,null,null,null,null,null,55,null,null,null,null,null,null,null,null,null,"Hertford",null,null,null,null,null,null,null,null,null,null,null,null,null,0.85,null,null,null,null,null,null,null,null,null,null,35.89,null,null,null,null,null,null,null,null,null,null,null,null,null,null,null,null,null,null,null,null,null,null,null,null,null,null,null,null,null,null,null,null,500000,null,450000]
["B142220","Chowan","Albemarle RPO","Bike & Ped","Division Needs",null,"North Broad Street","Church Street","Water Street","North Broad Street Bike Path","2. Construct multi-use trail / greenway / sidepath or on-road bike lane on local roadway",400000,null,null,null,null,21.145250000000001,9.75,{"$f":"Q97+#REF!+R97","v":{"$error":"#REF!"}},null,"N/A",null,4205.3913116615495,null,null,"Yes",null,null,null,null,5,0,15,10,"Yes",15,"Minimal",10,"Yes",{"$f":"IF(AO97=\"Yes\",10,0)","v":0},"No",0,"No",null,null,32.5,null,null,null,null,null,null,null,null,"Albemarle RPO",null,null,null,null,null,null,null,null,null,null,null,null,{"$f":"SUM(AE97+AF97+AG97+AH97+AJ97+AL97+AN97)","v":55},null,null,null,null,null,null,null,null,null,"Chowan County",null,null,null,null,null,null,null,null,null,null,null,null,null,0.28000000000000003,null,null,null,null,null,null,null,null,null,null,{"$f":"3397*0.1","v":339.70000000000005},null,null,null,null,null,null,null,null,null,null,null,null,null,null,null,null,null,null,null,null,null,null,null,null,null,null,null,null,null,380000,0,null,400000,0,400000]
["B141529","Dare","Albemarle RPO","Bike & Ped","Division Needs",null,"US 158","Atlantic","Baum","Construct Sidewalk","5. Construct Sidewalk",345000,null,null,null,null,21.058673913043478,9.75,{"$f":"Q98+#REF!+R98","v":{"$error":"#REF!"}},null,"N/A",null,5058.8550026752273,null,null,"Yes",null,null,null,null,5,0,15,10,"Yes",15,"Minimal",10,"Yes",{"$f":"IF(AO98=\"Yes\",10,0)","v":0},"No",0,"No",null,null,45,null,null,null,null,null,null,null,null,"Albemarle RPO",null,null,null,null,null,null,null,null,null,null,null,null,{"$f":"SUM(AE98+AF98+AG98+AH98+AJ98+AL98+AN98)","v":55},null,null,null,null,null,null,null,null,null,"Dare County",null,null,null,null,null,null,null,null,null,null,null,null,null,0.89,null,null,null,null,null,null,null,null,null,null,{"$f":"1512*0.1","v":151.20000000000002},null,null,null,null,null,null,null,null,null,null,null,null,null,null,null,null,null,null,null,null,null,null,null,null,null,null,null,null,null,300000,0,null,345000,0,680760]
["B141937","Currituck","Albemarle RPO","Bike & Ped","Division Needs",null,"Currituck Multiuse","Albacore St","Driftwood Way","Construct Mult-use Path","2. Construct multi-use trail / greenway / sidepath or on-road bike lane on local roadway",460000,null,null,null,null,16.10631928977989,13.5,{"$f":"Q99+#REF!+R99","v":{"$error":"#REF!"}},null,"N/A",null,158402.20385674931,null,null,"Yes",null,null,null,null,5,0,15,10,"Yes",15,"Minimal",10,"Yes",{"$f":"IF(AO99=\"Yes\",10,0)","v":0},"No",0,"No",null,null,45,null,null,null,null,null,null,null,null,"Albemarle RPO",null,null,null,null,null,null,null,null,null,null,null,null,{"$f":"SUM(AE99+AF99+AG99+AH99+AJ99+AL99+AN99)","v":55},null,null,null,null,null,null,null,null,null,"Currituck County",null,null,null,null,null,null,null,null,null,null,null,null,null,0.66,null,null,null,null,null,null,null,null,null,null,{"$f":"44*0.1","v":4.4000000000000004},null,null,null,null,null,null,null,null,null,null,null,null,null,null,null,null,null,null,null,null,null,null,null,null,null,null,null,null,null,400000,0,null,460000,0,460000]
["A130029","Dare","Albemarle RPO","Aviation","Division Needs",null,"Dare County Regional",null,null,"Design",null,1620000,null,null,null,null,35.229999999999997,9.75,{"$f":"Q100+#REF!+R100","v":{"$error":"#REF!"}},null,"N/A",null,42541.123085649466,null,{"$f":"IF(Z100=\"Yes\",15,0)","v":15},"Yes",{"$f":"IF(AB100=\"Yes\",10,0)","v":0},null,{"$f":"IF(AD100=\"Yes\",10,0)","v":0},null,0,0,15,10,"Yes",15,"Minimal",10,"Yes",{"$f":"IF(AO100=\"Yes\",5,0)","v":5},"Yes",0,"No",null,null,null,null,null,null,null,null,null,null,null,"Albemarle RPO",null,null,null,null,null,null,null,null,null,null,null,null,{"$f":"SUM(AE100+AF100+AG100+AH100+AJ100+AL100+AN100+AP100)","v":55},null,null,null,null,null,null,null,null,null,"Dare",null,null,null,null,null,null,null,null,null,null,null,null,null,0.82,null,null,null,null,null,null,null,null,null,null,46.44,null,null,null,null,null,null,null,null,null,null,null,null,null,null,null,null,null,null,null,null,null,null,null,null,null,null,null,null,null,null,null,null,1800000,null,1620000]
["A130006","Pasquotank","Albemarle RPO","Aviation","Division Needs",null,"Elizabeth City Coast Guard Air Station/Regional",null,null,"Permitting/mitigation/preliminary",null,3659719,null,null,null,null,27.7,13.5,{"$f":"Q101+#REF!+R101","v":{"$error":"#REF!"}},null,"N/A",null,25836.240721888931,null,null,"Yes",{"$f":"IF(AB101=\"Yes\",10,0)","v":0},null,{"$f":"IF(AD101=\"Yes\",10,0)","v":0},null,0,0,15,10,"Yes",15,"Minimal",10,"Yes",{"$f":"IF(AO101=\"Yes\",5,0)","v":5},"Yes",0,"No",null,null,null,null,null,null,null,null,null,null,null,"Albemarle RPO",null,null,null,null,null,null,null,null,null,null,null,null,{"$f":"SUM(AE101+AF101+AG101+AH101+AJ101+AL101+AN101+AP101)","v":55},null,null,null,100,{"$f":"Q101+BT101*0.25","v":52.7},null,null,null,null,"Pasquotank",null,null,null,null,null,null,null,null,null,null,null,null,null,0.86,null,null,null,null,null,null,null,null,null,null,164.71,null,null,null,null,null,null,null,null,null,null,null,null,null,null,null,null,null,null,null,null,null,null,null,null,null,null,null,null,null,null,null,null,4066354,null,3659719]
["A130042","Washington","Albemarle RPO","Aviation","Division Needs",null,"Plymouth Municipal Airport",null,null,"Design",null,477000,null,null,null,null,26.37,6,{"$f":"Q102+#REF!+R102","v":{"$error":"#REF!"}},null,"N/A",null,12610.773883801105,null,null,"Yes",{"$f":"IF(AB102=\"Yes\",10,0)","v":0},null,{"$f":"IF(AD102=\"Yes\",10,0)","v":0},null,0,0,15,10,"Yes",15,"Minimal",10,"Yes",{"$f":"IF(AO102=\"Yes\",5,0)","v":5},"Yes",0,"No",null,null,null,null,null,null,null,null,null,null,null,"Albemarle RPO",null,null,null,null,null,null,null,null,null,null,null,null,{"$f":"SUM(AE102+AF102+AG102+AH102+AJ102+AL102+AN102+AP102)","v":55},null,null,null,100,{"$f":"Q102+BT102*0.25","v":51.370000000000005},null,null,null,null,"Washington",null,null,null,null,null,null,null,null,null,null,null,null,null,1.04,null,null,null,null,null,null,null,null,null,null,36.369999999999997,null,null,null,null,null,null,null,null,null,null,null,null,null,null,null,null,null,null,null,null,null,null,null,null,null,null,null,null,null,null,null,null,530000,null,477000]
["B141941","Currituck","Albemarle RPO","Bike & Ped","Division Needs",null,"Currituck Multi use","Comrmonrant Ct.","Harris Teeter","Construct Multi use path","2. Construct multi-use trail / greenway / sidepath or on-road bike lane on local roadway",460000,null,null,null,null,14.62143146722117,13.5,{"$f":"Q103+#REF!+R103","v":{"$error":"#REF!"}},null,"N/A",null,130718.95424836602,null,null,"Yes",null,null,null,null,5,0,15,10,"Yes",15,"Minimal",10,"Yes",{"$f":"IF(AO103=\"Yes\",10,0)","v":0},"No",0,"No",null,null,35,null,null,null,null,null,null,null,null,"Albemarle RPO",null,null,null,null,null,null,null,null,null,null,null,null,{"$f":"SUM(AE103+AF103+AG103+AH103+AJ103+AL103+AN103)","v":55},null,null,null,null,null,null,null,null,null,"Currituck County",null,null,null,null,null,null,null,null,null,null,null,null,null,0.69,null,null,null,null,null,null,null,null,null,null,{"$f":"51*0.1","v":5.1000000000000005},null,null,null,null,null,null,null,null,null,null,null,null,null,null,null,null,null,null,null,null,null,null,null,null,null,null,null,null,null,400000,0,null,460000,0,460000]
["A130032","Currituck","Albemarle RPO","Aviation","Division Needs",null,"Currituck County Regional",null,null,"Clearing/grading/Drainage/paving/marking/lighting/signage",null,2520000,null,null,null,null,26.33,0,{"$f":"Q104+#REF!+R104","v":{"$error":"#REF!"}},null,"N/A",null,35378.55049024563,null,null,"Yes",{"$f":"IF(AB104=\"Yes\",10,0)","v":0},null,{"$f":"IF(AD104=\"Yes\",10,0)","v":0},null,0,0,15,10,"Yes",15,"Minimal",10,"Yes",{"$f":"IF(AO104=\"Yes\",5,0)","v":5},"Yes",0,"No",null,null,null,null,null,null,null,null,null,null,null,"Albemarle RPO",null,null,null,null,null,null,null,null,null,null,null,null,{"$f":"SUM(AE104+AF104+AG104+AH104+AJ104+AL104+AN104+AP104)","v":55},null,null,null,null,null,null,null,null,null,"Currituck",null,null,null,null,null,null,null,null,null,null,null,null,null,1.04,null,null,null,null,null,null,null,null,null,null,68.489999999999995,null,null,null,null,null,null,null,null,null,null,null,null,null,null,null,null,null,null,null,null,null,null,null,null,null,null,null,null,null,null,null,null,2800000,null,2520000]
["B141958","Currituck","Albemarle RPO","Bike & Ped","Division Needs",null,"Currituck Multi use","Harris Teeter","Sandbucket","Construct Multi use trail","2. Construct multi-use trail / greenway / sidepath or on-road bike lane on local roadway",460000,null,null,null,null,14.378002237428664,13.5,{"$f":"Q105+#REF!+R105","v":{"$error":"#REF!"}},null,"N/A",null,161857.84658691063,null,null,"Yes",null,null,null,null,5,0,15,10,"Yes",15,"Minimal",10,"Yes",{"$f":"IF(AO105=\"Yes\",10,0)","v":0},"No",0,"No",null,null,35,null,null,null,null,null,null,null,null,"Albemarle RPO",null,null,null,null,null,null,null,null,null,null,null,null,{"$f":"SUM(AE105+AF105+AG105+AH105+AJ105+AL105+AN105)","v":55},null,null,null,null,null,null,null,null,null,"Currituck County",null,null,null,null,null,null,null,null,null,null,null,null,null,0.57999999999999996,null,null,null,null,null,null,null,null,null,null,{"$f":"49*0.1","v":4.9000000000000004},null,null,null,null,null,null,null,null,null,null,null,null,null,null,null,null,null,null,null,null,null,null,null,null,null,null,null,null,null,400000,0,null,460000,0,460000]
["A130033","Currituck","Albemarle RPO","Aviation","Division Needs",null,"Currituck County Regional",null,null,"Design",null,1746000,null,null,null,null,25,13.5,{"$f":"Q106+#REF!+R106","v":{"$error":"#REF!"}},null,"N/A",null,24512.281411098757,null,null,"Yes",{"$f":"IF(AB106=\"Yes\",10,0)","v":0},null,{"$f":"IF(AD106=\"Yes\",10,0)","v":0},null,0,0,15,10,"Yes",15,"Minimal",10,"Yes",{"$f":"IF(AO106=\"Yes\",5,0)","v":5},"Yes",0,"No",null,null,null,null,null,null,null,null,null,null,null,"Albemarle RPO",null,null,null,null,null,null,null,null,null,null,null,null,{"$f":"SUM(AE106+AF106+AG106+AH106+AJ106+AL106+AN106+AP106)","v":55},null,null,null,null,null,null,null,null,null,"Currituck",null,null,null,null,null,null,null,null,null,null,null,null,null,1.04,null,null,null,null,null,null,null,null,null,null,68.489999999999995,null,null,null,null,null,null,null,null,null,null,null,null,null,null,null,null,null,null,null,null,null,null,null,null,null,null,null,null,null,null,null,null,1940000,null,1746000]
["B141764","Dare","Albemarle RPO","Bike & Ped","Division Needs",null,"Nags Head Multi Use Path","Grouse Street","Forbes Street","Construct Multi use path","2. Construct multi-use trail / greenway / sidepath or on-road bike lane on local roadway",335000,null,null,null,null,13.578235911783022,6.75,{"$f":"Q107+#REF!+R107","v":{"$error":"#REF!"}},null,"N/A",null,41823.814655172406,null,null,"Yes",null,null,null,null,5,0,15,10,"Yes",15,"Minimal",10,"Yes",{"$f":"IF(AO107=\"Yes\",10,0)","v":0},"No",0,"No",null,null,35,null,null,null,null,null,null,null,null,"Albemarle RPO",null,null,null,null,null,null,null,null,null,null,null,null,{"$f":"SUM(AE107+AF107+AG107+AH107+AJ107+AL107+AN107)","v":55},null,null,null,null,null,null,null,null,null,"Dare County",null,null,null,null,null,null,null,null,null,null,null,null,null,0.32,null,null,null,null,null,null,null,null,null,null,{"$f":"232*0.1","v":23.200000000000003},null,null,null,null,null,null,null,null,null,null,null,null,null,null,null,null,null,null,null,null,null,null,null,null,null,null,null,null,null,290000,0,null,335000,0,310500]
["B141531","Camden","Albemarle RPO","Bike & Ped","Division Needs",null,"US 158","Atlantic","Eighth","Construct Sidewalk","5. Construct Sidewalk",410100,null,null,null,null,13.560226164350158,9.75,{"$f":"Q108+#REF!+R108","v":{"$error":"#REF!"}},null,"N/A",null,5436.1832356162604,null,null,"Yes",null,null,null,null,5,0,15,10,"Yes",15,"Minimal",10,"Yes",{"$f":"IF(AO108=\"Yes\",10,0)","v":0},"No",0,"No",null,null,45,null,null,null,null,null,null,null,null,"Albemarle RPO",null,null,null,null,null,null,null,null,null,null,null,null,{"$f":"SUM(AE108+AF108+AG108+AH108+AJ108+AL108+AN108)","v":55},null,null,null,null,null,null,null,null,null,"Dare County",null,null,null,null,null,null,null,null,null,null,null,null,null,0.68,null,null,null,null,null,null,null,null,null,null,{"$f":"1826*0.1","v":182.60000000000002},null,null,null,null,null,null,null,null,null,null,null,null,null,null,null,null,null,null,null,null,null,null,null,null,null,null,null,null,null,355100,0,null,410100,0,675000]
["B141346","Tyrrell","Albemarle RPO","Bike & Ped","Division Needs",null,"US 64","Etheridge Road","Ludington Drive","Apply brick pavers or brick stamping on the north side of the Scuppernong River bridge, paint the existing guardrail and erect an entry sign to the existing pedestrian promenade leading to Veterans Park","7. Construct Streetscape Improvements",160000,null,null,null,null,12.590571576383752,9.75,{"$f":"Q109+#REF!+R109","v":{"$error":"#REF!"}},null,"N/A",null,3803.5049627791564,null,null,"Yes",null,null,null,null,0,5,15,10,"Yes",15,"Minimal",10,"Yes",{"$f":"IF(AO109=\"Yes\",10,0)","v":0},"No",0,"No",null,null,12.5,null,null,null,null,null,null,null,null,"Albemarle RPO",null,null,null,null,null,null,null,null,null,null,null,null,{"$f":"SUM(AE109+AF109+AG109+AH109+AJ109+AL109+AN109)","v":55},null,null,null,100,null,null,null,null,null,"Tyrrell County",null,null,null,null,null,null,null,null,null,null,null,null,null,0.32,null,null,null,null,null,null,null,null,null,null,403,null,null,null,null,null,null,null,null,null,null,null,null,null,null,null,null,null,null,null,null,null,null,null,null,null,null,null,null,null,155000,0,null,160000,0,490500]
["A130030","Dare","Albemarle RPO","Aviation","Division Needs",null,"Dare County Regional",null,null,"Runway Overlay",null,3060000,null,null,null,null,15.85,9.75,{"$f":"Q110+#REF!+R110","v":{"$error":"#REF!"}},null,"N/A",null,80355.454717337881,null,null,"Yes",{"$f":"IF(AB110=\"Yes\",10,0)","v":0},null,{"$f":"IF(AD110=\"Yes\",10,0)","v":0},null,0,0,15,10,"Yes",15,"Minimal",10,"Yes",{"$f":"IF(AO110=\"Yes\",5,0)","v":5},"Yes",0,"No",null,null,null,null,null,null,null,null,null,null,null,"Albemarle RPO",null,null,null,null,null,null,null,null,null,null,null,null,{"$f":"SUM(AE110+AF110+AG110+AH110+AJ110+AL110+AN110+AP110)","v":55},null,null,null,null,null,null,null,null,null,"Dare",null,null,null,null,null,null,null,null,null,null,null,null,null,0.82,null,null,null,null,null,null,null,null,null,null,46.44,null,null,null,null,null,null,null,null,null,null,null,null,null,null,null,null,null,null,null,null,null,null,null,null,null,null,null,null,null,null,null,null,3400000,null,3060000]
["A130031","Currituck","Albemarle RPO","Aviation","Division Needs",null,"Currituck County Regional",null,null,"Land Acquisition-Runway Approach",null,19350000,null,null,null,null,15.64,15,{"$f":"Q111+#REF!+R111","v":{"$error":"#REF!"}},null,"N/A",null,271656.7269786718,null,null,"Yes",{"$f":"IF(AB111=\"Yes\",10,0)","v":0},null,{"$f":"IF(AD111=\"Yes\",10,0)","v":0},null,0,0,15,10,"Yes",15,"Minimal",10,"Yes",{"$f":"IF(AO111=\"Yes\",5,0)","v":5},"Yes",0,"No",null,null,null,null,null,null,null,null,null,null,null,"Albemarle RPO",null,null,null,null,null,null,null,null,null,null,null,null,{"$f":"SUM(AE111+AF111+AG111+AH111+AJ111+AL111+AN111+AP111)","v":55},null,null,null,null,null,null,null,null,null,"Currituck",null,null,null,null,null,null,null,null,null,null,null,null,null,1.04,null,null,null,null,null,null,null,null,null,null,68.489999999999995,null,null,null,null,null,null,null,null,null,null,null,null,null,null,null,null,null,null,null,null,null,null,null,null,null,null,null,null,null,null,null,null,21500000,null,19350000]
["B141363","Dare","Albemarle RPO","Bike & Ped","Division Needs",null,"US 158","Cypress Knee Lane","Bennett Street","Construct 6000' of sidewalk on west side of US 158","5. Construct Sidewalk",282000,null,null,null,null,10.244104110930639,9.75,{"$f":"Q112+#REF!+R112","v":{"$error":"#REF!"}},null,"N/A",null,9170.2063106796122,null,null,"Yes",null,null,null,null,5,0,15,10,"Yes",15,"Minimal",10,"Yes",{"$f":"IF(AO112=\"Yes\",10,0)","v":0},"No",0,"No",null,null,35,null,null,null,null,null,null,null,null,"Albemarle RPO",null,null,null,null,null,null,null,null,null,null,null,null,{"$f":"SUM(AE112+AF112+AG112+AH112+AJ112+AL112+AN112)","v":55},null,null,null,null,null,null,null,null,null,"Dare County",null,null,null,null,null,null,null,null,null,null,null,null,null,2.06,null,null,null,null,null,null,null,null,null,null,{"$f":"960*0.1","v":96},null,null,null,null,null,null,null,null,null,null,null,null,null,null,null,null,null,null,null,null,null,null,null,null,null,null,null,null,null,272000,0,null,282000,0,1813500]
["A130046","Washington","Albemarle RPO","Aviation","Division Needs",null,"Plymouth Municipal Airport",null,null,"Land Acquisition-Obstruction Removal",null,315000,null,null,null,null,14.65,6,{"$f":"Q113+#REF!+R113","v":{"$error":"#REF!"}},null,"N/A",null,{"$f":"(EH113/CY113)/CN113","v":9755.5043252046289},null,null,"Yes",{"$f":"IF(AB113=\"Yes\",10,0)","v":0},null,{"$f":"IF(AD113=\"Yes\",10,0)","v":0},null,{"$f":"IF(AT113<30,0,IF(AT113<50,5,IF(AT113<65,10,IF(AT113<79,15,IF(AT113>80,20)))))","v":0},0,{"$f":"IF(Z113=\"Yes\",15,0)","v":15},10,"Yes",15,"Minimal",10,"Yes",{"$f":"IF(AO113=\"Yes\",5,0)","v":5},"Yes",0,"No",null,null,null,null,null,null,null,null,null,null,null,"Albemarle RPO",null,null,null,null,null,null,null,null,null,null,null,null,{"$f":"SUM(AE113+AF113+AG113+AH113+AJ113+AL113+AN113+AP113)","v":55},null,null,null,null,null,null,null,null,null,"Washington",null,null,null,null,null,null,null,null,null,null,null,null,null,1.04,null,null,null,null,null,null,null,null,null,null,36.369999999999997,null,null,null,null,null,null,null,null,null,null,null,null,null,null,null,null,null,null,null,null,null,null,null,null,null,null,null,null,null,null,null,null,350000,null,369000]
["A130416","Hertford","Peanut Belt RPO","Aviation","Division Needs",null,"Tri-County",null,null,"Design",null,559913,null,null,null,null,14.48,null,{"$f":"Q114+#REF!+R114","v":{"$error":"#REF!"}},null,"N/A",null,18353.891793552193,null,null,"Yes",{"$f":"IF(AB114=\"Yes\",10,0)","v":0},null,{"$f":"IF(AD114=\"Yes\",10,0)","v":0},null,0,0,15,10,"Yes",15,"Minimal",10,"Yes",{"$f":"IF(AO114=\"Yes\",5,0)","v":5},"Yes",0,"No",null,null,null,null,null,null,null,null,null,null,null,"Peanut Belt RPO",null,null,null,null,null,null,null,null,null,null,null,null,{"$f":"SUM(AE114+AF114+AG114+AH114+AJ114+AL114+AN114+AP114)","v":55},null,null,null,null,null,null,null,null,null,"Hertford",null,null,null,null,null,null,null,null,null,null,null,null,null,0.85,null,null,null,null,null,null,null,null,null,null,35.89,null,null,null,null,null,null,null,null,null,null,null,null,null,null,null,null,null,null,null,null,null,null,null,null,null,null,null,null,null,null,null,null,622125,null,559913]
["A130005","Hyde","Albemarle RPO","Aviation","Division Needs",null,"Hyde County",null,null,"Design",null,328275,null,null,null,null,14.08,6.75,{"$f":"Q115+#REF!+R115","v":{"$error":"#REF!"}},null,"N/A",null,33229.577892499241,null,null,"Yes",{"$f":"IF(AB115=\"Yes\",10,0)","v":0},null,{"$f":"IF(AD115=\"Yes\",10,0)","v":0},null,0,0,15,10,"Yes",15,"Minimal",10,"Yes",{"$f":"IF(AO115=\"Yes\",5,0)","v":5},"Yes",0,"No",null,null,null,null,null,null,null,null,null,null,null,"Albemarle RPO",null,null,null,null,null,null,null,null,null,null,null,null,{"$f":"SUM(AE115+AF115+AG115+AH115+AJ115+AL115+AN115+AP115)","v":55},null,null,null,null,null,null,null,null,null,"Hyde",null,null,null,null,null,null,null,null,null,null,null,null,null,0.89,null,null,null,null,null,null,null,null,null,null,11.1,null,null,null,null,null,null,null,null,null,null,null,null,null,null,null,null,null,null,null,null,null,null,null,null,null,null,null,null,null,null,null,null,364750,null,328275]
["A130043","Washington","Albemarle RPO","Aviation","Division Needs",null,"Plymouth Municipal Airport",null,null,"Design",null,666000,null,null,null,null,11.07,6,{"$f":"Q116+#REF!+R116","v":{"$error":"#REF!"}},null,"N/A",null,17607.495611344937,null,null,"Yes",{"$f":"IF(AB116=\"Yes\",10,0)","v":0},null,{"$f":"IF(AD116=\"Yes\",10,0)","v":0},null,0,0,15,10,"Yes",15,"Minimal",10,"Yes",{"$f":"IF(AO116=\"Yes\",5,0)","v":5},"Yes",0,"No",null,null,null,null,null,null,null,null,null,null,null,"Albemarle RPO",null,null,null,null,null,null,null,null,null,null,null,null,{"$f":"SUM(AE116+AF116+AG116+AH116+AJ116+AL116+AN116+AP116)","v":55},null,null,null,null,null,null,null,null,null,"Washington",null,null,null,null,null,null,null,null,null,null,null,null,null,1.04,null,null,null,null,null,null,null,null,null,null,36.369999999999997,null,null,null,null,null,null,null,null,null,null,null,null,null,null,null,null,null,null,null,null,null,null,null,null,null,null,null,null,null,null,null,null,740000,null,666000]
["A130035","Currituck","Albemarle RPO","Aviation","Division Needs",null,"Currituck County Regional",null,null,"Install MALS/MALSF/MALSR",null,450000,null,null,null,null,10.42,13.5,{"$f":"Q117+#REF!+R117","v":{"$error":"#REF!"}},null,"N/A",null,6317.5983018295765,null,null,"Yes",{"$f":"IF(AB117=\"Yes\",10,0)","v":0},null,{"$f":"IF(AD117=\"Yes\",10,0)","v":0},null,0,0,15,10,"Yes",15,"Minimal",10,"Yes",{"$f":"IF(AO117=\"Yes\",5,0)","v":5},"Yes",0,"No",null,null,null,null,null,null,null,null,null,null,null,"Albemarle RPO",null,null,null,null,null,null,null,null,null,null,null,null,{"$f":"SUM(AE117+AF117+AG117+AH117+AJ117+AL117+AN117+AP117)","v":55},null,null,null,null,null,null,null,null,null,"Currituck",null,null,null,null,null,null,null,null,null,null,null,null,null,1.04,null,null,null,null,null,null,null,null,null,null,68.489999999999995,null,null,null,null,null,null,null,null,null,null,null,null,null,null,null,null,null,null,null,null,null,null,null,null,null,null,null,null,null,null,null,null,500000,null,450000]
["B141353","Pasquotank","Albemarle RPO","Bike & Ped","Division Needs",null,"River Road","Weeksville Road - NC-344  ","Ehringhaus Street","Construct multi-use path and pedestrian crosswalks to connect Middle School and subdivisions","2. Construct multi-use trail / greenway / sidepath or on-road bike lane on local roadway",420000,null,null,null,null,8.4542459855749996,8.25,{"$f":"Q118+#REF!+R118","v":{"$error":"#REF!"}},null,"N/A",null,2004.7520047520045,null,null,"Yes",null,null,null,null,0,{"$f":"IF(W118<999,20,IF(W118<1499,15,IF(W118<1999,10,IF(W118<3999,5,IF(W118>4000,0)))))","v":5},15,10,"Yes",{"$f":"IF(AK118=\"Minimal\",15,0)","v":15},"Minimal",10,"Yes",{"$f":"IF(AO118=\"Yes\",10,0)","v":0},"No",0,"No",null,null,12.5,null,null,null,null,null,null,null,null,"Albemarle RPO",null,null,null,null,null,null,null,null,null,null,null,null,{"$f":"SUM(AE118+AF118+AG118+AH118+AJ118+AL118+AN118)","v":55},null,null,null,null,null,null,null,null,null,"Pasquotank County",null,null,null,null,null,null,null,null,null,null,null,null,null,1.1200000000000001,null,null,null,null,null,null,null,null,null,null,481,null,null,null,null,null,null,null,null,null,null,null,null,null,null,null,null,null,null,null,null,null,null,null,null,null,null,null,null,null,400000,300000,null,720000,0,1080000]
["A130376","Martin","Mid-East RPO","Aviation","Division Needs",null,"Martin County ",null,null,"Land Acquisition",null,459000,null,null,null,null,10.199999999999999,null,{"$f":"Q119+#REF!+R119","v":{"$error":"#REF!"}},null,"N/A",null,39185.555128697662,null,null,"Yes",{"$f":"IF(AB119=\"Yes\",10,0)","v":0},null,{"$f":"IF(AD119=\"Yes\",10,0)","v":0},null,0,0,15,10,"Yes",15,"Minimal",10,"Yes",{"$f":"IF(AO119=\"Yes\",5,0)","v":5},"Yes",{"$f":"IF(AQ119=\"Yes\",10,0)","v":0},"No",null,null,null,null,null,null,null,null,null,null,null,"Mid-East RPO",null,null,null,null,null,null,null,null,null,null,null,null,{"$f":"SUM(AE119+AF119+AG119+AH119+AJ119+AL119+AN119+AP119)","v":55},null,null,null,null,null,null,null,null,null,"Martin",null,null,null,null,null,null,null,null,null,null,null,null,null,0.95,null,null,null,null,null,null,null,null,null,null,12.33,null,null,null,null,null,null,null,null,null,null,null,null,null,null,null,null,null,null,null,null,null,null,null,null,null,null,null,null,null,null,null,null,510000,null,459000]
["A130024","Dare","Albemarle RPO","Aviation","Division Needs",null,"Dare County Regional",null,null,"Construct/expand or repair",null,499500,null,null,null,null,9.1300000000000008,9.75,{"$f":"Q120+#REF!+R120","v":{"$error":"#REF!"}},null,"N/A",null,13116.846284741918,null,null,"Yes",0,null,0,null,0,0,15,10,"Yes",15,"Minimal",10,"Yes",5,"Yes",0,"No",null,null,null,null,null,null,null,null,null,null,null,"Albemarle RPO",null,null,null,null,null,null,null,null,null,null,null,null,55,null,null,null,null,null,null,null,null,null,"Dare",null,null,null,null,null,null,null,null,null,null,null,null,null,0.82,null,null,null,null,null,null,null,null,null,null,46.44,null,null,null,null,null,null,null,null,null,null,null,null,null,null,null,null,null,null,null,null,null,null,null,null,null,null,null,null,null,null,null,null,555000,null,499500]
["A130015","Chowan","Albemarle RPO","Aviation","Division Needs",null,"Northeastern Regional",null,null,"Reconstruct/Rehabilitate/Overlay",null,801000,null,null,null,null,9.06,8.25,{"$f":"Q121+#REF!+R121","v":{"$error":"#REF!"}},null,"N/A",null,18316.777344821909,null,null,"Yes",0,null,0,null,0,0,15,10,"Yes",15,"Minimal",10,"Yes",5,"Yes",0,"No",null,null,null,null,null,null,null,null,null,null,null,"Albemarle RPO",null,null,null,null,null,null,null,null,null,null,null,null,55,null,null,null,null,null,null,null,null,null,"Chowan",null,null,null,null,null,null,null,null,null,null,null,null,null,1.1399999999999999,null,null,null,null,null,null,null,null,null,null,38.36,null,null,null,null,null,null,null,null,null,null,null,null,null,null,null,null,null,null,null,null,null,null,null,null,null,null,null,null,null,null,null,null,890000,null,801000]
["A130020","Dare","Albemarle RPO","Aviation","Division Needs",null,"Dare County Regional",null,null,"Design",null,810000,null,null,null,null,8.7799999999999994,9.75,{"$f":"Q122+#REF!+R122","v":{"$error":"#REF!"}},null,"N/A",null,21270.561542824733,null,null,"Yes",0,null,0,null,0,0,15,10,"Yes",15,"Minimal",10,"Yes",5,"Yes",0,"No",null,null,null,null,null,null,null,null,null,null,null,"Albemarle RPO",null,null,null,null,null,null,null,null,null,null,null,null,55,null,null,null,null,null,null,null,null,null,"Dare",null,null,null,null,null,null,null,null,null,null,null,null,null,0.82,null,null,null,null,null,null,null,null,null,null,46.44,null,null,null,null,null,null,null,null,null,null,null,null,null,null,null,null,null,null,null,null,null,null,null,null,null,null,null,null,null,null,null,null,900000,null,810000]
["A130021","Dare","Albemarle RPO","Aviation","Division Needs",null,"Dare County Regional",null,null,"Clearing/grading/Drainage/paving/marking/lighting/signage",null,189000,null,null,null,null,8.74,9.75,{"$f":"Q123+#REF!+R123","v":{"$error":"#REF!"}},null,"N/A",null,4963.1310266591045,null,null,"Yes",0,null,0,null,0,0,15,10,"Yes",15,"Minimal",10,"Yes",5,"Yes",0,"No",null,null,null,null,null,null,null,null,null,null,null,"Albemarle RPO",null,null,null,null,null,null,null,null,null,null,null,null,55,null,null,null,null,null,null,null,null,null,"Dare",null,null,null,null,null,null,null,null,null,null,null,null,null,0.82,null,null,null,null,null,null,null,null,null,null,46.44,null,null,null,null,null,null,null,null,null,null,null,null,null,null,null,null,null,null,null,null,null,null,null,null,null,null,null,null,null,null,null,null,210000,null,189000]
["A130023","Dare","Albemarle RPO","Aviation","Division Needs",null,"Dare County Regional",null,null,"Install Taxiway edge lighting",null,405000,null,null,null,null,8.1999999999999993,9.75,{"$f":"Q124+#REF!+R124","v":{"$error":"#REF!"}},null,"N/A",null,10635.280771412366,null,null,"Yes",0,null,0,null,0,0,15,{"$f":"IF(AI124=\"Yes\",10,0)","v":10},"Yes",15,"Minimal",10,"Yes",5,"Yes",0,"No",null,null,null,null,null,null,null,null,null,null,null,"Albemarle RPO",null,null,null,null,null,null,null,null,null,null,null,null,55,null,null,null,null,null,null,null,null,null,"Dare",null,null,null,null,null,null,null,null,null,null,null,null,null,0.82,null,null,null,null,null,null,null,null,null,null,46.44,null,null,null,null,null,null,null,null,null,null,null,null,null,null,null,null,null,null,null,null,null,null,null,null,null,null,null,null,null,null,null,null,450000,null,405000]
["A130041","Currituck","Albemarle RPO","Aviation","Division Needs",null,"Currituck County Regional",null,null,"Runway Overlay",null,3105000,null,null,null,null,8.17,13.5,{"$f":"Q125+#REF!+R125","v":{"$error":"#REF!"}},null,"N/A",null,43591.428282624081,null,null,"Yes",0,null,0,null,0,0,15,10,"Yes",15,"Minimal",10,"Yes",5,"Yes",0,"No",null,null,null,null,null,null,null,null,null,null,null,"Albemarle RPO",null,null,null,null,null,null,null,null,null,null,null,null,55,null,null,null,null,null,null,null,null,null,"Currituck",null,null,null,null,null,null,null,null,null,null,null,null,null,1.04,null,null,null,null,null,null,null,null,null,null,68.489999999999995,null,null,null,null,null,null,null,null,null,null,null,null,null,null,null,null,null,null,null,null,null,null,null,null,null,null,null,null,null,null,null,null,3450000,null,3105000]
["A130017","Dare","Albemarle RPO","Aviation","Division Needs",null,"Dare County Regional",null,null,"Land Acquisition - Runway Approach",null,1980000,null,null,null,null,8.0500000000000007,9.75,{"$f":"Q126+#REF!+R126","v":{"$error":"#REF!"}},null,"N/A",null,51994.705993571573,null,null,"Yes",0,null,0,null,0,0,15,10,"Yes",15,"Minimal",10,"Yes",5,"Yes",0,"No",null,null,null,null,null,null,null,null,null,null,null,"Albemarle RPO",null,null,null,null,null,null,null,null,null,null,null,null,55,null,null,null,null,null,null,null,null,null,"Dare",null,null,null,null,null,null,null,null,null,null,null,null,null,0.82,null,null,null,null,null,null,null,null,null,null,46.44,null,null,null,null,null,null,null,null,null,null,null,null,null,null,null,null,null,null,null,null,null,null,null,null,null,null,null,null,null,null,null,null,2200000,null,1980000]
["A130012","Chowan","Albemarle RPO","Aviation","Division Needs",null,"Northeastern Regional",null,null,"Design",null,420368,null,null,null,null,8.0399999999999991,8.25,{"$f":"Q127+#REF!+R127","v":{"$error":"#REF!"}},null,"N/A",null,9612.7179262023674,null,null,"Yes",0,null,0,null,0,0,15,10,"Yes",15,"Minimal",10,"Yes",5,"Yes",0,"No",null,null,null,null,null,null,null,null,null,null,null,"Albemarle RPO",null,null,null,null,null,null,null,null,null,null,null,null,55,null,null,null,null,null,null,null,null,null,"Chowan",null,null,null,null,null,null,null,null,null,null,null,null,null,1.1399999999999999,null,null,null,null,null,null,null,null,null,null,38.36,null,null,null,null,null,null,null,null,null,null,null,null,null,null,null,null,null,null,null,null,null,null,null,null,null,null,null,null,null,null,null,null,467075,null,420368]
["A130022","Dare","Albemarle RPO","Aviation","Division Needs",null,"Dare County Regional",null,null,"Upgrade Existing Terminal Bldg.",null,675000,null,null,null,null,7.97,9.75,{"$f":"Q128+#REF!+R128","v":{"$error":"#REF!"}},null,"N/A",null,17725.467952353945,null,null,"Yes",0,null,0,null,0,0,15,10,"Yes",15,"Minimal",{"$f":"IF(AM128=\"Yes\",10,0)","v":10},"Yes",5,"Yes",0,"No",null,null,null,null,null,null,null,null,null,null,null,"Albemarle RPO",null,null,null,null,null,null,null,null,null,null,null,null,55,null,null,null,null,null,null,null,null,null,"Dare",null,null,null,null,null,null,null,null,null,null,null,null,null,0.82,null,null,null,null,null,null,null,null,null,null,46.44,null,null,null,null,null,null,null,null,null,null,null,null,null,null,null,null,null,null,null,null,null,null,null,null,null,null,null,null,null,null,null,null,750000,null,675000]
["A130002","Hyde","Albemarle RPO","Aviation","Division Needs",null,"Hyde County",null,null,"Upgrade Existing Terminal Bldg.",null,675000,null,null,null,null,7.95,6.75,{"$f":"Q129+#REF!+R129","v":{"$error":"#REF!"}},null,"N/A",null,68326.753720012144,null,null,"Yes",0,null,0,null,0,0,15,10,"Yes",15,"Minimal",10,"Yes",5,"Yes",0,"No",null,null,null,null,null,null,null,null,null,null,null,"Albemarle RPO",null,null,null,null,null,null,null,null,null,null,null,null,55,null,null,null,null,null,null,null,null,null,"Hyde",null,null,null,null,null,null,null,null,null,null,null,null,null,0.89,null,null,null,null,null,null,null,null,null,null,11.1,null,null,null,null,null,null,null,null,null,null,null,null,null,null,null,null,null,null,null,null,null,null,null,null,null,null,null,null,null,null,null,null,750000,null,675000]
["A130027","Dare","Albemarle RPO","Aviation","Division Needs",null,"Dare County Regional",null,null,"Relocate TVOR",null,382500,null,null,null,null,7.87,9.75,{"$f":"Q130+#REF!+R130","v":{"$error":"#REF!"}},null,"N/A",null,10044.431839667235,null,null,"Yes",0,null,0,null,0,0,15,10,"Yes",15,"Minimal",10,"Yes",5,"Yes",0,"No",null,null,null,null,null,null,null,null,null,null,null,"Albemarle RPO",null,null,null,null,null,null,null,null,null,null,null,null,55,null,null,null,null,null,null,null,null,null,"Dare",null,null,null,null,null,null,null,null,null,null,null,null,null,0.82,null,null,null,null,null,null,null,null,null,null,46.44,null,null,null,null,null,null,null,null,null,null,null,null,null,null,null,null,null,null,null,null,null,null,null,null,null,null,null,null,null,null,null,null,425000,null,382500]
["A130040","Currituck","Albemarle RPO","Aviation","Division Needs",null,"Currituck County Regional",null,null,"Environmental Assessment",null,2475000,null,null,null,null,7.86,13.5,{"$f":"Q131+#REF!+R131","v":{"$error":"#REF!"}},null,"N/A",null,34746.790660062674,null,null,"Yes",0,null,0,null,0,0,15,10,"Yes",15,"Minimal",10,"Yes",5,"Yes",0,"No",null,null,null,null,null,null,null,null,null,null,null,"Albemarle RPO",null,null,null,null,null,null,null,null,null,null,null,null,55,null,null,null,null,null,null,null,null,null,"Currituck",null,null,null,null,null,null,null,null,null,null,null,null,null,1.04,null,null,null,null,null,null,null,null,null,null,68.489999999999995,null,null,null,null,null,null,null,null,null,null,null,null,null,null,null,null,null,null,null,null,null,null,null,null,null,null,null,null,null,null,null,null,2750000,null,2475000]
["A130026","Dare","Albemarle RPO","Aviation","Division Needs",null,"Dare County Regional",null,null,"Hangers and Economic Development",null,270000,null,null,null,null,6.97,9.75,{"$f":"Q132+#REF!+R132","v":{"$error":"#REF!"}},null,"N/A",null,7090.1871809415779,null,null,"Yes",0,null,0,null,0,0,15,10,"Yes",15,"Minimal",10,"Yes",5,"Yes",0,"No",null,null,null,null,null,null,null,null,null,null,null,"Albemarle RPO",null,null,null,null,null,null,null,null,null,null,null,null,55,null,null,null,null,null,null,null,null,null,"Dare",null,null,null,null,null,null,null,null,null,null,null,null,null,0.82,null,null,null,null,null,null,null,null,null,null,46.44,null,null,null,null,null,null,null,null,null,null,null,null,null,null,null,null,null,null,null,null,null,null,null,null,null,null,null,null,null,null,null,null,300000,null,270000]
["A130013","Chowan","Albemarle RPO","Aviation","Division Needs",null,"Northeastern Regional",null,null,"Design",null,680760,null,null,null,null,6.68,8.25,{"$f":"Q133+#REF!+R133","v":{"$error":"#REF!"}},null,"N/A",null,15567.202678228419,null,null,"Yes",0,null,0,null,0,0,15,10,"Yes",15,"Minimal",10,"Yes",5,"Yes",0,"No",null,null,null,null,null,null,null,null,null,null,null,"Albemarle RPO",null,null,null,null,null,null,null,null,null,null,null,null,55,null,null,null,null,null,null,null,null,null,"Chowan",null,null,null,null,null,null,null,null,null,null,null,null,null,1.1399999999999999,null,null,null,null,null,null,null,null,null,null,38.36,null,null,null,null,null,null,null,null,null,null,null,null,null,null,null,null,null,null,null,null,null,null,null,null,null,null,null,null,null,null,null,null,756400,null,680760]
["A130414","Hertford","Peanut Belt RPO","Aviation","Division Needs",null,"Tri-County",null,null,"Upgrade Existing Terminal Bldg.",null,225000,null,null,null,null,6.66,null,{"$f":"Q134+#REF!+R134","v":{"$error":"#REF!"}},null,"N/A",null,7375.4773572845133,null,null,"Yes",0,null,0,null,0,0,15,10,"Yes",15,"Minimal",10,"Yes",5,"Yes",0,"No",null,null,null,null,null,null,null,null,null,null,null,"Peanut Belt RPO",null,null,null,null,null,null,null,null,null,null,null,null,55,null,null,null,null,null,null,null,null,null,"Hertford",null,null,null,null,null,null,null,null,null,null,null,null,null,0.85,null,null,null,null,null,null,null,null,null,null,35.89,null,null,null,null,null,null,null,null,null,null,null,null,null,null,null,null,null,null,null,null,null,null,null,null,null,null,null,null,null,null,null,null,250000,null,225000]
["A130373","Martin","Mid-East RPO","Aviation","Division Needs",null,"Martin County ",null,null,"Design",null,369000,null,null,null,null,6.54,null,{"$f":"Q135+#REF!+R135","v":{"$error":"#REF!"}},null,"N/A",null,31502.112946600078,null,null,"Yes",0,null,0,null,0,0,15,10,"Yes",15,"Minimal",10,"Yes",5,"Yes",0,"No",null,null,null,null,null,null,null,null,null,null,null,"Mid-East RPO",null,null,null,null,null,null,null,null,null,null,null,null,55,null,null,null,null,null,null,null,null,null,"Martin",null,null,null,null,null,null,null,null,null,null,null,null,null,0.95,null,null,null,null,null,null,null,null,null,null,12.33,null,null,null,null,null,null,null,null,null,null,null,null,null,null,null,null,null,null,null,null,null,null,null,null,null,null,null,null,null,null,null,null,410000,null,369000]
["A130047","Washington","Albemarle RPO","Aviation","Division Needs",null,"Plymouth Municipal Airport",null,null,"AWOS Installation",null,193500,null,null,null,null,6.1,6,{"$f":"Q136+#REF!+R136","v":{"$error":"#REF!"}},null,"N/A",null,5102.4724519362962,null,null,"Yes",0,null,0,null,0,0,15,10,"Yes",15,"Minimal",10,"Yes",5,"Yes",0,"No",null,null,null,null,null,null,null,null,null,null,null,"Albemarle RPO",null,null,null,null,null,null,null,null,null,null,null,null,55,null,null,null,null,null,null,null,null,null,"Washington",null,null,null,null,null,null,null,null,null,null,null,null,null,1.04,null,null,null,null,null,null,null,null,null,null,36.369999999999997,null,null,null,null,null,null,null,null,null,null,null,null,null,null,null,null,null,null,null,null,null,null,null,null,null,null,null,null,null,null,null,null,215000,null,193000]
["A130025","Dare","Albemarle RPO","Aviation","Division Needs",null,"Dare County Regional",null,null,"Hangers and Economic Development",null,468000,null,null,null,null,5.56,9.75,{"$f":"Q137+#REF!+R137","v":{"$error":"#REF!"}},null,"N/A",null,12289.657780298734,null,null,"Yes",0,null,0,null,0,0,15,10,"Yes",15,"Minimal",10,"Yes",5,"Yes",0,"No",null,null,null,null,null,null,null,null,null,null,null,"Albemarle RPO",null,null,null,null,null,null,null,null,null,null,null,null,55,null,null,null,null,null,null,null,null,null,"Dare",null,null,null,null,null,null,null,null,null,null,null,null,null,0.82,null,null,null,null,null,null,null,null,null,null,46.44,null,null,null,null,null,null,null,null,null,null,null,null,null,null,null,null,null,null,null,null,null,null,null,null,null,null,null,null,null,null,null,null,520000,null,468000]
["A130037","Currituck","Albemarle RPO","Aviation","Division Needs",null,"Currituck County Regional",null,null,"Hangers and Economic Development",null,1080000,null,null,null,null,5.56,15,{"$f":"Q138+#REF!+R138","v":{"$error":"#REF!"}},null,"N/A",null,15162.235924390983,null,null,"Yes",0,null,0,null,0,0,15,10,"Yes",15,"Minimal",10,"Yes",5,"Yes",0,"No",null,null,null,null,null,null,null,null,null,null,null,"Albemarle RPO",null,null,null,null,null,null,null,null,null,null,null,null,55,null,null,null,null,null,null,null,null,null,"Currituck",null,null,null,null,null,null,null,null,null,null,null,null,null,1.04,null,null,null,null,null,null,null,null,null,null,68.489999999999995,null,null,null,null,null,null,null,null,null,null,null,null,null,null,null,null,null,null,null,null,null,null,null,null,null,null,null,null,null,null,null,null,1125000,null,1080000]
["A130038","Currituck","Albemarle RPO","Aviation","Division Needs",null,"Currituck County Regional",null,null,"Hangers and Economic Development",null,1012500,null,null,null,null,5.56,13.5,{"$f":"Q139+#REF!+R139","v":{"$error":"#REF!"}},null,"N/A",null,14214.596179116548,null,null,"Yes",0,null,0,null,0,0,15,10,"Yes",15,"Minimal",10,"Yes",5,"Yes",0,"No",null,null,null,null,null,null,null,null,null,null,null,"Albemarle RPO",null,null,null,null,null,null,null,null,null,null,null,null,55,null,null,null,null,null,null,null,null,null,"Currituck",null,null,null,null,null,null,null,null,null,null,null,null,null,1.04,null,null,null,null,null,null,null,null,null,null,68.489999999999995,null,null,null,null,null,null,null,null,null,null,null,null,null,null,null,null,null,null,null,null,null,null,null,null,null,null,null,null,null,null,null,null,1125000,null,1012500]
["A130039","Currituck","Albemarle RPO","Aviation","Division Needs",null,"Currituck County Regional",null,null,"Hangers and Economic Development",null,1813500,null,null,null,null,5.56,13.5,{"$f":"Q140+#REF!+R140","v":{"$error":"#REF!"}},null,"N/A",null,25459.921156373195,null,null,"Yes",0,null,0,null,0,0,15,10,"Yes",15,"Minimal",10,"Yes",5,"Yes",0,"No",null,null,null,null,null,null,null,null,null,null,null,"Albemarle RPO",null,null,null,null,null,null,null,null,null,null,null,null,55,null,null,null,null,null,null,null,null,null,"Currituck",null,null,null,null,null,null,null,null,null,null,null,null,null,1.04,null,null,null,null,null,null,null,null,null,null,68.489999999999995,null,null,null,null,null,null,null,null,null,null,null,null,null,null,null,null,null,null,null,null,null,null,null,null,null,null,null,null,null,null,null,null,2015000,null,1813500]
["A130034","Currituck","Albemarle RPO","Aviation","Division Needs",null,"Currituck County Regional",null,null,"Corporate & T-hanger Taxiways",null,2547000,null,null,null,null,4.26,15,{"$f":"Q141+#REF!+R141","v":{"$error":"#REF!"}},null,"N/A",null,35757.606388355402,null,null,"Yes",0,null,0,null,0,0,15,10,"Yes",15,"Minimal",10,"Yes",5,"Yes",0,"No",null,null,null,null,null,null,null,null,null,null,null,"Albemarle RPO",null,null,null,null,null,null,null,null,null,null,null,null,55,null,null,null,null,null,null,null,null,null,"Currituck",null,null,null,null,null,null,null,null,null,null,null,null,null,1.04,null,null,null,null,null,null,null,null,null,null,68.489999999999995,null,null,null,null,null,null,null,null,null,null,null,null,null,null,null,null,null,null,null,null,null,null,null,null,null,null,null,null,null,null,null,null,2830000,null,2547000]
["A130014","Chowan","Albemarle RPO","Aviation","Division Needs",null,"Northeastern Regional",null,null,"Hangers and Economic Development",null,1048500,null,null,null,null,4.0599999999999996,8.25,{"$f":"Q142+#REF!+R142","v":{"$error":"#REF!"}},null,"N/A",null,23976.455737884862,null,null,"Yes",0,null,0,null,0,0,15,10,"Yes",15,"Minimal",10,"Yes",5,"Yes",0,"No",null,null,null,null,null,null,null,null,null,null,null,"Albemarle RPO",null,null,null,null,null,null,null,null,null,null,null,null,55,null,null,null,null,null,null,null,null,null,"Chowan",null,null,null,null,null,null,null,null,null,null,null,null,null,1.1399999999999999,null,null,null,null,null,null,null,null,null,null,38.36,null,null,null,null,null,null,null,null,null,null,null,null,null,null,null,null,null,null,null,null,null,null,null,null,null,null,null,null,null,null,null,null,1165000,null,1048500]
["A130044","Washington","Albemarle RPO","Aviation","Division Needs",null,"Plymouth Municipal Airport",null,null,"Hangers and Economic Development",null,310500,null,null,null,null,3.56,6,{"$f":"Q143+#REF!+R143","v":{"$error":"#REF!"}},null,"N/A",null,8208.8999809648703,null,null,"Yes",0,null,0,null,0,0,15,10,"Yes",15,"Minimal",10,"Yes",5,"Yes",0,"No",null,null,null,null,null,null,null,null,null,null,null,"Albemarle RPO",null,null,null,null,null,null,null,null,null,null,null,null,55,null,null,null,null,null,null,null,null,null,"Washington",null,null,null,null,null,null,null,null,null,null,null,null,null,1.04,null,null,null,null,null,null,null,null,null,null,36.369999999999997,null,null,null,null,null,null,null,null,null,null,null,null,null,null,null,null,null,null,null,null,null,null,null,null,null,null,null,null,null,null,null,null,345000,null,310500]
["A130045","Washington","Albemarle RPO","Aviation","Division Needs",null,"Plymouth Municipal Airport",null,null,"Hangers and Economic Development",null,760500," ",null," ",null,3.56,6,{"$f":"Q144+#REF!+R144","v":{"$error":"#REF!"}},null,"N/A",null,5115.6912924853541,null,null,"Yes",0,null,0,null,0,0,15,10,"Yes",15,"Minimal",10,"Yes",5,"Yes",0,"No",null,null,null,null,null,null,null,null,null,null,null,"Albemarle RPO",null,null,null,null,null,null,null,null,null,null,null,null,55,null,null,null,null,null,null,null,null,null,"Washington",null,null,null,null,null,null,null,null,null,null,null,null,null,1.04,null,null,null,null,null,null,null,null,null,null,36.369999999999997,null,null,null,null,null,null,null,null,null,null,null,null,null,null,null,null,null,null,null,null,null,null,null,null,null,null,null,null,null,null,null,null,845000,null,193500]
["A130375","Martin","Mid-East RPO","Aviation","Division Needs",null,"Martin County ",null,null,"Hangers and Economic Development",null,535500," ",null," ",null,3.5,null,{"$f":"Q145+#REF!+R145","v":{"$error":"#REF!"}},null,"N/A",null,{"$f":"(EH145/CY145)/CN145","v":45716.4809834806},null,null,"Yes",0,null,0,null,{"$f":"IF(AT145<30,0,IF(AT145<50,5,IF(AT145<65,10,IF(AT145<79,15,IF(AT145>80,20)))))","v":0},0,{"$f":"IF(Z145=\"Yes\",15,0)","v":15},10,"Yes",15,"Minimal",10,"Yes",5,"Yes",0,"No",null,null,null,null,null,null,null,null,null,null,null,"Mid-East RPO",null,null,null,null,null,null,null,null,null,null,null,null,55,null,null,null,null,null,null,null,null,null,"Martin",null,null,null,null,null,null,null,null,null,null,null,null,null,0.95,null,null,null,null,null,null,null,null,null,null,12.33,null,null,null,null,null,null,null,null,null,null,null,null,null,null,null,null,null,null,null,null,null,null,null,null,null,null,null,null,null,null,null,null,595000,null,535500]
["A130003","Hyde","Albemarle RPO","Aviation","Division Needs",null,"Hyde County",null,null,"Hangers and Economic Development",null,990000," ",null," ",null,3.16,6.75,{"$f":"Q146+#REF!+R146","v":{"$error":"#REF!"}},null,"N/A",null,100212.57212268448,null,null,"Yes",0,null,0,null,0,0,15,10,"Yes",15,"Minimal",10,"Yes",5,"Yes",0,"No",null,null,null,null,null,null,null,null,null,null,null,"Albemarle RPO",null,null,null,null,null,null,null,null,null,null,null,null,55,null,null,null,null,null,null,null,null,null,"Hyde",null,null,null,null,null,null,null,null,null,null,null,null,null,0.89,null,null,null,null,null,null,null,null,null,null,11.1,null,null,null,null,null,null,null,null,null,null,null,null,null,null,null,null,null,null,null,null,null,null,null,null,null,null,null,null,null,null,null,null,1100000,null,990000]
["A130004","Hyde","Albemarle RPO","Aviation","Division Needs",null,"Hyde County",null,null,"other",null,2070000," ",null," ",null,3.16,6.75,{"$f":"Q147+#REF!+R147","v":{"$error":"#REF!"}},null,"N/A",null,209535.37807470391,null,null,"Yes",0,null,0,null,0,0,15,10,"Yes",15,"Minimal",10,"Yes",5,"Yes",0,"No",null,null,null,null,null,null,null,null,null,null,null,"Albemarle RPO",null,null,null,null,null,null,null,null,null,null,null,null,55,null,null,null,null,null,null,null,null,null,"Hyde",null,null,null,null,null,null,null,null,null,null,null,null,null,0.89,null,null,null,null,null,null,null,null,null,null,11.1,null,null,null,null,null,null,null,null,null,null,null,null,null,null,null,null,null,null,null,null,null,null,null,null,null,null,null,null,null,null,null,null,2300000,null,2070000]
["A130374","Martin","Mid-East RPO","Aviation","Division Needs",null,"Martin County ",null,null,"Hangers and Economic Development",null,211500," ",null," ",null,3.16,null,{"$f":"Q148+#REF!+R148","v":{"$error":"#REF!"}},null,"N/A",null,18056.08912792931,null,null,"Yes",0,null,0,null,0,0,15,10,"Yes",15,"Minimal",10,"Yes",5,"Yes",0,"No",null,null,null,null,null,null,null,null,null,null,null,"Mid-East RPO",null,null,null,null,null,null,null,null,null,null,null,null,55,null,null,null,null,null,null,null,null,null,"Martin",null,null,null,null,null,null,null,null,null,null,null,null,null,0.95,null,null,null,null,null,null,null,null,null,null,12.33,null,null,null,null,null,null,null,null,null,null,null,null,null,null,null,null,null,null,null,null,null,null,null,null,null,null,null,null,null,null,null,null,235000,null,211500]
["A130001",null,null,"Aviation","Division Needs",null,"Hyde County",null,null,"Design",null,622440,null,null,null,null,25.97,6.75,{"$f":"Q149+#REF!+R149","v":{"$error":"#REF!"}},null,"N/A",null,63006.37716368054,null,null,"Yes",0,null,0,null,0,0,15,10,"Yes",15,"Minimal",10,"Yes",5,"Yes",0,"No",null,null,null,null,null,null,null,null,null,null,null,"Albemarle RPO",null,null,null,null,null,null,null,null,null,null,null,null,55,null,null,null,null,null,null,null,null,null,"Hyde",null,null,null,null,null,null,null,null,null,null,null,null,null,0.89,null,null,null,null,null,null,null,null,null,null,11.1,null,null,null,null,null,null,null,null,null,null,null,null,null,null,null,null,null,null,null,null,null,null,null,null,null,null,null,null,null,null,null,null,691600,null,622440]
["H090098","Bertie","Peanut Belt RPO","Highway","Statewide Mobility","R-2506","US-13 ","US 13 Business North of Windsor","NC 42","Widen to Multi-Lanes.","1 - Widen Existing Roadway",99400000,11.136523875976859,null,12.4,null,9.1,null,{"$f":"Q150+#REF!+R150","v":{"$error":"#REF!"}},null,{"$f":"IF(AT150<30,0,IF(AT150<50,5,IF(AT150<65,10,IF(AT150>66,15))))","v":10},{"$f":"IF(W150<499,15,IF(W150<999,10,IF(W150<1499,5,IF(W150>1500,0))))","v":0},1765.7073314003956,{"$f":"IF(DC150<500,0,IF(DC150<1000,5,IF(DC150>1000,10)))","v":0},{"$f":"IF(Z150=\"Yes\",20,0)","v":20},"Yes",{"$f":"IF(AB150=\"Yes\",20,0)","v":20},"Yes",10,"Yes",10,{"$f":"IF(BL148<999,20,IF(BL148<1499,15,IF(BL148<1999,10,IF(BL148<3999,5,IF(BL148>4000,0)))))","v":20},15,10,"Yes",15,"Minimal",10,"Yes",{"$f":"IF(AO150=\"Yes\",10,0)","v":0},"No",0,"No",14.914047600427818,6.1686539235412473E-2,50.994178142192993,7.1730424362549918,1.097773326075915,20.499871621,25,0,null,null,null,"Peanut Belt RPO",100,"","","","","01",100,"","","","",{"$f":"SUM(U150+V150+X150+Y150+AA150+AC150)","v":60},80,null,null,0,null,{"$f":"Q150+BT150*0.25","v":9.1},"Exceeds cap of $15 million for Statewide & Regional Projects cascading to Division Needs",{"$f":"O150+BS150*0.25","v":12.4},{"$f":"BW150+P150","v":12.4},"R-2205 & R-2506 beneficial to program together; Portion of R-2205 is incorporated in R-5311B, which Division Local Points are assigned.","Bertie",100,"","","","","","",1,"A","01, , ","Peanut Belt RPO, , ","Bertie, , , ",16.084402399999998,16.084402399999998,"Two Lane Highway","Multi-Lane Highway",1,2,"Undivided","Divided",49,50,8.8125771032800007,91.187422896719994,3499.9572069999999,15539.176170000001,0.22523441196046365,3191.5207795513193,308.43642744868021,245144.62958747204,23691.38068680216,268836.01027427422,6131642,54.538307000000003,43.544452530000001,54.915074679999996,"","",4,1.7955466521518299E-5,"Yes","No",11,12,"No",0,0,"2 Lane Undivided","4A - 4 Lane Divided (46' Depressed Median) with Paved Shoulders","None","Partial",1,"Yes",25,61000000,35800000,2600000,99400000,"",99400000,99400000,""]
["H090868","Gates","Albemarle RPO","Highway","Regional Impact","","NC-32 ","Chowan County","Virginia State Line","Widen to Multi-Lanes from Chowan County to Virginia Border","1 - Widen Existing Roadway",164732000,null,null,8.6051018168922653,3.6,5.7367345445948441,5.25,{"$f":"Q151+#REF!+R151","v":{"$error":"#REF!"}},null,{"$f":"IF(AT151<30,0,IF(AT151<50,5,IF(AT151<65,10,IF(AT151>66,15))))","v":5},{"$f":"IF(W151<499,15,IF(W151<999,10,IF(W151<1499,5,IF(W151>1500,0))))","v":0},3736.084845243709,{"$f":"IF(DC151<500,0,IF(DC151<1000,5,IF(DC151>1000,10)))","v":0},{"$f":"IF(Z151=\"Yes\",20,0)","v":20},"Yes",{"$f":"IF(AB151=\"Yes\",20,0)","v":20},"Yes",{"$f":"IF(AD151=\"Yes\",20,0)","v":20},"Yes",5,{"$f":"IF(W151<999,20,IF(W151<1499,15,IF(W151<1999,10,IF(W151<3999,5,IF(W151>4000,0)))))","v":5},15,10,"No",{"$f":"IF(AK151=\"Minimal\",15,0)","v":15},"Minimal",10,"Yes",0,"No",{"$f":"IF(AQ151=\"Yes\",10,0)","v":0},"No",11.331138193748444,0,46.036207252199993,1.1899936567631844,"N/A",43.959183177,0,0,null,null,null,"Albemarle RPO",100,"","","","","01",100,"","","","",{"$f":"SUM(U151+V151+X151+Y151+AA151+AC151)","v":65},60,null,null,0,null,5.7367345445948441,"Exceeds cap of $15 million for Statewide & Regional Projects cascading to Division Needs",{"$f":"O151+BS151*0.25","v":8.6051018168922653},{"$f":"BW151+P151","v":12.205101816892265},"Under Threshold of SPOT Score of \"10\"","Gates",100,"","","","","","",1,"A","01, , ","Albemarle RPO, , ","Gates, , , ",16.61934853,16.61934853,"Two Lane Highway","Multi-Lane Highway",1,2,"Undivided","Divided",55,55,8.9707219720884996,91.029278027911502,2653.0610590000001,15500.00001,0.17116522950247406,2415.0623276473634,237.99873135263687,0,0,0,0,52.038928579999997,41.030888079999997,45.052617339999998,"","","","","No","No",12,12,"No",0,0,"2 Lane Undivided","4A - 4 Lane Divided (46' Depressed Median) with Paved Shoulders","None","Partial",1,"Yes",38,106020000,52421000,6291000,164732000,"",164732000,164732000,""]
["H141880","Pasquotank","Albemarle RPO","Highway","Statewide Mobility","","US-17-BYP-Elizabeth City Bypass","SR 1100 / 1140 (Okisko Road)","US 17/158 north of Elizabeth City (North Road Street)","Upgrade freeway to interstate standards","17 - Upgrade Freeway to Interstate Standards",16554000,7.4401437540013751,null,5.1586118755402079,6.3,3.4390745836934724,9,{"$f":"Q152+#REF!+R152","v":{"$error":"#REF!"}},null,{"$f":"IF(AT152<30,0,IF(AT152<50,5,IF(AT152<65,10,IF(AT152>66,15))))","v":0},{"$f":"IF(W152<499,15,IF(W152<999,10,IF(W152<1499,5,IF(W152>1500,0))))","v":15},146.45742390673294,{"$f":"IF(DC152<500,0,IF(DC152<1000,5,IF(DC152>1000,10)))","v":10},{"$f":"IF(Z152=\"Yes\",20,0)","v":20},"Yes",{"$f":"IF(AB152=\"Yes\",20,0)","v":20},"Yes",{"$f":"IF(AD152=\"Yes\",20,0)","v":20},"Yes",0,{"$f":"IF(W152<999,20,IF(W152<1499,15,IF(W152<1999,10,IF(W152<3999,5,IF(W152>4000,0)))))","v":20},15,{"$f":"IF(AI152=\"Yes\",10,0)","v":0},"No",{"$f":"IF(AK152=\"Minimal\",15,0)","v":15},"Minimal",10,"Yes",0,"No",0,"No",13.968030206078721,0,20.422715630856001,5.5853239091258402,0.90398347266990298,13.553747511552267,0,0,null,null,null,"Albemarle RPO",100,"","","","","01",100,"","","","",{"$f":"SUM(U152+V152+X152+Y152+AA152+AC152)","v":85},60,null,null,0,null,3.4390745836934724,"Delay Prioritization pending outcome of Future Interstate Designation; Exceeds cap of $15 million for Statewide & Regional Projects cascading to Division Needs",{"$f":"O152+BS152*0.25","v":5.1586118755402079},{"$f":"BW152+P152","v":11.458611875540207},"Delay Division Local Input Scoring  pending outcome of Future Interstate Designation/Under Threshold of SPOT Score of \"10\"","Pasquotank",100,"","","","","","",1,"A","01, , ","Albemarle RPO, , ","Pasquotank, , , ",9.97557267,9.97557267,"Freeway","Freeway",2,2,"Divided","Divided",68.723659978444402,68.723659978444402,9.858813170697001,90.141186829302995,11330.621267328401,72048.855909959806,0.1572630283191227,10213.556485503232,1117.064781825168,0,0,0,0,23.95659736,8.3349116199999997,28.98276534,"","",3.7328922246088601,1.43467772287892E-5,"No","No",12,12,"No",4,4,"4 Lane with Median - Full Control","","Full","Full",2,"No",23,16554000,0,0,16554000,"",16554000,16554000,""]
["H090201","Bertie","Peanut Belt RPO","Highway","Regional Impact","R-2900","NC-11 ","NC 903 in Martin County","US 13 Bypass North of Ahoskie in Hertford County","Widen to Multi-Lanes","1 - Widen Existing Roadway",264678000,null,null,9.6828556939639139,null,6.4527639498232601,null,{"$f":"Q153+#REF!+R153","v":{"$error":"#REF!"}},null,{"$f":"IF(AT153<30,0,IF(AT153<50,5,IF(AT153<65,10,IF(AT153>66,15))))","v":5},{"$f":"IF(W153<499,15,IF(W153<999,10,IF(W153<1499,5,IF(W153>1500,0))))","v":0},1767.5616600315998,{"$f":"IF(DC153<500,0,IF(DC153<1000,5,IF(DC153>1000,10)))","v":5},{"$f":"IF(Z153=\"Yes\",20,0)","v":20},"Yes",{"$f":"IF(AB153=\"Yes\",20,0)","v":20},"Yes",{"$f":"IF(AD153=\"Yes\",10,0)","v":10},"Yes",5,{"$f":"IF(BL151<999,20,IF(BL151<1499,15,IF(BL151<1999,10,IF(BL151<3999,5,IF(BL151>4000,0)))))","v":0},15,{"$f":"IF(AI153=\"Yes\",10,0)","v":10},"Yes",15,"Minimal",10,"Yes",0,"No",0,"No",22.004158280104082,7.4195384580509144E-2,42.449285833548004,4.9984943886064652,"N/A",19.458886990000003,0,0,null,null,null,"Peanut Belt RPO",91.83,"Mid-East RPO",8.17,"","","01",100,"","","","",{"$f":"SUM(U153+V153+X153+Y153+AA153+AC153)","v":60},55,null,null,0,null,6.4527639498232601,"Exceeds cap of $15 million for Statewide & Regional Projects cascading to Division Needs",{"$f":"O153+BS153*0.25","v":9.6828556939639139},{"$f":"BW153+P153","v":9.6828556939639139},"Under Threshold of SPOT Score of \"10\"","Bertie",60.05,"Hertford",31.78,"Martin",8.17,"","",1,"A","01, , ","Peanut Belt RPO, Mid-East RPO, ","Bertie, Hertford, Martin, ",29.059377309999999,29.059377309999999,"Two Lane Highway","Multi-Lane Highway",1,2,"Undivided","Divided",54,55,19.400469355290102,80.599530644709901,5152.9623300000003,15503.09146,0.33238288913506808,4153.2634522787075,999.698877721293,665630.52880070708,160218.60887587239,825849.13767657941,19637886,52.985728870000003,37.521074390000003,36.8537903,"","","","","No","No",12,12,"No",2,2,"2 Lane Undivided","4A - 4 Lane Divided (46' Depressed Median) with Paved Shoulders","Limited","Partial",1,"Yes",22,224808000,35598000,4272000,264678000,"",264678000,264678000,""]
["H141224","Currituck","Albemarle RPO","Highway","Division Needs","","Ponderosa Drive","US 17","NC 168","Upgrade Ponderosa Drive to provide direct connection between US 17 and NC 168 to alleviate existing traffic","6 - Widen Existing Roadway and Construct Part on New Location",46069000,null,null,null,null,11.1,7.5,{"$f":"Q154+#REF!+R154","v":{"$error":"#REF!"}},null,"N/A",null,1967.3398086522786,null,null,"Yes",null,null,null,null,5,{"$f":"IF(W154<999,20,IF(W154<1499,15,IF(W154<1999,10,IF(W154<3999,5,IF(W154>4000,0)))))","v":10},15,0,"No",{"$f":"IF(AK154=\"Minimal\",15,0)","v":15},"Minimal",10,"Yes",0,"No",0,"No",9.7560748992085635,1.3002594152249887,49.966063520603996,0,"N/A","N/A",50,0,null,null,null,"Albemarle RPO",100,"","","","","01",100,"","","","",null,55,null,null,null,null,11.1,"Exceeds cap of $15 million for Statewide & Regional Projects cascading to Division Needs",null,null,null,"Currituck",63.5,"Camden",36.5,"","","","",1,"A","01, , ","Albemarle RPO, , ","Currituck, Camden, , ",17.899999999999999,10.223092530000001,"Two Lane Highway","Two Lane Highway",1,1,"Undivided","Undivided",53.1532929418469,55,0,100,2290.5886992880501,15547.2645412783,0.1473306569915557,2290.5886992880501,0,2722802.3267137692,0,2722802.3267137692,59901651,78.457510429999999,43.696003040000001,27.75966841,"","","","","No","No",10,12,"No",0,0,"New Roadway","2A - 2 Lane Undivided with Paved Shoulders, 55 mph","None","None",1,"No",34,44934000,1013000,122000,46069000,"",46069000,46069000,""]
["H090505","Chowan","Albemarle RPO","Highway","Division Needs","U-5001","- New Route - Western Connector (Luke Street)","Albania Stree","Virginia Street","Albania Street to Virginia Street.  Construct Multi-Lanes, Some New Location.","5 - Construct Roadway on New Location",9681000," ",null," ",null,3.3389965257502841,4.5,{"$f":"Q155+#REF!+R155","v":{"$error":"#REF!"}},null,"N/A",null,1484.2014063804211,null,null,"Yes",null,null,null,null,0,{"$f":"IF(W155<999,20,IF(W155<1499,15,IF(W155<1999,10,IF(W155<3999,5,IF(W155>4000,0)))))","v":15},15,{"$f":"IF(AI155=\"Yes\",10,0)","v":0},"No",{"$f":"IF(AK155=\"Minimal\",15,0)","v":15},"Minimal",10,"Yes",0,"No",0,"No",21.672837154252885,1.44483162896395,10.272296474286,1.0195217718000875,"N/A","N/A",0,0,null,null,null,"Albemarle RPO",100,"","","","","01",100,"","","","",null,55,null,null,null,null,3.3389965257502841,"Minimal Local Support",null,null,null,"Chowan",100,"","","","","","",1,"A","01, , ","Albemarle RPO, , ","Chowan, , , ",1.5,1.11961556,"Arterial","Arterial",1,2,"Undivided","Divided",38,35,3.5000000000003002,96.499999999999702,5825.8386959999998,18071.619050000001,0.32237502793088146,5621.9343416399824,203.90435436001749,604716.87205310084,21932.736292083333,626649.60834518413,13987415,7.8258291699999996,15.168313080000001,7.8258291699999996,"","","","","No","No",12,12,"Yes",0,2,"New Roadway","4C - 4 Lane Divided (23' Raised Median) with Curb & Gutter, Wide Outside Lanes, and Sidewalks","None","Partial",1,"No",24,5928000,3351000,402000,9681000,"",9681000,9681000,""]
["H141741","Bertie","Peanut Belt RPO","Highway","Regional Impact","","NC-45 ","Hertford County Line","Washington County Line","Currently a 2- lane major thoroughfare with high truck percentage, this project recommends road be widened to 24 feet with paved shoulders and turn lanes where necessary through Bertie County, with safety and mobility the primary purpose.\n","1 - Widen Existing Roadway",130375000,null,null,9.07,null,6.88,null,{"$f":"Q156+#REF!+R156","v":{"$error":"#REF!"}},null,{"$f":"IF(AT156<30,0,IF(AT156<50,5,IF(AT156<65,10,IF(AT156>66,15))))","v":5},{"$f":"IF(W156<499,15,IF(W156<999,10,IF(W156<1499,5,IF(W156>1500,0))))","v":0},2103.5491872249895,{"$f":"IF(DC156<500,0,IF(DC156<1000,5,IF(DC156>1000,10)))","v":5},{"$f":"IF(Z156=\"Yes\",20,0)","v":20},"Yes",{"$f":"IF(AB156=\"Yes\",20,0)","v":20},"Yes",{"$f":"IF(AD156=\"Yes\",10,0)","v":10},"Yes",5,{"$f":"IF(BL154<999,20,IF(BL154<1499,15,IF(BL154<1999,10,IF(BL154<3999,5,IF(BL154>4000,0)))))","v":0},15,{"$f":"IF(AI156=\"Yes\",10,0)","v":10},"Yes",15,"Minimal",10,"Yes",0,"No",0,"No",10.66617998102131,1.6161204218600192E-2,33.133862619032996,2.6845429695994789,"N/A",16.497368424559369,25,0,null,null,null,"Peanut Belt RPO",100,"Albemarle RPO","","","","01",100,"","","","",{"$f":"SUM(U156+V156+X156+Y156+AA156+AC156)","v":60},55,null,null,0,null,6.88,"Exceeds cap of $15 million for Statewide & Regional Projects cascading to Division Needs",{"$f":"O156+BS156*0.25","v":9.07},{"$f":"BW156+P156","v":9.07},"Under Threshold of SPOT Score of \"10\"","Bertie",100,"Washington","","","","","",1,"A","01, , ","Peanut Belt RPO, Albemarle RPO, ","Bertie, Washington, , ",24.817557310000002,24.817557310000002,"Two Lane Highway","Two Lane Highway",1,1,"Undivided","TWLTL",55,55,21.498974225824398,78.501025774175602,2497.3684245593699,15500,0.16112054351995936,1960.4598306394741,536.90859391989579,68999.968866657597,18896.932079771112,87896.900946428708,2107017,34.606511580000003,28.184745840000001,36.620271590000002,"","","","","No","No",11,12,"No",0,0,"2 Lane Undivided","3A - 2 Lane with Two Way Left Turn Lane, and Paved Shoulders","None","None",1,"No",27,108729000,19327000,2319000,130375000,"",130375000,130375000,""]
["H141684","Northampton","Peanut Belt RPO","Highway","Regional Impact","","NC-305 ","Seaboard Town Limits","Hertford County Line","Currently a 2-lane major thoroughfare from Seaboard to Hertford County, NC 305 is recommended to be upgrade from its existing facility to 24 feet w/ paved shoulders. This would provides improved mobility between Jackson and Rich Square, while tying in with bike lane recommendations.  \n","16 - Modernize Roadway",340000,null,null,8.93,null,6.78,null,{"$f":"Q157+#REF!+R157","v":{"$error":"#REF!"}},null,5,15,6.4567141369090955,0,20,"Yes",20,"Yes",{"$f":"IF(AD157=\"Yes\",10,0)","v":10},"Yes",5,{"$f":"IF(BL155<999,20,IF(BL155<1499,15,IF(BL155<1999,10,IF(BL155<3999,5,IF(BL155>4000,0)))))","v":0},15,{"$f":"IF(AI157=\"Yes\",10,0)","v":10},"Yes",15,"Minimal",10,"Yes",0,"No",0,"No",9.1026580263264592,0,33.738719173995001,1.2485128352237644,"N/A",12.13739033746937,25,0,null,null,null,"Peanut Belt RPO",100,"","","","","01",100,"","","","",70,55,null,null,0,100,31.78,null,8.93,8.93,"Under Threshold of SPOT Score of \"10\"","Northampton",100,"","","","","","",1,"A","01, , ","Peanut Belt RPO, , ","Northampton, , , ",24.636755659999899,24.636755659999899,"Two Lane Highway","Two Lane Highway",1,1,"Undivided","Undivided",51.703662517699499,51.703662517699499,11.682590805589401,88.317409194410601,2137.39033746937,15548.988304589,0.13746169818897852,1887.6877704246172,249.7025670447529,0,0,0,0,34.662762260000001,27.896578810000001,38.666939079999999,"","","","","No","No",11,12,"No",0,0,"2 Lane Undivided","3A - 2 Lane with Two Way Left Turn Lane, and Paved Shoulders","None","None",1,"No",25,340000,0,0,340000,"",340000,340000,""]
["H129070-AA","Tyrrell","Albemarle RPO","Highway","Statewide Mobility","R-2545AA","US-64 ","East of Columbia","West of SR 1229 (Old US 64) at Alligator River","Widen to Multi-Lanes.","1 - Widen Existing Roadway",20780000,5.3659988106159062,null,2.4071891913157408,6.3,1.6040208211594833,9,{"$f":"Q158+#REF!+R158","v":{"$error":"#REF!"}},null,0,5,1402.7886202635034,0,20,"Yes",20,"Yes",{"$f":"IF(AD158=\"Yes\",20,0)","v":20},"Yes",0,{"$f":"IF(W158<999,20,IF(W158<1499,15,IF(W158<1999,10,IF(W158<3999,5,IF(W158>4000,0)))))","v":15},15,10,"No",{"$f":"IF(AK158=\"Minimal\",15,0)","v":15},"Minimal",10,"Yes",0,"No",0,"No",16.017049020064515,2.3159191530317612E-2,0,1.8563572953123741,1.8266488807498149,31.250646215000003,0,0,null,null,null,"Albemarle RPO",100,"","","","","01",100,"","","","",65,65,null,null,0,null,1.6040208211594833,"Exceeds cap of $15 million for Statewide & Regional Projects cascading to Division Needs",2.4071891913157408,8.7071891913157415,"All Phases of US 64 should be programmed together; not beneficial to do just one phase; Under Threshold of SPOT Score of \"10\"","Tyrrell",100,"","","","","","",1,"A","01, , ","Albemarle RPO, , ","Tyrrell, , , ",3.95,3.95,"Two Lane Highway","Multi-Lane Highway",1,2,"Undivided","Divided",55,55,9.9000035722608004,90.0999964277392,3750.2154049999999,15500,0.24194938096774193,3378.9439459375253,371.27145906247483,18928.229631697483,2079.7952097663565,21008.024841463841,481248,0,0,0,"","",7,2.9532977614996302E-5,"No","No",12,12,"No",0,0,"2 Lane Undivided","4A - 4 Lane Divided (46' Depressed Median) with Paved Shoulders","None","Partial",1,"Yes",30,17800000,1730000,1250000,20780000,"",20780000,20780000,""]
["H129070-AB","Tyrrell","Albemarle RPO","Highway","Statewide Mobility","R-2545AB","US-64 ","West of SR 1229 (Old US 64) at Alligator River","West of Alligator River","Widen to Multi-Lanes.","1 - Widen Existing Roadway",44850000,5.2027678758907117,null,2.4071000419728881,6.3,1.6039762464880569,9,{"$f":"Q159+#REF!+R159","v":{"$error":"#REF!"}},null,0,5,1430.3182031467043,0,20,"Yes",20,"Yes",{"$f":"IF(AD159=\"Yes\",20,0)","v":20},"Yes",0,15,15,10,"No",{"$f":"IF(AK159=\"Minimal\",15,0)","v":15},"Minimal",10,"Yes",0,"No",0,"No",16.017049020064515,2.2713444816053512E-2,0,1.8563572953123741,0.19567677364066899,31.250646215000003,0,0,null,null,null,"Albemarle RPO",100,"","","","","01",100,"","","","",65,65,null,null,0,null,1.6039762464880569,"Exceeds cap of $15 million for Statewide & Regional Projects cascading to Division Needs",2.4071000419728881,8.7071000419728879,"All Phases of US 64 should be programmed together; not beneficial to do just one phase; Under Threshold of SPOT Score of \"10\"","Tyrrell",100,"","","","","","",1,"A","01, , ","Albemarle RPO, , ","Tyrrell, , , ",8.3612954199999994,8.3612954199999994,"Two Lane Highway","Multi-Lane Highway",1,2,"Undivided","Divided",55,55,9.9000035722608004,90.0999964277392,3750.2154049999999,15500,0.24194938096774193,3378.9439459375253,371.27145906247483,40066.96701980244,4402.4764966980465,44469.443516500483,1018698,0,0,0,"","",1,2.91353547281338E-6,"No","No",12,12,"No",0,0,"2 Lane Undivided","4A - 4 Lane Divided (46' Depressed Median) with Paved Shoulders","None","Partial",1,"Yes",30,41500000,1300000,2050000,44850000,"",44850000,44850000,""]
["H090149-C","Northampton","Peanut Belt RPO","Highway","Statewide Mobility","R-2584C","US-158 ","East of SR 1365","Murfreesboro Bypass","Widen to Multi-Lanes, Part on New  Location.","1 - Widen Existing Roadway",15500000,9.3681981442180433,null,8.4421943032112416,null,5.627067316119323,null,{"$f":"Q160+#REF!+R160","v":{"$error":"#REF!"}},null,5,5,1024.9810988969052,0,20,"Yes",20,"Yes",{"$f":"IF(AD160=\"Yes\",10,0)","v":10},"Yes",5,15,15,{"$f":"IF(AI160=\"Yes\",10,0)","v":10},"Yes",15,"Minimal",{"$f":"IF(AM160=\"Yes\",10,0)","v":10},"Yes",0,"No",0,"No",16.471282630658063,3.1866580645161291E-2,39.767523949889998,2.1687150311144747,6.7579796151811991E-2,23.569707588,0,0,null,null,null,"Peanut Belt RPO",100,"","","","","01",100,"","","","",60,70,null,null,0,null,5.627067316119323,"Exceeds cap of $15 million for Statewide & Regional Projects cascading to Division Needs",8.4421943032112416,8.4421943032112416,"Under Threshold of SPOT Score of \"10\"","Northampton",100,"","","","","","",1,"A","01, , ","Peanut Belt RPO, , ","Northampton, , , ",3.9211613500000002,3.9211613500000002,"Two Lane Highway","Multi-Lane Highway",1,2,"Undivided","Divided",55,55,11.2468617618159,88.753138238184107,3856.5691959999999,15500,0.24881091587096774,3422.8261897771054,433.74300622289491,19034.061700427039,2412.010042237323,21446.07174266436,493932,45.618827529999997,32.736669169999999,40.959006600000002,"","",0,1.3515959230362399E-6,"No","No",12,12,"No",2,0,"2 Lane Undivided","4A - 4 Lane Divided (46' Depressed Median) with Paved Shoulders","None","Partial",1,"Yes",26,10800000,4700000,0,15500000,"",15500000,15500000,""]
["H090149-B","Northampton","Peanut Belt RPO","Highway","Statewide Mobility","R-2584B","US-158 ","East of SR 1500","East of SR 1365","Widen to Multi-Lanes, Part on New  Location.","6 - Widen Existing Roadway and Construct Part on New Location",54800000,7.9305558958701106,null,8.2200000000000006,null,6.31,null,{"$f":"Q161+#REF!+R161","v":{"$error":"#REF!"}},null,0,0,3336.37631613444,5,20,"Yes",20,"Yes",{"$f":"IF(AD161=\"Yes\",10,0)","v":10},"Yes",0,5,15,10,"Yes",15,"Minimal",10,"Yes",0,"No",0,"No",17.825798295498515,5.7991313868613135E-2,20.262297100979996,2.6959465148098603,0,24.612863031,0,25,null,null,null,"Peanut Belt RPO",100,"","","","","01",100,"","","","",55,55,null,null,0,null,6.31,"Exceeds cap of $15 million for Statewide & Regional Projects cascading to Division Needs",8.2200000000000006,8.2200000000000006,"Under Threshold of SPOT Score of \"10\"","Northampton",100,"","","","","","",1,"A","01, , ","Peanut Belt RPO, , ","Northampton, , , ",3.5,3.9067273600000001,"Two Lane Highway","Multi-Lane Highway",1,2,"Undivided","Divided",47,55,12.824748075914599,87.175251924085401,4204.2876770000003,15625.369189999999,0.26906805374497528,3665.0983740380284,539.18930296197209,119535.72994085884,17585.445280927532,137121.17522178637,3177924,28.277875479999999,8.9871338000000005,23.527961319999999,"","",0,0,"No","No",12,12,"No",1,2,"New Roadway","4A - 4 Lane Divided (46' Depressed Median) with Paved Shoulders","None","Partial",1,"Yes",26,47600000,7200000,0,54800000,"",54800000,54800000,""]
["B141344","Tyrrell","Albemarle RPO","Bike & Ped","Division Needs",null,"Fonsoe Street","US 64/Scuppernong Drive","Main Street","Construct a pedestrian sidewalk on one side of Fonsoe Street to connect US 64/Scuppernong Drive to Main Street","5. Construct Sidewalk",100000,null,null,null,null,18.819570064834998,9.75,{"$f":"Q162+#REF!+R162","v":{"$error":"#REF!"}},null,"N/A",null,20040.485829959514,null,null,"Yes",null,null,null,null,0,0,15,10,"Yes",{"$f":"IF(AK162=\"Minimal\",15,0)","v":15},"Minimal",10,"Yes",0,"No",0,"No",null,null,22.5,null,null,null,null,null,null,null,null,"Albemarle RPO",null,null,null,null,null,null,null,null,null,null,null,null,{"$f":"SUM(AE162+AF162+AG162+AH162+AJ162+AL162+AN162)","v":50},null,null,null,null,null,null,null,null,null,"Tyrrell County",null,null,null,null,null,null,null,null,null,null,null,null,null,0.25,null,null,null,null,null,null,null,null,null,null,494,null,null,null,null,null,null,null,null,null,null,null,null,null,null,null,null,null,null,null,null,null,null,null,null,null,null,null,null,null,85000,0,null,100000,0,2475000]
["B141340","Tyrrell","Albemarle RPO","Bike & Ped","Division Needs",null,"Main Street","Broad Street","Road Street","Construct 305 feet of pedestrian sidewalk on the north side of Main Street in front of Columbia Middle School.","5. Construct Sidewalk",100000,null,null,null,null,17.717965136690001,9.75,{"$f":"Q163+#REF!+R163","v":{"$error":"#REF!"}},null,"N/A",null,6121.9440192433849,null,null,"Yes",null,null,null,null,0,0,15,10,"Yes",15,"Minimal",10,"Yes",0,"No",0,"No",null,null,12.5,null,null,null,null,null,null,null,null,"Albemarle RPO",null,null,null,null,null,null,null,null,null,null,null,null,50,null,null,null,null,null,null,null,null,null,"Tyrrell County",null,null,null,null,null,null,null,null,null,null,null,null,null,0.17,null,null,null,null,null,null,null,null,null,null,538,null,null,null,null,null,null,null,null,null,null,null,null,null,null,null,null,null,null,null,null,null,null,null,null,null,null,null,null,null,80000,0,null,100000,0,559913]
["B141755","Camden","Albemarle RPO","Bike & Ped","Division Needs",null,"Main St.","US 17","SR 1243-Mullen Drive","Widen existing pavement","2. Construct multi-use trail / greenway / sidepath or on-road bike lane on local roadway",345000,null,null,null,null,13.997229630050075,8.25,{"$f":"Q164+#REF!+R164","v":{"$error":"#REF!"}},null,"N/A",null,76968.816067653272,null,null,"Yes",null,null,null,null,0,0,15,10,"Yes",15,"Minimal",10,"Yes",0,"No",0,"No",null,null,25,null,null,null,null,null,null,null,null,"Albemarle RPO",null,null,null,null,null,null,null,null,null,null,null,null,50,null,null,null,null,null,null,null,null,null,"Camden County",null,null,null,null,null,null,null,null,null,null,null,null,null,1.056,null,null,null,null,null,null,null,null,null,null,{"$f":"129*0.1","v":12.9},null,null,null,null,null,null,null,null,null,null,null,null,null,null,null,null,null,null,null,null,null,null,null,null,null,null,null,null,null,300000,0,null,345000,0,1048500]
["B141780","Dare","Albemarle RPO","Bike & Ped","Division Needs",null,"Colington Road Path",".3 miles west Baum St","Bridge","Construct Multi use path","2. Construct multi-use trail / greenway / sidepath or on-road bike lane on local roadway",410000,null,null,null,null,13.321441426829745,9.75,{"$f":"Q165+#REF!+R165","v":{"$error":"#REF!"}},null,"N/A",null,14204.545454545452,null,null,"Yes",null,null,null,null,0,0,15,10,"Yes",15,"Minimal",10,"Yes",0,"No",0,"No",null,null,12.5,null,null,null,null,null,null,null,null,"Albemarle RPO",null,null,null,null,null,null,null,null,null,null,null,null,50,null,null,null,null,null,null,null,null,null,"Dare County",null,null,null,null,null,null,null,null,null,null,null,null,null,0.32,null,null,null,null,null,null,null,null,null,null,{"$f":"902*0.1","v":90.2},null,null,null,null,null,null,null,null,null,null,null,null,null,null,null,null,null,null,null,null,null,null,null,null,null,null,null,null,null,310000,0,null,410000,0,410000]
["B141940","Currituck","Albemarle RPO","Bike & Ped","Division Needs",null,"Currituck Multi-Use","Ocean Sands(K)","Seabird Way","Construct Multi-use path","2. Construct multi-use trail / greenway / sidepath or on-road bike lane on local roadway",460000,null,null,null,null,13.102509516759566,13.5,{"$f":"Q166+#REF!+R166","v":{"$error":"#REF!"}},null,"N/A",null,22616.647819460151,null,null,"Yes",null,null,null,null,0,0,15,10,"Yes",15,"Minimal",10,"Yes",0,"No",0,"No",null,null,25,null,null,null,null,null,null,null,null,"Albemarle RPO",null,null,null,null,null,null,null,null,null,null,null,null,50,null,null,null,null,null,null,null,null,null,"Currituck County",null,null,null,null,null,null,null,null,null,null,null,null,null,4.7300000000000004,null,null,null,null,null,null,null,null,null,null,{"$f":"43*0.1","v":4.3},null,null,null,null,null,null,null,null,null,null,null,null,null,null,null,null,null,null,null,null,null,null,null,null,null,null,null,null,null,400000,0,null,460000,0,460000]
["B141963","Currituck","Albemarle RPO","Bike & Ped","Division Needs",null,"Corolla multi-use path","Ocean Sands Section A","Yaupon Lane/Old Stoney Road","Oceans Sands section A (.1 mile south of Ocean Way) to Yaupon Lane/Old stoney Road","2. Construct multi-use trail / greenway / sidepath or on-road bike lane on local roadway",400000,null,null,null,null,12.852200094756203,13.5,{"$f":"Q167+#REF!+R167","v":{"$error":"#REF!"}},null,"N/A",null,126984.126984127,null,null,"Yes",null,null,null,null,0,0,15,10,"Yes",15,"Minimal",10,"Yes",0,"No",0,"No",null,null,25,null,null,null,null,null,null,null,null,"Albemarle RPO",null,null,null,null,null,null,null,null,null,null,null,null,50,null,null,null,null,null,null,null,null,null,"Currituck County",null,null,null,null,null,null,null,null,null,null,null,null,null,0.7,null,null,null,null,null,null,null,null,null,null,{"$f":"45*0.1","v":4.5},null,null,null,null,null,null,null,null,null,null,null,null,null,null,null,null,null,null,null,null,null,null,null,null,null,null,null,null,null,380000,0,null,400000,0,400000]
["B141961","Currituck","Albemarle RPO","Bike & Ped","Division Needs",null,"Corolla multi-use path","Ocean Sands section c","Ocean Sands section A","Ocean Sands Section C, .5 miles south of Sandhill Ln. to .1 miles south of Ocean Way.","2. Construct multi-use trail / greenway / sidepath or on-road bike lane on local roadway",420000,null,null,null,null,12.73396082381764,13.5,{"$f":"Q168+#REF!+R168","v":{"$error":"#REF!"}},null,"N/A",null,190217.39130434778,null,null,"Yes",null,null,null,null,0,0,15,10,"Yes",15,"Minimal",10,"Yes",0,"No",0,"No",null,null,25,null,null,null,null,null,null,null,null,"Albemarle RPO",null,null,null,null,null,null,null,null,null,null,null,null,50,null,null,null,null,null,null,null,null,null,"Currituck County",null,null,null,null,null,null,null,null,null,null,null,null,null,0.46,null,null,null,null,null,null,null,null,null,null,{"$f":"48*0.1","v":4.8000000000000007},null,null,null,null,null,null,null,null,null,null,null,null,null,null,null,null,null,null,null,null,null,null,null,null,null,null,null,null,null,400000,380000,null,800000,0,420000]
["B141774","Dare","Albemarle RPO","Bike & Ped","Division Needs",null,"NC 12 Duck","Cook Drive","Ships Watch Drive","Construct Sidewalk and extend share use path","5. Construct Sidewalk",290800,null,null,null,null,12.669319420463816,13.5,{"$f":"Q169+#REF!+R169","v":{"$error":"#REF!"}},null,"N/A",null,7133.0455259026676,null,null,"Yes",null,null,null,null,0,0,15,10,"Yes",15,"Minimal",10,"Yes",0,"No",0,"No",null,null,25,null,null,null,null,null,null,null,null,"Albemarle RPO",null,null,null,null,null,null,null,null,null,null,null,null,50,null,null,null,null,null,null,null,null,null,"Dare County",null,null,null,null,null,null,null,null,null,null,null,null,null,2.08,null,null,null,null,null,null,null,null,null,null,{"$f":"196*0.1","v":19.600000000000001},null,null,null,null,null,null,null,null,null,null,null,null,null,null,null,null,null,null,null,null,null,null,null,null,null,null,null,null,null,370000,0,null,426000,135200,290800]
["B141362","Dare","Albemarle RPO","Bike & Ped","Division Needs",null,"US 158","Gulfstream Road","Gull Street","Construct sidewalk from Gulfstream Road to Gull Street","2. Construct multi-use trail / greenway / sidepath or on-road bike lane on local roadway",415000,null,null,null,null,11.799247349397591,9.75,{"$f":"Q170+#REF!+R170","v":{"$error":"#REF!"}},null,"N/A",null,312132.35294117645,null,null,"Yes",null,null,null,null,0,0,15,10,"Yes",15,"Minimal",10,"Yes",0,"No",0,"No",null,null,25,null,null,null,null,null,null,null,null,"Albemarle RPO",null,null,null,null,null,null,null,null,null,null,null,null,50,null,null,null,null,null,null,null,null,null,"Dare County",null,null,null,null,null,null,null,null,null,null,null,null,null,0.48,null,null,null,null,null,null,null,null,null,null,{"$f":"170*0.1","v":17},null,null,null,null,null,null,null,null,null,null,null,null,null,null,null,null,null,null,null,null,null,null,null,null,null,null,null,null,null,400000,0,null,415000,0,2547000]
["B141791","Camden","Albemarle RPO","Bike & Ped","Division Needs",null,"SR 1215","US 17","US 17","Construct Sidewalk on roads south side of US 17","5. Construct Sidewalk",370000,null,null,null,null,11.62296046708027,8.25,{"$f":"Q171+#REF!+R171","v":{"$error":"#REF!"}},null,"N/A",null,14192.558496355963,null,null,"Yes",null,null,null,null,0,0,15,10,"Yes",15,"Minimal",10,"Yes",0,"No",0,"No",null,null,5,null,null,null,null,null,null,null,null,"Albemarle RPO",null,null,null,null,null,null,null,null,null,null,null,null,50,null,null,null,null,null,null,null,null,null,"Camden County",null,null,null,null,null,null,null,null,null,null,null,null,null,0.79,null,null,null,null,null,null,null,null,null,null,{"$f":"330*0.1","v":33},null,null,null,null,null,null,null,null,null,null,null,null,null,null,null,null,null,null,null,null,null,null,null,null,null,null,null,null,null,320000,0,null,370000,0,370000]
["B141762","Dare","Albemarle RPO","Bike & Ped","Division Needs",null,"Nags Head Multi use Path","Gull Street","Grouse St.","Construct Multi use Path","2. Construct multi-use trail / greenway / sidepath or on-road bike lane on local roadway",437000,null,null,null,null,11.368879191733225,9.75,{"$f":"Q172+#REF!+R172","v":{"$error":"#REF!"}},null,"N/A",null,340460.52631578944,null,null,"Yes",null,null,null,null,0,0,15,10,"Yes",15,"Minimal",10,"Yes",0,"No",0,"No",null,null,25,null,null,null,null,null,null,null,null,"Albemarle RPO",null,null,null,null,null,null,null,null,null,null,null,null,50,null,null,null,null,null,null,null,null,null,"Dare County",null,null,null,null,null,null,null,null,null,null,null,null,null,0.32,null,null,null,null,null,null,null,null,null,null,{"$f":"190*0.1","v":19},null,null,null,null,null,null,null,null,null,null,null,null,null,null,null,null,null,null,null,null,null,null,null,null,null,null,null,null,null,380000,0,null,437000,0,2070000]
["B141776","Dare","Albemarle RPO","Bike & Ped","Division Needs",null,"Colington Road","SR 1452",".3 miles west","Construct Multi use path","2. Construct multi-use trail / greenway / sidepath or on-road bike lane on local roadway",400000,null,null,null,null,10.899780568313751,9.75,{"$f":"Q173+#REF!+R173","v":{"$error":"#REF!"}},null,"N/A",null,16479.215589337946,null,null,"Yes",null,null,null,null,0,0,15,10,"Yes",15,"Minimal",10,"Yes",0,"No",0,"No",null,null,12.5,null,null,null,null,null,null,null,null,"Albemarle RPO",null,null,null,null,null,null,null,null,null,null,null,null,50,null,null,null,null,null,null,null,null,null,"Dare County",null,null,null,null,null,null,null,null,null,null,null,null,null,0.27,null,null,null,null,null,null,null,null,null,null,{"$f":"899*0.1","v":89.9},null,null,null,null,null,null,null,null,null,null,null,null,null,null,null,null,null,null,null,null,null,null,null,null,null,null,null,null,null,300000,0,null,400000,0,400000]
["B141954","Dare","Albemarle RPO","Bike & Ped","Division Needs",null,"NC 12-Hatteras-II","SR 1237",".8 miles south","Construct curb & gutter /Sidewalk","5. Construct Sidewalk",370000,null,null,null,null,10.804722947171893,9.75,{"$f":"Q174+#REF!+R174","v":{"$error":"#REF!"}},null,"N/A",null,11725.186969197615,null,null,"Yes",null,null,null,null,0,0,15,10,"Yes",15,"Minimal",10,"Yes",0,"No",0,"No",null,null,5,null,null,null,null,null,null,null,null,"Albemarle RPO",null,null,null,null,null,null,null,null,null,null,null,null,50,null,null,null,null,null,null,null,null,null,"Dare County",null,null,null,null,null,null,null,null,null,null,null,null,null,0.49,null,null,null,null,null,null,null,null,null,null,{"$f":"644*0.1","v":64.400000000000006},null,null,null,null,null,null,null,null,null,null,null,null,null,null,null,null,null,null,null,null,null,null,null,null,null,null,null,null,null,320000,145000,null,515000,0,370000]
["B141947","Dare","Albemarle RPO","Bike & Ped","Division Needs",null,"NC 12-Hatteras","Bridge","SR 1237","Construct curb & gutter and sidewalk","5. Construct Sidewalk",406000,null,null,null,null,10.502334790371034,9.75,{"$f":"Q175+#REF!+R175","v":{"$error":"#REF!"}},null,"N/A",null,8369.4083694083693,null,null,"Yes",null,null,null,null,0,0,15,10,"Yes",15,"Minimal",10,"Yes",0,"No",0,"No",null,null,5,null,null,null,null,null,null,null,null,"Albemarle RPO",null,null,null,null,null,null,null,null,null,null,null,null,50,null,null,null,null,null,null,null,null,null,"Dare County",null,null,null,null,null,null,null,null,null,null,null,null,null,0.77,null,null,null,null,null,null,null,null,null,null,{"$f":"630*0.1","v":63},null,null,null,null,null,null,null,null,null,null,null,null,null,null,null,null,null,null,null,null,null,null,null,null,null,null,null,null,null,356000,162000,null,568000,0,406000]
["B141860","Dare","Albemarle RPO","Bike & Ped","Division Needs",null,"Twiford Street","Twiford Street","The Woods Road","Connect existing The Woods Road and Twiford Street multi-use paths","2. Construct multi-use trail / greenway / sidepath or on-road bike lane on local roadway",162000,null,null,null,null,10.153627313669816,7.5,{"$f":"Q176+#REF!+R176","v":{"$error":"#REF!"}},null,"N/A",null,35495.179666958808,null,null,"Yes",null,null,null,null,0,0,15,10,"Yes",15,"Minimal",10,"Yes",0,"No",0,"No",null,null,12.5,null,null,null,null,null,null,null,null,"Albemarle RPO",null,null,null,null,null,null,null,null,null,null,null,null,50,null,null,null,null,null,null,null,null,null,"Dare County",null,null,null,null,null,null,null,null,null,null,null,null,null,7.0000000000000007E-2,null,null,null,null,null,null,null,null,null,null,{"$f":"652*0.1","v":65.2},null,null,null,null,null,null,null,null,null,null,null,null,null,null,null,null,null,null,null,null,null,null,null,null,null,null,null,null,null,152000,0,null,162000,0,162000]
["B141955","Chowan","Albemarle RPO","Bike & Ped","Division Needs",null,"Edenton Multi-use path","Twiddy Avenue","Chowan River fising pier","Connect path where existing sidewalk stops near Twiddy Ave. and extend towards Pembroke to the west side of town, connecting  residential subdivisions and over the US 17 bypass overpass, terminating at the new Chowan River fishing pier. (Phase 2)","2. Construct multi-use trail / greenway / sidepath or on-road bike lane on local roadway",400000,null,null,null,null,5.4141769778944999,3.75,{"$f":"Q177+#REF!+R177","v":{"$error":"#REF!"}},null,"N/A",null,{"$f":"(EH177/CY177)/CN177","v":38986.354775828462},null,null,"Yes",null,null,null,null,{"$f":"IF(AT177<30,0,IF(AT177<50,5,IF(AT177<65,10,IF(AT177<79,15,IF(AT177>80,20)))))","v":0},0,{"$f":"IF(Z177=\"Yes\",15,0)","v":15},10,"Yes",15,"Minimal",10,"Yes",0,"No",0,"No",null,null,12.5,null,null,null,null,null,null,null,null,"Albemarle RPO",null,null,null,null,null,null,null,null,null,null,null,null,50,null,null,null,null,null,null,null,null,null,"Chowan County",null,null,null,null,null,null,null,null,null,null,null,null,null,0.15,null,null,null,null,null,null,null,null,null,null,{"$f":"684*0.1","v":68.400000000000006},null,null,null,null,null,null,null,null,null,null,null,null,null,null,null,null,null,null,null,null,null,null,null,null,null,null,null,null,null,380000,0,null,400000,0,400000]
["H141662","Northampton","Peanut Belt RPO","Highway","Regional Impact","","NC-35 ","Hertford County Line ","Virginia State Line","Currently 2-lane major thoroughfare from the Hertford County line to the Virginia State Line, NC 35 in Northampton County is a major truck route with high truck percentage. It is recommended to upgrade the existing facility to 24 feet w/ paved shoulders and turn lanes at all major intersections; while also modifying curves in some sections. This will improve overall connectivity in Severn, Conway, Woodland.\n","1 - Widen Existing Roadway",69277000,null,null,8.16,null,6.27,null,{"$f":"Q178+#REF!+R178","v":{"$error":"#REF!"}},null,{"$f":"IF(AT178<30,0,IF(AT178<50,5,IF(AT178<65,10,IF(AT178>66,15))))","v":5},{"$f":"IF(W178<499,15,IF(W178<999,10,IF(W178<1499,5,IF(W178>1500,0))))","v":0},1957.443714235656,{"$f":"IF(DC178<500,0,IF(DC178<1000,5,IF(DC178>1000,10)))","v":0},{"$f":"IF(Z178=\"Yes\",20,0)","v":20},"Yes",{"$f":"IF(AB178=\"Yes\",20,0)","v":20},"Yes",{"$f":"IF(AD178=\"Yes\",10,0)","v":10},"Yes",5,{"$f":"IF(BL176<999,20,IF(BL176<1499,15,IF(BL176<1999,10,IF(BL176<3999,5,IF(BL176>4000,0)))))","v":20},15,10,"Yes",15,"Minimal",10,"Yes",0,"No",0,"No",7.3733627816354605,0.12733198608484778,30.197608283831997,1.1098492973746994,"N/A",13.732099667873541,25,0,null,null,null,"Peanut Belt RPO",100,"","","","","01",100,"","","","",{"$f":"SUM(U178+V178+X178+Y178+AA178+AC178)","v":55},{"$f":"SUM(AE178+AF178+AG178+AH178+AJ178+AL178+AN178+AP178)","v":75},null,null,0,null,{"$f":"Q178+BT178*0.25","v":6.27},"Exceeds cap of $15 million for Statewide & Regional Projects cascading to Division Needs",{"$f":"O178+BS178*0.25","v":8.16},{"$f":"BW178+P178","v":8.16},"Under Threshold of SPOT Score of \"10\"","Northampton",100,"","","","","","",1,"A","01, , ","Peanut Belt RPO, , ","Northampton, , , ",20.43275423,20.43275423,"Two Lane Highway","Two Lane Highway",1,1,"Undivided","TWLTL",51.123057912261999,55,12.8150743050166,87.184925694983406,1732.0996678735401,15556.563670646099,0.11134204857476741,1510.1298083986001,221.96985947493988,331852.88318075956,48778.149690389968,380631.03287114954,8821178,28.494854069999999,27.026539769999999,35.080491199999997,"","","","","No","No",10,11,"No",0,0,"2 Lane Undivided","3A - 2 Lane with Two Way Left Turn Lane, and Paved Shoulders","None","None",1,"No",26,60103000,8191000,983000,69277000,"",69277000,69277000,""]
["H129112-B","Northampton","Peanut Belt RPO","Highway","Statewide Mobility","R-2582B","US-158 , NC-46 ","SR 1312 (St. John Church Road)","SR 1333 (Lynch Road) East of Jackson","Widen to Multi-Lanes with Bypass of Jackson, Part on New Location.","1 - Widen Existing Roadway",66800000,8.5075034871344801,null,6.6843160297359381,null,4.4558793576483104,null,{"$f":"Q179+#REF!+R179","v":{"$error":"#REF!"}},null,{"$f":"IF(AT179<30,0,IF(AT179<50,5,IF(AT179<65,10,IF(AT179>66,15))))","v":0},{"$f":"IF(W179<499,15,IF(W179<999,10,IF(W179<1499,5,IF(W179>1500,0))))","v":0},3315.5475518357507,{"$f":"IF(DC179<500,0,IF(DC179<1000,5,IF(DC179>1000,10)))","v":5},{"$f":"IF(Z179=\"Yes\",20,0)","v":20},"Yes",{"$f":"IF(AB179=\"Yes\",20,0)","v":20},"Yes",{"$f":"IF(AD179=\"Yes\",10,0)","v":10},"Yes",0,{"$f":"IF(W179<999,20,IF(W179<1499,15,IF(W179<1999,10,IF(W179<3999,5,IF(W179>4000,0)))))","v":5},15,10,"Yes",15,"Minimal",10,"Yes",0,"No",0,"No",17.447583609263642,9.9398652694610776E-3,27.10127010195,2.7582020050072966,8.4790335780915993E-2,16.255478221000004,0,0,null,null,null,"Peanut Belt RPO",100,"","","","","01",100,"","","","",{"$f":"SUM(U179+V179+X179+Y179+AA179+AC179)","v":55},55,null,null,0,null,4.4558793576483104,"Exceeds cap of $15 million for Statewide & Regional Projects cascading to Division Needs",{"$f":"O179+BS179*0.25","v":6.6843160297359381},{"$f":"BW179+P179","v":6.6843160297359381},"Under Threshold of SPOT Score of \"10\"","Northampton",100,"","","","","","",1,"A","01, , ","Peanut Belt RPO, , ","Northampton, , , ",4.9318765100000004,4.9318765100000004,"Two Lane Highway","Multi-Lane Highway",1,2,"Undivided","Divided",55,55,13.503522042645699,86.496477957354301,4085.1594070000001,15500.00043,0.26355866410772738,3533.5190059985407,551.64040100145928,24714.483489075938,3858.3371305809887,28572.820619656926,663983,37.272482830000001,20.230309649999999,23.80914902,"","",0,1.6958067156183199E-6,"No","No",12,12,"No",2,2,"2 Lane Undivided","4A - 4 Lane Divided (46' Depressed Median) with Paved Shoulders","None","Partial",1,"Yes",22,61400000,5400000,0,66800000,"",66800000,66800000,""]
["H090149-A","Northampton","Peanut Belt RPO","Highway","Statewide Mobility","R-2584A","US-158 ","SR 1333 (Mt. Caramel Road-Severn Road) East of Jackson","East of SR 1500","Widen to Multi-Lanes, Part on New  Location.","1 - Widen Existing Roadway",35400000,6.7665917857530138,null,6.1953666496314517,null,4.1302444330876344,null,{"$f":"Q180+#REF!+R180","v":{"$error":"#REF!"}},null,{"$f":"IF(AT180<30,0,IF(AT180<50,5,IF(AT180<65,10,IF(AT180>66,15))))","v":0},{"$f":"IF(W180<499,15,IF(W180<999,10,IF(W180<1499,5,IF(W180>1500,0))))","v":5},1494.0486221150661,{"$f":"IF(DC180<500,0,IF(DC180<1000,5,IF(DC180>1000,10)))","v":0},{"$f":"IF(Z180=\"Yes\",20,0)","v":20},"Yes",{"$f":"IF(AB180=\"Yes\",20,0)","v":20},"Yes",{"$f":"IF(AD180=\"Yes\",10,0)","v":10},"Yes",0,15,15,10,"Yes",15,"Minimal",10,"Yes",0,"No",0,"No",11.375504147527343,0,29.926940183349,1.8062326157995514,0,19.990346666999997,0,0,null,null,null,"Peanut Belt RPO",100,"","","","","01",100,"","","","",{"$f":"SUM(U180+V180+X180+Y180+AA180+AC180)","v":55},65,null,null,0,null,4.1302444330876344,"Exceeds cap of $15 million for Statewide & Regional Projects cascading to Division Needs",{"$f":"O180+BS180*0.25","v":6.1953666496314517},{"$f":"BW180+P180","v":6.1953666496314517},"Under Threshold of SPOT Score of \"10\"","Northampton",100,"","","","","","",1,"A","01, , ","Peanut Belt RPO, , ","Northampton, , , ",8.8959874899999996,8.8959874899999996,"Two Lane Highway","Multi-Lane Highway",1,2,"Undivided","Divided",55,55,13.563110771595898,86.436889228404098,2663.4488889999998,15500.00021,0.17183540986545573,2302.2023658400894,361.24652315991028,0,0,0,0,31.488997040000001,30.542237579999998,27.75856491,"","",0,0,"No","No",12,12,"No",2,0,"2 Lane Undivided","4A - 4 Lane Divided (46' Depressed Median) with Paved Shoulders","None","Partial",1,"Yes",26,31300000,4100000,0,35400000,"",35400000,35400000,""]
["H141650","Northampton","Peanut Belt RPO","Highway","Regional Impact","","US-258 ","Halifax County Line","Rich Square Town Limits","Currently a 2-lane major thoroughfare, it is recommended to widen to 24 feet w/ paved shoulders where necessary from Halifax County line to Rich Square town limits. Provides continuity with Halifax County CTP recommendations, which were based on recommendations in the Edgecombe County CTP.\n","16 - Modernize Roadway",701000,null,null,6.001844019965354,null,4.0012293466435693,null,{"$f":"Q181+#REF!+R181","v":{"$error":"#REF!"}},null,{"$f":"IF(AT181<30,0,IF(AT181<50,5,IF(AT181<65,10,IF(AT181>66,15))))","v":0},{"$f":"IF(W181<499,15,IF(W181<999,10,IF(W181<1499,5,IF(W181>1500,0))))","v":15},45.604565057177851,{"$f":"IF(DC181<500,0,IF(DC181<1000,5,IF(DC181>1000,10)))","v":0},{"$f":"IF(Z181=\"Yes\",20,0)","v":20},"Yes",{"$f":"IF(AB181=\"Yes\",20,0)","v":20},"Yes",{"$f":"IF(AD181=\"Yes\",10,0)","v":10},"Yes",0,20,15,{"$f":"IF(AI181=\"Yes\",10,0)","v":10},"Yes",15,"Minimal",10,"Yes",0,"No",0,"No",11.153476270105694,0,28.858817196330001,1.999890922488379,"N/A",12.61146520254281,0,0,null,null,null,"Peanut Belt RPO",100,"","","","","01",100,"04","","","",{"$f":"SUM(U181+V181+X181+Y181+AA181+AC181)","v":65},70,null,null,0,100,29.001229346643569,null,{"$f":"O181+BS181*0.25","v":6.001844019965354},{"$f":"BW181+P181","v":6.001844019965354},"Under Threshold of SPOT Score of \"10\"","Northampton",100,"Halifax","","","","","",1,"A","01, 04, ","Peanut Belt RPO, , ","Northampton, Halifax, , ",5.88607046,5.88607046,"Two Lane Highway","Two Lane Highway",1,1,"Undivided","Undivided",55.000040093698097,55.000040093698097,15.316236421921801,84.683763578078199,2611.4652025428099,15500.011299133101,0.16848150315147617,2211.4870180451339,399.97818449767578,0,0,0,0,29.796681070000002,26.991747960000001,29.796681070000002,"","","","","No","No",12,12,"No",4,0,"2 Lane Undivided","3A - 2 Lane with Two Way Left Turn Lane, and Paved Shoulders","None","None",1,"No",25,701000,0,0,701000,"",701000,701000,""]
["H141220","Perquimans","Albemarle RPO","Highway","Division Needs","","SR-1200 ","NC 37","SR 1213","Widen and repave Perry's Bridge Road","16 - Modernize Roadway",1487000,null,null,null,null,7.89,4.5,{"$f":"Q182+#REF!+R182","v":{"$error":"#REF!"}},null,"N/A",null,9466.3921313637402,null,null,"Yes",null,null,null,null,0,0,15,10,"No",{"$f":"IF(AK182=\"Minimal\",15,0)","v":15},"Minimal",10,"Yes",0,"No",0,"No",0.38438709677419353,0,3.5375503362540002,0,"N/A","N/A",75,0,null,null,null,"Albemarle RPO",100,"","","","","01",100,"","","","",null,50,null,null,null,null,7.89,"Project Not Competitive",null,null,null,"Perquimans",100,"","","","","","",1,"A","01, , ","Albemarle RPO, , ","Perquimans, , , ",1.7453557799999999,1.7453557799999999,"Two Lane Highway","Two Lane Highway",1,1,"Undivided","Undivided",55,55,0,100,90,15500,5.8064516129032262E-3,90,0,0,0,0,0,7.0511415900000003,0,3.5625707900000001,"","","","","No","No",9,12,"No",0,0,"2 Lane Undivided","3A - 2 Lane with Two Way Left Turn Lane, and Paved Shoulders","None","None",2,"No",30,1487000,0,0,1487000,"",1487000,1487000,""]
["H090305","Washington","Albemarle RPO","Highway","Division Needs","R-4909","- New Route","SR 1126 (Newland Road)","SR 1125 (Millpond Road)","Construct Two Lane Facility on New Location.","5 - Construct Roadway on New Location",3830000," ",null," ",null,1.7543918552372901,6,{"$f":"Q183+#REF!+R183","v":{"$error":"#REF!"}},null,"N/A",null,5466.922175852761,null,null,"Yes",null,null,null,null,0,0,15,10,"No",{"$f":"IF(AK183=\"Minimal\",15,0)","v":15},"Minimal",10,"Yes",0,"No",{"$f":"IF(AQ183=\"Yes\",10,0)","v":0},"No",2.661746009269887,1.3004642297650131,13.581708313338,0,"N/A","N/A",0,0,null,null,null,"Albemarle RPO",100,"","","","","01",100,"","","","",null,50,null,null,null,null,1.7543918552372901,"Project Not Competitive",null,null,null,"Washington",100,"","","","","","",1,"A","01, , ","Albemarle RPO, , ","Washington, , , ",3.2,1.11833022,"Two Lane Highway","Two Lane Highway",1,1,"Undivided","Undivided",48,55,0,100,626.44914619999997,15588.69995,4.0186105846498121E-2,626.44914619999997,0,226398.99803106303,0,226398.99803106303,4980778,11.35602182,15.8078866,13.585291440000001,"","","","","No","No",11,11,"No",0,0,"New Roadway","2A - 2 Lane Undivided with Paved Shoulders, 55 mph","None","None",1,"No",32,3762000,61000,7000,3830000,"",3830000,3830000,""]
["H141739","Bertie","Peanut Belt RPO","Highway","Statewide Mobility","","US-17 ","US 17A East of Windsor","South end of Chowan River Bridge","Upgrade roadway to Interstate","2 - Upgrade Arterial to Freeway/Expressway",120801000,5.0079009635828404,null,4.04,null,3.52,null,{"$f":"Q184+#REF!+R184","v":{"$error":"#REF!"}},null,{"$f":"IF(AT184<30,0,IF(AT184<50,5,IF(AT184<65,10,IF(AT184>66,15))))","v":0},{"$f":"IF(W184<499,15,IF(W184<999,10,IF(W184<1499,5,IF(W184>1500,0))))","v":0},1916.4046364329799,{"$f":"IF(DC184<500,0,IF(DC184<1000,5,IF(DC184>1000,10)))","v":10},{"$f":"IF(Z184=\"Yes\",20,0)","v":20},"Yes",{"$f":"IF(AB184=\"Yes\",20,0)","v":20},"Yes",{"$f":"IF(AD184=\"Yes\",10,0)","v":10},"Yes",0,10,15,0,"Yes",15,"Minimal",10,"Yes",0,"No",0,"No",9.7962399411793832,0.37251017789587837,0,6.6047609105597012,6.3632374574832147,42.364117748521622,0,25,null,null,null,"Peanut Belt RPO",100,"","","","","01",100,"","","","",{"$f":"SUM(U184+V184+X184+Y184+AA184+AC184)","v":60},50,null,null,0,null,3.52,"Exceeds cap of $15 million for Statewide & Regional Projects cascading to Division Needs",{"$f":"O184+BS184*0.25","v":4.04},{"$f":"BW184+P184","v":4.04},"Under Threshold of SPOT Score of \"10\"","Bertie",100,"","","","","","",1,"A","01, , ","Peanut Belt RPO, , ","Bertie, , , ",7.7616468999999997,7.7616468999999997,"Multi-Lane Highway","Freeway",2,2,"Divided","Divided",55.000291984953797,70,16.265134601790702,83.734865398209294,8121.3725828405404,74420.488354429806,0.10912818180071945,6800.4204007285998,1320.9521821119401,1603998.7142052867,311569.79668598284,1915568.5108912694,44999602,0,0,0,"","",29.776517950539802,9.7488231199124501E-5,"No","No",12,12,"No",3,4,"4 Lane with Median - Partial Control","4A - 4 Lane Divided (46' Depressed Median) with Paved Shoulders","None","Full",1,"Yes",29,94540000,23447000,2814000,120801000,"",120801000,120801000,""]
["H141863","Bertie","Peanut Belt RPO","Highway","Statewide Mobility","","US-17-BYP-Windsor Bypass","US 13 North at Windsor","US 17A East of Windsor","Upgrade freeway to interstate standards","17 - Upgrade Freeway to Interstate Standards",18115000,5.280522319769938,null,13.48,null,12.32,null,{"$f":"Q185+#REF!+R185","v":{"$error":"#REF!"}},null,{"$f":"IF(AT185<30,0,IF(AT185<50,5,IF(AT185<65,10,IF(AT185>66,15))))","v":0},{"$f":"IF(W185<499,15,IF(W185<999,10,IF(W185<1499,5,IF(W185>1500,0))))","v":15},377.5845547580675,{"$f":"IF(DC185<500,0,IF(DC185<1000,5,IF(DC185>1000,10)))","v":10},{"$f":"IF(Z185=\"Yes\",20,0)","v":20},"Yes",{"$f":"IF(AB185=\"Yes\",20,0)","v":20},"Yes",{"$f":"IF(AD185=\"Yes\",10,0)","v":10},"Yes",0,20,15,{"$f":"IF(AI185=\"Yes\",10,0)","v":10},"Yes",15,"Minimal",10,"Yes",0,"No",0,"No",8.9789540080974994,0,14.225955942132,5.8043325764056979,3.3740078463481447E-2,17.24548809831855,0,100,null,null,null,"Peanut Belt RPO",100,"","","","","01",100,"","","","",{"$f":"SUM(U185+V185+X185+Y185+AA185+AC185)","v":75},70,null,null,0,null,12.32,"Delay Prioritization pending outcome of Future Interstate Designation; Exceeds cap of $15 million for Statewide & Regional Projects cascading to Division Needs",0,{"$f":"BW185+P185","v":0},"Delay Division Local Input Scoring  pending outcome of Future Interstate Designation","Bertie",100,"","","","","","",1,"A","01, , ","Peanut Belt RPO, , ","Bertie, , , ",6.6215013200000001,6.6215013200000001,"Freeway","Freeway",2,2,"Divided","Divided",69.868031583409305,69.868031583409305,16.0219228784675,83.978077121532493,7245.4880983185503,71492.605187994195,0.10134597947950133,6084.6215830374103,1160.8665152811395,0,0,0,0,15.056317160000001,7.53506316,20.090755720000001,"","",0.15711071904780799,5.1769085022182097E-7,"No","No",12,12,"No",0,4,"4 Lane with Median - Full Control","","Full","Full",1,"No",25,18115000,0,0,18115000,"",18115000,18115000,""]
[null,null,null,null,null,null,null,null,null,null,null,null,null,null,null,null,null,null,null,null,null,null,null,null,null," ",null,null,null,null,null,null,{"$f":"IF(Z186=\"Yes\",15,0)","v":0},null,null,null,null,null," "]

{"sheet":"Regional Impact-Transit","index":1,"n_rows":186,"n_cols":140,"rows_kept":186,"cut":false,"hidden":false,"merged":[[5,71,5,76],[6,20,6,29],[6,30,6,42],[1,4,1,44],[5,0,5,4],[5,6,5,39]]}
[]
[null,null,null,null," "]
[]
[null,null,null,null,null,null,null,null,null,"Projects in blue are fully funded for construction and not eligible for local input point assignment ",null,"*Projects over $200M may be subject to the corridor cap",null,null,null,null,null,null,null,null,null,null,null,null,null,null,null,null,null,null,null,null,null,null,null,null,null,null,null,null,null,null,null,null,null,null,null,null,null,null,null,null,null,null,null,null,null,null,null,null,null,null,null,null,null,null,null,null,null,null,null,null,null,null,null,null,null,null,null,null,null,null,null,null,null,null,null,null,null,null,null,null,null,null,null,null,null,null,null,null,null,null,null,null,null,null,null,null,null,null,null,null,null,null,null,null,null,null,null,null,null,null,null,null,null,null,null,null,null,null,null,null,null,null,null,null,null,"*Projects over $200M may be subject to the corridor cap"]
[]
["DRAFT",null,null,null,null,null,"Division One Regional Impact Point Assignment-Transit",null,null,null,null,null,null,null,null,null,null,null,null,null,null,null,null,null,null,null,null,null,null,null,null,null,null,null,null,null,null,null,null,null,null,null,null,null,null,null,null,null,null,null,null,null,null,null,null,null,null,null,null,null,null,null,null,null,null,null,null,null,null,null,null,"DRAFT"]
[null,null,null,null,null,null,null,null,null,null,null,null,null,null,null,null,null,null,null,null,"Regional Criteria",null,null,null,null,null,null,null,null,null,"Division Needs"]
["SPOT ID","County","RPO","MODE","Project Category","TIP","Route","From / Cross Street","To","Description","Specific Improvement Type","Cost to NCDOT","Statewide Mobility Quantiative Score\n(Out of 100)",null,"Regional Impact Quantiative Score\n(Out of 70)","Regional Impact RPO Score (Out of 15)","Division Needs Quantiative Score\n(Out of 50)","Division Needs RPO Score (Out of 25)","Total Division Needs (Out of 100)",null,"Safety Score (15pts)","Cost Effectiveness Score (15pts)","Cost Effectiveness","Freight Volume Score                (10pts)","Transportation Plan Consistency Score (20pts)","Transportation Plan Consistency (Yes/No)","Corridor Continuity Score (20pts)","Corridor Continuity (Yes/No)","Public Support Score (20pts)","Public Support","Safety Score (20pts)","Cost Effectiveness (20pts)","Transportation Plan Consistency (15pts)","Multimodal Accomodations (10pts)","Multimodal (Yes/No)","Project Feasibility (15pts)","Project Feasibility (Significant/Minimal)","Public Support (10pts)","Public Support (Yes/No)","Airport Safety (5pts)","Airport Safety (Yes/No)","Transit Expansion (5pts)","Transit (Yes/No)","Congestion","[Travel Time] Benefit/Cost","Safety","Multimodal + [Freight & Military]","Economic Competitiveness","Accessibility / Connectivity","Lane Width","[Paved] Shoulder Width",null,null,null," MPO/RPO","First MPO/RPO %","Second MPO/RPO","Second MPO/RPO %","Third MPO/RPO","Third MPO/RPO %","First Division","First Division %","Second Division","Second Division %","Third Division","Third Division %","Divisin Methodology Preliminary Ranking","Division Methodology Preliminary Ranking","Preliminary Ranking","Preliminary Ranking","Division Engineer Local Points REGIONAL","Division Engineer Local Points DIVISION NEEDS","SPOT + Division Points","Comments","SPOT + Division Points","SPOT + Division + RPO                      (Out of 100)","Comments","County","First County %","Second County","Second County %","Third County","Third County %","Fourth County","Fourth County %","Highest Division","Funding Region","All Divisions","All MPOs/RPOs","All Counties","Existing Length (Miles)","Project Length (Miles)","Existing Facility Type","Project Facility Type","Existing Lanes Per Direction","Project Lanes Per Direction","Existing Median Type","Project Median Type","Existing Speed Limit","Project Speed Limit","Truck %","Auto %","Existing Volume","Existing Capacity","Existing Volume / Capacity Ratio","Auto Volume","Truck Volume","Travel Time Savings Over 30 Years Autos (Hrs)","Travel Time Savings Over 30 Years Trucks (Hrs)","Travel Time Savings Over 30 Years Total (Hrs)","Travel Time Savings Over 30 Years Total ($)","Crash Density Points Segment","Crash Severity Points Segment","Critical Crash Rate Points Segment","Crash Frequency Points Intersection","Severity Index Points Intersection","Long Term Employment","Percent Change In Value Added","Non-Interstate STRAHNet Route","Direct Connection to Transportation Terminal","Existing Lane Width","DOT Design Standard Lane Width","Existing Roadway Has Curb & Gutter","Existing Paved Shoulder Width","DOT Design Paved Shoulder Width","Existing Cross Section","Project Cross Section","Existing Access Control","Project Access Control","County Tier","Upgrade Roadway Eligible","Census Average Commute Time","Construction Cost","Right-Of-Way Cost","Utilities Cost","Actual Project Cost","Other Funds","Cost to NCDOT","Cost Used in Benefit/Cost Analysis","Other Funds Source"]
["T130121","Dare","Albemarle RPO","Transit","Division Needs",null,null,null,null,"Expansion Vehicle-Due to expected increased demand for public transportation within the community we would like to have a 13-passenger LTV as part of our fleet in FY 2018. For the period FY2011-FY2014, we have seen an approximate increase of 15% each year for demand, riders, and trips. This trend is expected to continue as the elderly population in the region increases.",null,6655,null,null,null,null,4.03,9.75,{"$f":"Q9+#REF!+R9","v":{"$error":"#REF!"}},null,{"$f":"IF(AT9<30,0,IF(AT9<50,5,IF(AT9<65,10,IF(AT9>66,15))))","v":5},0,{"$f":"(EH9/CY9)/CN9","v":1.4999485992069509E-6},0," ","Yes",{"$f":"IF(AB9=\"Yes\",10,0)","v":0},"No",{"$f":"IF(AD9=\"Yes\",10,0)","v":0},"No",{"$f":"IF(AT9<30,0,IF(AT9<50,5,IF(AT9<65,10,IF(AT9<79,15,IF(AT9>80,20)))))","v":5},{"$f":"IF(W9<999,20,IF(W9<1499,15,IF(W9<1999,10,IF(W9<3999,5,IF(W9>4000,0)))))","v":20},{"$f":"IF(Z9=\"Yes\",15,0)","v":15},{"$f":"IF(AI9=\"Yes\",10,0)","v":10},"Yes",{"$f":"IF(AK9=\"Minimal\",15,0)","v":15},"Minimal",{"$f":"IF(AM9=\"Yes\",10,0)","v":10},"Yes",{"$f":"IF(AO9=\"Yes\",5,0)","v":0},"No",{"$f":"IF(AQ9=\"Yes\",5,0)","v":5},"Yes",null,null,31.2,null,null,null,null,null,null,null,null,"Albemarle RPO",null,null,null,null,null,null,null,null,null,null,null,null,{"$f":"SUM(AE9+AF9+AG9+AH9+AJ9+AL9+AN9+AP9)","v":80},null,null,null,100,{"$f":"Q9+BT9*0.25","v":29.03},null,null,null,null,"Dare",null,null,null,null,null,null,null,null,null,null,null,null,null,248868,null,null,null,null,null,null,null,null,null,null,17828,null,null,null,null,null,null,null,null,null,null,null,null,null,null,null,null,null,null,null,null,null,null,null,null,null,null,null,null,null,null,null,null,66550,null,6655,null,"Fed:$53,240                        Local:$6,655"]
["T130109","Martin","Mid-East RPO","Transit","Division Needs",null,null,null,null,"Expansion Vehicle-Martin County  Transit provides curb to curb public transportation service in a demand-response system.   Many of the riders are elderly and/or disabled that depend on Martin County Transit as his/her's only means of transportation to services and resources.   Martin County Transit works closely with Social Services to provide transportation for these vulnerable adults. ",null,6010," ",null," ",null,3.19,null,{"$f":"Q10+#REF!+R10","v":{"$error":"#REF!"}},null,5,0,0,0," ","Yes",{"$f":"IF(AB10=\"Yes\",10,0)","v":0},"No",{"$f":"IF(AD10=\"Yes\",10,0)","v":0},"No",5,20,15,10,"Yes",15,"Minimal",10,"Yes",0,"No",5,"Yes",null,null,31.2,null,null,null,null,null,null,null,null,"Mid-East RPO",null,null,null,null,null,null,null,null,null,null,null,null,80,null,null,null,null,null,null,null,null,null,"Martin",null,null,null,null,null,null,null,null,null,null,null,null,null,33392,null,null,null,null,null,null,null,null,null,null,2280,null,null,null,null,null,null,null,null,null,null,null,null,null,null,null,null,null,null,null,null,null,null,null,null,null,null,null,null,null,null,null,null,60100,null,6010,null,"Fed:$48,080 Local:$6,010"]
["T130017","Pasquotank","Albemarle RPO","Transit","Regional Impact",null,null,null,null,"Expansion Vehicle-ARHS-ICPTA’s covers a little over 1000 square miles across five counties.  Our agency wants to purchase an expansion vehicle to meet client demand. ",null,8205,null,null,5.35,3.15,5.01,9.75,{"$f":"Q11+#REF!+R11","v":{"$error":"#REF!"}},null,5,{"$f":"IF(W11<499,15,IF(W11<999,10,IF(W11<1499,5,IF(W11>1500,0))))","v":15},{"$f":"(EH11/CY11)/CN11","v":2.0337951039078898E-5},0,{"$f":"IF(Z11=\"Yes\",20,0)","v":20},"Yes",{"$f":"IF(AB11=\"Yes\",20,0)","v":0},"No",{"$f":"IF(AD11=\"Yes\",20,0)","v":20},"Yes",5,20,15,10,"Yes",15,"Minimal",10,"Yes",0,"No",5,"Yes",null,null,31.2,null,null,null,null,null,null,null,null,"Albemarle RPO",null,null,null,null,null,null,null,null,null,null,null,{"$f":"SUM(U11+V11+X11+Y11+AA11+AC11)","v":60},80,null,null,100,null,null,null,{"$f":"O11+BS11*0.25","v":30.35},{"$f":"BW11+P11","v":33.5},null,"Pasquotank",null,null,null,null,null,null,null,null,null,null,null,null,null,870586,null,null,null,null,null,null,null,null,null,null,98611,null,null,null,null,null,null,null,null,null,null,null,null,null,null,null,null,null,null,null,null,null,null,null,null,null,null,null,null,null,null,null,null,82050,null,1746000,null,"Fed:$65,640                            Local:$8,205"]
["T130018","Pasquotank","Albemarle RPO","Transit","Regional Impact",null,null,null,null,"Expansion Vehicle-ARHS-ICPTA’s covers a little over 1000 square miles across five counties.  Our agency wants to purchase an expansion vehicle to meet client demand. ",null,8205,null,null,4.8,3.15,4.46,9.75,{"$f":"Q12+#REF!+R12","v":{"$error":"#REF!"}},null,5,15,9.5574391910448089E-8,0,20,"Yes",0,"No",20,"Yes",5,20,15,10,"Yes",15,"Minimal",10,"Yes",0,"No",5,"Yes",null,null,31.2,null,null,null,null,null,null,null,null,"Albemarle RPO",null,null,null,null,null,null,null,null,null,null,null,60,80,null,null,0,null,null,null,4.8,{"$f":"BW12+P12","v":7.9499999999999993},null,"Pasquotank",null,null,null,null,null,null,null,null,null,null,null,null,null,870586,null,null,null,null,null,null,null,null,null,null,98611,null,null,null,null,null,null,null,null,null,null,null,null,null,null,null,null,null,null,null,null,null,null,null,null,null,null,null,null,null,null,null,null,82050,null,8205,null,"Fed:$65,640                            Local:$8,205"]
["T130019","Pasquotank","Albemarle RPO","Transit","Regional Impact",null,null,null,null,"Expansion Vehicle-ARHS-ICPTA’s covers a little over 1000 square miles across five counties.  Our agency wants to purchase an expansion vehicle to meet client demand. ",null,8205,null,null,4.8,3.15,4.46,9.75,{"$f":"Q13+#REF!+R13","v":{"$error":"#REF!"}},null,5,15,9.5574391910448089E-8,0,20,"Yes",0,"No",20,"Yes",5,20,15,10,"Yes",15,"Minimal",10,"Yes",0,"No",5,"Yes",null,null,31.2,null,null,null,null,"Fed:$65,640                            Local:$8,205",null,null,null,"Albemarle RPO",null,null,null,null,null,null,null,null,null,null,null,60,80,null,null,0,null,null,null,4.8,7.9499999999999993,null,"Pasquotank",null,null,null,null,null,null,null,null,null,null,null,null,null,870586,null,null,null,null,null,null,null,null,null,null,98611,null,null,null,null,null,null,null,null,null,null,null,null,null,null,null,null,null,null,null,null,null,null,null,null,null,null,null,null,null,null,null,null,82050,null,8205,null,"Fed:$65,640                            Local:$8,205"]
["T130020","Pasquotank","Albemarle RPO","Transit","Regional Impact",null,null,null,null,"Expansion Vehicle-ARHS-ICPTA’s covers a little over 1000 square miles across five counties.  Our agency wants to purchase an expansion vehicle to meet client demand. ",null,8205,null,null,4.8,3.15,4.46,9.75,{"$f":"Q14+#REF!+R14","v":{"$error":"#REF!"}},null,5,15,9.5574391910448089E-8,0,20,"Yes",0,"No",20,"Yes",5,20,15,10,"Yes",15,"Minimal",10,"Yes",0,"No",5,"Yes",null,null,31.2,null,null,null,null,"Fed:$65,640                            Local:$8,205",null,null,null,"Albemarle RPO",null,null,null,null,null,null,null,null,null,null,null,60,80,null,null,0,null,null,null,4.8,7.9499999999999993,null,"Pasquotank",null,null,null,null,null,null,null,null,null,null,null,null,null,870586,null,null,null,null,null,null,null,null,null,null,98611,null,null,null,null,null,null,null,null,null,null,null,null,null,null,null,null,null,null,null,null,null,null,null,null,null,null,null,null,null,null,null,null,82050,null,8205,null,"Fed:$65,640                            Local:$8,205"]
["T130021","Pasquotank","Albemarle RPO","Transit","Regional Impact",null,null,null,null,"Expansion Vehicle-ARHS-ICPTA’s covers a little over 1000 square miles across five counties.  Our agency wants to purchase an expansion vehicle to meet client demand. ",null,8205,null,null,4.8,3.15,4.46,9.75,{"$f":"Q15+#REF!+R15","v":{"$error":"#REF!"}},null,5,15,9.5574391910448089E-8,0,20,"Yes",0,"No",20,"Yes",5,20,15,10,"Yes",15,"Minimal",10,"Yes",0,"No",5,"Yes",null,null,31.2,null,null,null,null,"Fed:$65,640                            Local:$8,205",null,null,null,"Albemarle RPO",null,null,null,null,null,null,null,null,null,null,null,60,80,null,null,0,null,null,null,4.8,7.9499999999999993,null,"Pasquotank",null,null,null,null,null,null,null,null,null,null,null,null,null,870586,null,null,null,null,null,null,null,null,null,null,98611,null,null,null,null,null,null,null,null,null,null,null,null,null,null,null,null,null,null,null,null,null,null,null,null,null,null,null,null,null,null,null,null,82050,null,8205,null,"Fed:$65,640                            Local:$8,205"]
["T130072","Bertie","Peanut Belt RPO","Transit","Regional Impact",null,null,null,null,"Expansion Vehicle-Purpose of expanding routes for employment, education, and/or medical purposes. Etc.  ",null,6783,null,null,2.97,0,2.85,null,{"$f":"Q16+#REF!+R16","v":{"$error":"#REF!"}},null,5,15,1.1956010382247026E-7,0,20,"Yes",0,"No",20,"Yes",5,20,15,10,"Yes",15,"Minimal",10,"Yes",0,"No",5,"Yes",null,null,31.2,null,null,null,null,null,null,null,null,"Peanut Belt RPO",null,null,null,null,null,null,null,null,null,null,null,60,80,null,null,0,null,null,null,2.97,2.97,null,"Bertie",null,null,null,null,null,null,null,null,null,null,null,null,null,1238603,null,null,null,null,null,null,null,null,null,null,45804,null,null,null,null,null,null,null,null,null,null,null,null,null,null,null,null,null,null,null,null,null,null,null,null,null,null,null,null,null,null,null,null,67830,null,6783,null,"Fed:$54,264              Local:$6,783"]
["H090230","Dare","Albemarle RPO","Highway","Statewide Mobility","R-3419","US-158 ","US 64-NC 12","Eastern End of Currituck Sound Bridge","Add Additional Lanes.","1 - Widen Existing Roadway",85428000,33.826595565109983,null,22.42,6.3,15.67,6.75,{"$f":"Q17+#REF!+R17","v":{"$error":"#REF!"}},null,{"$f":"IF(AT17<30,0,IF(AT17<50,5,IF(AT17<65,10,IF(AT17>66,15))))","v":15},{"$f":"IF(W17<499,15,IF(W17<999,10,IF(W17<1499,5,IF(W17>1500,0))))","v":15},{"$f":"(EH17/CY17)/CN17","v":183.5913006327666},{"$f":"IF(DC17<500,0,IF(DC17<1000,5,IF(DC17>1000,10)))","v":10},{"$f":"IF(Z17=\"Yes\",20,0)","v":20},"Yes",{"$f":"IF(AB17=\"Yes\",20,0)","v":20},"Yes",{"$f":"IF(AD17=\"Yes\",20,0)","v":20},"Yes",{"$f":"IF(AT17<30,0,IF(AT17<50,5,IF(AT17<65,10,IF(AT17<79,15,IF(AT17>80,20)))))","v":15},{"$f":"IF(BL15<999,20,IF(BL15<1499,15,IF(BL15<1999,10,IF(BL15<3999,5,IF(BL15>4000,0)))))","v":20},{"$f":"IF(Z17=\"Yes\",15,0)","v":15},10,"No",{"$f":"IF(AK17=\"Minimal\",15,0)","v":15},"Minimal",{"$f":"IF(AM17=\"Yes\",10,0)","v":10},"Yes",{"$f":"IF(AO17=\"Yes\",10,0)","v":0},"No",{"$f":"IF(AQ17=\"Yes\",10,0)","v":0},"No",61.663206108983005,3.1984238540057124,66.848834021375993,12.296076997726795,52.240077745304099,17.929986580000001,0,25,null,null,null,"Albemarle RPO",100,"","","","","01",100,"","","","",{"$f":"SUM(U17+V17+X17+Y17+AA17+AC17)","v":100},{"$f":"SUM(AE17+AF17+AG17+AH17+AJ17+AL17+AN17+AP17)","v":85},null,null,100,null,{"$f":"Q17+BT17*0.25","v":15.67},"Exceeds cap of $15 million for Statewide & Regional Projects cascading to Division Needs",47.42,null,null,"Dare",100,"","","","","","",1,"A","01, , ","Albemarle RPO, , ","Dare, , , ",17.3012275,17.3012275,"Arterial","Arterial",2,3,"TWLTL","Divided",50,45,9.1437711105651012,90.856228889434902,26894.979869999999,31700.06882,0.8484202360163835,24435.76447045464,2459.2153995453591,10869853.540386515,1093942.0884352552,11963795.62882177,273234953,66.845883279999995,76.036630419999995,57.684045019999999,"","",200,8.4480155490608197E-4,"No","No",12,12,"No",3,4,"4 Lane with TWLTL (Five Lane)","6E - 6 Lane Divided (23' Raised Median) with Curb & Gutter, Wide Outside Lanes, and Sidewalks","None","Partial",2,"No",18,56202000,26095000,3131000,85428000,"",85428000,85428000,""]
["H129043","Dare","Albemarle RPO","Highway","Division Needs","R-5014","SR-1217 Collington Road","US 158","Dead End","Operational-Safety Improvements","16 - Modernize Roadway",4850000,null,null,null,null,23.32,9,{"$f":"Q18+#REF!+R18","v":{"$error":"#REF!"}},null,"N/A",null,57.991491345712276,null,null,"Yes",null,null,null,null,15,{"$f":"IF(BL16<999,20,IF(BL16<1499,15,IF(BL16<1999,10,IF(BL16<3999,5,IF(BL16>4000,0)))))","v":20},15,10,"No",{"$f":"IF(AK18=\"Minimal\",15,0)","v":15},"Minimal",10,"Yes",{"$f":"IF(AO18=\"Yes\",10,0)","v":0},"No",{"$f":"IF(AQ18=\"Yes\",10,0)","v":0},"No",41.974683544303801,0,66.21829770798,0,"N/A","N/A",25,100,null,null,null,"Albemarle RPO",100,"","","","","01",100,"","","","",null,{"$f":"SUM(AE18+AF18+AG18+AH18+AJ18+AL18+AN18+AP18)","v":85},null,null,null,100,{"$f":"Q18+BT18*0.25","v":48.32},null,null,null,null,"Dare",100,"","","","","","",1,"A","01, , ","Albemarle RPO, , ","Dare, , , ",4.3454650700000004,4.3454650700000004,"Arterial","Arterial",1,1,"Undivided","Undivided",33,33,0,100,10000,15800,0.63291139240506333,10000,0,0,0,0,0,95.975087430000002,64.447475030000007,38.252198139999997,"","","","","No","No",11,12,"No",0,4,"2 Lane Undivided","","None","None",2,"No",25,4350000,500000,0,4850000,"",2520000,4850000,""]
["H141222","Perquimans","Albemarle RPO","Highway","Division Needs","","SR-1301 ","SR 1302","SR 1303","Widen and repave New Hope Road (Phase 2)","16 - Modernize Roadway",1114000,null,null,null,null,14.9,5.25,{"$f":"Q19+#REF!+R19","v":{"$error":"#REF!"}},null,"N/A",null,469.54674256434129,null,null,"Yes",null,null,null,null,15,{"$f":"IF(W19<999,20,IF(W19<1499,15,IF(W19<1999,10,IF(W19<3999,5,IF(W19>4000,0)))))","v":20},15,10,"No",{"$f":"IF(AK19=\"Minimal\",15,0)","v":15},"Minimal",10,"Yes",{"$f":"IF(AO19=\"Yes\",10,0)","v":0},"No",{"$f":"IF(AQ19=\"Yes\",10,0)","v":0},"No",4.6980645161290324,0,69.325207669245003,0,"N/A","N/A",75,0,null,null,null,"Albemarle RPO",100,"","","","","01",100,"","","","",null,{"$f":"SUM(AE19+AF19+AG19+AH19+AJ19+AL19+AN19+AP19)","v":85},null,null,null,100,{"$f":"Q19+BT19*0.25","v":39.9},null,null,null,null,"Perquimans",100,"","","","","","",1,"A","01, , ","Albemarle RPO, , ","Perquimans, , , ",1.3068696,1.3068696,"Two Lane Highway","Two Lane Highway",1,1,"Undivided","Undivided",55,55,0,100,1100,15500,7.0967741935483872E-2,1100,0,0,0,0,0,75.594077170000006,94.347974910000005,38.054370570000003,"","","","","No","No",9,12,"No",0,0,"2 Lane Undivided","3A - 2 Lane with Two Way Left Turn Lane, and Paved Shoulders","None","None",2,"No",30,1114000,0,0,1114000,"",675000,1114000,""]
["H090289","Martin","Mid-East RPO","Highway","Division Needs","R-4705","SR-1142 ","NC 903","SR 1182","NC 903 to SR 1182.   Upgrade Facility.","16 - Modernize Roadway",11200000,null,null,null,null,10.09,null,{"$f":"Q20+#REF!+R20","v":{"$error":"#REF!"}},null,"N/A",null,298.96243736795947,null,null,"Yes",null,null,null,null,10,20,15,{"$f":"IF(AI20=\"Yes\",10,0)","v":10},"Yes",15,"Minimal",10,"Yes",{"$f":"IF(AO20=\"Yes\",10,0)","v":0},"No",{"$f":"IF(AQ20=\"Yes\",10,0)","v":0},"No",16.672666819006448,0,59.268861974388003,0.78073851317326326,"N/A","N/A",25,0,null,null,null,"Mid-East RPO",100,"","","","","01",100,"","","","",null,{"$f":"SUM(AE20+AF20+AG20+AH20+AJ20+AL20+AN20+AP20)","v":80},null,null,null,100,{"$f":"Q20+BT20*0.25","v":35.090000000000003},null,null,null,null,"Martin",100,"","","","","","",1,"A","01, , ","Mid-East RPO, , ","Martin, , , ",9.5967154299999997,9.5967154299999997,"Two Lane Highway","Two Lane Highway",1,1,"Undivided","Undivided",55,55,3.9999707795377004,96.000029220462295,3903.7210829999999,15500,0.25185297309677418,3747.5733803653475,156.14770263465266,0,0,0,0,87.040487170000006,47.05679026,43.727090930000003,"","","","","No","No",11,12,"No",0,0,"2 Lane Undivided","","None","None",1,"No",21,7200000,4000000,0,11200000,"",11200000,11200000,""]
["F130003","Dare","Albemarle RPO","Ferry","Division Needs",null,"Hatteras - South Dock (NC 12)",null,null,"Replacement Vessel – River Class Ferry (Baum-H)",null,12000000,null,null,null,null,36.700000000000003,6.75,{"$f":"Q21+#REF!+R21","v":{"$error":"#REF!"}},null,null,null,89.223959053811043,null,null,"Yes",null,null,null,null,5,20,15,10,"Yes",{"$f":"IF(AK21=\"Minimal\",15,0)","v":15},"Minimal",10,"Yes",{"$f":"IF(AO21=\"Yes\",5,0)","v":0},"No",{"$f":"IF(AQ21=\"Yes\",5,0)","v":0},"No",null,null,47,null,null,null,null,null,null,null,null,"Albemarle RPO",null,null,null,null,null,null,null,null,null,null,null,null,{"$f":"SUM(AE21+AF21+AG21+AH21++AJ21+AL21+AN21+AP21)","v":75},null,null,null,100,{"$f":"Q21+BT21*0.25","v":61.7},null,null,null,null,"Dare",null,null,null,null,null,null,null,null,null,null,null,null,null,{"$f":"5*2","v":10},null,null,null,null,null,null,null,null,null,null,21687,null,null,null,null,null,null,null,null,null,null,null,null,null,null,null,null,null,null,null,null,null,null,null,null,null,null,null,null,null,null,null,null,12000000,null,19350000]
["T130063","Hyde","Albemarle RPO","Transit","Division Needs",null,null,null,null,"Facilities-Bus Shelter-This funding request is for 2 shelters and 20 benches to support the Ocracoke Park and Ride Project.  ",null,7600,null,null,null,null,31.19,12,{"$f":"Q22+#REF!+R22","v":{"$error":"#REF!"}},null,0,0,2.8524159963489075E-7,0," ","Yes",{"$f":"IF(AB22=\"Yes\",10,0)","v":0},"No",{"$f":"IF(AD22=\"Yes\",10,0)","v":0},"No",0,20,15,10,"Yes",15,"Minimal",10,"Yes",0,"No",{"$f":"IF(AQ22=\"Yes\",5,0)","v":5},"Yes",null,null,0,null,null,null,null,null,null,null,null,"Albemarle RPO",null,null,null,null,null,null,null,null,null,null,null,null,{"$f":"SUM(AE22+AF22+AG22+AH22+AJ22+AL22+AN22+AP22)","v":75},null,null,null,null,null,null,null,null,null,"Hyde",null,null,null,null,null,null,null,null,null,null,null,null,null,175290,null,null,null,null,null,null,null,null,null,null,152000,null,null,null,null,null,null,null,null,null,null,null,null,null,null,null,null,null,null,null,null,null,null,null,null,null,null,null,null,null,null,null,null,76000,null,7600,null,"Fed:$60,800                        Local:$7,600"]
["F130007","Dare","Albemarle RPO","Ferry","Division Needs",null,"Hatteras-South Dock",null,null,"Replacement Vessel-River Class Ferry( Chico)",null,12000000,null,null,null,null,29.6,7.5,{"$f":"Q23+#REF!+R23","v":{"$error":"#REF!"}},null,null,null,4.6686955318854615,null,null,"Yes",null,null,null,null,5,20,15,10,"Yes",15,"Minimal",10,"Yes",0,"No",{"$f":"IF(AQ23=\"Yes\",5,0)","v":0},"No",null,null,47,null,null,null,null,null,null,null,null,"Albemarle RPO",null,null,null,null,null,null,null,null,null,null,null,null,{"$f":"SUM(AE23+AF23+AG23+AH23++AJ23+AL23+AN23+AP23)","v":75},null,null,null,null,null,null,null,null,null,null,null,null,null,null,null,null,null,null,null,null,null,null,null,{"$f":"5*2","v":10},null,null,null,null,null,null,null,null,null,null,21687,null,null,null,null,null,null,null,null,null,null,null,null,null,null,null,null,null,null,null,null,null,null,null,null,null,null,null,null,null,null,null,null,12000000,null,1012500]
["F130008","Dare","Albemarle RPO","Ferry","Division Needs",null,"Hatteras-South Dock",null,null,"Replacement Vessel-River Class Ferry (Frisco)",null,12000000,null,null,null,null,28.3,7.5,{"$f":"Q24+#REF!+R24","v":{"$error":"#REF!"}},null,null,null,1.8674782127541847,null,null,"Yes",null,null,null,null,5,20,15,10,"Yes",15,"Minimal",10,"Yes",0,"No",{"$f":"IF(AQ24=\"Yes\",5,0)","v":0},"No",null,null,47,null,null,null,null,null,null,null,null,"Albemarle RPO",null,null,null,null,null,null,null,null,null,null,null,null,{"$f":"SUM(AE24+AF24+AG24+AH24++AJ24+AL24+AN24+AP24)","v":75},null,null,null,null,null,null,null,null,null,null,null,null,null,null,null,null,null,null,null,null,null,null,null,{"$f":"5*2","v":10},null,null,null,null,null,null,null,null,null,null,21687,null,null,null,null,null,null,null,null,null,null,null,null,null,null,null,null,null,null,null,null,null,null,null,null,null,null,null,null,null,null,null,null,12000000,null,405000]
["A130412","Hertford","Peanut Belt RPO","Aviation","Division Needs",null,"Tri-County",null,null,"Design",null,1602288,null,null,null,null,25.95,null,{"$f":"Q25+#REF!+R25","v":{"$error":"#REF!"}},null,"N/A",null,52522.839394883056,null,null,"Yes",{"$f":"IF(AB25=\"Yes\",10,0)","v":0},null,{"$f":"IF(AD25=\"Yes\",10,0)","v":0},null,0,{"$f":"IF(BL23<999,20,IF(BL23<1499,15,IF(BL23<1999,10,IF(BL23<3999,5,IF(BL23>4000,0)))))","v":20},15,10,"Yes",15,"Minimal",10,"Yes",5,"Yes",{"$f":"IF(AQ25=\"Yes\",10,0)","v":0},"No",null,null,null,null,null,null,null,null,null,null,null,"Peanut Belt RPO",null,null,null,null,null,null,null,null,null,null,null,null,{"$f":"SUM(AE25+AF25+AG25+AH25+AJ25+AL25+AN25+AP25)","v":75},null,null,null,null,null,null,null,null,null,"Hertford",null,null,null,null,null,null,null,null,null,null,null,null,null,0.85,null,null,null,null,null,null,null,null,null,null,35.89,null,null,null,null,null,null,null,null,null,null,null,null,null,null,null,null,null,null,null,null,null,null,null,null,null,null,null,null,null,null,null,null,1780320,null,1602288]
["F130011","Hyde","Albemarle RPO","Ferry","Division Needs",null,"Swan Quarter-Ocracoke",null,null,"Replacement Vessel-Sound Class Ferry (Pamlico)",null,16000000,null,null,null,null,14.4,7.5,{"$f":"Q26+#REF!+R26","v":{"$error":"#REF!"}},null,null,null,185.57179308745071,null,null,"Yes",null,null,null,null,5,{"$f":"IF(W26<999,20,IF(W26<1499,15,IF(W26<1999,10,IF(W26<3999,5,IF(W26>4000,0)))))","v":20},15,10,"Yes",15,"Minimal",10,"Yes",0,"No",{"$f":"IF(AQ26=\"Yes\",5,0)","v":0},"No",null,null,34,null,null,null,null,null,null,null,null,"Albemarle RPO",null,null,null,null,null,null,null,null,null,null,null,null,{"$f":"SUM(AE26+AF26+AG26+AH26++AJ26+AL26+AN26+AP26)","v":75},null,null,null,null,null,null,null,null,null,"Hyde",null,null,null,null,null,null,null,null,null,null,null,null,null,{"$f":"30*2","v":60},null,null,null,null,null,null,null,null,null,null,1437,null,null,null,null,null,null,null,null,null,null,null,null,null,null,null,null,null,null,null,null,null,null,null,null,null,null,null,null,null,null,null,null,16000000,null,16000000]
["B141355","Perquimans","Albemarle RPO","Bike & Ped","Division Needs",null,"Harvey Point Road","US-17","N. Commerce Drive","Construct 5' wide multi-use path along eastern side of Harvey Point Road","2. Construct multi-use trail / greenway / sidepath or on-road bike lane on local roadway",400000,null,null,null,null,13.463021372661501,9.75,{"$f":"Q27+#REF!+R27","v":{"$error":"#REF!"}},null,"N/A",null,1441.3118527042577,null,null,"Yes",null,null,null,null,10,15,15,10,"Yes",15,"Minimal",10,"Yes",{"$f":"IF(AO27=\"Yes\",10,0)","v":0},"No",{"$f":"IF(AQ27=\"Yes\",10,0)","v":0},"No",null,null,50,null,null,null,null,null,null,null,null,"Albemarle RPO",null,null,null,null,null,null,null,null,null,null,null,null,{"$f":"SUM(AE27+AF27+AG27+AH27+AJ27+AL27+AN27)","v":75},null,null,null,null,null,null,null,null,null,"Perquimans County",null,null,null,null,null,null,null,null,null,null,null,null,null,0.66,null,null,null,null,null,null,null,null,null,null,158,null,null,null,null,null,null,null,null,null,null,null,null,null,null,null,null,null,null,null,null,null,null,null,null,null,null,null,null,null,380000,0,null,400000,0,150300]
["F130012","Currituck","Albemarle RPO","Ferry","Division Needs",null,"Currituck - Knotts Island",null,null,"Replacement Vessel-River Class Ferry (Hunt)",null,12000000,null,null,null,null,12.3,7.5,{"$f":"Q28+#REF!+R28","v":{"$error":"#REF!"}},null,null,null,660.42927903137047,null,null,"Yes",null,null,null,null,5,20,15,10,"Yes",15,"Minimal",10,"Yes",{"$f":"IF(AO28=\"Yes\",5,0)","v":0},"No",{"$f":"IF(AQ28=\"Yes\",5,0)","v":0},"No",null,null,46,null,null,null,null,null,null,null,null,"Albemarle RPO",null,null,null,null,null,null,null,null,null,null,null,null,{"$f":"SUM(AE28+AF28+AG28+AH28++AJ28+AL28+AN28+AP28)","v":75},null,null,null,null,null,null,null,null,null,null,null,null,null,null,null,null,null,null,null,null,null,null,null,{"$f":"5*2","v":10},null,null,null,null,null,null,null,null,null,null,1817,null,null,null,null,null,null,null,null,null,null,null,null,null,null,null,null,null,null,null,null,null,null,null,null,null,null,null,null,null,null,null,null,12000000,null,12000000]
["T130067","Hyde","Albemarle RPO","Transit","Division Needs",null,null,null,null,"Expansion Vehicle-This funding request is for 6 LTV and 3 Trams to support the Ocracoke Park and Ride Project.",null,85500,null,null,null,null,11.36,12,{"$f":"Q29+#REF!+R29","v":{"$error":"#REF!"}},null,{"$f":"IF(AT29<30,0,IF(AT29<50,5,IF(AT29<65,10,IF(AT29>66,15))))","v":0},0,3.2089679958925209E-6,0," ","Yes",{"$f":"IF(AB29=\"Yes\",10,0)","v":0},"No",{"$f":"IF(AD29=\"Yes\",10,0)","v":0},"No",0,20,15,10,"Yes",15,"Minimal",10,"Yes",{"$f":"IF(AO29=\"Yes\",5,0)","v":0},"No",{"$f":"IF(AQ29=\"Yes\",5,0)","v":5},"Yes",null,null,20.6,null,null,null,null,null,null,null,null,"Albemarle RPO",null,null,null,null,null,null,null,null,null,null,null,null,{"$f":"SUM(AE29+AF29+AG29+AH29+AJ29+AL29+AN29+AP29)","v":75},null,null,null,null,null,null,null,null,null,"Hyde",null,null,null,null,null,null,null,null,null,null,null,null,null,175290,null,null,null,null,null,null,null,null,null,null,152000,null,null,null,null,null,null,null,null,null,null,null,null,null,null,null,null,null,null,null,null,null,null,null,null,null,null,null,null,null,null,null,null,855000,null,85500,null,"Fed:$684,000   Local:$85,500"]
["F130013","Hyde","Albemarle RPO","Ferry","Division Needs",null,"Cedar Island-Ocracoke",null,null,"Replacement Vessel-Sound Class Ferry (Silver Lake)",null,16000000,null,null,null,null,16.3,7.5,{"$f":"Q30+#REF!+R30","v":{"$error":"#REF!"}},null,null,null,263.20984404816738,null,null,"Yes",null,null,null,null,5,20,15,10,"Yes",15,"Minimal",10,"Yes",{"$f":"IF(AO30=\"Yes\",5,0)","v":0},"No",{"$f":"IF(AQ30=\"Yes\",5,0)","v":0},"No",null,null,38.5,null,null,null,null,null,null,null,null,"Albemarle RPO",null,null,null,null,null,null,null,null,null,null,null,null,{"$f":"SUM(AE30+AF30+AG30+AH30++AJ30+AL30+AN30+AP30)","v":75},null,null,null,null,null,null,null,null,null,null,null,null,null,null,null,null,null,null,null,null,null,null,null,{"$f":"13*2","v":26},null,null,null,null,null,null,null,null,null,null,2338,null,null,null,null,null,null,null,null,null,null,null,null,null,null,null,null,null,null,null,null,null,null,null,null,null,null,null,null,null,null,null,null,16000000,null,16000000]
["F130014","Hyde","Albemarle RPO","Ferry","Division Needs",null,"Cedar Island-Ocracoke",null,null,"Replacement Vessel-Sound Class Ferry (Carteret)",null,16000000,null,null,null,null,15.3,7.5,{"$f":"Q31+#REF!+R31","v":{"$error":"#REF!"}},null,null,null,263.20984404816738,null,null,"Yes",null,null,null,null,5,20,15,10,"Yes",15,"Minimal",10,"Yes",{"$f":"IF(AO31=\"Yes\",5,0)","v":0},"No",{"$f":"IF(AQ31=\"Yes\",5,0)","v":0},"No",null,null,38.5,null,null,null,null,null,null,null,null,"Albemarle RPO",null,null,null,null,null,null,null,null,null,null,null,null,{"$f":"SUM(AE31+AF31+AG31+AH31++AJ31+AL31+AN31+AP31)","v":75},null,null,null,null,null,null,null,null,null,"Currituck",null,null,null,null,null,null,null,null,null,null,null,null,null,{"$f":"13*2","v":26},null,null,null,null,null,null,null,null,null,null,2338,null,null,null,null,null,null,null,null,null,null,null,null,null,null,null,null,null,null,null,null,null,null,null,null,null,null,null,null,null,null,null,null,16000000,null,16000000]
["A130413","Hertford","Peanut Belt RPO","Aviation","Division Needs",null,"Tri-County",null,null,"Corporate & T-hanger Taxiways",null,230400,null,null,null,null,7.47,null,{"$f":"Q32+#REF!+R32","v":{"$error":"#REF!"}},null,"N/A",null,7552.4888138593415,null,null,"Yes",{"$f":"IF(AB32=\"Yes\",10,0)","v":0},null,{"$f":"IF(AD32=\"Yes\",10,0)","v":0},null,0,{"$f":"IF(BL30<999,20,IF(BL30<1499,15,IF(BL30<1999,10,IF(BL30<3999,5,IF(BL30>4000,0)))))","v":20},15,10,"Yes",15,"Minimal",10,"Yes",{"$f":"IF(AO32=\"Yes\",5,0)","v":5},"Yes",{"$f":"IF(AQ32=\"Yes\",10,0)","v":0},"No",null,null,null,null,null,null,null,null,null,null,null,"Peanut Belt RPO",null,null,null,null,null,null,null,null,null,null,null,null,{"$f":"SUM(AE32+AF32+AG32+AH32+AJ32+AL32+AN32+AP32)","v":75},null,null,null,null,null,null,null,null,null,"Hertford",null,null,null,null,null,null,null,null,null,null,null,null,null,0.85,null,null,null,null,null,null,null,null,null,null,35.89,null,null,null,null,null,null,null,null,null,null,null,null,null,null,null,null,null,null,null,null,null,null,null,null,null,null,null,null,null,null,null,null,256000,null,230400]
["H129676-A","Hertford","Peanut Belt RPO","Highway","Statewide Mobility","R-5311A","NC-11 ","SR 1213 (Old NC 11 Road)","","Upgrade At-Grade Intersecton to Interchange.","7 - Upgrade At-grade Intersection to Interchange or Grade Separation",9460000,15.194668034134692,null,13.574471535535771,null,8.9410226938807895,null,{"$f":"Q33+#REF!+R33","v":{"$error":"#REF!"}},null,{"$f":"IF(AT33<30,0,IF(AT33<50,5,IF(AT33<65,10,IF(AT33>66,15))))","v":15},{"$f":"IF(W33<499,15,IF(W33<999,10,IF(W33<1499,5,IF(W33>1500,0))))","v":10},566.46164208284017,{"$f":"IF(DC33<500,0,IF(DC33<1000,5,IF(DC33>1000,10)))","v":10},{"$f":"IF(Z33=\"Yes\",20,0)","v":20},"Yes",{"$f":"IF(AB33=\"Yes\",20,0)","v":20},"Yes",{"$f":"IF(AD33=\"Yes\",20,0)","v":20},"Yes",15,{"$f":"IF(BL31<999,20,IF(BL31<1499,15,IF(BL31<1999,10,IF(BL31<3999,5,IF(BL31>4000,0)))))","v":20},15,10,"Yes",15,"Minimal",10,"Yes",{"$f":"IF(AO33=\"Yes\",10,0)","v":0},"No",0,"No",19.501477044516125,3.2587498942917548,66.650000000000006,6.2469894638882204,4.5220205971468346,25.050239849999997,0,0,null,null,null,"Peanut Belt RPO",100,"","","","","01",100,"","","","",{"$f":"SUM(U33+V33+X33+Y33+AA33+AC33)","v":95},{"$f":"SUM(AE33+AF33+AG33+AH33+AJ33+AL33+AN33+AP33)","v":85},null,null,100,100,{"$f":"Q33+BT33*0.25","v":33.94102269388079},null,{"$f":"O33+BS33*0.25","v":38.574471535535771},null,null,"Hertford",100,"","","","","","",1,"A","01, , ","Peanut Belt RPO, , ","Hertford, , , ",2,2,"Two Lane Highway","Multi-Lane Highway",1,1,"Undivided","Divided",49.999892227322199,55,14.962705749633502,85.0372942503665,8350.0799499999994,31000,0.26935741774193545,7100.6820572223551,1249.3978927776441,1121641.911162334,197358.08883766588,1319000,30827774,"","","",33.299999999999997,100,21,6.9440411942936698E-5,"No","No",12,12,"No",2,2,"2 Lane Undivided","","None","Full",1,"Yes",19.565219056081599,8900000,500000,60000,9460000,"",9460000,9460000,""]
["H111228","Camden","Albemarle RPO","Highway","Division Needs","","SR-1227 ","NC 168","NC 343 in Camden County","Widen to 24 Feet with Paved Shoulders and Turn Lanes Where Necessary from\nthe Camden County Line to the Location of the Proposed NC 168 Bypass.","16 - Modernize Roadway",12540000,null,null,null,null,10.43,9.75,{"$f":"Q34+#REF!+R34","v":{"$error":"#REF!"}},null,"N/A",null,7.9858468392354567,null,null,"Yes",null,null,null,null,5,{"$f":"IF(W34<999,20,IF(W34<1499,15,IF(W34<1999,10,IF(W34<3999,5,IF(W34>4000,0)))))","v":20},15,10,"No",{"$f":"IF(AK34=\"Minimal\",15,0)","v":15},"Minimal",10,"Yes",{"$f":"IF(AO34=\"Yes\",10,0)","v":0},"No",0,"No",9.3998067385422761,0,44.936317592166006,0,"N/A","N/A",50,0,null,null,null,"Albemarle RPO",100,"","","","","01",100,"","","","",null,{"$f":"SUM(AE34+AF34+AG34+AH34+AJ34+AL34+AN34+AP34)","v":75},null,null,null,100,{"$f":"Q34+BT34*0.25","v":35.43},null,null,null,null,"Camden",55.7,"Currituck",44.3,"","","","",1,"A","01, , ","Albemarle RPO, , ","Camden, Currituck, , ",11.004277439999999,11.004277439999999,"Two Lane Highway","Two Lane Highway",1,1,"Undivided","Undivided",54,54,0,100,2201.904411,15508.10743,0.14198408290237127,2201.904411,0,0,0,0,0,69.443972479999999,39.267785250000003,26.110677290000002,"","","","","No","No",10,12,"No",0,0,"2 Lane Undivided","","None","None",1,"No",34,12540000,0,0,12540000,"",193500,12540000,""]
["H111225","Currituck","Albemarle RPO","Highway","Statewide Mobility","","US-158 ","Proposed Mid Currituck Bridge","Dare County Line","Upgrade the Existing 5-Lane Boulevard to a 4-Lane Divided Boulevard fromtheproposed Mid-Currituck Bridge to the Dare County Line.","11 - Access Management",130843000,11.16234915458393,null,12.45,6.3,9.1300000000000008,9,{"$f":"Q35+#REF!+R35","v":{"$error":"#REF!"}},null,{"$f":"IF(AT35<30,0,IF(AT35<50,5,IF(AT35<65,10,IF(AT35>66,15))))","v":5},{"$f":"IF(W35<499,15,IF(W35<999,10,IF(W35<1499,5,IF(W35>1500,0))))","v":15},484.12802715559553,{"$f":"IF(DC35<500,0,IF(DC35<1000,5,IF(DC35>1000,10)))","v":10},{"$f":"IF(Z35=\"Yes\",20,0)","v":20},"Yes",{"$f":"IF(AB35=\"Yes\",20,0)","v":20},"Yes",{"$f":"IF(AD35=\"Yes\",20,0)","v":20},"Yes",5,20,15,{"$f":"IF(AI35=\"Yes\",10,0)","v":0},"No",15,"Minimal",10,"Yes",{"$f":"IF(AO35=\"Yes\",10,0)","v":0},"No",0,"No",16.869019924360721,0,49.446054653357997,5.7851885596995665,0,19.311718553333336,0,25,null,null,null,"Albemarle RPO",100,"","","","","01",100,"","","","",{"$f":"SUM(U35+V35+X35+Y35+AA35+AC35)","v":90},{"$f":"SUM(AE35+AF35+AG35+AH35+AJ35+AL35+AN35+AP35)","v":65},null,null,100,null,{"$f":"Q35+BT35*0.25","v":9.1300000000000008},"Exceeds cap of $15 million for Statewide & Regional Projects cascading to Division Needs",{"$f":"O35+BS35*0.25","v":37.450000000000003},null,null,"Currituck",100,"","","","","","",1,"A","01, , ","Albemarle RPO, , ","Currituck, , , ",19.349474180000001,19.349474180000001,"Multi-Lane Highway","Multi-Lane Highway",2,2,"TWLTL","Divided",55,55,8.2837391423356994,91.716260857664295,13967.57783,74282.529899999994,0.18803314653934533,12810.540118060086,1157.0377119399134,0,0,0,0,46.775181750000002,60.689393699999997,40.888423809999999,"","",0,0,"No","No",12,12,"No",3,4,"4 Lane with TWLTL (Five Lane)","4E - 4 Lane Divided (17'-6\"' Raised Median) with Paved Shoulders and Sidewalks","None","None",2,"No",25,125286000,4962000,595000,130843000,"",130843000,130843000,""]
["B141365","Dare","Albemarle RPO","Bike & Ped","Division Needs",null,"Us 158 sidewalk","Bennett Street","Worthington Lane","Construct 6000' of sidewalk on west side of US 158","5. Construct Sidewalk",282000,null,null,null,null,15.295680447883793,9.75,{"$f":"Q36+#REF!+R36","v":{"$error":"#REF!"}},null,"N/A",null,3163.9556096077831,null,null,"Yes",null,null,null,null,15,5,15,10,"Yes",15,"Minimal",10,"Yes",{"$f":"IF(AO36=\"Yes\",10,0)","v":0},"No",0,"No",null,null,65,null,null,null,null,null,null,null,null,"Albemarle RPO",null,null,null,null,null,null,null,null,null,null,null,null,{"$f":"SUM(AE36+AF36+AG36+AH36+AJ36+AL36+AN36)","v":70},null,null,null,null,null,null,null,null,null,"Dare County",null,null,null,null,null,null,null,null,null,null,null,null,null,1.56,null,null,null,null,null,null,null,null,null,null,{"$f":"1012*0.1","v":101.2},null,null,null,null,null,null,null,null,null,null,null,null,null,null,null,null,null,null,null,null,null,null,null,null,null,null,null,null,null,272000,0,null,282000,0,499500]
["A130011","Pasquotank","Albemarle RPO","Aviation","Division Needs",null,"Elizabeth City Coast Guard Air Station/Regional",null,null,"Hangers and Economic Development",null,150300,null,null,null,null,5.76,13.5,{"$f":"Q37+#REF!+R37","v":{"$error":"#REF!"}},null,"N/A",null,1061.0615133292763,null,null,"Yes",{"$f":"IF(AB37=\"Yes\",10,0)","v":0},null,{"$f":"IF(AD37=\"Yes\",10,0)","v":0},null,0,15,15,10,"Yes",15,"Minimal",10,"Yes",{"$f":"IF(AO37=\"Yes\",5,0)","v":5},"Yes",0,"No",null,null,null,null,null,null,null,null,null,null,null,"Albemarle RPO",null,null,null,null,null,null,null,null,null,null,null,null,{"$f":"SUM(AE37+AF37+AG37+AH37+AJ37+AL37+AN37+AP37)","v":70},null,null,null,null,null,null,null,null,null,"Pasquotank",null,null,null,null,null,null,null,null,null,null,null,null,null,0.86,null,null,null,null,null,null,null,null,null,null,164.71,null,null,null,null,null,null,null,null,null,null,null,null,null,null,null,null,null,null,null,null,null,null,null,null,null,null,null,null,null,null,null,null,167000,null,150300]
["H141869","Chowan","Albemarle RPO","Highway","Statewide Mobility","","US-17-BYP-Edenton Bypass","South end of Chowan River Bridge","US 17 Business (North) in Edenton (Broad Street)","Upgrade freeway to interstate standards","17 - Upgrade Freeway to Interstate Standards",39943000,8.7484760417394707,null,13.199578131959568,4.95,10.466385421306379,7.5,{"$f":"Q38+#REF!+R38","v":{"$error":"#REF!"}},null,{"$f":"IF(AT38<30,0,IF(AT38<50,5,IF(AT38<65,10,IF(AT38>66,15))))","v":5},{"$f":"IF(W38<499,15,IF(W38<999,10,IF(W38<1499,5,IF(W38>1500,0))))","v":10},527.48148407603003,{"$f":"IF(DC38<500,0,IF(DC38<1000,5,IF(DC38>1000,10)))","v":10},{"$f":"IF(Z38=\"Yes\",20,0)","v":20},"Yes",{"$f":"IF(AB38=\"Yes\",20,0)","v":20},"Yes",{"$f":"IF(AD38=\"Yes\",20,0)","v":20},"Yes",5,20,15,0,"No",15,"Minimal",10,"Yes",{"$f":"IF(AO38=\"Yes\",10,0)","v":0},"No",0,"No",10.143372066527785,0,44.520482146535997,5.8742929410305047,0.78557618921433359,18.241940617180788,25,25,null,null,null,"Albemarle RPO",90.31,"Peanut Belt RPO",9.69,"","","01",100,"","","","",{"$f":"SUM(U38+V38+X38+Y38+AA38+AC38)","v":85},65,null,null,0,null,{"$f":"Q38+BT38*0.25","v":10.466385421306379},"Delay Prioritization pending outcome of Future Interstate Designation; Exceeds cap of $15 million for Statewide & Regional Projects cascading to Division Needs",{"$f":"O38+BS38*0.25","v":13.199578131959568},null,"Delay Prioritization pending outcome of Future Interstate Designation","Chowan",90.31,"Bertie",9.69,"","","","",1,"A","01, , ","Albemarle RPO, Peanut Belt RPO, ","Chowan, Bertie, , ",9.1876402099999996,9.1876402099999996,"Freeway","Freeway",2,2,"Divided","Divided",58.657857951946099,58.657857951946099,14.2546354405544,85.745364559445605,8241.9406171807896,72228.075098455607,0.11410993032759113,7067.0820289746889,1174.8585882061009,0,0,0,0,49.239147449999997,33.660043209999998,50.675613259999999,"","",3.5297729597742702,1.21817508245124E-5,"No","No",11,12,"No",3,4,"4 Lane with Median - Full Control","","Full","Full",1,"No",25,39943000,0,0,39943000,"",39943000,39943000,""]
["H141931","Camden","Albemarle RPO","Highway","Statewide Mobility","","US-17","US 17/158 north of Elizabeth City (North Road Street)","Virginia State LIne","Upgrade roadway to Interstate","2 - Upgrade Arterial to Freeway/Expressway",66692000,11.444817563368547,null,9.1,4.95,6.84,7.5,{"$f":"Q39+#REF!+R39","v":{"$error":"#REF!"}},null,{"$f":"IF(AT39<30,0,IF(AT39<50,5,IF(AT39<65,10,IF(AT39>66,15))))","v":0},{"$f":"IF(W39<499,15,IF(W39<999,10,IF(W39<1499,5,IF(W39>1500,0))))","v":15},380.94657353193423,{"$f":"IF(DC39<500,0,IF(DC39<1000,5,IF(DC39>1000,10)))","v":10},{"$f":"IF(Z39=\"Yes\",20,0)","v":20},"Yes",{"$f":"IF(AB39=\"Yes\",20,0)","v":20},"Yes",{"$f":"IF(AD39=\"Yes\",20,0)","v":20},"Yes",0,20,15,0,"No",15,"Minimal",10,"Yes",0,"No",0,"No",16.058654438177065,1.8246393120614166,25.536049133033998,6.3980551436151325,22.466134962705745,64.340570639189394,0,25,null,null,null,"Albemarle RPO",100,"","","","","01",100,"","","","",{"$f":"SUM(U39+V39+X39+Y39+AA39+AC39)","v":85},60,null,null,0,null,6.84,"Delay Prioritization pending outcome of Future Interstate Designation; Exceeds cap of $15 million for Statewide & Regional Projects cascading to Division Needs",{"$f":"O39+BS39*0.25","v":9.1},null,"Delay Prioritization pending outcome of Future Interstate Designation/Under Threshold of SPOT Score of \"10\"","Camden",73.67,"Pasquotank",26.33,"","","","",1,"A","01, , ","Albemarle RPO, , ","Camden, Pasquotank, , ",13.01933756,13.01933756,"Multi-Lane Highway","Freeway",2,2,"Divided","Divided",55,70,9.5160604457086997,90.483939554291297,13446.856879729799,75544.764459042606,0.17799852810475245,12167.245851006774,1279.6110287230265,4814002.4068682343,506281.42535790673,5320283.8322261414,121688845,16.545985770000001,37.384043830000003,22.68577938,"","",86.358414733329894,3.6296428452078499E-4,"No","No",12,12,"No",3,4,"4 Lane with Median - Limited Control","4A - 4 Lane Divided (46' Depressed Median) with Paved Shoulders","Limited","Limited",1,"Yes",32,54160000,11189000,1343000,66692000,"",66692000,66692000,""]
["H090400","Pasquotank","Albemarle RPO","Highway","Division Needs","U-3420","SR-1309 New Route - Main Street Extension","Proposed US 17 Bypass","US 17","Proposed US 17 Bypass to US 17 Bypass (Hughes Boulevard). Upgrade Roadway, Some New Location with interchange at the  Proposed US 17 Bypass.","6 - Widen Existing Roadway and Construct Part on New Location",37604000,null,null,null,null,7.4926218010578971,9.75,{"$f":"Q40+#REF!+R40","v":{"$error":"#REF!"}},null,"N/A",null,570.59042489894205,null,null,"Yes",null,null,null,null,10,20,15,0,"No",15,"Minimal",10,"Yes",0,"No",0,"No",21.23955152748097,0,53.686666483098001,2.2125776482960196,"N/A","N/A",0,0,null,null,null,"Albemarle RPO",100,"","","","","01",100,"","","","",null,70,null,null,null,null,7.4926218010578971,"Exceeds cap of $15 million for Statewide & Regional Projects cascading to Division Needs",null,null,null,"Pasquotank",100,"","","","","","",1,"A","01, , ","Albemarle RPO, , ","Pasquotank, , , ",8.1,4.4965362500000001,"Multi-Lane Highway","Arterial",2,2,"Divided","Divided",53,45,3.0192359281745,96.980764071825504,14656.54027,57189.055699999997,0.25628225699134949,14214.024740340796,442.51552965920388,0,0,0,0,45.39256322,70.290980619999999,45.39256322,"","","","","No","No",12,12,"No",4,4,"New Roadway","4B - 4 Lane Divided (23' Raised Median) with Paved Shoulders and Sidewalks","None","Partial",2,"No",23,32490000,4566000,548000,37604000,"",37604000,37604000,""]
["H141880","Pasquotank","Albemarle RPO","Highway","Statewide Mobility","","US-17-BYP-Elizabeth City Bypass","SR 1100 / 1140 (Okisko Road)","US 17/158 north of Elizabeth City (North Road Street)","Upgrade freeway to interstate standards","17 - Upgrade Freeway to Interstate Standards",16554000,7.4401437540013751,null,5.1586118755402079,6.3,3.4390745836934724,9,{"$f":"Q41+#REF!+R41","v":{"$error":"#REF!"}},null,{"$f":"IF(AT41<30,0,IF(AT41<50,5,IF(AT41<65,10,IF(AT41>66,15))))","v":0},{"$f":"IF(W41<499,15,IF(W41<999,10,IF(W41<1499,5,IF(W41>1500,0))))","v":15},146.45742390673294,{"$f":"IF(DC41<500,0,IF(DC41<1000,5,IF(DC41>1000,10)))","v":10},{"$f":"IF(Z41=\"Yes\",20,0)","v":20},"Yes",{"$f":"IF(AB41=\"Yes\",20,0)","v":20},"Yes",{"$f":"IF(AD41=\"Yes\",20,0)","v":20},"Yes",0,20,15,0,"No",15,"Minimal",10,"Yes",0,"No",0,"No",13.968030206078721,0,20.422715630856001,5.5853239091258402,0.90398347266990298,13.553747511552267,0,0,null,null,null,"Albemarle RPO",100,"","","","","01",100,"","","","",{"$f":"SUM(U41+V41+X41+Y41+AA41+AC41)","v":85},60,null,null,0,null,3.4390745836934724,"Delay Prioritization pending outcome of Future Interstate Designation; Exceeds cap of $15 million for Statewide & Regional Projects cascading to Division Needs",{"$f":"O41+BS41*0.25","v":5.1586118755402079},null,"Delay Prioritization pending outcome of Future Interstate Designation/Under Threshold of SPOT Score of \"10\"","Pasquotank",100,"","","","","","",1,"A","01, , ","Albemarle RPO, , ","Pasquotank, , , ",9.97557267,9.97557267,"Freeway","Freeway",2,2,"Divided","Divided",68.723659978444402,68.723659978444402,9.858813170697001,90.141186829302995,11330.621267328401,72048.855909959806,0.1572630283191227,10213.556485503232,1117.064781825168,0,0,0,0,23.95659736,8.3349116199999997,28.98276534,"","",3.7328922246088601,1.43467772287892E-5,"No","No",12,12,"No",4,4,"4 Lane with Median - Full Control","","Full","Full",2,"No",23,16554000,0,0,16554000,"",16554000,16554000,""]
["H111227","Currituck","Albemarle RPO","Highway","Statewide Mobility","","NC-168 ","Virginia Line","US 158","Upgrade the Existing 5-Lane Major Thoroughfare to a 4-Lane Divided Boulevardfrom the Virginia Line to US 158","11 - Access Management",122633000,9.259530084621499,null,10.46,6.3,7.81,9,{"$f":"Q42+#REF!+R42","v":{"$error":"#REF!"}},null,{"$f":"IF(AT42<30,0,IF(AT42<50,5,IF(AT42<65,10,IF(AT42>66,15))))","v":5},{"$f":"IF(W42<499,15,IF(W42<999,10,IF(W42<1499,5,IF(W42>1500,0))))","v":10},512.62152970794932,{"$f":"IF(DC42<500,0,IF(DC42<1000,5,IF(DC42>1000,10)))","v":5},{"$f":"IF(Z42=\"Yes\",20,0)","v":20},"Yes",{"$f":"IF(AB42=\"Yes\",20,0)","v":20},"Yes",{"$f":"IF(AD42=\"Yes\",20,0)","v":20},"Yes",5,20,15,0,"No",15,"Minimal",10,"Yes",0,"No",0,"No",15.564629295984382,0,37.494202474773004,4.2036052417444214,0,36.707706353333336,0,25,null,null,null,"Albemarle RPO",100,"","","","","01",100,"","","","",{"$f":"SUM(U42+V42+X42+Y42+AA42+AC42)","v":80},65,null,null,100,null,7.81,"Exceeds cap of $15 million for Statewide & Regional Projects cascading to Division Needs",{"$f":"O42+BS42*0.25","v":35.46},null,null,"Currituck",100,"","","","","","",1,"A","01, , ","Albemarle RPO, , ","Currituck, , , ",18.31536071,18.31536071,"Multi-Lane Highway","Multi-Lane Highway",2,2,"TWLTL","Divided",55,55,6.4366054177367005,93.5633945822633,13061.55953,75792.37487,0.17233342473307303,12220.838481651117,840.72104834888432,0,0,0,0,39.915379160000001,42.339522950000003,30.238954700000001,"","",0,0,"No","No",12,12,"No",3,4,"4 Lane with TWLTL (Five Lane)","4E - 4 Lane Divided (17'-6\"' Raised Median) with Paved Shoulders and Sidewalks","None","None",2,"No",34,120156000,2212000,265000,122633000,"",122633000,122633000,""]
["H141929","Perquimans","Albemarle RPO","Highway","Statewide Mobility","","US-17","US 17 Business (North) in Edenton (Broad Street)","SR 1100 / 1140 (Okisko Road)","Upgrade roadway to Interstate","2 - Upgrade Arterial to Freeway/Expressway",362296000,12.231591398447446,null,9.98,4.95,7.47,7.5,{"$f":"Q43+#REF!+R43","v":{"$error":"#REF!"}},null,{"$f":"IF(AT43<30,0,IF(AT43<50,5,IF(AT43<65,10,IF(AT43>66,15))))","v":5},{"$f":"IF(W43<499,15,IF(W43<999,10,IF(W43<1499,5,IF(W43>1500,0))))","v":5},1471.2174057748716,{"$f":"IF(DC43<500,0,IF(DC43<1000,5,IF(DC43>1000,10)))","v":10},{"$f":"IF(Z43=\"Yes\",20,0)","v":20},"Yes",{"$f":"IF(AB43=\"Yes\",20,0)","v":20},"Yes",{"$f":"IF(AD43=\"Yes\",20,0)","v":20},"Yes",5,15,15,0,"No",15,"Minimal",10,"Yes",0,"No",0,"No",15.310184131456303,0.46260251838275884,33.909394688070002,6.3722125822879949,28.343734182311298,50.155493607634938,0,25,null,null,null,"Albemarle RPO",100,"","","","","01",100,"","","","",{"$f":"SUM(U43+V43+X43+Y43+AA43+AC43)","v":80},60,null,null,0,null,7.47,"Delay Prioritization pending outcome of Future Interstate Designation; Exceeds cap of $15 million for Statewide & Regional Projects cascading to Division Needs",{"$f":"O43+BS43*0.25","v":9.98},null,"Delay Prioritization pending outcome of Future Interstate Designation/Under Threshold of SPOT Score of \"10\"","Perquimans",89.76,"Chowan",8.6,"Pasquotank",1.63,"","",1,"A","01, , ","Albemarle RPO, , ","Perquimans, Chowan, Pasquotank, ",19.226261770000001,19.226261770000001,"Multi-Lane Highway","Freeway",2,2,"Divided","Divided",55.267216771237202,70,9.9501222739189998,90.049877726081007,12808.310102863101,75440.184645582907,0.16978100150518441,11533.867586405504,1274.4425164575989,6586938.0592921842,727828.18539802916,7314766.2446902134,167599042,27.89512178,40.943156899999998,32.900079220000002,"","",116.79099750996799,4.5008368613625799E-4,"No","No",12,12,"No",3,4,"4 Lane with Median - Partial Control","4A - 4 Lane Divided (46' Depressed Median) with Paved Shoulders","None","None",2,"Yes",28,248047000,102008000,12241000,362296000,"",362296000,362296000,""]
["H129208","Northampton","Peanut Belt RPO","Highway","Statewide Mobility","","I-95 ","Halifax/Northampton County Line","Virginia State Line","Widen Roadway to 6 Lanes.","1 - Widen Existing Roadway",301845000,28.416150288621655,null,16.180642213015471,null,10.783881430066547,null,{"$f":"Q44+#REF!+R44","v":{"$error":"#REF!"}},null,{"$f":"IF(AT44<30,0,IF(AT44<50,5,IF(AT44<65,10,IF(AT44>66,15))))","v":10},{"$f":"IF(W44<499,15,IF(W44<999,10,IF(W44<1499,5,IF(W44>1500,0))))","v":5},1106.3946563455881,{"$f":"IF(DC44<500,0,IF(DC44<1000,5,IF(DC44>1000,10)))","v":10},{"$f":"IF(Z44=\"Yes\",20,0)","v":20},"Yes",{"$f":"IF(AB44=\"Yes\",20,0)","v":20},"Yes",{"$f":"IF(AD44=\"Yes\",10,0)","v":10},"Yes",10,{"$f":"IF(BL42<999,20,IF(BL42<1499,15,IF(BL42<1999,10,IF(BL42<3999,5,IF(BL42>4000,0)))))","v":0},15,0,"Yes",15,"Minimal",10,"Yes",0,"No",0,"No",47.900877747680426,9.640135831304146E-2,59.841535194671998,38.259352094788944,3.8094261839862646,40.362556689999998,0,0,null,null,null,"Peanut Belt RPO",100,"","","","","01",100,"","","04","",{"$f":"SUM(U44+V44+X44+Y44+AA44+AC44)","v":75},50,null,null,0,null,10.783881430066547,"Exceeds cap of $15 million for Statewide & Regional Projects cascading to Division Needs",{"$f":"O44+BS44*0.25","v":16.180642213015471},null,null,"Northampton",100,"","","Halifax","","","",1,"A","01, , 04","Peanut Belt RPO, , ","Northampton, , Halifax, ",7.5027332400000004,7.5027332400000004,"Freeway","Freeway",2,3,"Divided","Divided",70,70,21.0432684483435,78.956731551656503,36362.556689999998,65408.408710000003,0.55593091786134041,28710.68627104221,7651.8704189577884,960106.99302050809,255884.31532331507,1215991.3083438231,29098268,57.640053430000002,53.200470930000002,68.702035480000006,"","",19,5.7188523679725298E-5,"No","No",12,12,"No",11,10,"4 Lane with Median - Full Control","6A - 6 Lane Divided (46' Depressed Median) with Paved Shoulders","Full","Full",1,"No",22,300960000,790000,95000,301845000,"",301845000,301845000,""]
["H141218","Perquimans","Albemarle RPO","Highway","Division Needs","","SR-1329","SR 1331","SR 1300","Widen and repave Woodville Road Phase 2","16 - Modernize Roadway",734000,null,null,null,null,8.27,5.25,{"$f":"Q45+#REF!+R45","v":{"$error":"#REF!"}},null,"N/A",null,548.01863437169857,null,null,"Yes",null,null,null,null,0,{"$f":"IF(W45<999,20,IF(W45<1499,15,IF(W45<1999,10,IF(W45<3999,5,IF(W45>4000,0)))))","v":20},15,10,"No",{"$f":"IF(AK45=\"Minimal\",15,0)","v":15},"Minimal",10,"Yes",0,"No",0,"No",7.6877419354838707,0,0,0,"N/A","N/A",75,0,null,null,null,"Albemarle RPO",100,"","","","","01",100,"","","","",null,70,null,null,null,100,33.269999999999996,null,null,null,null,"Perquimans",100,"","","","","","",1,"A","01, , ","Albemarle RPO, , ","Perquimans, , , ",0.74409473000000004,0.74409473000000004,"Two Lane Highway","Two Lane Highway",1,1,"Undivided","Undivided",55,55,0,100,1800,15500,0.11612903225806452,1800,0,0,0,0,0,0,0,0,"","","","","No","No",9,12,"No",0,0,"2 Lane Undivided","3A - 2 Lane with Two Way Left Turn Lane, and Paved Shoulders","None","None",2,"No",30,734000,0,0,734000,"",734000,734000,""]
["H141863","Bertie","Peanut Belt RPO","Highway","Statewide Mobility","","US-17-BYP-Windsor Bypass","US 13 North at Windsor","US 17A East of Windsor","Upgrade freeway to interstate standards","17 - Upgrade Freeway to Interstate Standards",18115000,5.280522319769938,null,13.48,null,12.32,null,{"$f":"Q46+#REF!+R46","v":{"$error":"#REF!"}},null,{"$f":"IF(AT46<30,0,IF(AT46<50,5,IF(AT46<65,10,IF(AT46>66,15))))","v":0},{"$f":"IF(W46<499,15,IF(W46<999,10,IF(W46<1499,5,IF(W46>1500,0))))","v":15},377.5845547580675,{"$f":"IF(DC46<500,0,IF(DC46<1000,5,IF(DC46>1000,10)))","v":10},{"$f":"IF(Z46=\"Yes\",20,0)","v":20},"Yes",{"$f":"IF(AB46=\"Yes\",20,0)","v":20},"Yes",{"$f":"IF(AD46=\"Yes\",10,0)","v":10},"Yes",0,20,15,{"$f":"IF(AI46=\"Yes\",10,0)","v":10},"Yes",15,"Minimal",10,"Yes",0,"No",0,"No",8.9789540080974994,0,14.225955942132,5.8043325764056979,3.3740078463481447E-2,17.24548809831855,0,100,null,null,null,"Peanut Belt RPO",100,"","","","","01",100,"","","","",{"$f":"SUM(U46+V46+X46+Y46+AA46+AC46)","v":75},70,null,null,null,null,12.32,"Delay Prioritization pending outcome of Future Interstate Designation; Exceeds cap of $15 million for Statewide & Regional Projects cascading to Division Needs",{"$f":"O46+BS46*0.25","v":13.48},null,null,"Bertie",100,"","","","","","",1,"A","01, , ","Peanut Belt RPO, , ","Bertie, , , ",6.6215013200000001,6.6215013200000001,"Freeway","Freeway",2,2,"Divided","Divided",69.868031583409305,69.868031583409305,16.0219228784675,83.978077121532493,7245.4880983185503,71492.605187994195,0.10134597947950133,6084.6215830374103,1160.8665152811395,0,0,0,0,15.056317160000001,7.53506316,20.090755720000001,"","",0.15711071904780799,5.1769085022182097E-7,"No","No",12,12,"No",0,4,"4 Lane with Median - Full Control","","Full","Full",1,"No",25,18115000,0,0,18115000,"",18115000,18115000,""]
["F130002","Hyde","Albemarle RPO","Ferry","Division Needs",null,"Statewide: Support Vessel",null,null,"Replacement Vessel-Tug (Dare)",null,1725000,null,null,null,null,25.9,6,{"$f":"Q47+#REF!+R47","v":{"$error":"#REF!"}},null,null,null,0.4157119961235074,null,null,"Yes",null,null,null,null,5,20,15,0,"No",{"$f":"IF(AK47=\"Minimal\",15,0)","v":15},"Minimal",10,"Yes",{"$f":"IF(AO47=\"Yes\",5,0)","v":0},"No",{"$f":"IF(AQ47=\"Yes\",5,0)","v":0},"No",null,null,39.43,null,null,null,null,null,null,null,null,"Albemarle RPO",null,null,null,null,null,null,null,null,null,null,null,null,{"$f":"SUM(AE47+AF47+AG47+AH47++AJ47+AL47+AN47+AP47)","v":65},null,null,null,null,null,null,null,null,null,"Hyde",null,null,null,null,null,null,null,null,null,null,null,null,null,{"$f":"9.5*2","v":19},null,null,null,null,null,null,null,null,null,null,60391,null,null,null,null,null,null,null,null,null,null,null,null,null,null,null,null,null,null,null,null,null,null,null,null,null,null,null,null,null,null,null,null,1725000,null,477000]
["F130004",null,"Albemarle RPO","Ferry","Division Needs",null,"Statewide: Support Vessel",null,null,"Replacement Vessel-Tug  (Buxton Jr.)",null,1725000,null,null,null,null,23.4,6,{"$f":"Q48+#REF!+R48","v":{"$error":"#REF!"}},null,null,null,0.20079673775022244,null,null,"Yes",null,null,null,null,5,20,15,0,"No",15,"Minimal",10,"Yes",{"$f":"IF(AO48=\"Yes\",5,0)","v":0},"No",{"$f":"IF(AQ48=\"Yes\",5,0)","v":0},"No",null,null,39.43,null,null,null,null,null,null,null,null,"Albemarle RPO",null,null,null,null,null,null,null,null,null,null,null,null,{"$f":"SUM(AE48+AF48+AG48+AH48++AJ48+AL48+AN48+AP48)","v":65},null,null,null,null,null,null,null,null,null,null,null,null,null,null,null,null,null,null,null,null,null,null,null,{"$f":"9.5*2","v":19},null,null,null,null,null,null,null,null,null,null,60391,null,null,null,null,null,null,null,null,null,null,null,null,null,null,null,null,null,null,null,null,null,null,null,null,null,null,null,null,null,null,null,null,1725000,null,230400]
["F130001","Hyde","Albemarle RPO","Ferry","Division Needs",null,"Statewide: Support Vessel",null,null,"Replacement Vessel-Tug(Albemarle)",null,5000000,null,null,null,null,19.3,6,{"$f":"Q49+#REF!+R49","v":{"$error":"#REF!"}},null,null,null,{"$f":"(EH49/CY49)/CN49","v":1.0039836887511122},null,null,"Yes",null,null,null,null,{"$f":"IF(AT49<30,0,IF(AT49<50,5,IF(AT49<65,10,IF(AT49<79,15,IF(AT49>80,20)))))","v":5},20,{"$f":"IF(Z49=\"Yes\",15,0)","v":15},0,"No",15,"Minimal",{"$f":"IF(AM49=\"Yes\",10,0)","v":10},"Yes",{"$f":"IF(AO49=\"Yes\",5,0)","v":0},"No",{"$f":"IF(AQ49=\"Yes\",5,0)","v":0},"No",null,null,39.43,null,null,null,null,null,null,null,null,"Albemarle RPO",null,null,null,null,null,null,null,null,null,null,null,null,{"$f":"SUM(AE49+AF49+AG49+AH49++AJ49+AL49+AN49+AP49)","v":65},null,null,null,null,null,null,null,null,null,"Hyde",null,null,null,null,null,null,null,null,null,null,null,null,null,{"$f":"9.5*2","v":19},null,null,null,null,null,null,null,null,null,null,60391,null,null,null,null,null,null,null,null,null,null,null,null,null,null,null,null,null,null,null,null,null,null,null,null,null,null,null,null,null,null,null,null,5000000,null,1152000]
["B141476","Dare","Albemarle RPO","Bike & Ped","Division Needs",null,"Kill Devil Hills Multi Use Path","Ocean Acres","Atlantic","Construct Multi-Use Path","2. Construct multi-use trail / greenway / sidepath or on-road bike lane on local roadway",356500,null,null,null,null,18.504548236546277,9.75,{"$f":"Q50+#REF!+R50","v":{"$error":"#REF!"}},null,"N/A",null,7756.7101699088889,null,null,"Yes",null,null,null,null,15,0,15,10,"Yes",15,"Minimal",10,"Yes",{"$f":"IF(AO50=\"Yes\",10,0)","v":0},"No",{"$f":"IF(AQ50=\"Yes\",10,0)","v":0},"No",null,null,75,null,null,null,null,null,null,null,null,"Albemarle RPO",null,null,null,null,null,null,null,null,null,null,null,null,{"$f":"SUM(AE50+AF50+AG50+AH50+AJ50+AL50+AN50)","v":65},null,null,null,null,null,null,null,null,null,"Dare County",null,null,null,null,null,null,null,null,null,null,null,null,null,0.31,null,null,null,null,null,null,null,null,null,null,{"$f":"786*0.1","v":78.600000000000009},null,null,null,null,null,null,null,null,null,null,null,null,null,null,null,null,null,null,null,null,null,null,null,null,null,null,null,null,null,310000,0,null,356500,0,189000]
["F130005",null,"Albemarle RPO","Ferry","Division Needs",null,"Statewide: Support Vessel",null,null,"Replacement Vessel-Barge (NC-2 Fuel Barge)",null,200000,null,null,null,null,18.2,3,{"$f":"Q51+#REF!+R51","v":{"$error":"#REF!"}},null,null,null,0.28609613318122518,null,null,"Yes",null,null,null,null,5,20,15,0,"No",15,"Minimal",10,"Yes",{"$f":"IF(AO51=\"Yes\",5,0)","v":0},"No",{"$f":"IF(AQ51=\"Yes\",5,0)","v":0},"No",null,null,39.43,null,null,null,null,null,null,null,null,"Albemarle RPO",null,null,null,null,null,null,null,null,null,null,null,null,{"$f":"SUM(AE51+AF51+AG51+AH51++AJ51+AL51+AN51+AP51)","v":65},null,null,null,null,null,null,null,null,null,null,null,null,null,null,null,null,null,null,null,null,null,null,null,{"$f":"9.5*2","v":19},null,null,null,null,null,null,null,null,null,null,60391,null,null,null,null,null,null,null,null,null,null,null,null,null,null,null,null,null,null,null,null,null,null,null,null,null,null,null,null,null,null,null,null,200000,null,328275]
["B141349","Dare","Albemarle RPO","Bike & Ped","Division Needs",null,"NC 12","Gull Street","Jennettes Pier","Construct sidewalk on west side of NC 12 from Gull Street south to Jennets Pier","5. Construct Sidewalk",100000,null,null,null,null,15.642500000000002,6.75,{"$f":"Q52+#REF!+R52","v":{"$error":"#REF!"}},null,"N/A",null,1461.0389610389611,null,null,"Yes",null,null,null,null,0,15,15,10,"Yes",15,"Minimal",10,"Yes",{"$f":"IF(AO52=\"Yes\",10,0)","v":0},"No",{"$f":"IF(AQ52=\"Yes\",10,0)","v":0},"No",null,null,12.5,null,null,null,null,null,null,null,null,"Albemarle RPO",null,null,null,null,null,null,null,null,null,null,null,null,{"$f":"SUM(AE52+AF52+AG52+AH52+AJ52+AL52+AN52)","v":65},null,null,null,null,null,null,null,null,null,"Dare County",null,null,null,null,null,null,null,null,null,null,null,null,null,0.3,null,null,null,null,null,null,null,null,null,null,308,null,null,null,null,null,null,null,null,null,null,null,null,null,null,null,null,null,null,null,null,null,null,null,null,null,null,null,null,null,90000,0,null,100000,0,135000]
["F130009","Hyde","Albemarle RPO","Ferry","Division Needs",null,"Statewide: Support Vessel",null,null,"Replacement Vessel-Barge (NC-1 Pipeline Barge)",null,185000,null,null,null,null,13.7,3,{"$f":"Q53+#REF!+R53","v":{"$error":"#REF!"}},null,null,null,1.7255969650409739,null,null,"Yes",null,null,null,null,5,20,15,0,"No",15,"Minimal",10,"Yes",{"$f":"IF(AO53=\"Yes\",5,0)","v":0},"No",{"$f":"IF(AQ53=\"Yes\",5,0)","v":0},"No",null,null,39.43,null,null,null,null,null,null,null,null,"Albemarle RPO",null,null,null,null,null,null,null,null,null,null,null,null,{"$f":"SUM(AE53+AF53+AG53+AH53++AJ53+AL53+AN53+AP53)","v":65},null,null,null,null,null,null,null,null,null,"Hyde",null,null,null,null,null,null,null,null,null,null,null,null,null,{"$f":"9.5*2","v":19},null,null,null,null,null,null,null,null,null,null,60391,null,null,null,null,null,null,null,null,null,null,null,null,null,null,null,null,null,null,null,null,null,null,null,null,null,null,null,null,null,null,null,null,185000,null,1980000]
["F130010","Hyde","Albemarle RPO","Ferry","Division Needs",null,"Statewide: Support Vessel",null,null,"Replacement Vessel-Barge (NC-3 Equipment Barge)",null,185000,null,null,null,null,13.7,3,{"$f":"Q54+#REF!+R54","v":{"$error":"#REF!"}},null,null,null,0.5804280700592368,null,null,"Yes",null,null,null,null,5,20,15,0,"No",15,"Minimal",10,"Yes",{"$f":"IF(AO54=\"Yes\",5,0)","v":0},"No",{"$f":"IF(AQ54=\"Yes\",5,0)","v":0},"No",null,null,39.43,null,null,null,null,null,null,null,null,"Albemarle RPO",null,null,null,null,null,null,null,null,null,null,null,null,{"$f":"SUM(AE54+AF54+AG54+AH54++AJ54+AL54+AN54+AP54)","v":65},null,null,null,null,null,null,null,null,null,"Hyde",null,null,null,null,null,null,null,null,null,null,null,null,null,{"$f":"9.5*2","v":19},null,null,null,null,null,null,null,null,null,null,60391,null,null,null,null,null,null,null,null,null,null,null,null,null,null,null,null,null,null,null,null,null,null,null,null,null,null,null,null,null,null,null,null,185000,null,666000]
["H090285","Perquimans","Albemarle RPO","Highway","Statewide Mobility","R-4458","US-17 ","SR 1300 (New Hope Road)","","Convert at-Grade intersection to An interchange","7 - Upgrade At-grade Intersection to Interchange or Grade Separation",12906000,11.908335891675366,null,12.64,4.95,9.24,7.5,{"$f":"Q55+#REF!+R55","v":{"$error":"#REF!"}},null,{"$f":"IF(AT55<30,0,IF(AT55<50,5,IF(AT55<65,10,IF(AT55>66,15))))","v":10},{"$f":"IF(W55<499,15,IF(W55<999,10,IF(W55<1499,5,IF(W55>1500,0))))","v":15},407.68760462512967,{"$f":"IF(DC55<500,0,IF(DC55<1000,5,IF(DC55>1000,10)))","v":10},{"$f":"IF(Z55=\"Yes\",20,0)","v":20},"Yes",{"$f":"IF(AB55=\"Yes\",20,0)","v":20},"Yes",{"$f":"IF(AD55=\"Yes\",20,0)","v":0},"no",10,{"$f":"IF(BL53<999,20,IF(BL53<1499,15,IF(BL53<1999,10,IF(BL53<3999,5,IF(BL53>4000,0)))))","v":20},15,0,"No",15,"Minimal",10,"Yes",{"$f":"IF(AO55=\"Yes\",10,0)","v":0},"No",{"$f":"IF(AQ55=\"Yes\",10,0)","v":0},"No",16.727256327764458,0.67404679993801331,50,7.7049196029202633,1.46961032780572,63.408788800000011,0,25,null,null,null,"Albemarle RPO",100,"","","","","01",100,"","","","",{"$f":"SUM(U55+V55+X55+Y55+AA55+AC55)","v":75},{"$f":"SUM(AE55+AF55+AG55+AH55+AJ55+AL55+AN55+AP55)","v":70},null,null,null,null,{"$f":"Q55+BT55*0.25","v":9.24},"Delay Prioritization pending outcome of Future Interstate Designation; Need to coordinate this project with SPOT ID#H141929",{"$f":"O55+BS55*0.25","v":12.64},null,"County Does not support project","Perquimans",100,"","","","","","",1,"A","01, , ","Albemarle RPO, , ","Perquimans, , , ",2,2,"Multi-Lane Highway","Freeway",2,2,"Divided","Divided",55,55,9.7356275119906002,90.2643724880094,15828.2958,91352.771370000002,0.17326563346274099,14287.311879415947,1540.9839205840526,343004.6154544357,36995.38454556428,380000,8699248,"","","",0,100,6,2.3392206556114398E-5,"no","No",12,12,"No",3,4,"2 Lane Undivided","","None","Full",2,"Yes",30.6,10716000,2190000,0,12906000,"",12906000,12906000,""]
["H090099-B","Gates","Albemarle RPO","Highway","Statewide Mobility","R-2507B","US-13 ","US 158 Bypass in Tarheel","SR 1202 (Eure Road/Gates School Road)","Widen to Multi-Lanes.","1 - Widen Existing Roadway",26200000,11.662716525966273,null,12.49,3.6,9.16,5.25,{"$f":"Q56+#REF!+R56","v":{"$error":"#REF!"}},null,{"$f":"IF(AT56<30,0,IF(AT56<50,5,IF(AT56<65,10,IF(AT56>66,15))))","v":10},{"$f":"IF(W56<499,15,IF(W56<999,10,IF(W56<1499,5,IF(W56>1500,0))))","v":0},1700.8127716901893,{"$f":"IF(DC56<500,0,IF(DC56<1000,5,IF(DC56>1000,10)))","v":5},{"$f":"IF(Z56=\"Yes\",20,0)","v":20},"Yes",{"$f":"IF(AB56=\"Yes\",20,0)","v":20},"Yes",{"$f":"IF(AD56=\"Yes\",20,0)","v":20},"Yes",10,{"$f":"IF(W56<999,20,IF(W56<1499,15,IF(W56<1999,10,IF(W56<3999,5,IF(W56>4000,0)))))","v":10},15,10,"No",15,"Minimal",10,"Yes",{"$f":"IF(AO56=\"Yes\",10,0)","v":0},"No",0,"No",15.80258064516129,1.9666755725190839E-2,50.766884000546995,9.1677418804838702,5.8055295488545502E-2,45.1,25,0,null,null,null,"Albemarle RPO",100,"","","","","01",100,"","","","",{"$f":"SUM(U56+V56+X56+Y56+AA56+AC56)","v":75},70,null,null,100,null,{"$f":"Q56+BT56*0.25","v":9.16},"Exceeds cap of $15 million for Statewide & Regional Projects cascading to Division Needs",{"$f":"O56+BS56*0.25","v":37.49},null,null,"Gates",100,"","","","","","",1,"A","01, , ","Albemarle RPO, , ","Gates, , , ",4.1633513100000004,4.1633513100000004,"Two Lane Highway","Multi-Lane Highway",1,2,"Undivided","Divided",55,55,17.297297,82.702703,3700,15500,0.23870967741935484,3060.0000110000001,639.99998900000003,18067.430804417563,3778.8089786008504,21846.239783018413,515269,59.821943230000002,36.671154739999999,55.822785619999998,"","",0,1.16110590977091E-6,"Yes","No",11,12,"No",2,0,"2 Lane Undivided","4A - 4 Lane Divided (46' Depressed Median) with Paved Shoulders","None","Partial",1,"Yes",37,23200000,1800000,1200000,26200000,"",26200000,26200000,""]
["H090099-C","Gates","Albemarle RPO","Highway","Statewide Mobility","R-2507C","US-13 ","SR 1202 (Eure Road/Gates School Road)","Virginia State Line","Widen to Multi-Lanes.","1 - Widen Existing Roadway",31000000,12.467522810856204,null,10.977776395583573,3.15,7.3178708035073292,5.25,{"$f":"Q57+#REF!+R57","v":{"$error":"#REF!"}},null,{"$f":"IF(AT57<30,0,IF(AT57<50,5,IF(AT57<65,10,IF(AT57>66,15))))","v":10},{"$f":"IF(W57<499,15,IF(W57<999,10,IF(W57<1499,5,IF(W57>1500,0))))","v":0},1720.1381017321557,{"$f":"IF(DC57<500,0,IF(DC57<1000,5,IF(DC57>1000,10)))","v":5},{"$f":"IF(Z57=\"Yes\",20,0)","v":20},"Yes",{"$f":"IF(AB57=\"Yes\",20,0)","v":20},"Yes",{"$f":"IF(AD57=\"Yes\",20,0)","v":20},"Yes",10,{"$f":"IF(W57<999,20,IF(W57<1499,15,IF(W57<1999,10,IF(W57<3999,5,IF(W57>4000,0)))))","v":10},15,10,"No",15,"Minimal",10,"Yes",{"$f":"IF(AO57=\"Yes\",10,0)","v":0},"No",0,"No",16.327877726309676,1.9403806451612902E-2,56.831426502311999,9.3663279759304228,6.9301056105317504E-2,45.468977557000002,0,0,null,null,null,"Albemarle RPO",100,"","","","","01",100,"","","","",{"$f":"SUM(U57+V57+X57+Y57+AA57+AC57)","v":75},70,null,null,100,null,{"$f":"Q57+BT57*0.25","v":7.3178708035073292},"Exceeds cap of $15 million for Statewide & Regional Projects cascading to Division Needs",{"$f":"O57+BS57*0.25","v":35.977776395583575},null,null,"Gates",100,"","","","","","",1,"A","01, , ","Albemarle RPO, , ","Gates, , , ",4.71405809,4.71405809,"Two Lane Highway","Multi-Lane Highway",1,2,"Undivided","Divided",55,55,16.741916150222998,83.258083849776995,3822.9925189999999,15500,0.24664467864516129,3182.9503170397215,640.04220196027802,21279.268908809252,4278.9326794035505,25558.201588212803,601518,71.452794549999993,31.798630360000001,67.25990573,"","",0,1.38602112210635E-6,"Yes","No",12,12,"No",0,0,"2 Lane Undivided","4A - 4 Lane Divided (46' Depressed Median) with Paved Shoulders","None","Partial",1,"Yes",37,23800000,6000000,1200000,31000000,"",31000000,31000000,""]
["A130008","Pasquotank","Albemarle RPO","Aviation","Division Needs",null,"Elizabeth City Coast Guard Air Station/Regional",null,null,"Land Acquisition-Apron Construction",null,1800000,null,null,null,null,8.59,13.5,{"$f":"Q58+#REF!+R58","v":{"$error":"#REF!"}},null,"N/A",null,1588.4154391156831,null,null,"Yes",{"$f":"IF(AB58=\"Yes\",10,0)","v":0},null,{"$f":"IF(AD58=\"Yes\",10,0)","v":0},null,0,{"$f":"IF(W58<999,20,IF(W58<1499,15,IF(W58<1999,10,IF(W58<3999,5,IF(W58>4000,0)))))","v":10},15,{"$f":"IF(AI58=\"Yes\",10,0)","v":10},"Yes",15,"Minimal",10,"Yes",{"$f":"IF(AO58=\"Yes\",5,0)","v":5},"Yes",0,"No",null,null,null,null,null,null,null,null,null,null,null,"Albemarle RPO",null,null,null,null,null,null,null,null,null,null,null,null,65,null,null,null,null,null,null,null,null,null,"Pasquotank",null,null,null,null,null,null,null,null,null,null,null,null,null,0.86,null,null,null,null,null,null,null,null,null,null,164.71,null,null,null,null,null,null,null,null,null,null,null,null,null,null,null,null,null,null,null,null,null,null,null,null,null,null,null,null,null,null,null,null,2000000,null,225000]
["A130007","Pasquotank","Albemarle RPO","Aviation","Division Needs",null,"Elizabeth City Coast Guard Air Station/Regional",null,null,"Permitting/mitigation/preliminary",null,247500,null,null,null,null,7.89,13.5,{"$f":"Q59+#REF!+R59","v":{"$error":"#REF!"}},null,"N/A",null,1747.2569830272516,null,null,"Yes",{"$f":"IF(AB59=\"Yes\",10,0)","v":0},null,{"$f":"IF(AD59=\"Yes\",10,0)","v":0},null,0,{"$f":"IF(W59<999,20,IF(W59<1499,15,IF(W59<1999,10,IF(W59<3999,5,IF(W59>4000,0)))))","v":10},15,{"$f":"IF(AI59=\"Yes\",10,0)","v":10},"Yes",15,"Minimal",10,"Yes",{"$f":"IF(AO59=\"Yes\",5,0)","v":5},"Yes",0,"No",null,null,null,null,null,null,null,null,null,null,null,"Albemarle RPO",null,null,null,null,null,null,null,null,null,null,null,null,65,null,null,null,null,null,null,null,null,null,"Pasquotank",null,null,null,null,null,null,null,null,null,null,null,null,null,0.86,null,null,null,null,null,null,null,null,null,null,164.71,null,null,null,null,null,null,null,null,null,null,null,null,null,null,null,null,null,null,null,null,null,null,null,null,null,null,null,null,null,null,null,null,275000,null,247500]
["A130036","Currituck","Albemarle RPO","Aviation","Division Needs",null,"Currituck County Regional",null,null,"Acquire Equipment Shelter",null,135000,null,null,null,null,5.56,15,{"$f":"Q60+#REF!+R60","v":{"$error":"#REF!"}},null,"N/A",null,1895.2794905488729,null,null,"Yes",{"$f":"IF(AB60=\"Yes\",10,0)","v":0},null,{"$f":"IF(AD60=\"Yes\",10,0)","v":0},null,0,{"$f":"IF(W60<999,20,IF(W60<1499,15,IF(W60<1999,10,IF(W60<3999,5,IF(W60>4000,0)))))","v":10},15,{"$f":"IF(AI60=\"Yes\",10,0)","v":10},"Yes",15,"Minimal",10,"Yes",{"$f":"IF(AO60=\"Yes\",5,0)","v":5},"Yes",0,"No",null,null,null,null,null,null,null,null,null,null,null,"Albemarle RPO",null,null,null,null,null,null,null,null,null,null,null,null,65,null,null,null,null,null,null,null,null,null,"Currituck",null,null,null,null,null,null,null,null,null,null,null,null,null,1.04,null,null,null,null,null,null,null,null,null,null,68.489999999999995,null,null,null,null,null,null,null,null,null,null,null,null,null,null,null,null,null,null,null,null,null,null,null,null,null,null,null,null,null,null,null,null,150000,null,135000]
["H141724","Bertie","Peanut Belt RPO","Highway","Statewide Mobility","","US-17 , US-13 ","US 64 at Williamston","US 13 North at Windsor","Upgrade roadway to Interstate","2 - Upgrade Arterial to Freeway/Expressway",296415000,13.963177203030861,null,18.190000000000001,null,14.61,null,{"$f":"Q61+#REF!+R61","v":{"$error":"#REF!"}},null,{"$f":"IF(AT61<30,0,IF(AT61<50,5,IF(AT61<65,10,IF(AT61>66,15))))","v":10},{"$f":"IF(W61<499,15,IF(W61<999,10,IF(W61<1499,5,IF(W61>1500,0))))","v":0},1821.1995352104639,{"$f":"IF(DC61<500,0,IF(DC61<1000,5,IF(DC61>1000,10)))","v":10},{"$f":"IF(Z61=\"Yes\",20,0)","v":20},"Yes",{"$f":"IF(AB61=\"Yes\",20,0)","v":20},"Yes",{"$f":"IF(AD61=\"Yes\",10,0)","v":10},"Yes",10,{"$f":"IF(BL59<999,20,IF(BL59<1499,15,IF(BL59<1999,10,IF(BL59<3999,5,IF(BL59>4000,0)))))","v":20},15,{"$f":"IF(AI61=\"Yes\",10,0)","v":10},"Yes",15,"Minimal",10,"Yes",{"$f":"IF(AO61=\"Yes\",10,0)","v":0},"No",0,"No",13.832167036632629,0.39403603056525477,56.903493981509996,10.770627201140798,18.508414444923371,35.755430809828404,0,75,null,null,null,"Peanut Belt RPO",89.61,"Mid-East RPO",10.39,"","","01",100,"","","","",{"$f":"SUM(U61+V61+X61+Y61+AA61+AC61)","v":70},80,null,null,null,null,{"$f":"Q61+BT61*0.25","v":14.61},"Delay Prioritization pending outcome of Future Interstate Designation; Exceeds cap of $15 million for Statewide & Regional Projects cascading to Division Needs",{"$f":"O61+BS61*0.25","v":18.190000000000001},null,null,"Bertie",89.61,"Martin",10.39,"","","","",1,"A","01, , ","Peanut Belt RPO, Mid-East RPO, ","Bertie, Martin, , ",14.46506022,14.46506022,"Multi-Lane Highway","Freeway",2,2,"Divided","Divided",54.750299643765302,70,12.233633194568,87.766366805432,11251.8102699428,72347.719571150898,0.15552404881092519,9875.3050737692665,1376.5051961735337,4433453.3141525285,617972.96167929168,5051426.2758318204,116798190,56.167965979999998,51.059687429999997,63.499901289999997,"","",79.840633949681404,2.9032765494878602E-4,"Yes","No",12,12,"No",1,4,"4 Lane with Median - Partial Control","4A - 4 Lane Divided (46' Depressed Median) with Paved Shoulders","None","Full",1,"Yes",21,226794000,62162000,7459000,296415000,"",296415000,296415000,""]
["H129515","Currituck","Albemarle RPO","Highway","Statewide Mobility","R-2576","- New Location Mid-Currituck Bridge","Coinjock","Corolla","Construct New Bridge Over Currituck Sound","5 - Construct Roadway on New Location",173304000,23.342830564038344,null,15.726629282408148,6.3,11.853563286896481,9,{"$f":"Q62+#REF!+R62","v":{"$error":"#REF!"}},null,5,0,2285.8539293439476,5,20,"Yes",20,"Yes",{"$f":"IF(AD62=\"Yes\",20,0)","v":20},"Yes",5,{"$f":"IF(BL60<999,20,IF(BL60<1499,15,IF(BL60<1999,10,IF(BL60<3999,5,IF(BL60>4000,0)))))","v":20},15,{"$f":"IF(AI62=\"Yes\",10,0)","v":0},"No",{"$f":"IF(AK62=\"Minimal\",15,0)","v":15},"Minimal",10,"Yes",0,"No",0,"No",18.793795397608299,8.9256870412685227,40.816150430087994,4.7268539468324926,100,15.360235206666667,25,25,null,null,null,"Albemarle RPO",100,"","","","","01",100,"","","","",70,65,null,null,null,null,11.853563286896481,"Exceeds cap of $15 million for Statewide & Regional Projects cascading to Division Needs",15.726629282408148,null,null,"Currituck",100,"","","","","","",1,"A","01, , ","Albemarle RPO, , ","Currituck, , , ",43.4,6.8671598999999999,"Multi-Lane Highway","Two Lane Highway",2,1,"Undivided","Undivided",48,55,8.5628675608103002,91.437132439189696,11040.35281,46072.965450000003,0.23962757122680498,10094.982020633501,945.37078936649846,62075426.132216401,5813214.3755113408,67888640.507727742,1546857267,39.093044159999998,53.593429299999997,29.774223899999999,"","",2016,5.7389172778583896E-3,"No","No",11,12,"No",3,4,"New Roadway","2A - 2 Lane Undivided with Paved Shoulders, 55 mph","None","None",2,"No",24,383281000,25592000,1947000,410820000,237516000,173304000,173304000,"Toll Revenue less Roadway Maintenance and Financing"]
["H090139","Currituck","Albemarle RPO","Highway","Statewide Mobility","R-2574","US-158 ","East of NC 34 at Belcross in Camden County","NC 168 in Currituck County","Widen to Multi-Lanes.","1 - Widen Existing Roadway",124500000,12.917806507523943,null,15.32,5.85,11.88,9,{"$f":"Q63+#REF!+R63","v":{"$error":"#REF!"}},null,5,0,1995.9908209645782,5,20,"Yes",20,"Yes",{"$f":"IF(AD63=\"Yes\",20,0)","v":20},"Yes",5,{"$f":"IF(BL61<999,20,IF(BL61<1499,15,IF(BL61<1999,10,IF(BL61<3999,5,IF(BL61>4000,0)))))","v":0},15,10,"No",{"$f":"IF(AK63=\"Minimal\",15,0)","v":15},"Minimal",10,"Yes",0,"No",0,"No",25.899192792202655,4.9311622489959836E-2,42.817742247555003,3.7513246389685184,1.0121603056695501,40.175551936000005,0,50,null,null,null,"Albemarle RPO",100,"","","","","01",100,"","","","",70,55,null,null,100,null,11.88,"Exceeds cap of $15 million for Statewide & Regional Projects cascading to Division Needs",40.32,null,null,"Currituck",81.819999999999993,"Camden",18.18,"","","","",1,"A","01, , ","Albemarle RPO, , ","Currituck, Camden, , ",10.2830142,10.2830142,"Two Lane Highway","Multi-Lane Highway",1,2,"Undivided","Divided",55,55,12.3687060697064,87.631293930293594,6065.8319760000004,15505.137360000001,0.39121433336337758,5315.5670482062969,750.26492779370369,232553.67338973124,32823.753964834919,265377.42735456617,6139297,47.387447479999999,46.640021480000001,34.438604390000002,"","",4,1.6243206113391E-5,"No","No",12,12,"No",0,2,"2 Lane Undivided","4A - 4 Lane Divided (46' Depressed Median) with Paved Shoulders","None","Partial",2,"Yes",32,82500000,40600000,1400000,124500000,"",124500000,124500000,""]
["H141680","Northampton","Peanut Belt RPO","Highway","Regional Impact","","NC-46 ","Virginia State Line","NC 48 in Gaston","Currently a 2-lane major thoroughfare from the Virginia State Line to NC 48 (TIP#U-2419), this project recommends to upgrade the existing facility to 24 feet w/ paved shoulders; while modifying sharp horizontal curves. This would provide safer maneuvering in a 12-foot lane; while tying in bike lane recommendations.\n","16 - Modernize Roadway",8587000,null,null,12.09,null,8.89,null,{"$f":"Q64+#REF!+R64","v":{"$error":"#REF!"}},null,5,15,226.17036161740458,0,20,"Yes",20,"Yes",{"$f":"IF(AD64=\"Yes\",10,0)","v":10},"Yes",5,{"$f":"IF(BL62<999,20,IF(BL62<1499,15,IF(BL62<1999,10,IF(BL62<3999,5,IF(BL62>4000,0)))))","v":0},15,{"$f":"IF(AI64=\"Yes\",10,0)","v":10},"Yes",15,"Minimal",10,"Yes",0,"No",0,"No",15.582930485979688,0,48.359228950130998,1.1083439460534406,"N/A",17.64857133735174,25,0,null,null,null,"Peanut Belt RPO",100,"","","","","01",100,"","","","",70,55,null,null,100,100,33.89,null,37.090000000000003,null,null,"Northampton",100,"","","","","","",1,"A","01, , ","Peanut Belt RPO, , ","Northampton, , , ",10.4059785999999,10.4059785999999,"Two Lane Highway","Two Lane Highway",1,1,"Undivided","Undivided",55,55,6.0754955492136,93.924504450786401,3648.5713373517401,15500,0.23539169918398323,3426.9025481410522,221.66878921068809,0,0,0,0,52.554759300000001,46.363860670000001,46.173576099999998,"","","","","No","No",11,12,"No",2,0,"2 Lane Undivided","3A - 2 Lane with Two Way Left Turn Lane, and Paved Shoulders","None","None",1,"No",27,8587000,0,0,8587000,"",8587000,8587000,""]
["H090286","Perquimans","Albemarle RPO","Highway","Statewide Mobility","R-4459","US-17 ","SR 1336 (Harvey Point Road) and SR 1338 (Wayne Fork Road)","","Convert at-Grade intersection to An interchange","7 - Upgrade At-grade Intersection to Interchange or Grade Separation",17124000,11.326621906015168,null,10.49,4.95,7.79,7.5,{"$f":"Q65+#REF!+R65","v":{"$error":"#REF!"}},null,5,15,485.15757135953902,10,20,"Yes",20,"Yes",{"$f":"IF(AD65=\"Yes\",20,0)","v":0},"no",5,{"$f":"IF(W65<999,20,IF(W65<1499,15,IF(W65<1999,10,IF(W65<3999,5,IF(W65>4000,0)))))","v":20},15,0,"No",{"$f":"IF(AK65=\"Minimal\",15,0)","v":15},"Minimal",10,"Yes",0,"No",0,"No",18.637613344626359,0.98769090165849105,33.299999999999997,9.1293282844147789,2.8316497524675701,58.660999040000007,0,25,null,null,null,"Albemarle RPO",100,"","","","","01",100,"","","","",70,65,null,null,null,null,7.79,"Exceeds cap of $15 million for Statewide & Regional Projects cascading to Division Needs",10.49,null,null,"Perquimans",100,"","","","","","",1,"A","01, , ","Albemarle RPO, , ","Perquimans, , , ",2,2,"Multi-Lane Highway","Freeway",2,2,"Divided","Divided",55,55,10.346093759894,89.653906240105997,17647.874640000002,91451.899420000002,0.19297439147710599,15822.008983117046,1825.8656568829558,660749.28898958117,76250.711010418774,737000,16913219,"","","",33.299999999999997,33.299999999999997,12,4.4632995049351403E-5,"No","No",12,12,"No",3,4,"2 Lane Undivided","","Limited","Full",2,"Yes",25.8,14934000,2190000,0,17124000,"",17124000,17124000,""]
["H141684","Northampton","Peanut Belt RPO","Highway","Regional Impact","","NC-305 ","Seaboard Town Limits","Hertford County Line","Currently a 2-lane major thoroughfare from Seaboard to Hertford County, NC 305 is recommended to be upgrade from its existing facility to 24 feet w/ paved shoulders. This would provides improved mobility between Jackson and Rich Square, while tying in with bike lane recommendations.  \n","16 - Modernize Roadway",340000,null,null,8.93,null,6.78,null,{"$f":"Q66+#REF!+R66","v":{"$error":"#REF!"}},null,5,15,6.4567141369090955,0,20,"Yes",20,"Yes",{"$f":"IF(AD66=\"Yes\",10,0)","v":10},"Yes",5,{"$f":"IF(BL64<999,20,IF(BL64<1499,15,IF(BL64<1999,10,IF(BL64<3999,5,IF(BL64>4000,0)))))","v":0},15,10,"Yes",15,"Minimal",10,"Yes",0,"No",0,"No",9.1026580263264592,0,33.738719173995001,1.2485128352237644,"N/A",12.13739033746937,25,0,null,null,null,"Peanut Belt RPO",100,"","","","","01",100,"","","","",70,55,null,null,null,100,31.78,null,8.93,null,"Estimated costs too low.","Northampton",100,"","","","","","",1,"A","01, , ","Peanut Belt RPO, , ","Northampton, , , ",24.636755659999899,24.636755659999899,"Two Lane Highway","Two Lane Highway",1,1,"Undivided","Undivided",51.703662517699499,51.703662517699499,11.682590805589401,88.317409194410601,2137.39033746937,15548.988304589,0.13746169818897852,1887.6877704246172,249.7025670447529,0,0,0,0,34.662762260000001,27.896578810000001,38.666939079999999,"","","","","No","No",11,12,"No",0,0,"2 Lane Undivided","3A - 2 Lane with Two Way Left Turn Lane, and Paved Shoulders","None","None",1,"No",25,340000,0,0,340000,"",340000,340000,""]
["B141773","Dare","Albemarle RPO","Bike & Ped","Division Needs",null,"NC 12 Duck","1174 Duck Road","Cook Drive","Construct Sidewalk on West side of NC 12","2. Construct multi-use trail / greenway / sidepath or on-road bike lane on local roadway",303600,null,null,null,null,20.72,13.5,{"$f":"Q67+#REF!+R67","v":{"$error":"#REF!"}},null,"N/A",null,14426.229508196724,null,null,"Yes",null,null,null,null,10,{"$f":"IF(W67<999,20,IF(W67<1499,15,IF(W67<1999,10,IF(W67<3999,5,IF(W67>4000,0)))))","v":0},15,10,"Yes",{"$f":"IF(AK67=\"Minimal\",15,0)","v":15},"Minimal",10,"Yes",0,"No",0,"No",null,null,62.5,null,null,null,null,null,null,null,null,"Albemarle RPO",null,null,null,null,null,null,null,null,null,null,null,null,{"$f":"SUM(AE67+AF67+AG67+AH67+AJ67+AL67+AN67)","v":60},null,null,null,null,null,null,null,null,null,"Dare County",null,null,null,null,null,null,null,null,null,null,null,null,null,0.69,null,null,null,null,null,null,null,null,null,null,{"$f":"305*0.1","v":30.5},null,null,null,null,null,null,null,null,null,null,null,null,null,null,null,null,null,null,null,null,null,null,null,null,null,null,null,null,null,385000,0,null,442000,138400,303600]
["B141770","Dare","Albemarle RPO","Bike & Ped","Division Needs",null,"NC 12 Duck","Four Seasons Lane","Cook Drive","Connect share path and construct sidewalk","5. Construct Sidewalk",286000,null,null,null,null,19.84,13.5,{"$f":"Q68+#REF!+R68","v":{"$error":"#REF!"}},null,"N/A",null,9712.7677237257158,null,null,"Yes",null,null,null,null,10,0,15,10,"Yes",15,"Minimal",10,"Yes",0,"No",0,"No",null,null,62.5,null,null,null,null,null,null,null,null,"Albemarle RPO",null,null,null,null,null,null,null,null,null,null,null,null,60,null,null,null,null,null,null,null,null,null,"Dare County",null,null,null,null,null,null,null,null,null,null,null,null,null,2.4700000000000002,null,null,null,null,null,null,null,null,null,null,{"$f":"317*0.1","v":31.700000000000003},null,null,null,null,null,null,null,null,null,null,null,null,null,null,null,null,null,null,null,null,null,null,null,null,null,null,null,null,null,365000,0,null,420000,134000,760500]
["B141788","Camden","Albemarle RPO","Bike & Ped","Division Needs",null,"SR 1216","US 17","End Pavement","Construct Sidewalks","5. Construct Sidewalk",200000,null,null,null,null,19.2234926866,8.25,{"$f":"Q69+#REF!+R69","v":{"$error":"#REF!"}},null,"N/A",null,18705.574261129816,null,null,"Yes",null,null,null,null,10,0,15,10,"Yes",15,"Minimal",10,"Yes",0,"No",0,"No",null,null,50,null,null,null,null,null,null,null,null,"Albemarle RPO",null,null,null,null,null,null,null,null,null,null,null,null,60,null,null,null,null,null,null,null,null,null,"Camden County",null,null,null,null,null,null,null,null,null,null,null,null,null,0.33,null,null,null,null,null,null,null,null,null,null,{"$f":"324*0.1","v":32.4},null,null,null,null,null,null,null,null,null,null,null,null,null,null,null,null,null,null,null,null,null,null,null,null,null,null,null,null,null,170000,0,null,200000,0,200000]
["B141479","Dare","Albemarle RPO","Bike & Ped","Division Needs",null,"Kill Devil Hills Multi Use Path","Eighth Street","Ocean Acres","Construct Multi use path","2. Construct multi-use trail / greenway / sidepath or on-road bike lane on local roadway",414000,null,null,null,null,15.233988893053294,9.75,{"$f":"Q70+#REF!+R70","v":{"$error":"#REF!"}},null,"N/A",null,16290.726817042605,null,null,"Yes",null,null,null,null,10,0,15,10,"Yes",15,"Minimal",10,"Yes",0,"No",0,"No",null,null,55,null,null,null,null,null,null,null,null,"Albemarle RPO",null,null,null,null,null,null,null,null,null,null,null,null,60,null,null,null,null,null,null,null,null,null,"Dare County",null,null,null,null,null,null,null,null,null,null,null,null,null,0.36,null,null,null,null,null,null,null,null,null,null,{"$f":"798*0.1","v":79.800000000000011},null,null,null,null,null,null,null,null,null,null,null,null,null,null,null,null,null,null,null,null,null,null,null,null,null,null,null,null,null,360000,0,null,414000,0,468000]
["B141368","Dare","Albemarle RPO","Bike & Ped","Division Needs",null,"US 158","Worthington Lane","Jejac Street","Construct approximately 8200' of sidewalk on the west side of US 158","5. Construct Sidewalk",405375,null,null,null,null,14.980262092711737,9.75,{"$f":"Q71+#REF!+R71","v":{"$error":"#REF!"}},null,"N/A",null,2732.7935222672068,null,null,"Yes",null,null,null,null,5,5,15,10,"Yes",15,"Minimal",10,"Yes",0,"No",0,"No",null,null,42.5,null,null,null,null,null,null,null,null,"Albemarle RPO",null,null,null,null,null,null,null,null,null,null,null,null,60,null,null,null,null,null,null,null,null,null,"Dare County",null,null,null,null,null,null,null,null,null,null,null,null,null,3.12,null,null,null,null,null,null,null,null,null,null,{"$f":"950*0.1","v":95},null,null,null,null,null,null,null,null,null,null,null,null,null,null,null,null,null,null,null,null,null,null,null,null,null,null,null,null,null,385375,0,null,405375,0,810000]
["B141956","Camden","Albemarle RPO","Bike & Ped","Division Needs",null,"Dismal Swamp Trail","McPherson Road",null,"Construct a 10' wide trail running between US 17 and the historic Dismal Swamp. (Phase 1)","2. Construct multi-use trail / greenway / sidepath or on-road bike lane on local roadway",400000,null,null,null,null,14.580441313826976,7.5,{"$f":"Q72+#REF!+R72","v":{"$error":"#REF!"}},null,"N/A",null,94562.647754137128,null,null,"Yes",null,null,null,null,10,0,15,10,"Yes",15,"Minimal",10,"Yes",0,"No",0,"No",null,null,50,null,null,null,null,null,null,null,null,"Albemarle RPO",null,null,null,null,null,null,null,null,null,null,null,null,60,null,null,null,null,null,null,null,null,null,"Camden County",null,null,null,null,null,null,null,null,null,null,null,null,null,0.47,null,null,null,null,null,null,null,null,null,null,{"$f":"90*0.1","v":9},null,null,null,null,null,null,null,null,null,null,null,null,null,null,null,null,null,null,null,null,null,null,null,null,null,null,null,null,null,380000,0,null,400000,0,400000]
["B141965","Camden","Albemarle RPO","Bike & Ped","Division Needs",null,"Dismal Swamp Trail",null,null,"Construct a 10' wide trail running between US 17 and the historic Dismal Swamp (Phase 2)","2. Construct multi-use trail / greenway / sidepath or on-road bike lane on local roadway",400000,null,null,null,null,14.551587373051026,7.5,{"$f":"Q73+#REF!+R73","v":{"$error":"#REF!"}},null,"N/A",null,120809.42313500452,null,null,"Yes",null,null,null,null,10,0,15,10,"Yes",15,"Minimal",10,"Yes",0,"No",0,"No",null,null,50,null,null,null,null,null,null,null,null,"Albemarle RPO",null,null,null,null,null,null,null,null,null,null,null,null,60,null,null,null,null,null,null,null,null,null,"Camden County",null,null,null,null,null,null,null,null,null,null,null,null,null,0.43,null,null,null,null,null,null,null,null,null,null,{"$f":"77*0.1","v":7.7},null,null,null,null,null,null,null,null,null,null,null,null,null,null,null,null,null,null,null,null,null,null,null,null,null,null,null,null,null,380000,0,null,400000,0,400000]
["H090124-B","Dare","Peanut Belt RPO","Highway","Statewide Mobility","R-2544B","US-64 ","West of SR 1102 (East Lake Road)","East of Dare County Landfill","Widen to Multi-Lanes.","1 - Widen Existing Roadway",26450000,7.7762964530412519,null,7.4354279530602927,6.3,4.9569519687068624,9,{"$f":"Q74+#REF!+R74","v":{"$error":"#REF!"}},null,{"$f":"IF(AT74<30,0,IF(AT74<50,5,IF(AT74<65,10,IF(AT74>66,15))))","v":5},{"$f":"IF(W74<499,15,IF(W74<999,10,IF(W74<1499,5,IF(W74>1500,0))))","v":5},1021.2769561031048,{"$f":"IF(DC74<500,0,IF(DC74<1000,5,IF(DC74>1000,10)))","v":0},{"$f":"IF(Z74=\"Yes\",20,0)","v":20},"Yes",{"$f":"IF(AB74=\"Yes\",20,0)","v":20},"Yes",{"$f":"IF(AD74=\"Yes\",20,0)","v":20},"Yes",5,15,15,0,"No",15,"Minimal",10,"Yes",0,"No",0,"No",12.646326065699627,0,36.923193621368995,1.4503963559723212,0,15.895993893333333,0,0,null,null,null,"Albemarle RPO",100,"","","","","01",100,"","","","",{"$f":"SUM(U74+V74+X74+Y74+AA74+AC74)","v":70},{"$f":"SUM(AE74+AF74+AG74+AH74+AJ74+AL74+AN74+AP74)","v":60},null,null,null,null,{"$f":"Q74+BT74*0.25","v":4.9569519687068624},"Exceeds cap of $15 million for Statewide & Regional Projects cascading to Division Needs",{"$f":"O74+BS74*0.25","v":7.4354279530602927},null,null,"Dare",100,"","","","","","",1,"A","01, , ","Albemarle RPO, , ","Dare, , , ",8.7466968000000005,8.7466968000000005,"Two Lane Highway","Multi-Lane Highway",1,2,"Undivided","Divided",55,55,9.796673270458701,90.203326729541303,2960.9977100000001,15499.99951,0.19103211636166045,2670.918438805536,290.07927119446424,0,0,0,0,44.270671739999997,26.617315269999999,39.892671919999998,"","",0,0,"No","No",12,12,"No",0,0,"2 Lane Undivided","4A - 4 Lane Divided (46' Depressed Median) with Paved Shoulders","None","Partial",2,"Yes",24,23300000,2100000,1050000,26450000,"",26450000,26450000,""]
["B141867","Chowan","Albemarle RPO","Bike & Ped","Division Needs",null,";;",";;",";;","Connect path where existing sidewalk stops near Twiddy Ave. and extend towards Pembroke to the west side of town, connecting  residential subdivisions and over the US 17 bypass overpass, terminating at the new Chowan River fishing pier. (Phase 1)","2. Construct multi-use trail / greenway / sidepath or on-road bike lane on local roadway",400000,null,null,null,null,9.2594271087650011,3.75,{"$f":"Q75+#REF!+R75","v":{"$error":"#REF!"}},null,"N/A",null,1871.3051080641271,null,null,"Yes",null,null,null,null,0,10,15,10,"Yes",15,"Minimal",10,"Yes",0,"No",0,"No",null,null,12.5,null,null,null,null,null,null,null,null,"Albemarle RPO",null,null,null,null,null,null,null,null,null,null,null,null,{"$f":"SUM(AE75+AF75+AG75+AH75+AJ75+AL75+AN75)","v":60},null,null,null,null,null,null,null,null,null,"Chowan County",null,null,null,null,null,null,null,null,null,null,null,null,null,0.96,null,null,null,null,null,null,null,null,null,null,{"$f":"2226.61*0.1","v":222.66100000000003},null,null,null,null,null,null,null,null,null,null,null,null,null,null,null,null,null,null,null,null,null,null,null,null,null,null,null,null,null,380000,0,null,400000,0,400000]
["H090284","Dare","Albemarle RPO","Highway","Statewide Mobility","R-4457","US-158 ","NC 12","","Improve intersection ","7 - Upgrade At-grade Intersection to Interchange or Grade Separation",23870000,25.088572426440816,null,23.24,6.3,17.98,9,{"$f":"Q76+#REF!+R76","v":{"$error":"#REF!"}},null,{"$f":"IF(AT76<30,0,IF(AT76<50,5,IF(AT76<65,10,IF(AT76>66,15))))","v":10},{"$f":"IF(W76<499,15,IF(W76<999,10,IF(W76<1499,5,IF(W76>1500,0))))","v":5},1254.6033770323088,{"$f":"IF(DC76<500,0,IF(DC76<1000,5,IF(DC76>1000,10)))","v":10},{"$f":"IF(Z76=\"Yes\",20,0)","v":20},"Yes",{"$f":"IF(AB76=\"Yes\",20,0)","v":20},"Yes",{"$f":"IF(AD76=\"Yes\",20,0)","v":0},"No",10,{"$f":"IF(BL74<999,20,IF(BL74<1499,15,IF(BL74<1999,10,IF(BL74<3999,5,IF(BL74>4000,0)))))","v":0},15,0,"No",15,"Minimal",10,"Yes",0,"No",0,"No",54.50533413736671,0.3082017176372015,50,17.576238950973607,1.2926387974492148,100,0,75,null,null,null,"Albemarle RPO",100,"","","","","01",100,"","","","",{"$f":"SUM(U76+V76+X76+Y76+AA76+AC76)","v":65},{"$f":"SUM(AE76+AF76+AG76+AH76+AJ76+AL76+AN76+AP76)","v":50},null,null,null,null,{"$f":"Q76+BT76*0.25","v":17.98},null,{"$f":"O76+BS76*0.25","v":23.24},null,null,"Dare",100,"","","","","","",1,"A","01, , ","Albemarle RPO, , ","Dare, , , ",0.5,0.5,"Arterial","Arterial",2,2,"TWLTL","Divided",50.0000000000014,50.0000000000014,9.2380430429066998,90.761956957093304,38051.866329999997,58117.244420000003,0.6547431267561119,34536.618539805277,3515.2477901947218,292253.50140184048,29746.498598159575,322000.00000000006,7356775,"","","",66.7,33.299999999999997,5,2.0852775948984299E-5,"No","No",12,12,"No",1,4,"4 Lane with TWLTL (Five Lane)","","None","Partial",2,"Yes",18.899999992478101,19250000,4620000,0,23870000,"",23870000,23870000,""]
["H129108","Martin","Mid-East RPO","Highway","Regional Impact","R-3826","NC-125 NC 125","SR 1182 (East of College Road)","NC 125 Northwest of Williamston","Construct Two Lanes, Part on New Location","5 - Construct Roadway on New Location",13455000,null,null,16.96,null,13.65,null,{"$f":"Q77+#REF!+R77","v":{"$error":"#REF!"}},null,{"$f":"IF(AT77<30,0,IF(AT77<50,5,IF(AT77<65,10,IF(AT77>66,15))))","v":5},{"$f":"IF(W77<499,15,IF(W77<999,10,IF(W77<1499,5,IF(W77>1500,0))))","v":10},807.05092750951746,{"$f":"IF(DC77<500,0,IF(DC77<1000,5,IF(DC77>1000,10)))","v":0},{"$f":"IF(Z77=\"Yes\",20,0)","v":20},"Yes",{"$f":"IF(AB77=\"Yes\",20,0)","v":20},"Yes",{"$f":"IF(AD77=\"Yes\",10,0)","v":10},"Yes",5,{"$f":"IF(BL75<999,20,IF(BL75<1499,15,IF(BL75<1999,10,IF(BL75<3999,5,IF(BL75>4000,0)))))","v":20},15,10,"Yes",15,"Minimal",10,"Yes",0,"No",0,"No",22.757972274033232,4.6692109996283913,34.092816780692999,2.0332975245396128,"N/A",11.222159958999999,25,50,null,null,null,"Mid-East RPO",100,"","","","","01",100,"","","","",{"$f":"SUM(U77+V77+X77+Y77+AA77+AC77)","v":65},75,null,null,100,100,{"$f":"Q77+BT77*0.25","v":38.65},null,{"$f":"O77+BS77*0.25","v":41.96},null,null,"Martin",100,"","","","","","",1,"A","01, , ","Mid-East RPO, , ","Martin, , , ",3.6,2.3084244100000002,"Arterial","Arterial",1,1,"Undivided","Undivided",42,40,5.6307186107274996,94.369281389272501,7222.1599589999996,21809.21213,0.33115180484055384,6815.5004540920772,406.65950490792255,2633056.1127941757,157106.18793675935,2790162.3007309353,62824234,27.046175269999999,38.234234950000001,37.008268989999998,"","","","","No","No",11,12,"No",0,2,"New Roadway","2B - 2 Lane Undivided with Paved Shoulders, 25-45 mph","None","None",1,"No",22,10800000,2400000,255000,13455000,"",13455000,13455000,""]
["H090102","Martin","Mid-East RPO","Highway","Statewide Mobility","R-2511","US-17 ","Washington Bypass North of NC 171","Multi-Lanes South of Williamston","Widen to Multi-Lanes.","1 - Widen Existing Roadway",72100000,13.736271562618974,null,13.18,null,9.6199999999999992,null,{"$f":"Q78+#REF!+R78","v":{"$error":"#REF!"}},null,{"$f":"IF(AT78<30,0,IF(AT78<50,5,IF(AT78<65,10,IF(AT78>66,15))))","v":5},{"$f":"IF(W78<499,15,IF(W78<999,10,IF(W78<1499,5,IF(W78>1500,0))))","v":5},1431.1007695384499,{"$f":"IF(DC78<500,0,IF(DC78<1000,5,IF(DC78>1000,10)))","v":5},{"$f":"IF(Z78=\"Yes\",20,0)","v":20},"Yes",{"$f":"IF(AB78=\"Yes\",20,0)","v":20},"Yes",{"$f":"IF(AD78=\"Yes\",10,0)","v":10},"Yes",5,{"$f":"IF(BL76<999,20,IF(BL76<1499,15,IF(BL76<1999,10,IF(BL76<3999,5,IF(BL76>4000,0)))))","v":0},15,10,"Yes",15,"Minimal",10,"Yes",0,"No",0,"No",21.525655987638711,4.5849292649098476E-2,49.622986325087993,11.243927572853604,0.53735831453110849,17.119984946000002,0,25,null,null,null,"Mid-East RPO",100,"","","","","01",61.75,"02",38.25,"","",{"$f":"SUM(U78+V78+X78+Y78+AA78+AC78)","v":65},55,null,null,100,null,{"$f":"Q78+BT78*0.25","v":9.6199999999999992},"Exceeds cap of $15 million for Statewide & Regional Projects cascading to Division Needs",{"$f":"O78+BS78*0.25","v":38.18},null,null,"Martin",61.75,"Beaufort",38.25,"","","","",1,"A","01, 02, ","Mid-East RPO, , ","Martin, Beaufort, , ",9.9962002000000005,9.9962002000000005,"Two Lane Highway","Multi-Lane Highway",1,2,"Undivided","Divided",55,55,12.3607401176475,87.639259882352505,5039.9949820000002,15500,0.32516096658064519,4417.0143003325056,622.98068166749499,125234.98255004203,17663.283270730833,142898.26582077285,3305734,70.895399049999995,20.985946729999998,57.002501580000001,"","",2,8.7471662906221696E-6,"Yes","No",12,12,"No",1,2,"2 Lane Undivided","4A - 4 Lane Divided (46' Depressed Median) with Paved Shoulders","None","Partial",1,"Yes",21,51700000,16000000,4400000,72100000,"",72100000,72100000,""]
["A130009","Pasquotank","Albemarle RPO","Aviation","Division Needs",null,"Elizabeth City Coast Guard Air Station/Regional",null,null,"Install MALS/MALSF/MALSR",null,900000,null,null,null,null,12.05,13.5,{"$f":"Q79+#REF!+R79","v":{"$error":"#REF!"}},null,"N/A",null,3176.8308782313661,null,null,"Yes",{"$f":"IF(AB79=\"Yes\",10,0)","v":0},null,{"$f":"IF(AD79=\"Yes\",10,0)","v":0},null,0,{"$f":"IF(W79<999,20,IF(W79<1499,15,IF(W79<1999,10,IF(W79<3999,5,IF(W79>4000,0)))))","v":5},15,10,"Yes",{"$f":"IF(AK79=\"Minimal\",15,0)","v":15},"Minimal",10,"Yes",{"$f":"IF(AO79=\"Yes\",5,0)","v":5},"Yes",0,"No",null,null,null,null,null,null,null,null,null,null,null,"Albemarle RPO",null,null,null,null,null,null,null,null,null,null,null,null,60,null,null,null,null,null,null,null,null,null,"Pasquotank",null,null,null,null,null,null,null,null,null,null,null,null,null,0.86,null,null,null,null,null,null,null,null,null,null,164.71,null,null,null,null,null,null,null,null,null,null,null,null,null,null,null,null,null,null,null,null,null,null,null,null,null,null,null,null,null,null,null,null,1000000,null,450000]
["A130010","Pasquotank","Albemarle RPO","Aviation","Division Needs",null,"Elizabeth City Coast Guard Air Station/Regional",null,null,"Acquire Equipment Shelter",null,490500,null,null,null,null,7.11,13.5,{"$f":"Q80+#REF!+R80","v":{"$error":"#REF!"}},null,"N/A",null,3462.7456572721894,null,null,"Yes",{"$f":"IF(AB80=\"Yes\",10,0)","v":0},null,{"$f":"IF(AD80=\"Yes\",10,0)","v":0},null,0,5,15,10,"Yes",15,"Minimal",10,"Yes",{"$f":"IF(AO80=\"Yes\",5,0)","v":5},"Yes",0,"No",null,null,null,null,null,null,null,null,null,null,null,"Albemarle RPO",null,null,null,null,null,null,null,null,null,null,null,null,60,null,null,null,null,null,null,null,null,null,"Pasquotank",null,null,null,null,null,null,null,null,null,null,null,null,null,0.86,null,null,null,null,null,null,null,null,null,null,164.71,null,null,null,null,null,null,null,null,null,null,null,null,null,null,null,null,null,null,null,null,null,null,null,null,null,null,null,null,null,null,null,null,545000,null,490500]
["H129070-B","Dare","Albemarle RPO","Highway","Statewide Mobility","R-2545B","US-64 ","West of Alligator River","East of SR 1153 (Old Ferry Landing Road)","Widen to Multi-Lanes and construct new multi-lane bridge","1 - Widen Existing Roadway",209520000,8.7940938845902572,null,10.91,6.3,8.11,9,{"$f":"Q81+#REF!+R81","v":{"$error":"#REF!"}},null,{"$f":"IF(AT81<30,0,IF(AT81<50,5,IF(AT81<65,10,IF(AT81>66,15))))","v":5},{"$f":"IF(W81<499,15,IF(W81<999,10,IF(W81<1499,5,IF(W81>1500,0))))","v":0},{"$f":"(EH81/CY81)/CN81","v":29096.895469661078},{"$f":"IF(DC81<500,0,IF(DC81<1000,5,IF(DC81>1000,10)))","v":0},{"$f":"IF(Z81=\"Yes\",20,0)","v":20},"Yes",{"$f":"IF(AB81=\"Yes\",20,0)","v":20},"Yes",{"$f":"IF(AD81=\"Yes\",20,0)","v":20},"Yes",{"$f":"IF(AT81<30,0,IF(AT81<50,5,IF(AT81<65,10,IF(AT81<79,15,IF(AT81>80,20)))))","v":5},0,{"$f":"IF(Z81=\"Yes\",15,0)","v":15},10,"No",15,"Minimal",{"$f":"IF(AM81=\"Yes\",10,0)","v":10},"Yes",{"$f":"IF(AO81=\"Yes\",10,0)","v":0},"No",0,"No",14.270585729083869,1.1163993890798015E-3,41.794293499331999,1.6490928707611838,3.3353219629360747E-2,16.910134090666666,25,0,null,null,null,"Albemarle RPO",100,"","","","","01",100,"","","","",{"$f":"SUM(U81+V81+X81+Y81+AA81+AC81)","v":65},55,null,null,null,null,{"$f":"Q81+BT81*0.25","v":8.11},"Exceeds cap of $15 million for Statewide & Regional Projects cascading to Division Needs",{"$f":"O81+BS81*0.25","v":10.91},null,null,"Dare",100,"","","","","","",1,"A","01, , ","Albemarle RPO, , ","Dare, , , ",2.1550796399999999,2.1550796399999999,"Two Lane Highway","Multi-Lane Highway",1,2,"Undivided","Divided",55,55,9.8709647777421008,90.129035222257897,3341.3002839999999,15500,0.21556776025806451,3011.4817098477629,329.81857415223675,9203.9757762141344,1008.0227806517644,10211.998556865899,233908,51.108556550000003,38.599637540000003,35.687225949999998,"","",0,6.6706439258721495E-7,"No","No",12,12,"No",0,0,"2 Lane Undivided","4A - 4 Lane Divided (46' Depressed Median) with Paved Shoulders","None","Partial",2,"Yes",24,208200000,1220000,100000,209520000,"",209520000,209520000,""]
["H090146","Pasquotank","Albemarle RPO","Highway","Statewide Mobility","R-2579","US-158 ","NC 32 in Sunbury in Gates County","US 17 at Morgan's County in Pasquotank County","Widen to Multi-Lanes.","1 - Widen Existing Roadway",116900000,10.169185073380103,null,9.8457510643364152,3.6,6.5632928241854991,5.25,{"$f":"Q82+#REF!+R82","v":{"$error":"#REF!"}},null,5,0,1998.9636506206675,0,20,"Yes",20,"Yes",{"$f":"IF(AD82=\"Yes\",20,0)","v":20},"Yes",5,10,15,10,"No",15,"Minimal",10,"Yes",0,"No",0,"No",16.037487030331597,1.6236561163387512E-2,49.579204650359998,1.8147225661842494,0.32203017658757549,44.018879968,0,0,null,null,null,"Albemarle RPO",100,"","","","","01",100,"","","","",65,65,null,null,null,null,6.5632928241854991,"Exceeds cap of $15 million for Statewide & Regional Projects cascading to Division Needs",9.8457510643364152,null,null,"Pasquotank",50.79,"Gates",49.21,"","","","",1,"A","01, , ","Albemarle RPO, , ","Pasquotank, Gates, , ",15.565360119999999,15.565360119999999,"Two Lane Highway","Multi-Lane Highway",1,2,"Undivided","Divided",55,55,9.6602817719101992,90.339718228089794,3757.079988,15509.470209999999,0.24224425058552662,3394.1354747631499,362.9445132368499,74923.879907980401,8011.8225466282393,82935.702454608647,1898054,55.621653420000001,44.958995770000001,48.171840009999997,"","",1,5.4406035317515099E-6,"No","No",12,12,"No",1,0,"2 Lane Undivided","4A - 4 Lane Divided (46' Depressed Median) with Paved Shoulders","None","Partial",2,"Yes",37,91500000,20000000,5400000,116900000,"",116900000,116900000,""]
["H090868","Gates","Albemarle RPO","Highway","Regional Impact","","NC-32 ","Chowan County","Virginia State Line","Widen to Multi-Lanes from Chowan County to Virginia Border","1 - Widen Existing Roadway",164732000,null,null,8.6051018168922653,3.6,5.7367345445948441,5.25,{"$f":"Q83+#REF!+R83","v":{"$error":"#REF!"}},null,5,0,3736.084845243709,0,20,"Yes",20,"Yes",{"$f":"IF(AD83=\"Yes\",20,0)","v":20},"Yes",5,5,15,10,"No",15,"Minimal",10,"Yes",0,"No",0,"No",11.331138193748444,0,46.036207252199993,1.1899936567631844,"N/A",43.959183177,0,0,null,null,null,"Albemarle RPO",100,"","","","","01",100,"","","","",65,60,null,null,null,null,5.7367345445948441,"Exceeds cap of $15 million for Statewide & Regional Projects cascading to Division Needs",8.6051018168922653,null,null,"Gates",100,"","","","","","",1,"A","01, , ","Albemarle RPO, , ","Gates, , , ",16.61934853,16.61934853,"Two Lane Highway","Multi-Lane Highway",1,2,"Undivided","Divided",55,55,8.9707219720884996,91.029278027911502,2653.0610590000001,15500.00001,0.17116522950247406,2415.0623276473634,237.99873135263687,0,0,0,0,52.038928579999997,41.030888079999997,45.052617339999998,"","","","","No","No",12,12,"No",0,0,"2 Lane Undivided","4A - 4 Lane Divided (46' Depressed Median) with Paved Shoulders","None","Partial",1,"Yes",38,106020000,52421000,6291000,164732000,"",164732000,164732000,""]
["H090145","Gates","Albemarle RPO","Highway","Statewide Mobility","R-2578","US-158 ","US 13","NC 32 in Sunbury","Widen to Multi-Lanes.","1 - Widen Existing Roadway",110400000,8.2154544470739186,null,8.1873220710655996,4.95,5.4582147140437334,7.5,{"$f":"Q84+#REF!+R84","v":{"$error":"#REF!"}},null,5,0,2636.408006233883,0,20,"Yes",20,"Yes",{"$f":"IF(AD84=\"Yes\",20,0)","v":20},"Yes",5,5,15,10,"No",15,"Minimal",10,"Yes",0,"No",0,"No",11.950545640279334,0,42.631601500157998,1.8356530248715976,0,48.394265506000004,0,0,null,null,null,"Albemarle RPO",100,"","","","","01",100,"","","","",65,60,null,null,null,null,5.4582147140437334,"Exceeds cap of $15 million for Statewide & Regional Projects cascading to Division Needs",8.1873220710655996,null,null,"Gates",100,"","","","","","",1,"A","01, , ","Albemarle RPO, , ","Gates, , , ",14.96563003,14.96563003,"Two Lane Highway","Multi-Lane Highway",1,2,"Undivided","Divided",55,55,13.120764575956201,86.879235424043799,2798.0885020000001,15500.00013,0.18052183732465557,2430.9578970256807,367.13060497431951,0,0,0,0,42.384867309999997,36.449745309999997,49.072982639999999,"","",0,0,"No","No",12,12,"No",0,0,"2 Lane Undivided","4A - 4 Lane Divided (46' Depressed Median) with Paved Shoulders","None","Partial",1,"Yes",40,65000000,35500000,9900000,110400000,"",110400000,110400000,""]
["H141650","Northampton","Peanut Belt RPO","Highway","Regional Impact","","US-258 ","Halifax County Line","Rich Square Town Limits","Currently a 2-lane major thoroughfare, it is recommended to widen to 24 feet w/ paved shoulders where necessary from Halifax County line to Rich Square town limits. Provides continuity with Halifax County CTP recommendations, which were based on recommendations in the Edgecombe County CTP.\n","16 - Modernize Roadway",701000,null,null,6.001844019965354,null,4.0012293466435693,null,{"$f":"Q85+#REF!+R85","v":{"$error":"#REF!"}},null,0,15,45.604565057177851,0,20,"Yes",20,"Yes",{"$f":"IF(AD85=\"Yes\",10,0)","v":10},"Yes",0,20,15,{"$f":"IF(AI85=\"Yes\",10,0)","v":10},"Yes",15,"Minimal",10,"Yes",0,"No",0,"No",11.153476270105694,0,28.858817196330001,1.999890922488379,"N/A",12.61146520254281,0,0,null,null,null,"Peanut Belt RPO",100,"","","","","01",100,"04","","","",65,70,null,null,null,100,29.001229346643569,null,6.001844019965354,null,null,"Northampton",100,"Halifax","","","","","",1,"A","01, 04, ","Peanut Belt RPO, , ","Northampton, Halifax, , ",5.88607046,5.88607046,"Two Lane Highway","Two Lane Highway",1,1,"Undivided","Undivided",55.000040093698097,55.000040093698097,15.316236421921801,84.683763578078199,2611.4652025428099,15500.011299133101,0.16848150315147617,2211.4870180451339,399.97818449767578,0,0,0,0,29.796681070000002,26.991747960000001,29.796681070000002,"","","","","No","No",12,12,"No",4,0,"2 Lane Undivided","3A - 2 Lane with Two Way Left Turn Lane, and Paved Shoulders","None","None",1,"No",25,701000,0,0,701000,"",701000,701000,""]
["H129070-AA","Tyrrell","Albemarle RPO","Highway","Statewide Mobility","R-2545AA","US-64 ","East of Columbia","West of SR 1229 (Old US 64) at Alligator River","Widen to Multi-Lanes.","1 - Widen Existing Roadway",20780000,5.3659988106159062,null,2.4071891913157408,6.3,1.6040208211594833,9,{"$f":"Q86+#REF!+R86","v":{"$error":"#REF!"}},null,0,5,1402.7886202635034,0,20,"Yes",20,"Yes",{"$f":"IF(AD86=\"Yes\",20,0)","v":20},"Yes",0,15,15,10,"No",{"$f":"IF(AK86=\"Minimal\",15,0)","v":15},"Minimal",10,"Yes",0,"No",0,"No",16.017049020064515,2.3159191530317612E-2,0,1.8563572953123741,1.8266488807498149,31.250646215000003,0,0,null,null,null,"Albemarle RPO",100,"","","","","01",100,"","","","",65,65,null,null,null,null,1.6040208211594833,"Exceeds cap of $15 million for Statewide & Regional Projects cascading to Division Needs",2.4071891913157408,null,null,"Tyrrell",100,"","","","","","",1,"A","01, , ","Albemarle RPO, , ","Tyrrell, , , ",3.95,3.95,"Two Lane Highway","Multi-Lane Highway",1,2,"Undivided","Divided",55,55,9.9000035722608004,90.0999964277392,3750.2154049999999,15500,0.24194938096774193,3378.9439459375253,371.27145906247483,18928.229631697483,2079.7952097663565,21008.024841463841,481248,0,0,0,"","",7,2.9532977614996302E-5,"No","No",12,12,"No",0,0,"2 Lane Undivided","4A - 4 Lane Divided (46' Depressed Median) with Paved Shoulders","None","Partial",1,"Yes",30,17800000,1730000,1250000,20780000,"",20780000,20780000,""]
["H129070-AB","Tyrrell","Albemarle RPO","Highway","Statewide Mobility","R-2545AB","US-64 ","West of SR 1229 (Old US 64) at Alligator River","West of Alligator River","Widen to Multi-Lanes.","1 - Widen Existing Roadway",44850000,5.2027678758907117,null,2.4071000419728881,6.3,1.6039762464880569,9,{"$f":"Q87+#REF!+R87","v":{"$error":"#REF!"}},null,0,5,1430.3182031467043,0,20,"Yes",20,"Yes",{"$f":"IF(AD87=\"Yes\",20,0)","v":20},"Yes",0,15,15,10,"No",{"$f":"IF(AK87=\"Minimal\",15,0)","v":15},"Minimal",10,"Yes",0,"No",{"$f":"IF(AQ87=\"Yes\",10,0)","v":0},"No",16.017049020064515,2.2713444816053512E-2,0,1.8563572953123741,0.19567677364066899,31.250646215000003,0,0,null,null,null,"Albemarle RPO",100,"","","","","01",100,"","","","",65,65,null,null,null,null,1.6039762464880569,"Exceeds cap of $15 million for Statewide & Regional Projects cascading to Division Needs",2.4071000419728881,null,null,"Tyrrell",100,"","","","","","",1,"A","01, , ","Albemarle RPO, , ","Tyrrell, , , ",8.3612954199999994,8.3612954199999994,"Two Lane Highway","Multi-Lane Highway",1,2,"Undivided","Divided",55,55,9.9000035722608004,90.0999964277392,3750.2154049999999,15500,0.24194938096774193,3378.9439459375253,371.27145906247483,40066.96701980244,4402.4764966980465,44469.443516500483,1018698,0,0,0,"","",1,2.91353547281338E-6,"No","No",12,12,"No",0,0,"2 Lane Undivided","4A - 4 Lane Divided (46' Depressed Median) with Paved Shoulders","None","Partial",1,"Yes",30,41500000,1300000,2050000,44850000,"",44850000,44850000,""]
["H090442","Dare","Albemarle RPO","Highway","Statewide Mobility","U-3815","US-64 ","US 64 Business/NC 345","","US 64-US 64 Bypass-NC 345.  Improve intersection.","10 - Improve Intersection",1550000,26.823169613838097,null,21.9385617456722,5.85,13.654173443351365,9,{"$f":"Q88+#REF!+R88","v":{"$error":"#REF!"}},null,15,15,139.0264115479155,10,20,"Yes",0,"No",{"$f":"IF(AD88=\"Yes\",20,0)","v":0},"No",20,{"$f":"IF(BL86<999,20,IF(BL86<1499,15,IF(BL86<1999,10,IF(BL86<3999,5,IF(BL86>4000,0)))))","v":0},15,{"$f":"IF(AI88=\"Yes\",10,0)","v":0},"No",{"$f":"IF(AK88=\"Minimal\",15,0)","v":0},"Significant",{"$f":"AP88","v":0},"No",0,"No",0,"No",24.045702820610419,29.146031612903226,83.35,8.2540013041944356,8.7984902294512004,14.865280946666667,0,0,null,null,null,"Albemarle RPO",100,"","","","","01",100,"","","","",60,35,null,null,null,null,13.654173443351365,"Minimal Local Support",21.9385617456722,null,null,"Dare",100,"","","","","","",1,"A","01, , ","Albemarle RPO, , ","Dare, , , ",0.5,0.5,"Multi-Lane Highway","Multi-Lane Highway",2,2,"Undivided","Undivided",52.507045460133803,55,7.4033818208643005,92.596618179135703,22297.921419999999,88445.592550000001,0.25210890421017368,20647.121159161114,1650.800260838887,1844524.6341283831,147475.36587161687,1992000,45176349,"","","",66.7,100,33,1.4296980458902399E-4,"No","No",12,12,"No",4,4,"2 Lane Undivided","","Limited","Partial",2,"No",14.753019576345601,1250000,300000,0,1550000,"",1550000,1550000,""]
["H112082","Dare","Albemarle RPO","Highway","Division Needs","","SR-1208 W. Kitty Hawk Road","SR 1210 (Bob Perry Road)","Ivy Lane","Modernize Roadway with Wide Shoulders For Bicyclists","16 - Modernize Roadway",2736000,null,null,null,null,9.57,6.75,{"$f":"Q89+#REF!+R89","v":{"$error":"#REF!"}},null,"N/A",null,2827.9496762997946,null,null,"Yes",null,null,null,null,5,{"$f":"IF(W89<999,20,IF(W89<1499,15,IF(W89<1999,10,IF(W89<3999,5,IF(W89>4000,0)))))","v":5},15,10,"No",{"$f":"IF(AK89=\"Minimal\",15,0)","v":15},"Minimal",{"$f":"IF(AM89=\"Yes\",10,0)","v":10},"Yes",0,"No",0,"No",3.8196962025316457,0,41.863874847167999,0,"N/A","N/A",50,0,null,null,null,"Albemarle RPO",100,"","","","","01",100,"","","","",null,60,null,null,null,100,34.57,null,null,null,null,"Dare",100,"","","","","","",1,"A","01, , ","Albemarle RPO, , ","Dare, , , ",1.06317076,1.06317076,"Arterial","Arterial",1,1,"Undivided","Undivided",35,35,0,100,910,15800,5.7594936708860761E-2,910,0,0,0,0,0,31.412820159999999,47.095682400000001,47.095682400000001,"","","","","No","No",9,11,"No",0,0,"2 Lane Undivided","","None","None",2,"No",18,2736000,0,0,2736000,"",2736000,2736000,""]
["H090055","Bertie","Peanut Belt RPO","Highway","Statewide Mobility","R-2205","US-13 ","NC 42 at Powellsville. in Bertie County","US 13 Bypass North of Ahoskie in Hertford County","Construct Multi-Lanes with Bypass of Ahoskie on New Location.","1 - Widen Existing Roadway",49575000,16.451595973936445,null,15.16,null,10.94,null,{"$f":"Q90+#REF!+R90","v":{"$error":"#REF!"}},null,{"$f":"IF(AT90<30,0,IF(AT90<50,5,IF(AT90<65,10,IF(AT90>66,15))))","v":10},{"$f":"IF(W90<499,15,IF(W90<999,10,IF(W90<1499,5,IF(W90>1500,0))))","v":0},4708.3774991272439,{"$f":"IF(DC90<500,0,IF(DC90<1000,5,IF(DC90>1000,10)))","v":0},{"$f":"IF(Z90=\"Yes\",20,0)","v":20},"Yes",{"$f":"IF(AB90=\"Yes\",20,0)","v":20},"Yes",{"$f":"IF(AD90=\"Yes\",10,0)","v":10},"Yes",10,{"$f":"IF(BL88<999,20,IF(BL88<1499,15,IF(BL88<1999,10,IF(BL88<3999,5,IF(BL88>4000,0)))))","v":0},15,{"$f":"IF(AI90=\"Yes\",10,0)","v":10},"Yes",15,"Minimal",10,"Yes",0,"No",0,"No",27.533278106761291,2.989666162380232E-2,56.820126272447993,12.360755065048751,0.28479903166367554,27.339840362,25,0,null,null,null,"Peanut Belt RPO",100,"","","","","01",100,"","","","",{"$f":"SUM(U90+V90+X90+Y90+AA90+AC90)","v":60},60,null,null,null,null,10.94,"Exceeds cap of $15 million for Statewide & Regional Projects cascading to Division Needs",{"$f":"O90+BS90*0.25","v":15.16},null,null,"Bertie",51.94,"Hertford",48.06,"","","","",1,"A","01, , ","Peanut Belt RPO, , ","Bertie, Hertford, , ",1.6332768900000001,1.6332768900000001,"Two Lane Highway","Multi-Lane Highway",1,2,"Undivided","Divided",50,50,6.0899926560569,93.910007343943107,6446.6134540000003,15500,0.41591054541935485,6054.0151680870249,392.59828591297605,61700.390330254988,4001.2234543961185,65701.613784651112,1482127,71.632139179999996,31.628654959999999,67.216632419999996,"","",1,4.6959806332735103E-6,"Yes","No",11,12,"No",3,2,"2 Lane Undivided","4A - 4 Lane Divided (46' Depressed Median) with Paved Shoulders","None","Limited",1,"Yes",24,46000000,3575000,0,49575000,"",49575000,49575000,""]
["H090098","Bertie","Peanut Belt RPO","Highway","Statewide Mobility","R-2506","US-13 ","US 13 Business North of Windsor","NC 42","Widen to Multi-Lanes.","1 - Widen Existing Roadway",99400000,11.136523875976859,null,12.4,null,9.1,null,{"$f":"Q91+#REF!+R91","v":{"$error":"#REF!"}},null,{"$f":"IF(AT91<30,0,IF(AT91<50,5,IF(AT91<65,10,IF(AT91>66,15))))","v":10},{"$f":"IF(W91<499,15,IF(W91<999,10,IF(W91<1499,5,IF(W91>1500,0))))","v":0},1765.7073314003956,{"$f":"IF(DC91<500,0,IF(DC91<1000,5,IF(DC91>1000,10)))","v":0},{"$f":"IF(Z91=\"Yes\",20,0)","v":20},"Yes",{"$f":"IF(AB91=\"Yes\",20,0)","v":20},"Yes",10,"Yes",10,{"$f":"IF(BL89<999,20,IF(BL89<1499,15,IF(BL89<1999,10,IF(BL89<3999,5,IF(BL89>4000,0)))))","v":0},15,10,"Yes",15,"Minimal",10,"Yes",0,"No",0,"No",14.914047600427818,6.1686539235412473E-2,50.994178142192993,7.1730424362549918,1.097773326075915,20.499871621,25,0,null,null,null,"Peanut Belt RPO",100,"","","","","01",100,"","","","",{"$f":"SUM(U91+V91+X91+Y91+AA91+AC91)","v":60},60,null,null,null,null,9.1,"Exceeds cap of $15 million for Statewide & Regional Projects cascading to Division Needs",{"$f":"O91+BS91*0.25","v":12.4},null,null,"Bertie",100,"","","","","","",1,"A","01, , ","Peanut Belt RPO, , ","Bertie, , , ",16.084402399999998,16.084402399999998,"Two Lane Highway","Multi-Lane Highway",1,2,"Undivided","Divided",49,50,8.8125771032800007,91.187422896719994,3499.9572069999999,15539.176170000001,0.22523441196046365,3191.5207795513193,308.43642744868021,245144.62958747204,23691.38068680216,268836.01027427422,6131642,54.538307000000003,43.544452530000001,54.915074679999996,"","",4,1.7955466521518299E-5,"Yes","No",11,12,"No",0,0,"2 Lane Undivided","4A - 4 Lane Divided (46' Depressed Median) with Paved Shoulders","None","Partial",1,"Yes",25,61000000,35800000,2600000,99400000,"",99400000,99400000,""]
["A130016","Dare","Albemarle RPO","Aviation","Division Needs",null,"Dare County Regional",null,null,"Land Acquisition-Runway Approach",null,428000,null,null,null,null,38.049999999999997,9.75,{"$f":"Q92+#REF!+R92","v":{"$error":"#REF!"}},null,"N/A",null,11239.259679418501,null,{"$f":"IF(Z92=\"Yes\",15,0)","v":15},"Yes",{"$f":"IF(AB92=\"Yes\",10,0)","v":0},null,0,null,0,{"$f":"IF(W92<999,20,IF(W92<1499,15,IF(W92<1999,10,IF(W92<3999,5,IF(W92>4000,0)))))","v":0},15,10,"Yes",{"$f":"IF(AK92=\"Minimal\",15,0)","v":15},"Minimal",10,"Yes",{"$f":"IF(AO92=\"Yes\",5,0)","v":5},"Yes",0,"No",null,null,null,null,null,null,null,null,null,null,null,"Albemarle RPO",null,null,null,null,null,null,null,null,null,null,null,null,55,null,null,null,null,null,null,null,null,null,"Dare",null,null,null,null,null,null,null,null,null,null,null,null,null,0.82,null,null,null,null,null,null,null,null,null,null,46.44,null,null,null,null,null,null,null,null,null,null,null,null,null,null,null,null,null,null,null,null,null,null,null,null,null,null,null,null,null,null,null,null,475555,null,428000]
["A130018","Dare","Albemarle RPO","Aviation","Division Needs",null,"Dare County Regional",null,null,"Land Acquisition-Runway Approach",null,454815,null,null,null,null,38.049999999999997,9.75,{"$f":"Q93+#REF!+R93","v":{"$error":"#REF!"}},null,"N/A",null,11943.420306296088,null,{"$f":"IF(Z93=\"Yes\",15,0)","v":15},"Yes",{"$f":"IF(AB93=\"Yes\",10,0)","v":0},null,0,null,0,0,15,10,"Yes",15,"Minimal",10,"Yes",{"$f":"IF(AO93=\"Yes\",5,0)","v":5},"Yes",0,"No",null,null,null,null,null,null,null,null,null,null,null,"Albemarle RPO",null,null,null,null,null,null,null,null,null,null,null,null,55,null,null,null,null,null,null,null,null,null,"Dare",null,null,null,null,null,null,null,null,null,null,null,null,null,0.82,null,null,null,null,null,null,null,null,null,null,46.44,null,null,null,null,null,null,null,null,null,null,null,null,null,null,null,null,null,null,null,null,null,null,null,null,null,null,null,null,null,null,null,null,505350,null,454815]
["A130019","Dare","Albemarle RPO","Aviation","Division Needs",null,"Dare County Regional",null,null,"Land Acquisition-Runway Approach",null,3325500,null,null,null,null,38.049999999999997,9.75,{"$f":"Q94+#REF!+R94","v":{"$error":"#REF!"}},null,"N/A",null,87327.47211193043,null,{"$f":"IF(Z94=\"Yes\",15,0)","v":15},"Yes",{"$f":"IF(AB94=\"Yes\",10,0)","v":0},null,0,null,0,0,15,10,"Yes",15,"Minimal",10,"Yes",{"$f":"IF(AO94=\"Yes\",5,0)","v":5},"Yes",0,"No",null,null,null,null,null,null,null,null,null,null,null,"Albemarle RPO",null,null,null,null,null,null,null,null,null,null,null,null,55,null,null,null,null,null,null,null,null,null,"Dare",null,null,null,null,null,null,null,null,null,null,null,null,null,0.82,null,null,null,null,null,null,null,null,null,null,46.44,null,null,null,null,null,null,null,null,null,null,null,null,null,null,null,null,null,null,null,null,null,null,null,null,null,null,null,null,null,null,null,null,3695000,null,3325500]
["A130028","Dare","Albemarle RPO","Aviation","Division Needs",null,"Dare County Regional",null,null,"Land Acquisition-Obstruction Removal",null,1152000,null,null,null,null,36.85,9.75,{"$f":"Q95+#REF!+R95","v":{"$error":"#REF!"}},null,"N/A",null,30251.465305350732,null,{"$f":"IF(Z95=\"Yes\",15,0)","v":15},"Yes",{"$f":"IF(AB95=\"Yes\",10,0)","v":0},null,0,null,0,0,15,10,"Yes",15,"Minimal",10,"Yes",{"$f":"IF(AO95=\"Yes\",5,0)","v":5},"Yes",0,"No",null,null,null,null,null,null,null,null,null,null,null,"Albemarle RPO",null,null,null,null,null,null,null,null,null,null,null,null,55,null,null,null,null,null,null,null,null,null,"Dare",null,null,null,null,null,null,null,null,null,null,null,null,null,0.82,null,null,null,null,null,null,null,null,null,null,46.44,null,null,null,null,null,null,null,null,null,null,null,null,null,null,null,null,null,null,null,null,null,null,null,null,null,null,null,null,null,null,null,null,1280000,null,1152000]
["A130415","Hertford","Peanut Belt RPO","Aviation","Division Needs",null,"Tri-County",null,null,"Land Acquisition-Runway Approach",null,450000,null,null,null,null,35.35,null,{"$f":"Q96+#REF!+R96","v":{"$error":"#REF!"}},null,"N/A",null,14750.954714569027,null,{"$f":"IF(Z96=\"Yes\",15,0)","v":15},"Yes",{"$f":"IF(AB96=\"Yes\",10,0)","v":0},null,0,null,0,0,15,10,"Yes",15,"Minimal",10,"Yes",{"$f":"IF(AO96=\"Yes\",5,0)","v":5},"Yes",0,"No",null,null,null,null,null,null,null,null,null,null,null,"Peanut Belt RPO",null,null,null,null,null,null,null,null,null,null,null,null,55,null,null,null,null,null,null,null,null,null,"Hertford",null,null,null,null,null,null,null,null,null,null,null,null,null,0.85,null,null,null,null,null,null,null,null,null,null,35.89,null,null,null,null,null,null,null,null,null,null,null,null,null,null,null,null,null,null,null,null,null,null,null,null,null,null,null,null,null,null,null,null,500000,null,450000]
["B142220","Chowan","Albemarle RPO","Bike & Ped","Division Needs",null,"North Broad Street","Church Street","Water Street","North Broad Street Bike Path","2. Construct multi-use trail / greenway / sidepath or on-road bike lane on local roadway",400000,null,null,null,null,21.145250000000001,9.75,{"$f":"Q97+#REF!+R97","v":{"$error":"#REF!"}},null,"N/A",null,4205.3913116615495,null,null,"Yes",null,null,null,null,5,0,15,10,"Yes",15,"Minimal",10,"Yes",{"$f":"IF(AO97=\"Yes\",10,0)","v":0},"No",0,"No",null,null,32.5,null,null,null,null,null,null,null,null,"Albemarle RPO",null,null,null,null,null,null,null,null,null,null,null,null,{"$f":"SUM(AE97+AF97+AG97+AH97+AJ97+AL97+AN97)","v":55},null,null,null,null,null,null,null,null,null,"Chowan County",null,null,null,null,null,null,null,null,null,null,null,null,null,0.28000000000000003,null,null,null,null,null,null,null,null,null,null,{"$f":"3397*0.1","v":339.70000000000005},null,null,null,null,null,null,null,null,null,null,null,null,null,null,null,null,null,null,null,null,null,null,null,null,null,null,null,null,null,380000,0,null,400000,0,400000]
["B141529","Dare","Albemarle RPO","Bike & Ped","Division Needs",null,"US 158","Atlantic","Baum","Construct Sidewalk","5. Construct Sidewalk",345000,null,null,null,null,21.058673913043478,9.75,{"$f":"Q98+#REF!+R98","v":{"$error":"#REF!"}},null,"N/A",null,5058.8550026752273,null,null,"Yes",null,null,null,null,5,0,15,10,"Yes",15,"Minimal",10,"Yes",{"$f":"IF(AO98=\"Yes\",10,0)","v":0},"No",0,"No",null,null,45,null,null,null,null,null,null,null,null,"Albemarle RPO",null,null,null,null,null,null,null,null,null,null,null,null,{"$f":"SUM(AE98+AF98+AG98+AH98+AJ98+AL98+AN98)","v":55},null,null,null,null,null,null,null,null,null,"Dare County",null,null,null,null,null,null,null,null,null,null,null,null,null,0.89,null,null,null,null,null,null,null,null,null,null,{"$f":"1512*0.1","v":151.20000000000002},null,null,null,null,null,null,null,null,null,null,null,null,null,null,null,null,null,null,null,null,null,null,null,null,null,null,null,null,null,300000,0,null,345000,0,680760]
["B141937","Currituck","Albemarle RPO","Bike & Ped","Division Needs",null,"Currituck Multiuse","Albacore St","Driftwood Way","Construct Mult-use Path","2. Construct multi-use trail / greenway / sidepath or on-road bike lane on local roadway",460000,null,null,null,null,16.10631928977989,13.5,{"$f":"Q99+#REF!+R99","v":{"$error":"#REF!"}},null,"N/A",null,158402.20385674931,null,null,"Yes",null,null,null,null,5,0,15,10,"Yes",15,"Minimal",10,"Yes",{"$f":"IF(AO99=\"Yes\",10,0)","v":0},"No",0,"No",null,null,45,null,null,null,null,null,null,null,null,"Albemarle RPO",null,null,null,null,null,null,null,null,null,null,null,null,{"$f":"SUM(AE99+AF99+AG99+AH99+AJ99+AL99+AN99)","v":55},null,null,null,null,null,null,null,null,null,"Currituck County",null,null,null,null,null,null,null,null,null,null,null,null,null,0.66,null,null,null,null,null,null,null,null,null,null,{"$f":"44*0.1","v":4.4000000000000004},null,null,null,null,null,null,null,null,null,null,null,null,null,null,null,null,null,null,null,null,null,null,null,null,null,null,null,null,null,400000,0,null,460000,0,460000]
["A130029","Dare","Albemarle RPO","Aviation","Division Needs",null,"Dare County Regional",null,null,"Design",null,1620000,null,null,null,null,35.229999999999997,9.75,{"$f":"Q100+#REF!+R100","v":{"$error":"#REF!"}},null,"N/A",null,42541.123085649466,null,{"$f":"IF(Z100=\"Yes\",15,0)","v":15},"Yes",{"$f":"IF(AB100=\"Yes\",10,0)","v":0},null,{"$f":"IF(AD100=\"Yes\",10,0)","v":0},null,0,0,15,10,"Yes",15,"Minimal",10,"Yes",{"$f":"IF(AO100=\"Yes\",5,0)","v":5},"Yes",0,"No",null,null,null,null,null,null,null,null,null,null,null,"Albemarle RPO",null,null,null,null,null,null,null,null,null,null,null,null,{"$f":"SUM(AE100+AF100+AG100+AH100+AJ100+AL100+AN100+AP100)","v":55},null,null,null,null,null,null,null,null,null,"Dare",null,null,null,null,null,null,null,null,null,null,null,null,null,0.82,null,null,null,null,null,null,null,null,null,null,46.44,null,null,null,null,null,null,null,null,null,null,null,null,null,null,null,null,null,null,null,null,null,null,null,null,null,null,null,null,null,null,null,null,1800000,null,1620000]
["A130006","Pasquotank","Albemarle RPO","Aviation","Division Needs",null,"Elizabeth City Coast Guard Air Station/Regional",null,null,"Permitting/mitigation/preliminary",null,3659719,null,null,null,null,27.7,13.5,{"$f":"Q101+#REF!+R101","v":{"$error":"#REF!"}},null,"N/A",null,25836.240721888931,null,null,"Yes",{"$f":"IF(AB101=\"Yes\",10,0)","v":0},null,{"$f":"IF(AD101=\"Yes\",10,0)","v":0},null,0,0,15,10,"Yes",15,"Minimal",10,"Yes",{"$f":"IF(AO101=\"Yes\",5,0)","v":5},"Yes",0,"No",null,null,null,null,null,null,null,null,null,null,null,"Albemarle RPO",null,null,null,null,null,null,null,null,null,null,null,null,{"$f":"SUM(AE101+AF101+AG101+AH101+AJ101+AL101+AN101+AP101)","v":55},null,null,null,100,{"$f":"Q101+BT101*0.25","v":52.7},null,null,null,null,"Pasquotank",null,null,null,null,null,null,null,null,null,null,null,null,null,0.86,null,null,null,null,null,null,null,null,null,null,164.71,null,null,null,null,null,null,null,null,null,null,null,null,null,null,null,null,null,null,null,null,null,null,null,null,null,null,null,null,null,null,null,null,4066354,null,3659719]
["A130042","Washington","Albemarle RPO","Aviation","Division Needs",null,"Plymouth Municipal Airport",null,null,"Design",null,477000,null,null,null,null,26.37,6,{"$f":"Q102+#REF!+R102","v":{"$error":"#REF!"}},null,"N/A",null,12610.773883801105,null,null,"Yes",{"$f":"IF(AB102=\"Yes\",10,0)","v":0},null,{"$f":"IF(AD102=\"Yes\",10,0)","v":0},null,0,0,15,10,"Yes",15,"Minimal",10,"Yes",{"$f":"IF(AO102=\"Yes\",5,0)","v":5},"Yes",0,"No",null,null,null,null,null,null,null,null,null,null,null,"Albemarle RPO",null,null,null,null,null,null,null,null,null,null,null,null,{"$f":"SUM(AE102+AF102+AG102+AH102+AJ102+AL102+AN102+AP102)","v":55},null,null,null,100,{"$f":"Q102+BT102*0.25","v":51.370000000000005},null,null,null,null,"Washington",null,null,null,null,null,null,null,null,null,null,null,null,null,1.04,null,null,null,null,null,null,null,null,null,null,36.369999999999997,null,null,null,null,null,null,null,null,null,null,null,null,null,null,null,null,null,null,null,null,null,null,null,null,null,null,null,null,null,null,null,null,530000,null,477000]
["B141941","Currituck","Albemarle RPO","Bike & Ped","Division Needs",null,"Currituck Multi use","Comrmonrant Ct.","Harris Teeter","Construct Multi use path","2. Construct multi-use trail / greenway / sidepath or on-road bike lane on local roadway",460000,null,null,null,null,14.62143146722117,13.5,{"$f":"Q103+#REF!+R103","v":{"$error":"#REF!"}},null,"N/A",null,130718.95424836602,null,null,"Yes",null,null,null,null,5,0,15,10,"Yes",15,"Minimal",10,"Yes",{"$f":"IF(AO103=\"Yes\",10,0)","v":0},"No",0,"No",null,null,35,null,null,null,null,null,null,null,null,"Albemarle RPO",null,null,null,null,null,null,null,null,null,null,null,null,{"$f":"SUM(AE103+AF103+AG103+AH103+AJ103+AL103+AN103)","v":55},null,null,null,null,null,null,null,null,null,"Currituck County",null,null,null,null,null,null,null,null,null,null,null,null,null,0.69,null,null,null,null,null,null,null,null,null,null,{"$f":"51*0.1","v":5.1000000000000005},null,null,null,null,null,null,null,null,null,null,null,null,null,null,null,null,null,null,null,null,null,null,null,null,null,null,null,null,null,400000,0,null,460000,0,460000]
["A130032","Currituck","Albemarle RPO","Aviation","Division Needs",null,"Currituck County Regional",null,null,"Clearing/grading/Drainage/paving/marking/lighting/signage",null,2520000,null,null,null,null,26.33,0,{"$f":"Q104+#REF!+R104","v":{"$error":"#REF!"}},null,"N/A",null,35378.55049024563,null,null,"Yes",{"$f":"IF(AB104=\"Yes\",10,0)","v":0},null,{"$f":"IF(AD104=\"Yes\",10,0)","v":0},null,0,0,15,10,"Yes",15,"Minimal",10,"Yes",{"$f":"IF(AO104=\"Yes\",5,0)","v":5},"Yes",0,"No",null,null,null,null,null,null,null,null,null,null,null,"Albemarle RPO",null,null,null,null,null,null,null,null,null,null,null,null,{"$f":"SUM(AE104+AF104+AG104+AH104+AJ104+AL104+AN104+AP104)","v":55},null,null,null,null,null,null,null,null,null,"Currituck",null,null,null,null,null,null,null,null,null,null,null,null,null,1.04,null,null,null,null,null,null,null,null,null,null,68.489999999999995,null,null,null,null,null,null,null,null,null,null,null,null,null,null,null,null,null,null,null,null,null,null,null,null,null,null,null,null,null,null,null,null,2800000,null,2520000]
["B141958","Currituck","Albemarle RPO","Bike & Ped","Division Needs",null,"Currituck Multi use","Harris Teeter","Sandbucket","Construct Multi use trail","2. Construct multi-use trail / greenway / sidepath or on-road bike lane on local roadway",460000,null,null,null,null,14.378002237428664,13.5,{"$f":"Q105+#REF!+R105","v":{"$error":"#REF!"}},null,"N/A",null,161857.84658691063,null,null,"Yes",null,null,null,null,5,0,15,10,"Yes",15,"Minimal",10,"Yes",{"$f":"IF(AO105=\"Yes\",10,0)","v":0},"No",0,"No",null,null,35,null,null,null,null,null,null,null,null,"Albemarle RPO",null,null,null,null,null,null,null,null,null,null,null,null,{"$f":"SUM(AE105+AF105+AG105+AH105+AJ105+AL105+AN105)","v":55},null,null,null,null,null,null,null,null,null,"Currituck County",null,null,null,null,null,null,null,null,null,null,null,null,null,0.57999999999999996,null,null,null,null,null,null,null,null,null,null,{"$f":"49*0.1","v":4.9000000000000004},null,null,null,null,null,null,null,null,null,null,null,null,null,null,null,null,null,null,null,null,null,null,null,null,null,null,null,null,null,400000,0,null,460000,0,460000]
["A130033","Currituck","Albemarle RPO","Aviation","Division Needs",null,"Currituck County Regional",null,null,"Design",null,1746000,null,null,null,null,25,13.5,{"$f":"Q106+#REF!+R106","v":{"$error":"#REF!"}},null,"N/A",null,24512.281411098757,null,null,"Yes",{"$f":"IF(AB106=\"Yes\",10,0)","v":0},null,{"$f":"IF(AD106=\"Yes\",10,0)","v":0},null,0,0,15,10,"Yes",15,"Minimal",10,"Yes",{"$f":"IF(AO106=\"Yes\",5,0)","v":5},"Yes",0,"No",null,null,null,null,null,null,null,null,null,null,null,"Albemarle RPO",null,null,null,null,null,null,null,null,null,null,null,null,{"$f":"SUM(AE106+AF106+AG106+AH106+AJ106+AL106+AN106+AP106)","v":55},null,null,null,null,null,null,null,null,null,"Currituck",null,null,null,null,null,null,null,null,null,null,null,null,null,1.04,null,null,null,null,null,null,null,null,null,null,68.489999999999995,null,null,null,null,null,null,null,null,null,null,null,null,null,null,null,null,null,null,null,null,null,null,null,null,null,null,null,null,null,null,null,null,1940000,null,1746000]
["B141764","Dare","Albemarle RPO","Bike & Ped","Division Needs",null,"Nags Head Multi Use Path","Grouse Street","Forbes Street","Construct Multi use path","2. Construct multi-use trail / greenway / sidepath or on-road bike lane on local roadway",335000,null,null,null,null,13.578235911783022,6.75,{"$f":"Q107+#REF!+R107","v":{"$error":"#REF!"}},null,"N/A",null,41823.814655172406,null,null,"Yes",null,null,null,null,5,0,15,10,"Yes",15,"Minimal",10,"Yes",{"$f":"IF(AO107=\"Yes\",10,0)","v":0},"No",0,"No",null,null,35,null,null,null,null,null,null,null,null,"Albemarle RPO",null,null,null,null,null,null,null,null,null,null,null,null,{"$f":"SUM(AE107+AF107+AG107+AH107+AJ107+AL107+AN107)","v":55},null,null,null,null,null,null,null,null,null,"Dare County",null,null,null,null,null,null,null,null,null,null,null,null,null,0.32,null,null,null,null,null,null,null,null,null,null,{"$f":"232*0.1","v":23.200000000000003},null,null,null,null,null,null,null,null,null,null,null,null,null,null,null,null,null,null,null,null,null,null,null,null,null,null,null,null,null,290000,0,null,335000,0,310500]
["B141531","Camden","Albemarle RPO","Bike & Ped","Division Needs",null,"US 158","Atlantic","Eighth","Construct Sidewalk","5. Construct Sidewalk",410100,null,null,null,null,13.560226164350158,9.75,{"$f":"Q108+#REF!+R108","v":{"$error":"#REF!"}},null,"N/A",null,5436.1832356162604,null,null,"Yes",null,null,null,null,5,0,15,10,"Yes",15,"Minimal",10,"Yes",{"$f":"IF(AO108=\"Yes\",10,0)","v":0},"No",0,"No",null,null,45,null,null,null,null,null,null,null,null,"Albemarle RPO",null,null,null,null,null,null,null,null,null,null,null,null,{"$f":"SUM(AE108+AF108+AG108+AH108+AJ108+AL108+AN108)","v":55},null,null,null,null,null,null,null,null,null,"Dare County",null,null,null,null,null,null,null,null,null,null,null,null,null,0.68,null,null,null,null,null,null,null,null,null,null,{"$f":"1826*0.1","v":182.60000000000002},null,null,null,null,null,null,null,null,null,null,null,null,null,null,null,null,null,null,null,null,null,null,null,null,null,null,null,null,null,355100,0,null,410100,0,675000]
["B141346","Tyrrell","Albemarle RPO","Bike & Ped","Division Needs",null,"US 64","Etheridge Road","Ludington Drive","Apply brick pavers or brick stamping on the north side of the Scuppernong River bridge, paint the existing guardrail and erect an entry sign to the existing pedestrian promenade leading to Veterans Park","7. Construct Streetscape Improvements",160000,null,null,null,null,12.590571576383752,9.75,{"$f":"Q109+#REF!+R109","v":{"$error":"#REF!"}},null,"N/A",null,3803.5049627791564,null,null,"Yes",null,null,null,null,0,5,15,10,"Yes",15,"Minimal",10,"Yes",{"$f":"IF(AO109=\"Yes\",10,0)","v":0},"No",0,"No",null,null,12.5,null,null,null,null,null,null,null,null,"Albemarle RPO",null,null,null,null,null,null,null,null,null,null,null,null,{"$f":"SUM(AE109+AF109+AG109+AH109+AJ109+AL109+AN109)","v":55},null,null,null,100,null,null,null,null,null,"Tyrrell County",null,null,null,null,null,null,null,null,null,null,null,null,null,0.32,null,null,null,null,null,null,null,null,null,null,403,null,null,null,null,null,null,null,null,null,null,null,null,null,null,null,null,null,null,null,null,null,null,null,null,null,null,null,null,null,155000,0,null,160000,0,490500]
["A130030","Dare","Albemarle RPO","Aviation","Division Needs",null,"Dare County Regional",null,null,"Runway Overlay",null,3060000,null,null,null,null,15.85,9.75,{"$f":"Q110+#REF!+R110","v":{"$error":"#REF!"}},null,"N/A",null,80355.454717337881,null,null,"Yes",{"$f":"IF(AB110=\"Yes\",10,0)","v":0},null,{"$f":"IF(AD110=\"Yes\",10,0)","v":0},null,0,0,15,10,"Yes",15,"Minimal",10,"Yes",{"$f":"IF(AO110=\"Yes\",5,0)","v":5},"Yes",0,"No",null,null,null,null,null,null,null,null,null,null,null,"Albemarle RPO",null,null,null,null,null,null,null,null,null,null,null,null,{"$f":"SUM(AE110+AF110+AG110+AH110+AJ110+AL110+AN110+AP110)","v":55},null,null,null,null,null,null,null,null,null,"Dare",null,null,null,null,null,null,null,null,null,null,null,null,null,0.82,null,null,null,null,null,null,null,null,null,null,46.44,null,null,null,null,null,null,null,null,null,null,null,null,null,null,null,null,null,null,null,null,null,null,null,null,null,null,null,null,null,null,null,null,3400000,null,3060000]
["A130031","Currituck","Albemarle RPO","Aviation","Division Needs",null,"Currituck County Regional",null,null,"Land Acquisition-Runway Approach",null,19350000,null,null,null,null,15.64,15,{"$f":"Q111+#REF!+R111","v":{"$error":"#REF!"}},null,"N/A",null,271656.7269786718,null,null,"Yes",{"$f":"IF(AB111=\"Yes\",10,0)","v":0},null,{"$f":"IF(AD111=\"Yes\",10,0)","v":0},null,0,0,15,10,"Yes",15,"Minimal",10,"Yes",{"$f":"IF(AO111=\"Yes\",5,0)","v":5},"Yes",0,"No",null,null,null,null,null,null,null,null,null,null,null,"Albemarle RPO",null,null,null,null,null,null,null,null,null,null,null,null,{"$f":"SUM(AE111+AF111+AG111+AH111+AJ111+AL111+AN111+AP111)","v":55},null,null,null,null,null,null,null,null,null,"Currituck",null,null,null,null,null,null,null,null,null,null,null,null,null,1.04,null,null,null,null,null,null,null,null,null,null,68.489999999999995,null,null,null,null,null,null,null,null,null,null,null,null,null,null,null,null,null,null,null,null,null,null,null,null,null,null,null,null,null,null,null,null,21500000,null,19350000]
["B141363","Dare","Albemarle RPO","Bike & Ped","Division Needs",null,"US 158","Cypress Knee Lane","Bennett Street","Construct 6000' of sidewalk on west side of US 158","5. Construct Sidewalk",282000,null,null,null,null,10.244104110930639,9.75,{"$f":"Q112+#REF!+R112","v":{"$error":"#REF!"}},null,"N/A",null,9170.2063106796122,null,null,"Yes",null,null,null,null,5,0,15,10,"Yes",15,"Minimal",10,"Yes",{"$f":"IF(AO112=\"Yes\",10,0)","v":0},"No",0,"No",null,null,35,null,null,null,null,null,null,null,null,"Albemarle RPO",null,null,null,null,null,null,null,null,null,null,null,null,{"$f":"SUM(AE112+AF112+AG112+AH112+AJ112+AL112+AN112)","v":55},null,null,null,null,null,null,null,null,null,"Dare County",null,null,null,null,null,null,null,null,null,null,null,null,null,2.06,null,null,null,null,null,null,null,null,null,null,{"$f":"960*0.1","v":96},null,null,null,null,null,null,null,null,null,null,null,null,null,null,null,null,null,null,null,null,null,null,null,null,null,null,null,null,null,272000,0,null,282000,0,1813500]
["A130046","Washington","Albemarle RPO","Aviation","Division Needs",null,"Plymouth Municipal Airport",null,null,"Land Acquisition-Obstruction Removal",null,315000,null,null,null,null,14.65,6,{"$f":"Q113+#REF!+R113","v":{"$error":"#REF!"}},null,"N/A",null,{"$f":"(EH113/CY113)/CN113","v":9755.5043252046289},null,null,"Yes",{"$f":"IF(AB113=\"Yes\",10,0)","v":0},null,{"$f":"IF(AD113=\"Yes\",10,0)","v":0},null,{"$f":"IF(AT113<30,0,IF(AT113<50,5,IF(AT113<65,10,IF(AT113<79,15,IF(AT113>80,20)))))","v":0},0,{"$f":"IF(Z113=\"Yes\",15,0)","v":15},10,"Yes",15,"Minimal",10,"Yes",{"$f":"IF(AO113=\"Yes\",5,0)","v":5},"Yes",0,"No",null,null,null,null,null,null,null,null,null,null,null,"Albemarle RPO",null,null,null,null,null,null,null,null,null,null,null,null,{"$f":"SUM(AE113+AF113+AG113+AH113+AJ113+AL113+AN113+AP113)","v":55},null,null,null,null,null,null,null,null,null,"Washington",null,null,null,null,null,null,null,null,null,null,null,null,null,1.04,null,null,null,null,null,null,null,null,null,null,36.369999999999997,null,null,null,null,null,null,null,null,null,null,null,null,null,null,null,null,null,null,null,null,null,null,null,null,null,null,null,null,null,null,null,null,350000,null,369000]
["A130416","Hertford","Peanut Belt RPO","Aviation","Division Needs",null,"Tri-County",null,null,"Design",null,559913,null,null,null,null,14.48,null,{"$f":"Q114+#REF!+R114","v":{"$error":"#REF!"}},null,"N/A",null,18353.891793552193,null,null,"Yes",{"$f":"IF(AB114=\"Yes\",10,0)","v":0},null,{"$f":"IF(AD114=\"Yes\",10,0)","v":0},null,0,0,15,10,"Yes",15,"Minimal",10,"Yes",{"$f":"IF(AO114=\"Yes\",5,0)","v":5},"Yes",0,"No",null,null,null,null,null,null,null,null,null,null,null,"Peanut Belt RPO",null,null,null,null,null,null,null,null,null,null,null,null,{"$f":"SUM(AE114+AF114+AG114+AH114+AJ114+AL114+AN114+AP114)","v":55},null,null,null,null,null,null,null,null,null,"Hertford",null,null,null,null,null,null,null,null,null,null,null,null,null,0.85,null,null,null,null,null,null,null,null,null,null,35.89,null,null,null,null,null,null,null,null,null,null,null,null,null,null,null,null,null,null,null,null,null,null,null,null,null,null,null,null,null,null,null,null,622125,null,559913]
["A130005","Hyde","Albemarle RPO","Aviation","Division Needs",null,"Hyde County",null,null,"Design",null,328275,null,null,null,null,14.08,6.75,{"$f":"Q115+#REF!+R115","v":{"$error":"#REF!"}},null,"N/A",null,33229.577892499241,null,null,"Yes",{"$f":"IF(AB115=\"Yes\",10,0)","v":0},null,{"$f":"IF(AD115=\"Yes\",10,0)","v":0},null,0,0,15,10,"Yes",15,"Minimal",10,"Yes",{"$f":"IF(AO115=\"Yes\",5,0)","v":5},"Yes",0,"No",null,null,null,null,null,null,null,null,null,null,null,"Albemarle RPO",null,null,null,null,null,null,null,null,null,null,null,null,{"$f":"SUM(AE115+AF115+AG115+AH115+AJ115+AL115+AN115+AP115)","v":55},null,null,null,null,null,null,null,null,null,"Hyde",null,null,null,null,null,null,null,null,null,null,null,null,null,0.89,null,null,null,null,null,null,null,null,null,null,11.1,null,null,null,null,null,null,null,null,null,null,null,null,null,null,null,null,null,null,null,null,null,null,null,null,null,null,null,null,null,null,null,null,364750,null,328275]
["A130043","Washington","Albemarle RPO","Aviation","Division Needs",null,"Plymouth Municipal Airport",null,null,"Design",null,666000,null,null,null,null,11.07,6,{"$f":"Q116+#REF!+R116","v":{"$error":"#REF!"}},null,"N/A",null,17607.495611344937,null,null,"Yes",{"$f":"IF(AB116=\"Yes\",10,0)","v":0},null,{"$f":"IF(AD116=\"Yes\",10,0)","v":0},null,0,0,15,10,"Yes",15,"Minimal",10,"Yes",{"$f":"IF(AO116=\"Yes\",5,0)","v":5},"Yes",0,"No",null,null,null,null,null,null,null,null,null,null,null,"Albemarle RPO",null,null,null,null,null,null,null,null,null,null,null,null,{"$f":"SUM(AE116+AF116+AG116+AH116+AJ116+AL116+AN116+AP116)","v":55},null,null,null,null,null,null,null,null,null,"Washington",null,null,null,null,null,null,null,null,null,null,null,null,null,1.04,null,null,null,null,null,null,null,null,null,null,36.369999999999997,null,null,null,null,null,null,null,null,null,null,null,null,null,null,null,null,null,null,null,null,null,null,null,null,null,null,null,null,null,null,null,null,740000,null,666000]
["A130035","Currituck","Albemarle RPO","Aviation","Division Needs",null,"Currituck County Regional",null,null,"Install MALS/MALSF/MALSR",null,450000,null,null,null,null,10.42,13.5,{"$f":"Q117+#REF!+R117","v":{"$error":"#REF!"}},null,"N/A",null,6317.5983018295765,null,null,"Yes",{"$f":"IF(AB117=\"Yes\",10,0)","v":0},null,{"$f":"IF(AD117=\"Yes\",10,0)","v":0},null,0,0,15,10,"Yes",15,"Minimal",10,"Yes",{"$f":"IF(AO117=\"Yes\",5,0)","v":5},"Yes",0,"No",null,null,null,null,null,null,null,null,null,null,null,"Albemarle RPO",null,null,null,null,null,null,null,null,null,null,null,null,{"$f":"SUM(AE117+AF117+AG117+AH117+AJ117+AL117+AN117+AP117)","v":55},null,null,null,null,null,null,null,null,null,"Currituck",null,null,null,null,null,null,null,null,null,null,null,null,null,1.04,null,null,null,null,null,null,null,null,null,null,68.489999999999995,null,null,null,null,null,null,null,null,null,null,null,null,null,null,null,null,null,null,null,null,null,null,null,null,null,null,null,null,null,null,null,null,500000,null,450000]
["B141353","Pasquotank","Albemarle RPO","Bike & Ped","Division Needs",null,"River Road","Weeksville Road - NC-344  ","Ehringhaus Street","Construct multi-use path and pedestrian crosswalks to connect Middle School and subdivisions","2. Construct multi-use trail / greenway / sidepath or on-road bike lane on local roadway",420000,null,null,null,null,8.4542459855749996,8.25,{"$f":"Q118+#REF!+R118","v":{"$error":"#REF!"}},null,"N/A",null,2004.7520047520045,null,null,"Yes",null,null,null,null,0,5,15,10,"Yes",15,"Minimal",10,"Yes",{"$f":"IF(AO118=\"Yes\",10,0)","v":0},"No",0,"No",null,null,12.5,null,null,null,null,null,null,null,null,"Albemarle RPO",null,null,null,null,null,null,null,null,null,null,null,null,{"$f":"SUM(AE118+AF118+AG118+AH118+AJ118+AL118+AN118)","v":55},null,null,null,null,null,null,null,null,null,"Pasquotank County",null,null,null,null,null,null,null,null,null,null,null,null,null,1.1200000000000001,null,null,null,null,null,null,null,null,null,null,481,null,null,null,null,null,null,null,null,null,null,null,null,null,null,null,null,null,null,null,null,null,null,null,null,null,null,null,null,null,400000,300000,null,720000,0,1080000]
["A130376","Martin","Mid-East RPO","Aviation","Division Needs",null,"Martin County ",null,null,"Land Acquisition",null,459000,null,null,null,null,10.199999999999999,null,{"$f":"Q119+#REF!+R119","v":{"$error":"#REF!"}},null,"N/A",null,39185.555128697662,null,null,"Yes",{"$f":"IF(AB119=\"Yes\",10,0)","v":0},null,{"$f":"IF(AD119=\"Yes\",10,0)","v":0},null,0,0,15,10,"Yes",15,"Minimal",10,"Yes",{"$f":"IF(AO119=\"Yes\",5,0)","v":5},"Yes",{"$f":"IF(AQ119=\"Yes\",10,0)","v":0},"No",null,null,null,null,null,null,null,null,null,null,null,"Mid-East RPO",null,null,null,null,null,null,null,null,null,null,null,null,{"$f":"SUM(AE119+AF119+AG119+AH119+AJ119+AL119+AN119+AP119)","v":55},null,null,null,null,null,null,null,null,null,"Martin",null,null,null,null,null,null,null,null,null,null,null,null,null,0.95,null,null,null,null,null,null,null,null,null,null,12.33,null,null,null,null,null,null,null,null,null,null,null,null,null,null,null,null,null,null,null,null,null,null,null,null,null,null,null,null,null,null,null,null,510000,null,459000]
["A130024","Dare","Albemarle RPO","Aviation","Division Needs",null,"Dare County Regional",null,null,"Construct/expand or repair",null,499500,null,null,null,null,9.1300000000000008,9.75,{"$f":"Q120+#REF!+R120","v":{"$error":"#REF!"}},null,"N/A",null,13116.846284741918,null,null,"Yes",0,null,0,null,0,0,15,10,"Yes",15,"Minimal",10,"Yes",5,"Yes",0,"No",null,null,null,null,null,null,null,null,null,null,null,"Albemarle RPO",null,null,null,null,null,null,null,null,null,null,null,null,55,null,null,null,null,null,null,null,null,null,"Dare",null,null,null,null,null,null,null,null,null,null,null,null,null,0.82,null,null,null,null,null,null,null,null,null,null,46.44,null,null,null,null,null,null,null,null,null,null,null,null,null,null,null,null,null,null,null,null,null,null,null,null,null,null,null,null,null,null,null,null,555000,null,499500]
["A130015","Chowan","Albemarle RPO","Aviation","Division Needs",null,"Northeastern Regional",null,null,"Reconstruct/Rehabilitate/Overlay",null,801000,null,null,null,null,9.06,8.25,{"$f":"Q121+#REF!+R121","v":{"$error":"#REF!"}},null,"N/A",null,18316.777344821909,null,null,"Yes",0,null,0,null,0,0,15,10,"Yes",15,"Minimal",{"$f":"IF(AM121=\"Yes\",10,0)","v":10},"Yes",5,"Yes",0,"No",null,null,null,null,null,null,null,null,null,null,null,"Albemarle RPO",null,null,null,null,null,null,null,null,null,null,null,null,55,null,null,null,null,null,null,null,null,null,"Chowan",null,null,null,null,null,null,null,null,null,null,null,null,null,1.1399999999999999,null,null,null,null,null,null,null,null,null,null,38.36,null,null,null,null,null,null,null,null,null,null,null,null,null,null,null,null,null,null,null,null,null,null,null,null,null,null,null,null,null,null,null,null,890000,null,801000]
["A130020","Dare","Albemarle RPO","Aviation","Division Needs",null,"Dare County Regional",null,null,"Design",null,810000,null,null,null,null,8.7799999999999994,9.75,{"$f":"Q122+#REF!+R122","v":{"$error":"#REF!"}},null,"N/A",null,21270.561542824733,null,null,"Yes",0,null,0,null,0,0,15,{"$f":"IF(AI122=\"Yes\",10,0)","v":10},"Yes",15,"Minimal",10,"Yes",5,"Yes",0,"No",null,null,null,null,null,null,null,null,null,null,null,"Albemarle RPO",null,null,null,null,null,null,null,null,null,null,null,null,55,null,null,null,null,null,null,null,null,null,"Dare",null,null,null,null,null,null,null,null,null,null,null,null,null,0.82,null,null,null,null,null,null,null,null,null,null,46.44,null,null,null,null,null,null,null,null,null,null,null,null,null,null,null,null,null,null,null,null,null,null,null,null,null,null,null,null,null,null,null,null,900000,null,810000]
["A130021","Dare","Albemarle RPO","Aviation","Division Needs",null,"Dare County Regional",null,null,"Clearing/grading/Drainage/paving/marking/lighting/signage",null,189000,null,null,null,null,8.74,9.75,{"$f":"Q123+#REF!+R123","v":{"$error":"#REF!"}},null,"N/A",null,4963.1310266591045,null,null,"Yes",0,null,0,null,0,0,15,10,"Yes",15,"Minimal",10,"Yes",5,"Yes",0,"No",null,null,null,null,null,null,null,null,null,null,null,"Albemarle RPO",null,null,null,null,null,null,null,null,null,null,null,null,55,null,null,null,null,null,null,null,null,null,"Dare",null,null,null,null,null,null,null,null,null,null,null,null,null,0.82,null,null,null,null,null,null,null,null,null,null,46.44,null,null,null,null,null,null,null,null,null,null,null,null,null,null,null,null,null,null,null,null,null,null,null,null,null,null,null,null,null,null,null,null,210000,null,189000]
["A130023","Dare","Albemarle RPO","Aviation","Division Needs",null,"Dare County Regional",null,null,"Install Taxiway edge lighting",null,405000,null,null,null,null,8.1999999999999993,9.75,{"$f":"Q124+#REF!+R124","v":{"$error":"#REF!"}},null,"N/A",null,10635.280771412366,null,null,"Yes",0,null,0,null,0,{"$f":"IF(W124<999,20,IF(W124<1499,15,IF(W124<1999,10,IF(W124<3999,5,IF(W124>4000,0)))))","v":0},15,10,"Yes",{"$f":"IF(AK124=\"Minimal\",15,0)","v":15},"Minimal",10,"Yes",5,"Yes",0,"No",null,null,null,null,null,null,null,null,null,null,null,"Albemarle RPO",null,null,null,null,null,null,null,null,null,null,null,null,55,null,null,null,null,null,null,null,null,null,"Dare",null,null,null,null,null,null,null,null,null,null,null,null,null,0.82,null,null,null,null,null,null,null,null,null,null,46.44,null,null,null,null,null,null,null,null,null,null,null,null,null,null,null,null,null,null,null,null,null,null,null,null,null,null,null,null,null,null,null,null,450000,null,405000]
["A130041","Currituck","Albemarle RPO","Aviation","Division Needs",null,"Currituck County Regional",null,null,"Runway Overlay",null,3105000,null,null,null,null,8.17,13.5,{"$f":"Q125+#REF!+R125","v":{"$error":"#REF!"}},null,"N/A",null,43591.428282624081,null,null,"Yes",0,null,0,null,0,0,15,10,"Yes",15,"Minimal",10,"Yes",5,"Yes",0,"No",null,null,null,null,null,null,null,null,null,null,null,"Albemarle RPO",null,null,null,null,null,null,null,null,null,null,null,null,55,null,null,null,null,null,null,null,null,null,"Currituck",null,null,null,null,null,null,null,null,null,null,null,null,null,1.04,null,null,null,null,null,null,null,null,null,null,68.489999999999995,null,null,null,null,null,null,null,null,null,null,null,null,null,null,null,null,null,null,null,null,null,null,null,null,null,null,null,null,null,null,null,null,3450000,null,3105000]
["A130017","Dare","Albemarle RPO","Aviation","Division Needs",null,"Dare County Regional",null,null,"Land Acquisition - Runway Approach",null,1980000,null,null,null,null,8.0500000000000007,9.75,{"$f":"Q126+#REF!+R126","v":{"$error":"#REF!"}},null,"N/A",null,51994.705993571573,null,null,"Yes",0,null,0,null,0,0,15,10,"Yes",15,"Minimal",10,"Yes",5,"Yes",0,"No",null,null,null,null,null,null,null,null,null,null,null,"Albemarle RPO",null,null,null,null,null,null,null,null,null,null,null,null,55,null,null,null,null,null,null,null,null,null,"Dare",null,null,null,null,null,null,null,null,null,null,null,null,null,0.82,null,null,null,null,null,null,null,null,null,null,46.44,null,null,null,null,null,null,null,null,null,null,null,null,null,null,null,null,null,null,null,null,null,null,null,null,null,null,null,null,null,null,null,null,2200000,null,1980000]
["A130012","Chowan","Albemarle RPO","Aviation","Division Needs",null,"Northeastern Regional",null,null,"Design",null,420368,null,null,null,null,8.0399999999999991,8.25,{"$f":"Q127+#REF!+R127","v":{"$error":"#REF!"}},null,"N/A",null,9612.7179262023674,null,null,"Yes",0,null,0,null,0,0,15,10,"Yes",15,"Minimal",10,"Yes",5,"Yes",0,"No",null,null,null,null,null,null,null,null,null,null,null,"Albemarle RPO",null,null,null,null,null,null,null,null,null,null,null,null,55,null,null,null,null,null,null,null,null,null,"Chowan",null,null,null,null,null,null,null,null,null,null,null,null,null,1.1399999999999999,null,null,null,null,null,null,null,null,null,null,38.36,null,null,null,null,null,null,null,null,null,null,null,null,null,null,null,null,null,null,null,null,null,null,null,null,null,null,null,null,null,null,null,null,467075,null,420368]
["A130022","Dare","Albemarle RPO","Aviation","Division Needs",null,"Dare County Regional",null,null,"Upgrade Existing Terminal Bldg.",null,675000,null,null,null,null,7.97,9.75,{"$f":"Q128+#REF!+R128","v":{"$error":"#REF!"}},null,"N/A",null,17725.467952353945,null,null,"Yes",0,null,0,null,0,0,15,10,"Yes",15,"Minimal",10,"Yes",5,"Yes",0,"No",null,null,null,null,null,null,null,null,null,null,null,"Albemarle RPO",null,null,null,null,null,null,null,null,null,null,null,null,55,null,null,null,null,null,null,null,null,null,"Dare",null,null,null,null,null,null,null,null,null,null,null,null,null,0.82,null,null,null,null,null,null,null,null,null,null,46.44,null,null,null,null,null,null,null,null,null,null,null,null,null,null,null,null,null,null,null,null,null,null,null,null,null,null,null,null,null,null,null,null,750000,null,675000]
["A130002","Hyde","Albemarle RPO","Aviation","Division Needs",null,"Hyde County",null,null,"Upgrade Existing Terminal Bldg.",null,675000,null,null,null,null,7.95,6.75,{"$f":"Q129+#REF!+R129","v":{"$error":"#REF!"}},null,"N/A",null,68326.753720012144,null,null,"Yes",0,null,0,null,0,0,15,10,"Yes",15,"Minimal",10,"Yes",5,"Yes",0,"No",null,null,null,null,null,null,null,null,null,null,null,"Albemarle RPO",null,null,null,null,null,null,null,null,null,null,null,null,55,null,null,null,null,null,null,null,null,null,"Hyde",null,null,null,null,null,null,null,null,null,null,null,null,null,0.89,null,null,null,null,null,null,null,null,null,null,11.1,null,null,null,null,null,null,null,null,null,null,null,null,null,null,null,null,null,null,null,null,null,null,null,null,null,null,null,null,null,null,null,null,750000,null,675000]
["A130027","Dare","Albemarle RPO","Aviation","Division Needs",null,"Dare County Regional",null,null,"Relocate TVOR",null,382500,null,null,null,null,7.87,9.75,{"$f":"Q130+#REF!+R130","v":{"$error":"#REF!"}},null,"N/A",null,10044.431839667235,null,null,"Yes",0,null,0,null,0,0,15,10,"Yes",15,"Minimal",10,"Yes",5,"Yes",0,"No",null,null,null,null,null,null,null,null,null,null,null,"Albemarle RPO",null,null,null,null,null,null,null,null,null,null,null,null,55,null,null,null,null,null,null,null,null,null,"Dare",null,null,null,null,null,null,null,null,null,null,null,null,null,0.82,null,null,null,null,null,null,null,null,null,null,46.44,null,null,null,null,null,null,null,null,null,null,null,null,null,null,null,null,null,null,null,null,null,null,null,null,null,null,null,null,null,null,null,null,425000,null,382500]
["A130040","Currituck","Albemarle RPO","Aviation","Division Needs",null,"Currituck County Regional",null,null,"Environmental Assessment",null,2475000,null,null,null,null,7.86,13.5,{"$f":"Q131+#REF!+R131","v":{"$error":"#REF!"}},null,"N/A",null,34746.790660062674,null,null,"Yes",0,null,0,null,0,0,15,10,"Yes",15,"Minimal",10,"Yes",5,"Yes",0,"No",null,null,null,null,null,null,null,null,null,null,null,"Albemarle RPO",null,null,null,null,null,null,null,null,null,null,null,null,55,null,null,null,null,null,null,null,null,null,"Currituck",null,null,null,null,null,null,null,null,null,null,null,null,null,1.04,null,null,null,null,null,null,null,null,null,null,68.489999999999995,null,null,null,null,null,null,null,null,null,null,null,null,null,null,null,null,null,null,null,null,null,null,null,null,null,null,null,null,null,null,null,null,2750000,null,2475000]
["A130026","Dare","Albemarle RPO","Aviation","Division Needs",null,"Dare County Regional",null,null,"Hangers and Economic Development",null,270000,null,null,null,null,6.97,9.75,{"$f":"Q132+#REF!+R132","v":{"$error":"#REF!"}},null,"N/A",null,7090.1871809415779,null,null,"Yes",0,null,0,null,0,0,15,10,"Yes",15,"Minimal",10,"Yes",5,"Yes",0,"No",null,null,null,null,null,null,null,null,null,null,null,"Albemarle RPO",null,null,null,null,null,null,null,null,null,null,null,null,55,null,null,null,null,null,null,null,null,null,"Dare",null,null,null,null,null,null,null,null,null,null,null,null,null,0.82,null,null,null,null,null,null,null,null,null,null,46.44,null,null,null,null,null,null,null,null,null,null,null,null,null,null,null,null,null,null,null,null,null,null,null,null,null,null,null,null,null,null,null,null,300000,null,270000]
["A130013","Chowan","Albemarle RPO","Aviation","Division Needs",null,"Northeastern Regional",null,null,"Design",null,680760,null,null,null,null,6.68,8.25,{"$f":"Q133+#REF!+R133","v":{"$error":"#REF!"}},null,"N/A",null,15567.202678228419,null,null,"Yes",0,null,0,null,0,0,15,10,"Yes",15,"Minimal",10,"Yes",5,"Yes",0,"No",null,null,null,null,null,null,null,null,null,null,null,"Albemarle RPO",null,null,null,null,null,null,null,null,null,null,null,null,55,null,null,null,null,null,null,null,null,null,"Chowan",null,null,null,null,null,null,null,null,null,null,null,null,null,1.1399999999999999,null,null,null,null,null,null,null,null,null,null,38.36,null,null,null,null,null,null,null,null,null,null,null,null,null,null,null,null,null,null,null,null,null,null,null,null,null,null,null,null,null,null,null,null,756400,null,680760]
["A130414","Hertford","Peanut Belt RPO","Aviation","Division Needs",null,"Tri-County",null,null,"Upgrade Existing Terminal Bldg.",null,225000,null,null,null,null,6.66,null,{"$f":"Q134+#REF!+R134","v":{"$error":"#REF!"}},null,"N/A",null,7375.4773572845133,null,null,"Yes",0,null,0,null,0,0,15,10,"Yes",15,"Minimal",10,"Yes",5,"Yes",0,"No",null,null,null,null,null,null,null,null,null,null,null,"Peanut Belt RPO",null,null,null,null,null,null,null,null,null,null,null,null,55,null,null,null,null,null,null,null,null,null,"Hertford",null,null,null,null,null,null,null,null,null,null,null,null,null,0.85,null,null,null,null,null,null,null,null,null,null,35.89,null,null,null,null,null,null,null,null,null,null,null,null,null,null,null,null,null,null,null,null,null,null,null,null,null,null,null,null,null,null,null,null,250000,null,225000]
["A130373","Martin","Mid-East RPO","Aviation","Division Needs",null,"Martin County ",null,null,"Design",null,369000,null,null,null,null,6.54,null,{"$f":"Q135+#REF!+R135","v":{"$error":"#REF!"}},null,"N/A",null,31502.112946600078,null,null,"Yes",0,null,0,null,0,0,15,10,"Yes",15,"Minimal",10,"Yes",5,"Yes",0,"No",null,null,null,null,null,null,null,null,null,null,null,"Mid-East RPO",null,null,null,null,null,null,null,null,null,null,null,null,55,null,null,null,null,null,null,null,null,null,"Martin",null,null,null,null,null,null,null,null,null,null,null,null,null,0.95,null,null,null,null,null,null,null,null,null,null,12.33,null,null,null,null,null,null,null,null,null,null,null,null,null,null,null,null,null,null,null,null,null,null,null,null,null,null,null,null,null,null,null,null,410000,null,369000]
["A130047","Washington","Albemarle RPO","Aviation","Division Needs",null,"Plymouth Municipal Airport",null,null,"AWOS Installation",null,193500,null,null,null,null,6.1,6,{"$f":"Q136+#REF!+R136","v":{"$error":"#REF!"}},null,"N/A",null,5102.4724519362962,null,null,"Yes",0,null,0,null,0,0,15,10,"Yes",15,"Minimal",10,"Yes",5,"Yes",0,"No",null,null,null,null,null,null,null,null,null,null,null,"Albemarle RPO",null,null,null,null,null,null,null,null,null,null,null,null,55,null,null,null,null,null,null,null,null,null,"Washington",null,null,null,null,null,null,null,null,null,null,null,null,null,1.04,null,null,null,null,null,null,null,null,null,null,36.369999999999997,null,null,null,null,null,null,null,null,null,null,null,null,null,null,null,null,null,null,null,null,null,null,null,null,null,null,null,null,null,null,null,null,215000,null,193000]
["A130025","Dare","Albemarle RPO","Aviation","Division Needs",null,"Dare County Regional",null,null,"Hangers and Economic Development",null,468000,null,null,null,null,5.56,9.75,{"$f":"Q137+#REF!+R137","v":{"$error":"#REF!"}},null,"N/A",null,12289.657780298734,null,null,"Yes",0,null,0,null,0,0,15,10,"Yes",15,"Minimal",10,"Yes",5,"Yes",0,"No",null,null,null,null,null,null,null,null,null,null,null,"Albemarle RPO",null,null,null,null,null,null,null,null,null,null,null,null,55,null,null,null,null,null,null,null,null,null,"Dare",null,null,null,null,null,null,null,null,null,null,null,null,null,0.82,null,null,null,null,null,null,null,null,null,null,46.44,null,null,null,null,null,null,null,null,null,null,null,null,null,null,null,null,null,null,null,null,null,null,null,null,null,null,null,null,null,null,null,null,520000,null,468000]
["A130037","Currituck","Albemarle RPO","Aviation","Division Needs",null,"Currituck County Regional",null,null,"Hangers and Economic Development",null,1080000,null,null,null,null,5.56,15,{"$f":"Q138+#REF!+R138","v":{"$error":"#REF!"}},null,"N/A",null,15162.235924390983,null,null,"Yes",0,null,0,null,0,0,15,10,"Yes",15,"Minimal",10,"Yes",5,"Yes",0,"No",null,null,null,null,null,null,null,null,null,null,null,"Albemarle RPO",null,null,null,null,null,null,null,null,null,null,null,null,55,null,null,null,null,null,null,null,null,null,"Currituck",null,null,null,null,null,null,null,null,null,null,null,null,null,1.04,null,null,null,null,null,null,null,null,null,null,68.489999999999995,null,null,null,null,null,null,null,null,null,null,null,null,null,null,null,null,null,null,null,null,null,null,null,null,null,null,null,null,null,null,null,null,1125000,null,1080000]
["A130038","Currituck","Albemarle RPO","Aviation","Division Needs",null,"Currituck County Regional",null,null,"Hangers and Economic Development",null,1012500,null,null,null,null,5.56,13.5,{"$f":"Q139+#REF!+R139","v":{"$error":"#REF!"}},null,"N/A",null,14214.596179116548,null,null,"Yes",0,null,0,null,0,0,15,10,"Yes",15,"Minimal",10,"Yes",5,"Yes",0,"No",null,null,null,null,null,null,null,null,null,null,null,"Albemarle RPO",null,null,null,null,null,null,null,null,null,null,null,null,55,null,null,null,null,null,null,null,null,null,"Currituck",null,null,null,null,null,null,null,null,null,null,null,null,null,1.04,null,null,null,null,null,null,null,null,null,null,68.489999999999995,null,null,null,null,null,null,null,null,null,null,null,null,null,null,null,null,null,null,null,null,null,null,null,null,null,null,null,null,null,null,null,null,1125000,null,1012500]
["A130039","Currituck","Albemarle RPO","Aviation","Division Needs",null,"Currituck County Regional",null,null,"Hangers and Economic Development",null,1813500,null,null,null,null,5.56,13.5,{"$f":"Q140+#REF!+R140","v":{"$error":"#REF!"}},null,"N/A",null,25459.921156373195,null,null,"Yes",0,null,0,null,0,0,15,10,"Yes",15,"Minimal",10,"Yes",5,"Yes",0,"No",null,null,null,null,null,null,null,null,null,null,null,"Albemarle RPO",null,null,null,null,null,null,null,null,null,null,null,null,55,null,null,null,null,null,null,null,null,null,"Currituck",null,null,null,null,null,null,null,null,null,null,null,null,null,1.04,null,null,null,null,null,null,null,null,null,null,68.489999999999995,null,null,null,null,null,null,null,null,null,null,null,null,null,null,null,null,null,null,null,null,null,null,null,null,null,null,null,null,null,null,null,null,2015000,null,1813500]
["A130034","Currituck","Albemarle RPO","Aviation","Division Needs",null,"Currituck County Regional",null,null,"Corporate & T-hanger Taxiways",null,2547000,null,null,null,null,4.26,15,{"$f":"Q141+#REF!+R141","v":{"$error":"#REF!"}},null,"N/A",null,35757.606388355402,null,null,"Yes",0,null,0,null,0,0,15,10,"Yes",15,"Minimal",10,"Yes",5,"Yes",0,"No",null,null,null,null,null,null,null,null,null,null,null,"Albemarle RPO",null,null,null,null,null,null,null,null,null,null,null,null,55,null,null,null,null,null,null,null,null,null,"Currituck",null,null,null,null,null,null,null,null,null,null,null,null,null,1.04,null,null,null,null,null,null,null,null,null,null,68.489999999999995,null,null,null,null,null,null,null,null,null,null,null,null,null,null,null,null,null,null,null,null,null,null,null,null,null,null,null,null,null,null,null,null,2830000,null,2547000]
["A130014","Chowan","Albemarle RPO","Aviation","Division Needs",null,"Northeastern Regional",null,null,"Hangers and Economic Development",null,1048500,null,null,null,null,4.0599999999999996,8.25,{"$f":"Q142+#REF!+R142","v":{"$error":"#REF!"}},null,"N/A",null,23976.455737884862,null,null,"Yes",0,null,0,null,0,0,15,10,"Yes",15,"Minimal",10,"Yes",5,"Yes",0,"No",null,null,null,null,null,null,null,null,null,null,null,"Albemarle RPO",null,null,null,null,null,null,null,null,null,null,null,null,55,null,null,null,null,null,null,null,null,null,"Chowan",null,null,null,null,null,null,null,null,null,null,null,null,null,1.1399999999999999,null,null,null,null,null,null,null,null,null,null,38.36,null,null,null,null,null,null,null,null,null,null,null,null,null,null,null,null,null,null,null,null,null,null,null,null,null,null,null,null,null,null,null,null,1165000,null,1048500]
["A130044","Washington","Albemarle RPO","Aviation","Division Needs",null,"Plymouth Municipal Airport",null,null,"Hangers and Economic Development",null,310500,null,null,null,null,3.56,6,{"$f":"Q143+#REF!+R143","v":{"$error":"#REF!"}},null,"N/A",null,8208.8999809648703,null,null,"Yes",0,null,0,null,0,0,15,10,"Yes",15,"Minimal",10,"Yes",5,"Yes",0,"No",null,null,null,null,null,null,null,null,null,null,null,"Albemarle RPO",null,null,null,null,null,null,null,null,null,null,null,null,55,null,null,null,null,null,null,null,null,null,"Washington",null,null,null,null,null,null,null,null,null,null,null,null,null,1.04,null,null,null,null,null,null,null,null,null,null,36.369999999999997,null,null,null,null,null,null,null,null,null,null,null,null,null,null,null,null,null,null,null,null,null,null,null,null,null,null,null,null,null,null,null,null,345000,null,310500]
["A130045","Washington","Albemarle RPO","Aviation","Division Needs",null,"Plymouth Municipal Airport",null,null,"Hangers and Economic Development",null,760500," ",null," ",null,3.56,6,{"$f":"Q144+#REF!+R144","v":{"$error":"#REF!"}},null,"N/A",null,5115.6912924853541,null,null,"Yes",0,null,0,null,0,0,15,10,"Yes",15,"Minimal",10,"Yes",5,"Yes",0,"No",null,null,null,null,null,null,null,null,null,null,null,"Albemarle RPO",null,null,null,null,null,null,null,null,null,null,null,null,55,null,null,null,null,null,null,null,null,null,"Washington",null,null,null,null,null,null,null,null,null,null,null,null,null,1.04,null,null,null,null,null,null,null,null,null,null,36.369999999999997,null,null,null,null,null,null,null,null,null,null,null,null,null,null,null,null,null,null,null,null,null,null,null,null,null,null,null,null,null,null,null,null,845000,null,193500]
["A130375","Martin","Mid-East RPO","Aviation","Division Needs",null,"Martin County ",null,null,"Hangers and Economic Development",null,535500," ",null," ",null,3.5,null,{"$f":"Q145+#REF!+R145","v":{"$error":"#REF!"}},null,"N/A",null,{"$f":"(EH145/CY145)/CN145","v":45716.4809834806},null,null,"Yes",0,null,0,null,{"$f":"IF(AT145<30,0,IF(AT145<50,5,IF(AT145<65,10,IF(AT145<79,15,IF(AT145>80,20)))))","v":0},0,{"$f":"IF(Z145=\"Yes\",15,0)","v":15},10,"Yes",15,"Minimal",10,"Yes",5,"Yes",0,"No",null,null,null,null,null,null,null,null,null,null,null,"Mid-East RPO",null,null,null,null,null,null,null,null,null,null,null,null,55,null,null,null,null,null,null,null,null,null,"Martin",null,null,null,null,null,null,null,null,null,null,null,null,null,0.95,null,null,null,null,null,null,null,null,null,null,12.33,null,null,null,null,null,null,null,null,null,null,null,null,null,null,null,null,null,null,null,null,null,null,null,null,null,null,null,null,null,null,null,null,595000,null,535500]
["A130003","Hyde","Albemarle RPO","Aviation","Division Needs",null,"Hyde County",null,null,"Hangers and Economic Development",null,990000," ",null," ",null,3.16,6.75,{"$f":"Q146+#REF!+R146","v":{"$error":"#REF!"}},null,"N/A",null,100212.57212268448,null,null,"Yes",0,null,0,null,0,0,15,10,"Yes",15,"Minimal",10,"Yes",5,"Yes",0,"No",null,null,null,null,null,null,null,null,null,null,null,"Albemarle RPO",null,null,null,null,null,null,null,null,null,null,null,null,55,null,null,null,null,null,null,null,null,null,"Hyde",null,null,null,null,null,null,null,null,null,null,null,null,null,0.89,null,null,null,null,null,null,null,null,null,null,11.1,null,null,null,null,null,null,null,null,null,null,null,null,null,null,null,null,null,null,null,null,null,null,null,null,null,null,null,null,null,null,null,null,1100000,null,990000]
["A130004","Hyde","Albemarle RPO","Aviation","Division Needs",null,"Hyde County",null,null,"other",null,2070000," ",null," ",null,3.16,6.75,{"$f":"Q147+#REF!+R147","v":{"$error":"#REF!"}},null,"N/A",null,209535.37807470391,null,null,"Yes",0,null,0,null,0,0,15,10,"Yes",15,"Minimal",10,"Yes",5,"Yes",0,"No",null,null,null,null,null,null,null,null,null,null,null,"Albemarle RPO",null,null,null,null,null,null,null,null,null,null,null,null,55,null,null,null,null,null,null,null,null,null,"Hyde",null,null,null,null,null,null,null,null,null,null,null,null,null,0.89,null,null,null,null,null,null,null,null,null,null,11.1,null,null,null,null,null,null,null,null,null,null,null,null,null,null,null,null,null,null,null,null,null,null,null,null,null,null,null,null,null,null,null,null,2300000,null,2070000]
["A130374","Martin","Mid-East RPO","Aviation","Division Needs",null,"Martin County ",null,null,"Hangers and Economic Development",null,211500," ",null," ",null,3.16,null,{"$f":"Q148+#REF!+R148","v":{"$error":"#REF!"}},null,"N/A",null,18056.08912792931,null,null,"Yes",0,null,0,null,0,0,15,10,"Yes",15,"Minimal",10,"Yes",5,"Yes",0,"No",null,null,null,null,null,null,null,null,null,null,null,"Mid-East RPO",null,null,null,null,null,null,null,null,null,null,null,null,55,null,null,null,null,null,null,null,null,null,"Martin",null,null,null,null,null,null,null,null,null,null,null,null,null,0.95,null,null,null,null,null,null,null,null,null,null,12.33,null,null,null,null,null,null,null,null,null,null,null,null,null,null,null,null,null,null,null,null,null,null,null,null,null,null,null,null,null,null,null,null,235000,null,211500]
["A130001",null,null,"Aviation","Division Needs",null,"Hyde County",null,null,"Design",null,622440,null,null,null,null,25.97,6.75,{"$f":"Q149+#REF!+R149","v":{"$error":"#REF!"}},null,"N/A",null,63006.37716368054,null,null,"Yes",0,null,0,null,0,0,15,10,"Yes",15,"Minimal",10,"Yes",5,"Yes",0,"No",null,null,null,null,null,null,null,null,null,null,null,"Albemarle RPO",null,null,null,null,null,null,null,null,null,null,null,null,55,null,null,null,null,null,null,null,null,null,"Hyde",null,null,null,null,null,null,null,null,null,null,null,null,null,0.89,null,null,null,null,null,null,null,null,null,null,11.1,null,null,null,null,null,null,null,null,null,null,null,null,null,null,null,null,null,null,null,null,null,null,null,null,null,null,null,null,null,null,null,null,691600,null,622440]
["H129113-A","Northampton","Peanut Belt RPO","Highway","Statewide Mobility","R-2582A","US-158 , NC-46 ","I-95/NC 46 in Roanoke Rapids","SR 1312 (St. John Church Road)","Widen to Multi-Lanes.","1 - Widen Existing Roadway",61600000,10.75557238499411,null,10.87,null,8.0399999999999991,null,{"$f":"Q150+#REF!+R150","v":{"$error":"#REF!"}},null,{"$f":"IF(AT150<30,0,IF(AT150<50,5,IF(AT150<65,10,IF(AT150>66,15))))","v":5},{"$f":"IF(W150<499,15,IF(W150<999,10,IF(W150<1499,5,IF(W150>1500,0))))","v":0},2091.14740608183,{"$f":"IF(DC150<500,0,IF(DC150<1000,5,IF(DC150>1000,10)))","v":5},{"$f":"IF(Z150=\"Yes\",20,0)","v":20},"Yes",{"$f":"IF(AB150=\"Yes\",20,0)","v":20},"Yes",10,"Yes",5,{"$f":"IF(BL148<999,20,IF(BL148<1499,15,IF(BL148<1999,10,IF(BL148<3999,5,IF(BL148>4000,0)))))","v":20},15,10,"Yes",15,"Minimal",10,"Yes",{"$f":"IF(AO150=\"Yes\",10,0)","v":0},"No",0,"No",16.653337707758549,1.1873089610389611,37.553088508914001,2.7725679898764266,10.935559354881701,15.814667089,25,0,null,null,null,"Peanut Belt RPO",100,"","","","","01",100,"","","","",{"$f":"SUM(U150+V150+X150+Y150+AA150+AC150)","v":60},75,null,null,null,null,{"$f":"Q150+BT150*0.25","v":8.0399999999999991},"Exceeds cap of $15 million for Statewide & Regional Projects cascading to Division Needs",{"$f":"O150+BS150*0.25","v":10.87},null,null,"Northampton",100,"","","","","","",1,"A","01, , ","Peanut Belt RPO, , ","Northampton, , , ",7.4799006700000001,7.4799006700000001,"Arterial","Multi-Lane Highway",1,2,"Undivided","Divided",50,50,14.080301894199701,85.919698105800293,3938.2223629999999,15671.3475,0.25130081270930915,3383.7087650247145,554.51359797528528,2698025.2618860388,442145.52707987302,3140170.7889659116,73138232,40.937157169999999,38.616381390000001,33.11699402,"","",50,1.6871118709763401E-4,"No","No",11,12,"No",1,0,"2 Lane Undivided","4A - 4 Lane Divided (46' Depressed Median) with Paved Shoulders","None","Partial",1,"Yes",22,54000000,7600000,0,61600000,"",61600000,61600000,""]
["H129676-B","Hertford","Peanut Belt RPO","Highway","Statewide Mobility","R-5311B","US-13 , NC-11 ","NC 11/NC 561 Near Ahoskie","US 158/NC 45 Near Winton","Widen to Multi-Lanes.","1 - Widen Existing Roadway",78190000,14.294078398139709,null,10.371087217043794,null,6.9127386775858319,null,{"$f":"Q151+#REF!+R151","v":{"$error":"#REF!"}},null,{"$f":"IF(AT151<30,0,IF(AT151<50,5,IF(AT151<65,10,IF(AT151>66,15))))","v":5},{"$f":"IF(W151<499,15,IF(W151<999,10,IF(W151<1499,5,IF(W151>1500,0))))","v":0},1789.7333075371355,{"$f":"IF(DC151<500,0,IF(DC151<1000,5,IF(DC151>1000,10)))","v":5},{"$f":"IF(Z151=\"Yes\",20,0)","v":20},"Yes",{"$f":"IF(AB151=\"Yes\",20,0)","v":20},"Yes",10,"Yes",5,{"$f":"IF(BL149<999,20,IF(BL149<1499,15,IF(BL149<1999,10,IF(BL149<3999,5,IF(BL149>4000,0)))))","v":20},15,10,"Yes",15,"Minimal",10,"Yes",0,"No",{"$f":"IF(AQ151=\"Yes\",10,0)","v":0},"No",24.001832373834379,3.9584013300933626E-2,45.085970388722998,12.62287902978008,0.48480637170798752,24.870691912999998,0,0,null,null,null,"Peanut Belt RPO",100,"","","","","01",100,"","","","",{"$f":"SUM(U151+V151+X151+Y151+AA151+AC151)","v":60},75,null,null,null,null,6.9127386775858319,"Exceeds cap of $15 million for Statewide & Regional Projects cascading to Division Needs",{"$f":"O151+BS151*0.25","v":10.371087217043794},null,null,"Hertford",100,"","","","","","",1,"A","01, , ","Peanut Belt RPO, , ","Hertford, , , ",7.7687519099999998,7.7687519099999998,"Two Lane Highway","Multi-Lane Highway",1,2,"Undivided","Divided",51,51,12.658791545258499,87.341208454741505,5623.5639709999996,15511.563459999999,0.36254011309057299,4911.6887304968486,711.87524050315096,116717.64369008195,16916.462999159405,133634.10668924137,3095074,59.757713440000003,36.965768650000001,38.547956220000003,"","",2.1084775792553301,7.5876498549044201E-6,"Yes","No",12,12,"No",4,2,"2 Lane Undivided","4A - 4 Lane Divided (46' Depressed Median) with Paved Shoulders","None","Partial",1,"Yes",24,73100000,4425000,665000,78190000,"",78190000,78190000,""]
["H090201","Bertie","Peanut Belt RPO","Highway","Regional Impact","R-2900","NC-11 ","NC 903 in Martin County","US 13 Bypass North of Ahoskie in Hertford County","Widen to Multi-Lanes","1 - Widen Existing Roadway",264678000,null,null,9.6828556939639139,null,6.4527639498232601,null,{"$f":"Q152+#REF!+R152","v":{"$error":"#REF!"}},null,{"$f":"IF(AT152<30,0,IF(AT152<50,5,IF(AT152<65,10,IF(AT152>66,15))))","v":5},{"$f":"IF(W152<499,15,IF(W152<999,10,IF(W152<1499,5,IF(W152>1500,0))))","v":0},1767.5616600315998,{"$f":"IF(DC152<500,0,IF(DC152<1000,5,IF(DC152>1000,10)))","v":5},{"$f":"IF(Z152=\"Yes\",20,0)","v":20},"Yes",{"$f":"IF(AB152=\"Yes\",20,0)","v":20},"Yes",10,"Yes",5,{"$f":"IF(BL150<999,20,IF(BL150<1499,15,IF(BL150<1999,10,IF(BL150<3999,5,IF(BL150>4000,0)))))","v":0},15,10,"Yes",15,"Minimal",10,"Yes",0,"No",0,"No",22.004158280104082,7.4195384580509144E-2,42.449285833548004,4.9984943886064652,"N/A",19.458886990000003,0,0,null,null,null,"Peanut Belt RPO",91.83,"Mid-East RPO",8.17,"","","01",100,"","","","",{"$f":"SUM(U152+V152+X152+Y152+AA152+AC152)","v":60},55,null,null,null,null,6.4527639498232601,"Exceeds cap of $15 million for Statewide & Regional Projects cascading to Division Needs",{"$f":"O152+BS152*0.25","v":9.6828556939639139},null,null,"Bertie",60.05,"Hertford",31.78,"Martin",8.17,"","",1,"A","01, , ","Peanut Belt RPO, Mid-East RPO, ","Bertie, Hertford, Martin, ",29.059377309999999,29.059377309999999,"Two Lane Highway","Multi-Lane Highway",1,2,"Undivided","Divided",54,55,19.400469355290102,80.599530644709901,5152.9623300000003,15503.09146,0.33238288913506808,4153.2634522787075,999.698877721293,665630.52880070708,160218.60887587239,825849.13767657941,19637886,52.985728870000003,37.521074390000003,36.8537903,"","","","","No","No",12,12,"No",2,2,"2 Lane Undivided","4A - 4 Lane Divided (46' Depressed Median) with Paved Shoulders","Limited","Partial",1,"Yes",22,224808000,35598000,4272000,264678000,"",264678000,264678000,""]
["H141741","Bertie","Peanut Belt RPO","Highway","Regional Impact","","NC-45 ","Hertford County Line","Washington County Line","Currently a 2- lane major thoroughfare with high truck percentage, this project recommends road be widened to 24 feet with paved shoulders and turn lanes where necessary through Bertie County, with safety and mobility the primary purpose.\n","1 - Widen Existing Roadway",130375000,null,null,9.07,null,6.88,null,{"$f":"Q153+#REF!+R153","v":{"$error":"#REF!"}},null,{"$f":"IF(AT153<30,0,IF(AT153<50,5,IF(AT153<65,10,IF(AT153>66,15))))","v":5},{"$f":"IF(W153<499,15,IF(W153<999,10,IF(W153<1499,5,IF(W153>1500,0))))","v":0},2103.5491872249895,{"$f":"IF(DC153<500,0,IF(DC153<1000,5,IF(DC153>1000,10)))","v":5},{"$f":"IF(Z153=\"Yes\",20,0)","v":20},"Yes",{"$f":"IF(AB153=\"Yes\",20,0)","v":20},"Yes",10,"Yes",5,{"$f":"IF(BL151<999,20,IF(BL151<1499,15,IF(BL151<1999,10,IF(BL151<3999,5,IF(BL151>4000,0)))))","v":0},15,10,"Yes",15,"Minimal",{"$f":"IF(AM153=\"Yes\",10,0)","v":10},"Yes",0,"No",0,"No",10.66617998102131,1.6161204218600192E-2,33.133862619032996,2.6845429695994789,"N/A",16.497368424559369,25,0,null,null,null,"Peanut Belt RPO",100,"Albemarle RPO","","","","01",100,"","","","",{"$f":"SUM(U153+V153+X153+Y153+AA153+AC153)","v":60},55,null,null,null,null,6.88,"Exceeds cap of $15 million for Statewide & Regional Projects cascading to Division Needs",{"$f":"O153+BS153*0.25","v":9.07},null,null,"Bertie",100,"Washington","","","","","",1,"A","01, , ","Peanut Belt RPO, Albemarle RPO, ","Bertie, Washington, , ",24.817557310000002,24.817557310000002,"Two Lane Highway","Two Lane Highway",1,1,"Undivided","TWLTL",55,55,21.498974225824398,78.501025774175602,2497.3684245593699,15500,0.16112054351995936,1960.4598306394741,536.90859391989579,68999.968866657597,18896.932079771112,87896.900946428708,2107017,34.606511580000003,28.184745840000001,36.620271590000002,"","","","","No","No",11,12,"No",0,0,"2 Lane Undivided","3A - 2 Lane with Two Way Left Turn Lane, and Paved Shoulders","None","None",1,"No",27,108729000,19327000,2319000,130375000,"",130375000,130375000,""]
["H141224","Currituck","Albemarle RPO","Highway","Division Needs","","Ponderosa Drive","US 17","NC 168","Upgrade Ponderosa Drive to provide direct connection between US 17 and NC 168 to alleviate existing traffic","6 - Widen Existing Roadway and Construct Part on New Location",46069000,null,null,null,null,11.1,7.5,{"$f":"Q154+#REF!+R154","v":{"$error":"#REF!"}},null,"N/A",null,1967.3398086522786,null,null,"Yes",null,null,null,null,5,{"$f":"IF(W154<999,20,IF(W154<1499,15,IF(W154<1999,10,IF(W154<3999,5,IF(W154>4000,0)))))","v":10},15,0,"No",{"$f":"IF(AK154=\"Minimal\",15,0)","v":15},"Minimal",10,"Yes",0,"No",0,"No",9.7560748992085635,1.3002594152249887,49.966063520603996,0,"N/A","N/A",50,0,null,null,null,"Albemarle RPO",100,"","","","","01",100,"","","","",null,55,null,null,null,null,11.1,"Exceeds cap of $15 million for Statewide & Regional Projects cascading to Division Needs",null,null,null,"Currituck",63.5,"Camden",36.5,"","","","",1,"A","01, , ","Albemarle RPO, , ","Currituck, Camden, , ",17.899999999999999,10.223092530000001,"Two Lane Highway","Two Lane Highway",1,1,"Undivided","Undivided",53.1532929418469,55,0,100,2290.5886992880501,15547.2645412783,0.1473306569915557,2290.5886992880501,0,2722802.3267137692,0,2722802.3267137692,59901651,78.457510429999999,43.696003040000001,27.75966841,"","","","","No","No",10,12,"No",0,0,"New Roadway","2A - 2 Lane Undivided with Paved Shoulders, 55 mph","None","None",1,"No",34,44934000,1013000,122000,46069000,"",46069000,46069000,""]
["H090505","Chowan","Albemarle RPO","Highway","Division Needs","U-5001","- New Route - Western Connector (Luke Street)","Albania Stree","Virginia Street","Albania Street to Virginia Street.  Construct Multi-Lanes, Some New Location.","5 - Construct Roadway on New Location",9681000," ",null," ",null,3.3389965257502841,4.5,{"$f":"Q155+#REF!+R155","v":{"$error":"#REF!"}},null,"N/A",null,1484.2014063804211,null,null,"Yes",null,null,null,null,0,15,15,{"$f":"IF(AI155=\"Yes\",10,0)","v":0},"No",{"$f":"IF(AK155=\"Minimal\",15,0)","v":15},"Minimal",10,"Yes",0,"No",0,"No",21.672837154252885,1.44483162896395,10.272296474286,1.0195217718000875,"N/A","N/A",0,0,null,null,null,"Albemarle RPO",100,"","","","","01",100,"","","","",null,55,null,null,null,null,3.3389965257502841,"Minimal Local Support",null,null,null,"Chowan",100,"","","","","","",1,"A","01, , ","Albemarle RPO, , ","Chowan, , , ",1.5,1.11961556,"Arterial","Arterial",1,2,"Undivided","Divided",38,35,3.5000000000003002,96.499999999999702,5825.8386959999998,18071.619050000001,0.32237502793088146,5621.9343416399824,203.90435436001749,604716.87205310084,21932.736292083333,626649.60834518413,13987415,7.8258291699999996,15.168313080000001,7.8258291699999996,"","","","","No","No",12,12,"Yes",0,2,"New Roadway","4C - 4 Lane Divided (23' Raised Median) with Curb & Gutter, Wide Outside Lanes, and Sidewalks","None","Partial",1,"No",24,5928000,3351000,402000,9681000,"",9681000,9681000,""]
["H090149-C","Northampton","Peanut Belt RPO","Highway","Statewide Mobility","R-2584C","US-158 ","East of SR 1365","Murfreesboro Bypass","Widen to Multi-Lanes, Part on New  Location.","1 - Widen Existing Roadway",15500000,9.3681981442180433,null,8.4421943032112416,null,5.627067316119323,null,{"$f":"Q156+#REF!+R156","v":{"$error":"#REF!"}},null,{"$f":"IF(AT156<30,0,IF(AT156<50,5,IF(AT156<65,10,IF(AT156>66,15))))","v":5},{"$f":"IF(W156<499,15,IF(W156<999,10,IF(W156<1499,5,IF(W156>1500,0))))","v":5},1024.9810988969052,{"$f":"IF(DC156<500,0,IF(DC156<1000,5,IF(DC156>1000,10)))","v":0},{"$f":"IF(Z156=\"Yes\",20,0)","v":20},"Yes",{"$f":"IF(AB156=\"Yes\",20,0)","v":20},"Yes",{"$f":"IF(AD156=\"Yes\",10,0)","v":10},"Yes",5,15,15,{"$f":"IF(AI156=\"Yes\",10,0)","v":10},"Yes",15,"Minimal",10,"Yes",0,"No",0,"No",16.471282630658063,3.1866580645161291E-2,39.767523949889998,2.1687150311144747,6.7579796151811991E-2,23.569707588,0,0,null,null,null,"Peanut Belt RPO",100,"","","","","01",100,"","","","",{"$f":"SUM(U156+V156+X156+Y156+AA156+AC156)","v":60},70,null,null,null,null,5.627067316119323,"Exceeds cap of $15 million for Statewide & Regional Projects cascading to Division Needs",{"$f":"O156+BS156*0.25","v":8.4421943032112416},null,null,"Northampton",100,"","","","","","",1,"A","01, , ","Peanut Belt RPO, , ","Northampton, , , ",3.9211613500000002,3.9211613500000002,"Two Lane Highway","Multi-Lane Highway",1,2,"Undivided","Divided",55,55,11.2468617618159,88.753138238184107,3856.5691959999999,15500,0.24881091587096774,3422.8261897771054,433.74300622289491,19034.061700427039,2412.010042237323,21446.07174266436,493932,45.618827529999997,32.736669169999999,40.959006600000002,"","",0,1.3515959230362399E-6,"No","No",12,12,"No",2,0,"2 Lane Undivided","4A - 4 Lane Divided (46' Depressed Median) with Paved Shoulders","None","Partial",1,"Yes",26,10800000,4700000,0,15500000,"",15500000,15500000,""]
["H090182","Martin","Mid-East RPO","Highway","Regional Impact","R-2700","NC-11 ","US 64 Relocation North of Bethel","NC 903","Widen to Four Lanes with a Bypass of Oak City on New Location.","6 - Widen Existing Roadway and Construct Part on New Location",120488000,null,null,7.5066214316192408,null,5.0029548834901352,null,{"$f":"Q157+#REF!+R157","v":{"$error":"#REF!"}},null,5,0,2117.0917484054085,5,20,"Yes",20,"Yes",{"$f":"IF(AD157=\"Yes\",10,0)","v":10},"Yes",5,5,15,{"$f":"IF(AI157=\"Yes\",10,0)","v":10},"Yes",15,"Minimal",10,"Yes",0,"No",0,"No",16.498670475081592,4.3782127680764893E-2,33.487096232138995,3.4346861968498441,"N/A",23.602926140999998,0,0,null,null,null,"Mid-East RPO",86.92,"Upper Coastal Plain RPO",13.08,"","","01",86.92,"04",13.08,"","",60,60,null,null,null,null,5.0029548834901352,"Exceeds cap of $15 million for Statewide & Regional Projects cascading to Division Needs",7.5066214316192408,null,null,"Martin",86.92,"Edgecombe",13.08,"","","","",1,"A","01, 04, ","Mid-East RPO, Upper Coastal Plain RPO, ","Martin, Edgecombe, , ",14.7,14.714917890000001,"Two Lane Highway","Multi-Lane Highway",1,2,"Undivided","Divided",54,55,17.761137949743897,82.238862050256103,3867.6420469999998,15520.633970000001,0.24919356093802653,3180.7048076300312,686.93723936996878,183602.25972227845,39652.60439546586,223254.86411774432,5275221,43.679475170000003,30.094417199999999,26.697443459999999,"","","","","No","No",12,12,"No",3,0,"New Roadway","4A - 4 Lane Divided (46' Depressed Median) with Paved Shoulders","None","Partial",1,"Yes",26,113088000,6607000,793000,120488000,"",120488000,120488000,""]
["H090124-A","Dare","Albemarle RPO","Highway","Statewide Mobility","R-2544A","US-64 ","East of SR 1153 (Old Ferry Landing Road)","West of SR 1102 (East Lake Road)","Widen to Multi-Lanes.","1 - Widen Existing Roadway",15800000,6.9067768278857349,null,6.2094234301841915,6.3,4.1396156201227949,9,{"$f":"Q158+#REF!+R158","v":{"$error":"#REF!"}},null,0,0,2473.1357746167182,0,20,"Yes",20,"Yes",{"$f":"IF(AD158=\"Yes\",20,0)","v":20},"Yes",0,5,15,10,"No",{"$f":"IF(AK158=\"Minimal\",15,0)","v":15},"Minimal",10,"Yes",0,"No",0,"No",12.385806333013942,0,29.010349868214,1.4499997058007565,0,15.733332549333333,0,0,null,null,null,"Albemarle RPO",100,"","","","","01",100,"","","","",60,55,null,null,null,null,4.1396156201227949,"Exceeds cap of $15 million for Statewide & Regional Projects cascading to Division Needs",6.2094234301841915,null,null,"Dare",100,"","","","","","",1,"A","01, , ","Albemarle RPO, , ","Dare, , , ",2.2029831400000002,2.2029831400000002,"Two Lane Highway","Multi-Lane Highway",1,2,"Undivided","Divided",55,55,9.9999989848327004,90.0000010151673,2899.9997060000001,15499.99843,0.18709677417689907,2609.9997648398489,289.99994116015131,0,0,0,0,46.148892490000001,0,40.890861090000001,"","",0,0,"No","No",12,12,"No",0,0,"2 Lane Undivided","4A - 4 Lane Divided (46' Depressed Median) with Paved Shoulders","None","Partial",2,"Yes",24,14700000,1030000,70000,15800000,"",15800000,15800000,""]
["H141739","Bertie","Peanut Belt RPO","Highway","Statewide Mobility","","US-17 ","US 17A East of Windsor","South end of Chowan River Bridge","Upgrade roadway to Interstate","2 - Upgrade Arterial to Freeway/Expressway",120801000,5.0079009635828404,null,4.04,null,3.52,null,{"$f":"Q159+#REF!+R159","v":{"$error":"#REF!"}},null,0,0,1916.4046364329799,10,20,"Yes",20,"Yes",{"$f":"IF(AD159=\"Yes\",10,0)","v":10},"Yes",0,10,15,0,"Yes",15,"Minimal",10,"Yes",0,"No",0,"No",9.7962399411793832,0.37251017789587837,0,6.6047609105597012,6.3632374574832147,42.364117748521622,0,25,null,null,null,"Peanut Belt RPO",100,"","","","","01",100,"","","","",60,50,null,null,null,null,3.52,"Exceeds cap of $15 million for Statewide & Regional Projects cascading to Division Needs",4.04,null,null,"Bertie",100,"","","","","","",1,"A","01, , ","Peanut Belt RPO, , ","Bertie, , , ",7.7616468999999997,7.7616468999999997,"Multi-Lane Highway","Freeway",2,2,"Divided","Divided",55.000291984953797,70,16.265134601790702,83.734865398209294,8121.3725828405404,74420.488354429806,0.10912818180071945,6800.4204007285998,1320.9521821119401,1603998.7142052867,311569.79668598284,1915568.5108912694,44999602,0,0,0,"","",29.776517950539802,9.7488231199124501E-5,"No","No",12,12,"No",3,4,"4 Lane with Median - Partial Control","4A - 4 Lane Divided (46' Depressed Median) with Paved Shoulders","None","Full",1,"Yes",29,94540000,23447000,2814000,120801000,"",120801000,120801000,""]
["H090329","Northampton","Peanut Belt RPO","Highway","Regional Impact","U-2419","NC-48 ","Roanoke Avenue in Halifax County","NC 46 in Gaston in Northampton County","Roanoke Avenue in Halifax County to NC 46 in Gaston in Northampton County. Widen to Multi-Lanes.","1 - Widen Existing Roadway",30987000,null,null,20.72,null,17.12,null,{"$f":"Q160+#REF!+R160","v":{"$error":"#REF!"}},null,0,0,1638.8925354054695,5,20,"Yes",20,"Yes",{"$f":"IF(AD160=\"Yes\",10,0)","v":10},"Yes",0,{"$f":"IF(BL158<999,20,IF(BL158<1499,15,IF(BL158<1999,10,IF(BL158<3999,5,IF(BL158>4000,0)))))","v":0},15,{"$f":"IF(AI160=\"Yes\",10,0)","v":10},"Yes",15,"Minimal",10,"Yes",0,"No",0,"No",46.280282747314516,0.8176696033820634,24.093813457691997,4.1616023981484593,"N/A",19.025870580000003,0,100,null,null,null,"Peanut Belt RPO",100,"","","","","01",79.88,"04",20.12,"","",55,50,null,null,100,null,17.12,"Exceeds cap of $15 million for Statewide & Regional Projects cascading to Division Needs",45.72,null,null,"Northampton",79.88,"Halifax",20.12,"","","","",1,"A","01, 04, ","Peanut Belt RPO, , ","Northampton, Halifax, , ",1.71481062,1.71481062,"Arterial","Arterial",1,2,"Undivided","Divided",43,45,7.5487960210548,92.451203978945202,11025.870580000001,15800.17362,0.69783224192190874,10193.550100370308,832.32047962969182,1032268.9976535406,84286.496733129708,1116555.4943866702,25337128,16.88552645,55.403142789999997,0,"","","","","No","No",12,12,"No",0,4,"2 Lane Undivided","4C - 4 Lane Divided (23' Raised Median) with Curb & Gutter, Wide Outside Lanes, and Sidewalks","None","Partial",1,"No",24,29754000,1101000,132000,30987000,"",30987000,30987000,""]
["H090149-B","Northampton","Peanut Belt RPO","Highway","Statewide Mobility","R-2584B","US-158 ","East of SR 1500","East of SR 1365","Widen to Multi-Lanes, Part on New  Location.","6 - Widen Existing Roadway and Construct Part on New Location",54800000,7.9305558958701106,null,8.2200000000000006,null,6.31,null,{"$f":"Q161+#REF!+R161","v":{"$error":"#REF!"}},null,0,0,3336.37631613444,5,20,"Yes",20,"Yes",{"$f":"IF(AD161=\"Yes\",10,0)","v":10},"Yes",0,{"$f":"IF(W161<999,20,IF(W161<1499,15,IF(W161<1999,10,IF(W161<3999,5,IF(W161>4000,0)))))","v":5},15,10,"Yes",15,"Minimal",10,"Yes",0,"No",0,"No",17.825798295498515,5.7991313868613135E-2,20.262297100979996,2.6959465148098603,0,24.612863031,0,25,null,null,null,"Peanut Belt RPO",100,"","","","","01",100,"","","","",55,55,null,null,null,null,6.31,"Exceeds cap of $15 million for Statewide & Regional Projects cascading to Division Needs",8.2200000000000006,null,null,"Northampton",100,"","","","","","",1,"A","01, , ","Peanut Belt RPO, , ","Northampton, , , ",3.5,3.9067273600000001,"Two Lane Highway","Multi-Lane Highway",1,2,"Undivided","Divided",47,55,12.824748075914599,87.175251924085401,4204.2876770000003,15625.369189999999,0.26906805374497528,3665.0983740380284,539.18930296197209,119535.72994085884,17585.445280927532,137121.17522178637,3177924,28.277875479999999,8.9871338000000005,23.527961319999999,"","",0,0,"No","No",12,12,"No",1,2,"New Roadway","4A - 4 Lane Divided (46' Depressed Median) with Paved Shoulders","None","Partial",1,"Yes",26,47600000,7200000,0,54800000,"",54800000,54800000,""]
["B141344","Tyrrell","Albemarle RPO","Bike & Ped","Division Needs",null,"Fonsoe Street","US 64/Scuppernong Drive","Main Street","Construct a pedestrian sidewalk on one side of Fonsoe Street to connect US 64/Scuppernong Drive to Main Street","5. Construct Sidewalk",100000,null,null,null,null,18.819570064834998,9.75,{"$f":"Q162+#REF!+R162","v":{"$error":"#REF!"}},null,"N/A",null,20040.485829959514,null,null,"Yes",null,null,null,null,0,0,15,10,"Yes",{"$f":"IF(AK162=\"Minimal\",15,0)","v":15},"Minimal",10,"Yes",0,"No",0,"No",null,null,22.5,null,null,null,null,null,null,null,null,"Albemarle RPO",null,null,null,null,null,null,null,null,null,null,null,null,{"$f":"SUM(AE162+AF162+AG162+AH162+AJ162+AL162+AN162)","v":50},null,null,null,null,null,null,null,null,null,"Tyrrell County",null,null,null,null,null,null,null,null,null,null,null,null,null,0.25,null,null,null,null,null,null,null,null,null,null,494,null,null,null,null,null,null,null,null,null,null,null,null,null,null,null,null,null,null,null,null,null,null,null,null,null,null,null,null,null,85000,0,null,100000,0,2475000]
["B141340","Tyrrell","Albemarle RPO","Bike & Ped","Division Needs",null,"Main Street","Broad Street","Road Street","Construct 305 feet of pedestrian sidewalk on the north side of Main Street in front of Columbia Middle School.","5. Construct Sidewalk",100000,null,null,null,null,17.717965136690001,9.75,{"$f":"Q163+#REF!+R163","v":{"$error":"#REF!"}},null,"N/A",null,6121.9440192433849,null,null,"Yes",null,null,null,null,0,0,15,10,"Yes",15,"Minimal",10,"Yes",0,"No",0,"No",null,null,12.5,null,null,null,null,null,null,null,null,"Albemarle RPO",null,null,null,null,null,null,null,null,null,null,null,null,50,null,null,null,null,null,null,null,null,null,"Tyrrell County",null,null,null,null,null,null,null,null,null,null,null,null,null,0.17,null,null,null,null,null,null,null,null,null,null,538,null,null,null,null,null,null,null,null,null,null,null,null,null,null,null,null,null,null,null,null,null,null,null,null,null,null,null,null,null,80000,0,null,100000,0,559913]
["B141755","Camden","Albemarle RPO","Bike & Ped","Division Needs",null,"Main St.","US 17","SR 1243-Mullen Drive","Widen existing pavement","2. Construct multi-use trail / greenway / sidepath or on-road bike lane on local roadway",345000,null,null,null,null,13.997229630050075,8.25,{"$f":"Q164+#REF!+R164","v":{"$error":"#REF!"}},null,"N/A",null,76968.816067653272,null,null,"Yes",null,null,null,null,0,0,15,10,"Yes",15,"Minimal",10,"Yes",0,"No",0,"No",null,null,25,null,null,null,null,null,null,null,null,"Albemarle RPO",null,null,null,null,null,null,null,null,null,null,null,null,50,null,null,null,null,null,null,null,null,null,"Camden County",null,null,null,null,null,null,null,null,null,null,null,null,null,1.056,null,null,null,null,null,null,null,null,null,null,{"$f":"129*0.1","v":12.9},null,null,null,null,null,null,null,null,null,null,null,null,null,null,null,null,null,null,null,null,null,null,null,null,null,null,null,null,null,300000,0,null,345000,0,1048500]
["B141780","Dare","Albemarle RPO","Bike & Ped","Division Needs",null,"Colington Road Path",".3 miles west Baum St","Bridge","Construct Multi use path","2. Construct multi-use trail / greenway / sidepath or on-road bike lane on local roadway",410000,null,null,null,null,13.321441426829745,9.75,{"$f":"Q165+#REF!+R165","v":{"$error":"#REF!"}},null,"N/A",null,14204.545454545452,null,null,"Yes",null,null,null,null,0,0,15,10,"Yes",15,"Minimal",10,"Yes",0,"No",0,"No",null,null,12.5,null,null,null,null,null,null,null,null,"Albemarle RPO",null,null,null,null,null,null,null,null,null,null,null,null,50,null,null,null,null,null,null,null,null,null,"Dare County",null,null,null,null,null,null,null,null,null,null,null,null,null,0.32,null,null,null,null,null,null,null,null,null,null,{"$f":"902*0.1","v":90.2},null,null,null,null,null,null,null,null,null,null,null,null,null,null,null,null,null,null,null,null,null,null,null,null,null,null,null,null,null,310000,0,null,410000,0,410000]
["B141940","Currituck","Albemarle RPO","Bike & Ped","Division Needs",null,"Currituck Multi-Use","Ocean Sands(K)","Seabird Way","Construct Multi-use path","2. Construct multi-use trail / greenway / sidepath or on-road bike lane on local roadway",460000,null,null,null,null,13.102509516759566,13.5,{"$f":"Q166+#REF!+R166","v":{"$error":"#REF!"}},null,"N/A",null,22616.647819460151,null,null,"Yes",null,null,null,null,0,0,15,10,"Yes",15,"Minimal",10,"Yes",0,"No",0,"No",null,null,25,null,null,null,null,null,null,null,null,"Albemarle RPO",null,null,null,null,null,null,null,null,null,null,null,null,50,null,null,null,null,null,null,null,null,null,"Currituck County",null,null,null,null,null,null,null,null,null,null,null,null,null,4.7300000000000004,null,null,null,null,null,null,null,null,null,null,{"$f":"43*0.1","v":4.3},null,null,null,null,null,null,null,null,null,null,null,null,null,null,null,null,null,null,null,null,null,null,null,null,null,null,null,null,null,400000,0,null,460000,0,460000]
["B141963","Currituck","Albemarle RPO","Bike & Ped","Division Needs",null,"Corolla multi-use path","Ocean Sands Section A","Yaupon Lane/Old Stoney Road","Oceans Sands section A (.1 mile south of Ocean Way) to Yaupon Lane/Old stoney Road","2. Construct multi-use trail / greenway / sidepath or on-road bike lane on local roadway",400000,null,null,null,null,12.852200094756203,13.5,{"$f":"Q167+#REF!+R167","v":{"$error":"#REF!"}},null,"N/A",null,126984.126984127,null,null,"Yes",null,null,null,null,0,0,15,10,"Yes",15,"Minimal",10,"Yes",0,"No",0,"No",null,null,25,null,null,null,null,null,null,null,null,"Albemarle RPO",null,null,null,null,null,null,null,null,null,null,null,null,50,null,null,null,null,null,null,null,null,null,"Currituck County",null,null,null,null,null,null,null,null,null,null,null,null,null,0.7,null,null,null,null,null,null,null,null,null,null,{"$f":"45*0.1","v":4.5},null,null,null,null,null,null,null,null,null,null,null,null,null,null,null,null,null,null,null,null,null,null,null,null,null,null,null,null,null,380000,0,null,400000,0,400000]
["B141961","Currituck","Albemarle RPO","Bike & Ped","Division Needs",null,"Corolla multi-use path","Ocean Sands section c","Ocean Sands section A","Ocean Sands Section C, .5 miles south of Sandhill Ln. to .1 miles south of Ocean Way.","2. Construct multi-use trail / greenway / sidepath or on-road bike lane on local roadway",420000,null,null,null,null,12.73396082381764,13.5,{"$f":"Q168+#REF!+R168","v":{"$error":"#REF!"}},null,"N/A",null,190217.39130434778,null,null,"Yes",null,null,null,null,0,0,15,10,"Yes",15,"Minimal",10,"Yes",0,"No",0,"No",null,null,25,null,null,null,null,null,null,null,null,"Albemarle RPO",null,null,null,null,null,null,null,null,null,null,null,null,50,null,null,null,null,null,null,null,null,null,"Currituck County",null,null,null,null,null,null,null,null,null,null,null,null,null,0.46,null,null,null,null,null,null,null,null,null,null,{"$f":"48*0.1","v":4.8000000000000007},null,null,null,null,null,null,null,null,null,null,null,null,null,null,null,null,null,null,null,null,null,null,null,null,null,null,null,null,null,400000,380000,null,800000,0,420000]
["B141774","Dare","Albemarle RPO","Bike & Ped","Division Needs",null,"NC 12 Duck","Cook Drive","Ships Watch Drive","Construct Sidewalk and extend share use path","5. Construct Sidewalk",290800,null,null,null,null,12.669319420463816,13.5,{"$f":"Q169+#REF!+R169","v":{"$error":"#REF!"}},null,"N/A",null,7133.0455259026676,null,null,"Yes",null,null,null,null,0,0,15,10,"Yes",15,"Minimal",10,"Yes",0,"No",0,"No",null,null,25,null,null,null,null,null,null,null,null,"Albemarle RPO",null,null,null,null,null,null,null,null,null,null,null,null,50,null,null,null,null,null,null,null,null,null,"Dare County",null,null,null,null,null,null,null,null,null,null,null,null,null,2.08,null,null,null,null,null,null,null,null,null,null,{"$f":"196*0.1","v":19.600000000000001},null,null,null,null,null,null,null,null,null,null,null,null,null,null,null,null,null,null,null,null,null,null,null,null,null,null,null,null,null,370000,0,null,426000,135200,290800]
["B141362","Dare","Albemarle RPO","Bike & Ped","Division Needs",null,"US 158","Gulfstream Road","Gull Street","Construct sidewalk from Gulfstream Road to Gull Street","2. Construct multi-use trail / greenway / sidepath or on-road bike lane on local roadway",415000,null,null,null,null,11.799247349397591,9.75,{"$f":"Q170+#REF!+R170","v":{"$error":"#REF!"}},null,"N/A",null,312132.35294117645,null,null,"Yes",null,null,null,null,0,0,15,10,"Yes",15,"Minimal",10,"Yes",0,"No",0,"No",null,null,25,null,null,null,null,null,null,null,null,"Albemarle RPO",null,null,null,null,null,null,null,null,null,null,null,null,50,null,null,null,null,null,null,null,null,null,"Dare County",null,null,null,null,null,null,null,null,null,null,null,null,null,0.48,null,null,null,null,null,null,null,null,null,null,{"$f":"170*0.1","v":17},null,null,null,null,null,null,null,null,null,null,null,null,null,null,null,null,null,null,null,null,null,null,null,null,null,null,null,null,null,400000,0,null,415000,0,2547000]
["B141791","Camden","Albemarle RPO","Bike & Ped","Division Needs",null,"SR 1215","US 17","US 17","Construct Sidewalk on roads south side of US 17","5. Construct Sidewalk",370000,null,null,null,null,11.62296046708027,8.25,{"$f":"Q171+#REF!+R171","v":{"$error":"#REF!"}},null,"N/A",null,14192.558496355963,null,null,"Yes",null,null,null,null,0,0,15,10,"Yes",15,"Minimal",10,"Yes",0,"No",0,"No",null,null,5,null,null,null,null,null,null,null,null,"Albemarle RPO",null,null,null,null,null,null,null,null,null,null,null,null,50,null,null,null,null,null,null,null,null,null,"Camden County",null,null,null,null,null,null,null,null,null,null,null,null,null,0.79,null,null,null,null,null,null,null,null,null,null,{"$f":"330*0.1","v":33},null,null,null,null,null,null,null,null,null,null,null,null,null,null,null,null,null,null,null,null,null,null,null,null,null,null,null,null,null,320000,0,null,370000,0,370000]
["B141762","Dare","Albemarle RPO","Bike & Ped","Division Needs",null,"Nags Head Multi use Path","Gull Street","Grouse St.","Construct Multi use Path","2. Construct multi-use trail / greenway / sidepath or on-road bike lane on local roadway",437000,null,null,null,null,11.368879191733225,9.75,{"$f":"Q172+#REF!+R172","v":{"$error":"#REF!"}},null,"N/A",null,340460.52631578944,null,null,"Yes",null,null,null,null,0,0,15,10,"Yes",15,"Minimal",10,"Yes",0,"No",0,"No",null,null,25,null,null,null,null,null,null,null,null,"Albemarle RPO",null,null,null,null,null,null,null,null,null,null,null,null,50,null,null,null,null,null,null,null,null,null,"Dare County",null,null,null,null,null,null,null,null,null,null,null,null,null,0.32,null,null,null,null,null,null,null,null,null,null,{"$f":"190*0.1","v":19},null,null,null,null,null,null,null,null,null,null,null,null,null,null,null,null,null,null,null,null,null,null,null,null,null,null,null,null,null,380000,0,null,437000,0,2070000]
["B141776","Dare","Albemarle RPO","Bike & Ped","Division Needs",null,"Colington Road","SR 1452",".3 miles west","Construct Multi use path","2. Construct multi-use trail / greenway / sidepath or on-road bike lane on local roadway",400000,null,null,null,null,10.899780568313751,9.75,{"$f":"Q173+#REF!+R173","v":{"$error":"#REF!"}},null,"N/A",null,16479.215589337946,null,null,"Yes",null,null,null,null,0,0,15,10,"Yes",15,"Minimal",10,"Yes",0,"No",0,"No",null,null,12.5,null,null,null,null,null,null,null,null,"Albemarle RPO",null,null,null,null,null,null,null,null,null,null,null,null,50,null,null,null,null,null,null,null,null,null,"Dare County",null,null,null,null,null,null,null,null,null,null,null,null,null,0.27,null,null,null,null,null,null,null,null,null,null,{"$f":"899*0.1","v":89.9},null,null,null,null,null,null,null,null,null,null,null,null,null,null,null,null,null,null,null,null,null,null,null,null,null,null,null,null,null,300000,0,null,400000,0,400000]
["B141954","Dare","Albemarle RPO","Bike & Ped","Division Needs",null,"NC 12-Hatteras-II","SR 1237",".8 miles south","Construct curb & gutter /Sidewalk","5. Construct Sidewalk",370000,null,null,null,null,10.804722947171893,9.75,{"$f":"Q174+#REF!+R174","v":{"$error":"#REF!"}},null,"N/A",null,11725.186969197615,null,null,"Yes",null,null,null,null,0,0,15,10,"Yes",15,"Minimal",10,"Yes",0,"No",0,"No",null,null,5,null,null,null,null,null,null,null,null,"Albemarle RPO",null,null,null,null,null,null,null,null,null,null,null,null,50,null,null,null,null,null,null,null,null,null,"Dare County",null,null,null,null,null,null,null,null,null,null,null,null,null,0.49,null,null,null,null,null,null,null,null,null,null,{"$f":"644*0.1","v":64.400000000000006},null,null,null,null,null,null,null,null,null,null,null,null,null,null,null,null,null,null,null,null,null,null,null,null,null,null,null,null,null,320000,145000,null,515000,0,370000]
["B141947","Dare","Albemarle RPO","Bike & Ped","Division Needs",null,"NC 12-Hatteras","Bridge","SR 1237","Construct curb & gutter and sidewalk","5. Construct Sidewalk",406000,null,null,null,null,10.502334790371034,9.75,{"$f":"Q175+#REF!+R175","v":{"$error":"#REF!"}},null,"N/A",null,8369.4083694083693,null,null,"Yes",null,null,null,null,0,0,15,10,"Yes",15,"Minimal",10,"Yes",0,"No",0,"No",null,null,5,null,null,null,null,null,null,null,null,"Albemarle RPO",null,null,null,null,null,null,null,null,null,null,null,null,50,null,null,null,null,null,null,null,null,null,"Dare County",null,null,null,null,null,null,null,null,null,null,null,null,null,0.77,null,null,null,null,null,null,null,null,null,null,{"$f":"630*0.1","v":63},null,null,null,null,null,null,null,null,null,null,null,null,null,null,null,null,null,null,null,null,null,null,null,null,null,null,null,null,null,356000,162000,null,568000,0,406000]
["B141860","Dare","Albemarle RPO","Bike & Ped","Division Needs",null,"Twiford Street","Twiford Street","The Woods Road","Connect existing The Woods Road and Twiford Street multi-use paths","2. Construct multi-use trail / greenway / sidepath or on-road bike lane on local roadway",162000,null,null,null,null,10.153627313669816,7.5,{"$f":"Q176+#REF!+R176","v":{"$error":"#REF!"}},null,"N/A",null,35495.179666958808,null,null,"Yes",null,null,null,null,0,0,15,10,"Yes",15,"Minimal",10,"Yes",0,"No",0,"No",null,null,12.5,null,null,null,null,null,null,null,null,"Albemarle RPO",null,null,null,null,null,null,null,null,null,null,null,null,50,null,null,null,null,null,null,null,null,null,"Dare County",null,null,null,null,null,null,null,null,null,null,null,null,null,7.0000000000000007E-2,null,null,null,null,null,null,null,null,null,null,{"$f":"652*0.1","v":65.2},null,null,null,null,null,null,null,null,null,null,null,null,null,null,null,null,null,null,null,null,null,null,null,null,null,null,null,null,null,152000,0,null,162000,0,162000]
["B141955","Chowan","Albemarle RPO","Bike & Ped","Division Needs",null,"Edenton Multi-use path","Twiddy Avenue","Chowan River fising pier","Connect path where existing sidewalk stops near Twiddy Ave. and extend towards Pembroke to the west side of town, connecting  residential subdivisions and over the US 17 bypass overpass, terminating at the new Chowan River fishing pier. (Phase 2)","2. Construct multi-use trail / greenway / sidepath or on-road bike lane on local roadway",400000,null,null,null,null,5.4141769778944999,3.75,{"$f":"Q177+#REF!+R177","v":{"$error":"#REF!"}},null,"N/A",null,{"$f":"(EH177/CY177)/CN177","v":38986.354775828462},null,null,"Yes",null,null,null,null,{"$f":"IF(AT177<30,0,IF(AT177<50,5,IF(AT177<65,10,IF(AT177<79,15,IF(AT177>80,20)))))","v":0},0,{"$f":"IF(Z177=\"Yes\",15,0)","v":15},10,"Yes",15,"Minimal",10,"Yes",0,"No",0,"No",null,null,12.5,null,null,null,null,null,null,null,null,"Albemarle RPO",null,null,null,null,null,null,null,null,null,null,null,null,50,null,null,null,null,null,null,null,null,null,"Chowan County",null,null,null,null,null,null,null,null,null,null,null,null,null,0.15,null,null,null,null,null,null,null,null,null,null,{"$f":"684*0.1","v":68.400000000000006},null,null,null,null,null,null,null,null,null,null,null,null,null,null,null,null,null,null,null,null,null,null,null,null,null,null,null,null,null,380000,0,null,400000,0,400000]
["H141662","Northampton","Peanut Belt RPO","Highway","Regional Impact","","NC-35 ","Hertford County Line ","Virginia State Line","Currently 2-lane major thoroughfare from the Hertford County line to the Virginia State Line, NC 35 in Northampton County is a major truck route with high truck percentage. It is recommended to upgrade the existing facility to 24 feet w/ paved shoulders and turn lanes at all major intersections; while also modifying curves in some sections. This will improve overall connectivity in Severn, Conway, Woodland.\n","1 - Widen Existing Roadway",69277000,null,null,8.16,null,6.27,null,{"$f":"Q178+#REF!+R178","v":{"$error":"#REF!"}},null,{"$f":"IF(AT178<30,0,IF(AT178<50,5,IF(AT178<65,10,IF(AT178>66,15))))","v":5},{"$f":"IF(W178<499,15,IF(W178<999,10,IF(W178<1499,5,IF(W178>1500,0))))","v":0},1957.443714235656,{"$f":"IF(DC178<500,0,IF(DC178<1000,5,IF(DC178>1000,10)))","v":0},{"$f":"IF(Z178=\"Yes\",20,0)","v":20},"Yes",{"$f":"IF(AB178=\"Yes\",20,0)","v":20},"Yes",{"$f":"IF(AD178=\"Yes\",10,0)","v":10},"Yes",5,{"$f":"IF(BL176<999,20,IF(BL176<1499,15,IF(BL176<1999,10,IF(BL176<3999,5,IF(BL176>4000,0)))))","v":20},15,10,"Yes",15,"Minimal",10,"Yes",0,"No",0,"No",7.3733627816354605,0.12733198608484778,30.197608283831997,1.1098492973746994,"N/A",13.732099667873541,25,0,null,null,null,"Peanut Belt RPO",100,"","","","","01",100,"","","","",{"$f":"SUM(U178+V178+X178+Y178+AA178+AC178)","v":55},{"$f":"SUM(AE178+AF178+AG178+AH178+AJ178+AL178+AN178+AP178)","v":75},null,null,null,null,{"$f":"Q178+BT178*0.25","v":6.27},"Exceeds cap of $15 million for Statewide & Regional Projects cascading to Division Needs",{"$f":"O178+BS178*0.25","v":8.16},null,null,"Northampton",100,"","","","","","",1,"A","01, , ","Peanut Belt RPO, , ","Northampton, , , ",20.43275423,20.43275423,"Two Lane Highway","Two Lane Highway",1,1,"Undivided","TWLTL",51.123057912261999,55,12.8150743050166,87.184925694983406,1732.0996678735401,15556.563670646099,0.11134204857476741,1510.1298083986001,221.96985947493988,331852.88318075956,48778.149690389968,380631.03287114954,8821178,28.494854069999999,27.026539769999999,35.080491199999997,"","","","","No","No",10,11,"No",0,0,"2 Lane Undivided","3A - 2 Lane with Two Way Left Turn Lane, and Paved Shoulders","None","None",1,"No",26,60103000,8191000,983000,69277000,"",69277000,69277000,""]
["H129112-B","Northampton","Peanut Belt RPO","Highway","Statewide Mobility","R-2582B","US-158 , NC-46 ","SR 1312 (St. John Church Road)","SR 1333 (Lynch Road) East of Jackson","Widen to Multi-Lanes with Bypass of Jackson, Part on New Location.","1 - Widen Existing Roadway",66800000,8.5075034871344801,null,6.6843160297359381,null,4.4558793576483104,null,{"$f":"Q179+#REF!+R179","v":{"$error":"#REF!"}},null,{"$f":"IF(AT179<30,0,IF(AT179<50,5,IF(AT179<65,10,IF(AT179>66,15))))","v":0},{"$f":"IF(W179<499,15,IF(W179<999,10,IF(W179<1499,5,IF(W179>1500,0))))","v":0},3315.5475518357507,{"$f":"IF(DC179<500,0,IF(DC179<1000,5,IF(DC179>1000,10)))","v":5},{"$f":"IF(Z179=\"Yes\",20,0)","v":20},"Yes",{"$f":"IF(AB179=\"Yes\",20,0)","v":20},"Yes",{"$f":"IF(AD179=\"Yes\",10,0)","v":10},"Yes",0,{"$f":"IF(W179<999,20,IF(W179<1499,15,IF(W179<1999,10,IF(W179<3999,5,IF(W179>4000,0)))))","v":5},15,10,"Yes",15,"Minimal",10,"Yes",0,"No",0,"No",17.447583609263642,9.9398652694610776E-3,27.10127010195,2.7582020050072966,8.4790335780915993E-2,16.255478221000004,0,0,null,null,null,"Peanut Belt RPO",100,"","","","","01",100,"","","","",{"$f":"SUM(U179+V179+X179+Y179+AA179+AC179)","v":55},55,null,null,null,null,4.4558793576483104,"Exceeds cap of $15 million for Statewide & Regional Projects cascading to Division Needs",{"$f":"O179+BS179*0.25","v":6.6843160297359381},null,null,"Northampton",100,"","","","","","",1,"A","01, , ","Peanut Belt RPO, , ","Northampton, , , ",4.9318765100000004,4.9318765100000004,"Two Lane Highway","Multi-Lane Highway",1,2,"Undivided","Divided",55,55,13.503522042645699,86.496477957354301,4085.1594070000001,15500.00043,0.26355866410772738,3533.5190059985407,551.64040100145928,24714.483489075938,3858.3371305809887,28572.820619656926,663983,37.272482830000001,20.230309649999999,23.80914902,"","",0,1.6958067156183199E-6,"No","No",12,12,"No",2,2,"2 Lane Undivided","4A - 4 Lane Divided (46' Depressed Median) with Paved Shoulders","None","Partial",1,"Yes",22,61400000,5400000,0,66800000,"",66800000,66800000,""]
["H090149-A","Northampton","Peanut Belt RPO","Highway","Statewide Mobility","R-2584A","US-158 ","SR 1333 (Mt. Caramel Road-Severn Road) East of Jackson","East of SR 1500","Widen to Multi-Lanes, Part on New  Location.","1 - Widen Existing Roadway",35400000,6.7665917857530138,null,6.1953666496314517,null,4.1302444330876344,null,{"$f":"Q180+#REF!+R180","v":{"$error":"#REF!"}},null,{"$f":"IF(AT180<30,0,IF(AT180<50,5,IF(AT180<65,10,IF(AT180>66,15))))","v":0},{"$f":"IF(W180<499,15,IF(W180<999,10,IF(W180<1499,5,IF(W180>1500,0))))","v":5},1494.0486221150661,{"$f":"IF(DC180<500,0,IF(DC180<1000,5,IF(DC180>1000,10)))","v":0},{"$f":"IF(Z180=\"Yes\",20,0)","v":20},"Yes",{"$f":"IF(AB180=\"Yes\",20,0)","v":20},"Yes",{"$f":"IF(AD180=\"Yes\",10,0)","v":10},"Yes",0,{"$f":"IF(W180<999,20,IF(W180<1499,15,IF(W180<1999,10,IF(W180<3999,5,IF(W180>4000,0)))))","v":15},15,10,"Yes",15,"Minimal",10,"Yes",0,"No",0,"No",11.375504147527343,0,29.926940183349,1.8062326157995514,0,19.990346666999997,0,0,null,null,null,"Peanut Belt RPO",100,"","","","","01",100,"","","","",{"$f":"SUM(U180+V180+X180+Y180+AA180+AC180)","v":55},65,null,null,null,null,4.1302444330876344,"Exceeds cap of $15 million for Statewide & Regional Projects cascading to Division Needs",{"$f":"O180+BS180*0.25","v":6.1953666496314517},null,null,"Northampton",100,"","","","","","",1,"A","01, , ","Peanut Belt RPO, , ","Northampton, , , ",8.8959874899999996,8.8959874899999996,"Two Lane Highway","Multi-Lane Highway",1,2,"Undivided","Divided",55,55,13.563110771595898,86.436889228404098,2663.4488889999998,15500.00021,0.17183540986545573,2302.2023658400894,361.24652315991028,0,0,0,0,31.488997040000001,30.542237579999998,27.75856491,"","",0,0,"No","No",12,12,"No",2,0,"2 Lane Undivided","4A - 4 Lane Divided (46' Depressed Median) with Paved Shoulders","None","Partial",1,"Yes",26,31300000,4100000,0,35400000,"",35400000,35400000,""]
["H090399","Chowan","Albemarle RPO","Highway","Regional Impact","U-3419","NC-94 Soundside Road","NC 32","US 17 Bypass","NC 32  to US 17 Bypass. Two Lanes  on New Location.","5 - Construct Roadway on New Location",24738000,null,null,12.13,3.6,9.75,5.25,{"$f":"Q181+#REF!+R181","v":{"$error":"#REF!"}},null,{"$f":"IF(AT181<30,0,IF(AT181<50,5,IF(AT181<65,10,IF(AT181>66,15))))","v":0},{"$f":"IF(W181<499,15,IF(W181<999,10,IF(W181<1499,5,IF(W181>1500,0))))","v":0},1818.1844987799473,{"$f":"IF(DC181<500,0,IF(DC181<1000,5,IF(DC181>1000,10)))","v":0},{"$f":"IF(Z181=\"Yes\",20,0)","v":20},"Yes",{"$f":"IF(AB181=\"Yes\",20,0)","v":20},"Yes",{"$f":"IF(AD181=\"Yes\",20,0)","v":0},"no",0,{"$f":"IF(W181<999,20,IF(W181<1499,15,IF(W181<1999,10,IF(W181<3999,5,IF(W181>4000,0)))))","v":10},15,10,"No",{"$f":"IF(AK181=\"Minimal\",15,0)","v":15},"Minimal",10,"Yes",0,"No",0,"No",20.802069229215935,0,26.713074408734997,1.0562003183467636,"N/A",24.906870215000001,0,50,null,null,null,"Albemarle RPO",100,"","","","","01",100,"","","","",{"$f":"SUM(U181+V181+X181+Y181+AA181+AC181)","v":40},60,null,null,null,null,9.75,"Exceeds cap of $15 million for Statewide & Regional Projects cascading to Division Needs",{"$f":"O181+BS181*0.25","v":12.13},null,null,"Chowan",100,"","","","","","",1,"A","01, , ","Albemarle RPO, , ","Chowan, , , ",3.7,2.77282246,"Two Lane Highway","Arterial",1,1,"Undivided","Undivided",46,45,4.3049857529063003,95.695014247093695,4906.8702149999999,15627.53831,0.31398868572026556,4695.6301513306471,211.24006366935274,0,0,0,0,29.14122888,21.864780190000001,29.14122888,"","","","","No","No",12,12,"No",0,2,"New Roadway","2B - 2 Lane Undivided with Paved Shoulders, 25-45 mph","None","None",1,"No",30,24510000,204000,24000,24738000,"",24738000,24738000,""]
["H141220","Perquimans","Albemarle RPO","Highway","Division Needs","","SR-1200 ","NC 37","SR 1213","Widen and repave Perry's Bridge Road","16 - Modernize Roadway",1487000,null,null,null,null,7.89,4.5,{"$f":"Q182+#REF!+R182","v":{"$error":"#REF!"}},null,"N/A",null,9466.3921313637402,null,null,"Yes",null,null,null,null,0,{"$f":"IF(W182<999,20,IF(W182<1499,15,IF(W182<1999,10,IF(W182<3999,5,IF(W182>4000,0)))))","v":0},15,10,"No",{"$f":"IF(AK182=\"Minimal\",15,0)","v":15},"Minimal",10,"Yes",0,"No",0,"No",0.38438709677419353,0,3.5375503362540002,0,"N/A","N/A",75,0,null,null,null,"Albemarle RPO",100,"","","","","01",100,"","","","",null,50,null,null,null,null,7.89,"Project Not Competitive",null,null,null,"Perquimans",100,"","","","","","",1,"A","01, , ","Albemarle RPO, , ","Perquimans, , , ",1.7453557799999999,1.7453557799999999,"Two Lane Highway","Two Lane Highway",1,1,"Undivided","Undivided",55,55,0,100,90,15500,5.8064516129032262E-3,90,0,0,0,0,0,7.0511415900000003,0,3.5625707900000001,"","","","","No","No",9,12,"No",0,0,"2 Lane Undivided","3A - 2 Lane with Two Way Left Turn Lane, and Paved Shoulders","None","None",2,"No",30,1487000,0,0,1487000,"",1487000,1487000,""]
["H090305","Washington","Albemarle RPO","Highway","Division Needs","R-4909","- New Route","SR 1126 (Newland Road)","SR 1125 (Millpond Road)","Construct Two Lane Facility on New Location.","5 - Construct Roadway on New Location",3830000," ",null," ",null,1.7543918552372901,6,{"$f":"Q183+#REF!+R183","v":{"$error":"#REF!"}},null,"N/A",null,5466.922175852761,null,null,"Yes",null,null,null,null,0,{"$f":"IF(W183<999,20,IF(W183<1499,15,IF(W183<1999,10,IF(W183<3999,5,IF(W183>4000,0)))))","v":0},15,10,"No",{"$f":"IF(AK183=\"Minimal\",15,0)","v":15},"Minimal",10,"Yes",0,"No",{"$f":"IF(AQ183=\"Yes\",10,0)","v":0},"No",2.661746009269887,1.3004642297650131,13.581708313338,0,"N/A","N/A",0,0,null,null,null,"Albemarle RPO",100,"","","","","01",100,"","","","",null,50,null,null,null,null,1.7543918552372901,"Project Not Competitive",null,null,null,"Washington",100,"","","","","","",1,"A","01, , ","Albemarle RPO, , ","Washington, , , ",3.2,1.11833022,"Two Lane Highway","Two Lane Highway",1,1,"Undivided","Undivided",48,55,0,100,626.44914619999997,15588.69995,4.0186105846498121E-2,626.44914619999997,0,226398.99803106303,0,226398.99803106303,4980778,11.35602182,15.8078866,13.585291440000001,"","","","","No","No",11,11,"No",0,0,"New Roadway","2A - 2 Lane Undivided with Paved Shoulders, 55 mph","None","None",1,"No",32,3762000,61000,7000,3830000,"",3830000,3830000,""]
["H090376","Dare","Albemarle RPO","Highway","Regional Impact","U-2917","NC-12 ","Vicinity of SR 1206 in Kitty Hawk","","Roadway Improvements.","16 - Modernize Roadway",21318000,null,null,15.32,4.95,11.87,7.5,{"$f":"Q184+#REF!+R184","v":{"$error":"#REF!"}},null,{"$f":"IF(AT184<30,0,IF(AT184<50,5,IF(AT184<65,10,IF(AT184>66,15))))","v":10},{"$f":"IF(W184<499,15,IF(W184<999,10,IF(W184<1499,5,IF(W184>1500,0))))","v":5},1416.5434087463095,{"$f":"IF(DC184<500,0,IF(DC184<1000,5,IF(DC184>1000,10)))","v":0},{"$f":"IF(Z184=\"Yes\",20,0)","v":20},"Yes",{"$f":"IF(AB184=\"Yes\",20,0)","v":0},"No",{"$f":"IF(AD184=\"Yes\",20,0)","v":0},"No",10,{"$f":"IF(BL182<999,20,IF(BL182<1499,15,IF(BL182<1999,10,IF(BL182<3999,5,IF(BL182>4000,0)))))","v":0},15,10,"No",{"$f":"IF(AK184=\"Minimal\",15,0)","v":15},"Minimal",10,"Yes",0,"No",0,"No",15.607000817638772,0,53.139971694710994,0.88886058751024577,"N/A",2.4787958946666668,50,0,null,null,null,"Albemarle RPO",100,"","","","","01",100,"","","","",{"$f":"SUM(U184+V184+X184+Y184+AA184+AC184)","v":35},60,null,null,null,null,11.87,"Exceeds cap of $15 million for Statewide & Regional Projects cascading to Division Needs",{"$f":"O184+BS184*0.25","v":15.32},null,null,"Dare",100,"","","","","","",1,"A","01, , ","Albemarle RPO, , ","Dare, , , ",4.04747843,4.04747843,"Arterial","Arterial",1,1,"Undivided","Undivided",35,35,4.7811417332246,95.218858266775399,3718.1938420000001,15800.000190000001,0.23532872134731284,3540.4217244979513,177.77211750204916,0,0,0,0,47.458223420000003,43.976591910000003,68.001043339999995,"","","","","No","No",10,12,"No",4,0,"2 Lane Undivided","","None","None",2,"No",19,21318000,0,0,21318000,"",21318000,21318000,""]
["H090869","Camden","Albemarle RPO","Highway","Regional Impact","","NC-343 ","US 158","SR 1119 in Shiloh","Upgrade Roadway with Wider Shoulders and New Culvert(S).","16 - Modernize Roadway",17898000,null,null,14.28,4.95,11.19,6.75,{"$f":"Q185+#REF!+R185","v":{"$error":"#REF!"}},null,{"$f":"IF(AT185<30,0,IF(AT185<50,5,IF(AT185<65,10,IF(AT185>66,15))))","v":5},{"$f":"IF(W185<499,15,IF(W185<999,10,IF(W185<1499,5,IF(W185>1500,0))))","v":10},902.06866756128704,{"$f":"IF(DC185<500,0,IF(DC185<1000,5,IF(DC185>1000,10)))","v":0},{"$f":"IF(Z185=\"Yes\",20,0)","v":20},"Yes",{"$f":"IF(AB185=\"Yes\",20,0)","v":0},"No",{"$f":"IF(AD185=\"Yes\",20,0)","v":0},"No",5,{"$f":"IF(BL183<999,20,IF(BL183<1499,15,IF(BL183<1999,10,IF(BL183<3999,5,IF(BL183>4000,0)))))","v":0},15,10,"No",{"$f":"IF(AK185=\"Minimal\",15,0)","v":15},"Minimal",{"$f":"IF(AM185=\"Yes\",10,0)","v":10},"Yes",0,"No",0,"No",12.434121680232257,0,49.452596115812995,0.63988824624267526,"N/A",26.911312477999999,50,0,null,null,null,"Albemarle RPO",100,"","","","","01",100,"","","","",{"$f":"SUM(U185+V185+X185+Y185+AA185+AC185)","v":35},55,null,null,null,null,11.19,"Exceeds cap of $15 million for Statewide & Regional Projects cascading to Division Needs",{"$f":"O185+BS185*0.25","v":14.28},null,null,"Camden",100,"","","","","","",1,"A","01, , ","Albemarle RPO, , ","Camden, , , ",6.8151604299999997,6.8151604299999997,"Two Lane Highway","Two Lane Highway",1,1,"Undivided","Undivided",55,55,4.3958747202722996,95.604125279727697,2911.3124779999998,15500,0.18782661148387095,2783.334828751465,127.97764924853506,0,0,0,0,55.740450629999998,49.081060229999999,43.551114750000004,"","","","","No","No",10,12,"No",0,0,"2 Lane Undivided","","None","None",1,"No",32,17898000,0,0,17898000,"",17898000,17898000,""]
[null,null,null,null,null,null,null,null,null,null,null,null,null,null,null,null,null,null,null,null,null,null,null,null,null," ",null,null,null,null,null,null,{"$f":"IF(Z186=\"Yes\",15,0)","v":0},null,null,null,null,null," "]

{"sheet":"Division Needs-Highways","index":2,"n_rows":186,"n_cols":141,"rows_kept":186,"cut":false,"hidden":false,"merged":[[1,4,1,45],[6,21,6,30],[6,31,6,43],[5,72,5,77],[5,6,5,40],[5,0,5,4]]}
[]
[null,null,null,null," "]
[]
[null,null,null,null,null,null,null,null,null,"Projects in blue are fully funded for construction and not eligible for local input point assignment ",null,"*Projects over $200M may be subject to the corridor cap",null,null,null,null,null,null,null,null,null,null,null,null,null,null,null,null,null,null,null,null,null,null,null,null,null,null,null,null,null,null,null,null,null,null,null,null,null,null,null,null,null,null,null,null,null,null,null,null,null,null,null,null,null,null,null,null,null,null,null,null,null,null,null,null,null,null,null,null,null,null,null,null,null,null,null,null,null,null,null,null,null,null,null,null,null,null,null,null,null,null,null,null,null,null,null,null,null,null,null,null,null,null,null,null,null,null,null,null,null,null,null,null,null,null,null,null,null,null,null,null,null,null,null,null,null,null,"*Projects over $200M may be subject to the corridor cap"]
[]
["DRAFT",null,null,null,null,null,"Division One Division Needs Point Assignment-Highways",null,null,null,null,null,null,null,null,null,null,null,null,null,null,null,null,null,null,null,null,null,null,null,null,null,null,null,null,null,null,null,null,null,null,null,null,null,null,null,null,null,null,null,null,null,null,null,null,null,null,null,null,null,null,null,null,null,null,null,null,null,null,null,null,null,"DRAFT"]
[null,null,null,null,null,null,null,null,null,null,null,null,null,null,null,null,null,null,null,null,null,"Regional Criteria",null,null,null,null,null,null,null,null,null,"Division Needs"]
["SPOT ID","County","RPO","MODE","Project Category","TIP","Route","From / Cross Street","To","Description","Specific Improvement Type","Cost to NCDOT","Statewide Mobility Quantiative Score\n(Out of 100)",null,"Regional Impact Quantiative Score\n(Out of 70)","Division Methodology Preliminary Ranking","Regional Impact RPO Score (Out of 15)","Total Regional Score(Out of 100)","Division Needs Quantiative Score\n(Out of 50)","Division Needs RPO Score (Out of 25)",null,"Safety Score (15pts)","Cost Effectiveness Score (15pts)","Cost Effectiveness","Freight Volume Score                (10pts)","Transportation Plan Consistency Score (20pts)","Transportation Plan Consistency (Yes/No)","Corridor Continuity Score (20pts)","Corridor Continuity (Yes/No)","Public Support Score (20pts)","Public Support","Safety Score (20pts)","Cost Effectiveness (20pts)","Transportation Plan Consistency (15pts)","Multimodal Accomodations (10pts)","Multimodal (Yes/No)","Project Feasibility (15pts)","Project Feasibility (Significant/Minimal)","Public Support (10pts)","Public Support (Yes/No)","Airport Safety (5pts)","Airport Safety (Yes/No)","Transit Expansion (5pts)","Transit (Yes/No)","Congestion","[Travel Time] Benefit/Cost","Safety","Multimodal + [Freight & Military]","Economic Competitiveness","Accessibility / Connectivity","Lane Width","[Paved] Shoulder Width",null,null,null," MPO/RPO","First MPO/RPO %","Second MPO/RPO","Second MPO/RPO %","Third MPO/RPO","Third MPO/RPO %","First Division","First Division %","Second Division","Second Division %","Third Division","Third Division %","Divisin Methodology Preliminary Ranking","Division Methodology Preliminary Ranking","Preliminary Ranking","Preliminary Ranking","Division Engineer Local Points REGIONAL","Division Engineer Local Points DIVISION NEEDS","SPOT + Division Points","SPOT + Division + RPO","Comments","SPOT + Division Points","Comments","County","First County %","Second County","Second County %","Third County","Third County %","Fourth County","Fourth County %","Highest Division","Funding Region","All Divisions","All MPOs/RPOs","All Counties","Existing Length (Miles)","Project Length (Miles)","Existing Facility Type","Project Facility Type","Existing Lanes Per Direction","Project Lanes Per Direction","Existing Median Type","Project Median Type","Existing Speed Limit","Project Speed Limit","Truck %","Auto %","Existing Volume","Existing Capacity","Existing Volume / Capacity Ratio","Auto Volume","Truck Volume","Travel Time Savings Over 30 Years Autos (Hrs)","Travel Time Savings Over 30 Years Trucks (Hrs)","Travel Time Savings Over 30 Years Total (Hrs)","Travel Time Savings Over 30 Years Total ($)","Crash Density Points Segment","Crash Severity Points Segment","Critical Crash Rate Points Segment","Crash Frequency Points Intersection","Severity Index Points Intersection","Long Term Employment","Percent Change In Value Added","Non-Interstate STRAHNet Route","Direct Connection to Transportation Terminal","Existing Lane Width","DOT Design Standard Lane Width","Existing Roadway Has Curb & Gutter","Existing Paved Shoulder Width","DOT Design Paved Shoulder Width","Existing Cross Section","Project Cross Section","Existing Access Control","Project Access Control","County Tier","Upgrade Roadway Eligible","Census Average Commute Time","Construction Cost","Right-Of-Way Cost","Utilities Cost","Actual Project Cost","Other Funds","Cost to NCDOT","Cost Used in Benefit/Cost Analysis","Other Funds Source"]
["T130121","Dare","Albemarle RPO","Transit","Division Needs",null,null,null,null,"Expansion Vehicle-Due to expected increased demand for public transportation within the community we would like to have a 13-passenger LTV as part of our fleet in FY 2018. For the period FY2011-FY2014, we have seen an approximate increase of 15% each year for demand, riders, and trips. This trend is expected to continue as the elderly population in the region increases.",null,6655,null,null,null,null,null,null,4.03,9.75,null,{"$f":"IF(AU9<30,0,IF(AU9<50,5,IF(AU9<65,10,IF(AU9>66,15))))","v":5},0,{"$f":"(EI9/CZ9)/CO9","v":1.4999485992069509E-6},0," ","Yes",{"$f":"IF(AC9=\"Yes\",10,0)","v":0},"No",{"$f":"IF(AE9=\"Yes\",10,0)","v":0},"No",{"$f":"IF(AU9<30,0,IF(AU9<50,5,IF(AU9<65,10,IF(AU9<79,15,IF(AU9>80,20)))))","v":5},{"$f":"IF(X9<999,20,IF(X9<1499,15,IF(X9<1999,10,IF(X9<3999,5,IF(X9>4000,0)))))","v":20},{"$f":"IF(AA9=\"Yes\",15,0)","v":15},{"$f":"IF(AJ9=\"Yes\",10,0)","v":10},"Yes",{"$f":"IF(AL9=\"Minimal\",15,0)","v":15},"Minimal",{"$f":"IF(AN9=\"Yes\",10,0)","v":10},"Yes",{"$f":"IF(AP9=\"Yes\",5,0)","v":0},"No",{"$f":"IF(AR9=\"Yes\",5,0)","v":5},"Yes",null,null,31.2,null,null,null,null,null,null,null,null,"Albemarle RPO",null,null,null,null,null,null,null,null,null,null,null,null,{"$f":"SUM(AF9+AG9+AH9+AI9+AK9+AM9+AO9+AQ9)","v":80},null,null,null,100,{"$f":"S9+BU9*0.25","v":29.03},null,null,null,null,"Dare",null,null,null,null,null,null,null,null,null,null,null,null,null,248868,null,null,null,null,null,null,null,null,null,null,17828,null,null,null,null,null,null,null,null,null,null,null,null,null,null,null,null,null,null,null,null,null,null,null,null,null,null,null,null,null,null,null,null,66550,null,6655,null,"Fed:$53,240                        Local:$6,655"]
["T130109","Martin","Mid-East RPO","Transit","Division Needs",null,null,null,null,"Expansion Vehicle-Martin County  Transit provides curb to curb public transportation service in a demand-response system.   Many of the riders are elderly and/or disabled that depend on Martin County Transit as his/her's only means of transportation to services and resources.   Martin County Transit works closely with Social Services to provide transportation for these vulnerable adults. ",null,6010," ",null," ",null,null,null,3.19,null,null,5,0,0,0," ","Yes",{"$f":"IF(AC10=\"Yes\",10,0)","v":0},"No",{"$f":"IF(AE10=\"Yes\",10,0)","v":0},"No",5,20,15,10,"Yes",15,"Minimal",10,"Yes",0,"No",5,"Yes",null,null,31.2,null,null,null,null,null,null,null,null,"Mid-East RPO",null,null,null,null,null,null,null,null,null,null,null,null,80,null,null,null,null,null,null,null,null,null,"Martin",null,null,null,null,null,null,null,null,null,null,null,null,null,33392,null,null,null,null,null,null,null,null,null,null,2280,null,null,null,null,null,null,null,null,null,null,null,null,null,null,null,null,null,null,null,null,null,null,null,null,null,null,null,null,null,null,null,null,60100,null,6010,null,"Fed:$48,080 Local:$6,010"]
["T130017","Pasquotank","Albemarle RPO","Transit","Regional Impact",null,null,null,null,"Expansion Vehicle-ARHS-ICPTA’s covers a little over 1000 square miles across five counties.  Our agency wants to purchase an expansion vehicle to meet client demand. ",null,8205,null,null,5.35,{"$f":"(V11+W11+Y11+Z11+AB11+AD11)","v":60},3.15,{"$f":"O11+P11+Q11","v":68.5},5.01,9.75,null,5,{"$f":"IF(X11<499,15,IF(X11<999,10,IF(X11<1499,5,IF(X11>1500,0))))","v":15},{"$f":"(EI11/CZ11)/CO11","v":2.0337951039078898E-5},0,{"$f":"IF(AA11=\"Yes\",20,0)","v":20},"Yes",{"$f":"IF(AC11=\"Yes\",20,0)","v":0},"No",{"$f":"IF(AE11=\"Yes\",20,0)","v":20},"Yes",5,20,15,10,"Yes",15,"Minimal",10,"Yes",0,"No",5,"Yes",null,null,31.2,null,null,null,null,null,null,null,null,"Albemarle RPO",null,null,null,null,null,null,null,null,null,null,null,{"$f":"SUM(V11+W11+Y11+Z11+AB11+AD11)","v":60},80,null,null,null,null,null,null,null,{"$f":"O11+BT11*0.25","v":5.35},null,"Pasquotank",null,null,null,null,null,null,null,null,null,null,null,null,null,870586,null,null,null,null,null,null,null,null,null,null,98611,null,null,null,null,null,null,null,null,null,null,null,null,null,null,null,null,null,null,null,null,null,null,null,null,null,null,null,null,null,null,null,null,82050,null,1746000,null,"Fed:$65,640                            Local:$8,205"]
["T130018","Pasquotank","Albemarle RPO","Transit","Regional Impact",null,null,null,null,"Expansion Vehicle-ARHS-ICPTA’s covers a little over 1000 square miles across five counties.  Our agency wants to purchase an expansion vehicle to meet client demand. ",null,8205,null,null,4.8,{"$f":"SUM(V12+W12+Y12+Z12+AB12+AD12)","v":60},3.15,67.95,4.46,9.75,null,5,15,9.5574391910448089E-8,0,20,"Yes",0,"No",20,"Yes",5,20,15,10,"Yes",15,"Minimal",10,"Yes",0,"No",5,"Yes",null,null,31.2,null,null,null,null,null,null,null,null,"Albemarle RPO",null,null,null,null,null,null,null,null,null,null,null,60,80,null,null,null,null,null,null,null,4.8,null,"Pasquotank",null,null,null,null,null,null,null,null,null,null,null,null,null,870586,null,null,null,null,null,null,null,null,null,null,98611,null,null,null,null,null,null,null,null,null,null,null,null,null,null,null,null,null,null,null,null,null,null,null,null,null,null,null,null,null,null,null,null,82050,null,8205,null,"Fed:$65,640                            Local:$8,205"]
["T130019","Pasquotank","Albemarle RPO","Transit","Regional Impact",null,null,null,null,"Expansion Vehicle-ARHS-ICPTA’s covers a little over 1000 square miles across five counties.  Our agency wants to purchase an expansion vehicle to meet client demand. ",null,8205,null,null,4.8,{"$f":"SUM(V13+W13+Y13+Z13+AB13+AD13)","v":60},3.15,67.95,4.46,9.75,null,5,15,9.5574391910448089E-8,0,20,"Yes",0,"No",20,"Yes",5,20,15,10,"Yes",15,"Minimal",10,"Yes",0,"No",5,"Yes",null,null,31.2,null,null,null,null,"Fed:$65,640                            Local:$8,205",null,null,null,"Albemarle RPO",null,null,null,null,null,null,null,null,null,null,null,60,80,null,null,null,null,null,null,null,4.8,null,"Pasquotank",null,null,null,null,null,null,null,null,null,null,null,null,null,870586,null,null,null,null,null,null,null,null,null,null,98611,null,null,null,null,null,null,null,null,null,null,null,null,null,null,null,null,null,null,null,null,null,null,null,null,null,null,null,null,null,null,null,null,82050,null,8205,null,"Fed:$65,640                            Local:$8,205"]
["T130020","Pasquotank","Albemarle RPO","Transit","Regional Impact",null,null,null,null,"Expansion Vehicle-ARHS-ICPTA’s covers a little over 1000 square miles across five counties.  Our agency wants to purchase an expansion vehicle to meet client demand. ",null,8205,null,null,4.8,{"$f":"SUM(V14+W14+Y14+Z14+AB14+AD14)","v":60},3.15,67.95,4.46,9.75,null,5,15,9.5574391910448089E-8,0,20,"Yes",0,"No",20,"Yes",5,20,15,10,"Yes",15,"Minimal",10,"Yes",0,"No",5,"Yes",null,null,31.2,null,null,null,null,"Fed:$65,640                            Local:$8,205",null,null,null,"Albemarle RPO",null,null,null,null,null,null,null,null,null,null,null,60,80,null,null,null,null,null,null,null,4.8,null,"Pasquotank",null,null,null,null,null,null,null,null,null,null,null,null,null,870586,null,null,null,null,null,null,null,null,null,null,98611,null,null,null,null,null,null,null,null,null,null,null,null,null,null,null,null,null,null,null,null,null,null,null,null,null,null,null,null,null,null,null,null,82050,null,8205,null,"Fed:$65,640                            Local:$8,205"]
["T130021","Pasquotank","Albemarle RPO","Transit","Regional Impact",null,null,null,null,"Expansion Vehicle-ARHS-ICPTA’s covers a little over 1000 square miles across five counties.  Our agency wants to purchase an expansion vehicle to meet client demand. ",null,8205,null,null,4.8,{"$f":"SUM(V15+W15+Y15+Z15+AB15+AD15)","v":60},3.15,67.95,4.46,9.75,null,5,15,9.5574391910448089E-8,0,20,"Yes",0,"No",20,"Yes",5,20,15,10,"Yes",15,"Minimal",10,"Yes",0,"No",5,"Yes",null,null,31.2,null,null,null,null,"Fed:$65,640                            Local:$8,205",null,null,null,"Albemarle RPO",null,null,null,null,null,null,null,null,null,null,null,60,80,null,null,null,null,null,null,null,4.8,null,"Pasquotank",null,null,null,null,null,null,null,null,null,null,null,null,null,870586,null,null,null,null,null,null,null,null,null,null,98611,null,null,null,null,null,null,null,null,null,null,null,null,null,null,null,null,null,null,null,null,null,null,null,null,null,null,null,null,null,null,null,null,82050,null,8205,null,"Fed:$65,640                            Local:$8,205"]
["T130072","Bertie","Peanut Belt RPO","Transit","Regional Impact",null,null,null,null,"Expansion Vehicle-Purpose of expanding routes for employment, education, and/or medical purposes. Etc.  ",null,6783,null,null,2.97,{"$f":"SUM(V16+W16+Y16+Z16+AB16+AD16)","v":60},3.15,66.12,2.85,null,null,5,15,1.1956010382247026E-7,0,20,"Yes",0,"No",20,"Yes",5,20,15,10,"Yes",15,"Minimal",10,"Yes",0,"No",5,"Yes",null,null,31.2,null,null,null,null,null,null,null,null,"Peanut Belt RPO",null,null,null,null,null,null,null,null,null,null,null,60,80,null,null,null,null,null,null,null,2.97,null,"Bertie",null,null,null,null,null,null,null,null,null,null,null,null,null,1238603,null,null,null,null,null,null,null,null,null,null,45804,null,null,null,null,null,null,null,null,null,null,null,null,null,null,null,null,null,null,null,null,null,null,null,null,null,null,null,null,null,null,null,null,67830,null,6783,null,"Fed:$54,264              Local:$6,783"]
["H129043","Dare","Albemarle RPO","Highway","Division Needs","R-5014","SR-1217 Collington Road","US 158","Dead End","Operational-Safety Improvements","16 - Modernize Roadway",4850000,null,null,null,null,null,null,23.32,19,null,"N/A",null,{"$f":"(EI17/CZ17)/CO17","v":57.991491345712276},null,null,"Yes",null,null,null,null,{"$f":"IF(AU17<30,0,IF(AU17<50,5,IF(AU17<65,10,IF(AU17<79,15,IF(AU17>80,20)))))","v":15},{"$f":"IF(BM15<999,20,IF(BM15<1499,15,IF(BM15<1999,10,IF(BM15<3999,5,IF(BM15>4000,0)))))","v":20},{"$f":"IF(AA17=\"Yes\",15,0)","v":15},10,"No",{"$f":"IF(AL17=\"Minimal\",15,0)","v":15},"Minimal",{"$f":"IF(AN17=\"Yes\",10,0)","v":10},"Yes",{"$f":"IF(AP17=\"Yes\",10,0)","v":0},"No",{"$f":"IF(AR17=\"Yes\",10,0)","v":0},"No",41.974683544303801,0,66.21829770798,0,"N/A","N/A",25,100,null,null,null,"Albemarle RPO",100,"","","","","01",100,"","","","",null,{"$f":"SUM(AF17+AG17+AH17+AI17+AK17+AM17+AO17+AQ17)","v":85},null,null,null,100,{"$f":"S17+BU17*0.25","v":48.32},{"$f":"T17+BV17","v":67.319999999999993},null,null,null,"Dare",100,"","","","","","",1,"A","01, , ","Albemarle RPO, , ","Dare, , , ",4.3454650700000004,4.3454650700000004,"Arterial","Arterial",1,1,"Undivided","Undivided",33,33,0,100,10000,15800,0.63291139240506333,10000,0,0,0,0,0,95.975087430000002,64.447475030000007,38.252198139999997,"","","","","No","No",11,12,"No",0,4,"2 Lane Undivided","","None","None",2,"No",25,4350000,500000,0,4850000,"",2520000,4850000,""]
["H141222","Perquimans","Albemarle RPO","Highway","Division Needs","","SR-1301 ","SR 1302","SR 1303","Widen and repave New Hope Road (Phase 2)","16 - Modernize Roadway",1114000,null,null,null,null,null,null,14.9,19,null,"N/A",null,469.54674256434129,null,null,"Yes",null,null,null,null,15,{"$f":"IF(X18<999,20,IF(X18<1499,15,IF(X18<1999,10,IF(X18<3999,5,IF(X18>4000,0)))))","v":20},15,10,"No",{"$f":"IF(AL18=\"Minimal\",15,0)","v":15},"Minimal",10,"Yes",{"$f":"IF(AP18=\"Yes\",10,0)","v":0},"No",{"$f":"IF(AR18=\"Yes\",10,0)","v":0},"No",4.6980645161290324,0,69.325207669245003,0,"N/A","N/A",75,0,null,null,null,"Albemarle RPO",100,"","","","","01",100,"","","","",null,{"$f":"SUM(AF18+AG18+AH18+AI18+AK18+AM18+AO18+AQ18)","v":85},null,null,null,100,{"$f":"S18+BU18*0.25","v":39.9},{"$f":"T18+BV18","v":58.9},null,null,null,"Perquimans",100,"","","","","","",1,"A","01, , ","Albemarle RPO, , ","Perquimans, , , ",1.3068696,1.3068696,"Two Lane Highway","Two Lane Highway",1,1,"Undivided","Undivided",55,55,0,100,1100,15500,7.0967741935483872E-2,1100,0,0,0,0,0,75.594077170000006,94.347974910000005,38.054370570000003,"","","","","No","No",9,12,"No",0,0,"2 Lane Undivided","3A - 2 Lane with Two Way Left Turn Lane, and Paved Shoulders","None","None",2,"No",30,1114000,0,0,1114000,"",675000,1114000,""]
["H090289","Martin","Mid-East RPO","Highway","Division Needs","R-4705","SR-1142 ","NC 903","SR 1182","NC 903 to SR 1182.   Upgrade Facility.","16 - Modernize Roadway",11200000,null,null,null,null,null,null,10.09,15.25,null,"N/A",null,298.96243736795947,null,null,"Yes",null,null,null,null,10,{"$f":"IF(X19<999,20,IF(X19<1499,15,IF(X19<1999,10,IF(X19<3999,5,IF(X19>4000,0)))))","v":20},15,{"$f":"IF(AJ19=\"Yes\",10,0)","v":10},"Yes",15,"Minimal",10,"Yes",{"$f":"IF(AP19=\"Yes\",10,0)","v":0},"No",{"$f":"IF(AR19=\"Yes\",10,0)","v":0},"No",16.672666819006448,0,59.268861974388003,0.78073851317326326,"N/A","N/A",25,0,null,null,null,"Mid-East RPO",100,"","","","","01",100,"","","","",null,{"$f":"SUM(AF19+AG19+AH19+AI19+AK19+AM19+AO19+AQ19)","v":80},null,null,null,100,{"$f":"S19+BU19*0.25","v":35.090000000000003},50.34,null,null,null,"Martin",100,"","","","","","",1,"A","01, , ","Mid-East RPO, , ","Martin, , , ",9.5967154299999997,9.5967154299999997,"Two Lane Highway","Two Lane Highway",1,1,"Undivided","Undivided",55,55,3.9999707795377004,96.000029220462295,3903.7210829999999,15500,0.25185297309677418,3747.5733803653475,156.14770263465266,0,0,0,0,87.040487170000006,47.05679026,43.727090930000003,"","","","","No","No",11,12,"No",0,0,"2 Lane Undivided","","None","None",1,"No",21,7200000,4000000,0,11200000,"",11200000,11200000,""]
["H141724","Bertie","Peanut Belt RPO","Highway","Statewide Mobility","","US-17 , US-13 ","US 64 at Williamston","US 13 North at Windsor","Upgrade roadway to Interstate","2 - Upgrade Arterial to Freeway/Expressway",296415000,13.963177203030861,null,18.190000000000001,{"$f":"(V20+W20+Y20+Z20+AB20+AD20)","v":55},null,{"$f":"O20+P20+Q20","v":73.19},14.61,null,null,{"$f":"IF(AU20<30,0,IF(AU20<50,5,IF(AU20<65,10,IF(AU20>66,15))))","v":10},{"$f":"IF(X20<499,15,IF(X20<999,10,IF(X20<1499,5,IF(X20>1500,0))))","v":0},1821.1995352104639,{"$f":"IF(DD20<500,0,IF(DD20<1000,5,IF(DD20>1000,10)))","v":10},{"$f":"IF(AA20=\"Yes\",15,0)","v":15},"Yes",{"$f":"IF(AC20=\"Yes\",10,0)","v":10},"Yes",{"$f":"IF(AE20=\"Yes\",10,0)","v":10},"Yes",10,{"$f":"IF(BM18<999,20,IF(BM18<1499,15,IF(BM18<1999,10,IF(BM18<3999,5,IF(BM18>4000,0)))))","v":0},15,10,"Yes",15,"Minimal",10,"Yes",{"$f":"IF(AP20=\"Yes\",10,0)","v":0},"No",{"$f":"IF(AR20=\"Yes\",10,0)","v":0},"No",13.832167036632629,0.39403603056525477,56.903493981509996,10.770627201140798,18.508414444923371,35.755430809828404,0,75,null,null,null,"Peanut Belt RPO",89.61,"Mid-East RPO",10.39,"","","01",100,"","","","",{"$f":"SUM(V20+W20+Y20+Z20+AB20+AD20)","v":55},{"$f":"SUM(AF20+AG20+AH20+AI20+AK20+AM20+AO20+AQ20)","v":60},null,null,null,null,{"$f":"S20+BU20*0.25","v":14.61},14.61,"Delay Division Local Input Scoring pending outcome of Future Interstate Designation; Exceeds cap of $15 million for Statewide & Regional Projects cascading to Division Needs",{"$f":"O20+BT20*0.25","v":18.190000000000001},null,"Bertie",89.61,"Martin",10.39,"","","","",1,"A","01, , ","Peanut Belt RPO, Mid-East RPO, ","Bertie, Martin, , ",14.46506022,14.46506022,"Multi-Lane Highway","Freeway",2,2,"Divided","Divided",54.750299643765302,70,12.233633194568,87.766366805432,11251.8102699428,72347.719571150898,0.15552404881092519,9875.3050737692665,1376.5051961735337,4433453.3141525285,617972.96167929168,5051426.2758318204,116798190,56.167965979999998,51.059687429999997,63.499901289999997,"","",79.840633949681404,2.9032765494878602E-4,"Yes","No",12,12,"No",1,4,"4 Lane with Median - Partial Control","4A - 4 Lane Divided (46' Depressed Median) with Paved Shoulders","None","Full",1,"Yes",21,226794000,62162000,7459000,296415000,"",296415000,296415000,""]
["F130003","Dare","Albemarle RPO","Ferry","Division Needs",null,"Hatteras - South Dock (NC 12)",null,null,"Replacement Vessel – River Class Ferry (Baum-H)",null,12000000,null,null,null,null,null,null,36.700000000000003,6.75,null,null,null,89.223959053811043,null,null,"Yes",null,null,null,null,5,{"$f":"IF(X21<999,20,IF(X21<1499,15,IF(X21<1999,10,IF(X21<3999,5,IF(X21>4000,0)))))","v":20},15,10,"Yes",{"$f":"IF(AL21=\"Minimal\",15,0)","v":15},"Minimal",10,"Yes",{"$f":"IF(AP21=\"Yes\",5,0)","v":0},"No",{"$f":"IF(AR21=\"Yes\",5,0)","v":0},"No",null,null,47,null,null,null,null,null,null,null,null,"Albemarle RPO",null,null,null,null,null,null,null,null,null,null,null,null,{"$f":"SUM(AF21+AG21+AH21+AI21++AK21+AM21+AO21+AQ21)","v":75},null,null,null,100,{"$f":"S21+BU21*0.25","v":61.7},null,null,null,null,"Dare",null,null,null,null,null,null,null,null,null,null,null,null,null,{"$f":"5*2","v":10},null,null,null,null,null,null,null,null,null,null,21687,null,null,null,null,null,null,null,null,null,null,null,null,null,null,null,null,null,null,null,null,null,null,null,null,null,null,null,null,null,null,null,null,12000000,null,19350000]
["T130063","Hyde","Albemarle RPO","Transit","Division Needs",null,null,null,null,"Facilities-Bus Shelter-This funding request is for 2 shelters and 20 benches to support the Ocracoke Park and Ride Project.  ",null,7600,null,null,null,null,null,null,31.19,12,null,0,0,2.8524159963489075E-7,0," ","Yes",{"$f":"IF(AC22=\"Yes\",10,0)","v":0},"No",{"$f":"IF(AE22=\"Yes\",10,0)","v":0},"No",0,{"$f":"IF(X22<999,20,IF(X22<1499,15,IF(X22<1999,10,IF(X22<3999,5,IF(X22>4000,0)))))","v":20},15,10,"Yes",15,"Minimal",10,"Yes",0,"No",{"$f":"IF(AR22=\"Yes\",5,0)","v":5},"Yes",null,null,0,null,null,null,null,null,null,null,null,"Albemarle RPO",null,null,null,null,null,null,null,null,null,null,null,null,{"$f":"SUM(AF22+AG22+AH22+AI22+AK22+AM22+AO22+AQ22)","v":75},null,null,null,null,null,null,null,null,null,"Hyde",null,null,null,null,null,null,null,null,null,null,null,null,null,175290,null,null,null,null,null,null,null,null,null,null,152000,null,null,null,null,null,null,null,null,null,null,null,null,null,null,null,null,null,null,null,null,null,null,null,null,null,null,null,null,null,null,null,null,76000,null,7600,null,"Fed:$60,800                        Local:$7,600"]
["F130007","Dare","Albemarle RPO","Ferry","Division Needs",null,"Hatteras-South Dock",null,null,"Replacement Vessel-River Class Ferry( Chico)",null,12000000,null,null,null,null,null,null,29.6,7.5,null,null,null,4.6686955318854615,null,null,"Yes",null,null,null,null,5,{"$f":"IF(X23<999,20,IF(X23<1499,15,IF(X23<1999,10,IF(X23<3999,5,IF(X23>4000,0)))))","v":20},15,10,"Yes",15,"Minimal",10,"Yes",0,"No",{"$f":"IF(AR23=\"Yes\",5,0)","v":0},"No",null,null,47,null,null,null,null,null,null,null,null,"Albemarle RPO",null,null,null,null,null,null,null,null,null,null,null,null,{"$f":"SUM(AF23+AG23+AH23+AI23++AK23+AM23+AO23+AQ23)","v":75},null,null,null,null,null,null,null,null,null,null,null,null,null,null,null,null,null,null,null,null,null,null,null,{"$f":"5*2","v":10},null,null,null,null,null,null,null,null,null,null,21687,null,null,null,null,null,null,null,null,null,null,null,null,null,null,null,null,null,null,null,null,null,null,null,null,null,null,null,null,null,null,null,null,12000000,null,1012500]
["F130008","Dare","Albemarle RPO","Ferry","Division Needs",null,"Hatteras-South Dock",null,null,"Replacement Vessel-River Class Ferry (Frisco)",null,12000000,null,null,null,null,null,null,28.3,7.5,null,null,null,1.8674782127541847,null,null,"Yes",null,null,null,null,5,{"$f":"IF(X24<999,20,IF(X24<1499,15,IF(X24<1999,10,IF(X24<3999,5,IF(X24>4000,0)))))","v":20},15,10,"Yes",15,"Minimal",10,"Yes",0,"No",{"$f":"IF(AR24=\"Yes\",5,0)","v":0},"No",null,null,47,null,null,null,null,null,null,null,null,"Albemarle RPO",null,null,null,null,null,null,null,null,null,null,null,null,{"$f":"SUM(AF24+AG24+AH24+AI24++AK24+AM24+AO24+AQ24)","v":75},null,null,null,null,null,null,null,null,null,null,null,null,null,null,null,null,null,null,null,null,null,null,null,{"$f":"5*2","v":10},null,null,null,null,null,null,null,null,null,null,21687,null,null,null,null,null,null,null,null,null,null,null,null,null,null,null,null,null,null,null,null,null,null,null,null,null,null,null,null,null,null,null,null,12000000,null,405000]
["A130412","Hertford","Peanut Belt RPO","Aviation","Division Needs",null,"Tri-County",null,null,"Design",null,1602288,null,null,null,null,null,null,25.95,null,null,"N/A",null,52522.839394883056,null,null,"Yes",{"$f":"IF(AC25=\"Yes\",10,0)","v":0},null,{"$f":"IF(AE25=\"Yes\",10,0)","v":0},null,0,{"$f":"IF(BM23<999,20,IF(BM23<1499,15,IF(BM23<1999,10,IF(BM23<3999,5,IF(BM23>4000,0)))))","v":20},15,10,"Yes",15,"Minimal",10,"Yes",5,"Yes",{"$f":"IF(AR25=\"Yes\",10,0)","v":0},"No",null,null,null,null,null,null,null,null,null,null,null,"Peanut Belt RPO",null,null,null,null,null,null,null,null,null,null,null,null,{"$f":"SUM(AF25+AG25+AH25+AI25+AK25+AM25+AO25+AQ25)","v":75},null,null,null,null,null,null,null,null,null,"Hertford",null,null,null,null,null,null,null,null,null,null,null,null,null,0.85,null,null,null,null,null,null,null,null,null,null,35.89,null,null,null,null,null,null,null,null,null,null,null,null,null,null,null,null,null,null,null,null,null,null,null,null,null,null,null,null,null,null,null,null,1780320,null,1602288]
["F130011","Hyde","Albemarle RPO","Ferry","Division Needs",null,"Swan Quarter-Ocracoke",null,null,"Replacement Vessel-Sound Class Ferry (Pamlico)",null,16000000,null,null,null,null,null,null,14.4,7.5,null,null,null,185.57179308745071,null,null,"Yes",null,null,null,null,5,{"$f":"IF(X26<999,20,IF(X26<1499,15,IF(X26<1999,10,IF(X26<3999,5,IF(X26>4000,0)))))","v":20},15,10,"Yes",15,"Minimal",10,"Yes",0,"No",{"$f":"IF(AR26=\"Yes\",5,0)","v":0},"No",null,null,34,null,null,null,null,null,null,null,null,"Albemarle RPO",null,null,null,null,null,null,null,null,null,null,null,null,{"$f":"SUM(AF26+AG26+AH26+AI26++AK26+AM26+AO26+AQ26)","v":75},null,null,null,null,null,null,null,null,null,"Hyde",null,null,null,null,null,null,null,null,null,null,null,null,null,{"$f":"30*2","v":60},null,null,null,null,null,null,null,null,null,null,1437,null,null,null,null,null,null,null,null,null,null,null,null,null,null,null,null,null,null,null,null,null,null,null,null,null,null,null,null,null,null,null,null,16000000,null,16000000]
["B141355","Perquimans","Albemarle RPO","Bike & Ped","Division Needs",null,"Harvey Point Road","US-17","N. Commerce Drive","Construct 5' wide multi-use path along eastern side of Harvey Point Road","2. Construct multi-use trail / greenway / sidepath or on-road bike lane on local roadway",400000,null,null,null,null,null,null,13.463021372661501,9.75,null,"N/A",null,1441.3118527042577,null,null,"Yes",null,null,null,null,10,15,15,10,"Yes",15,"Minimal",10,"Yes",{"$f":"IF(AP27=\"Yes\",10,0)","v":0},"No",{"$f":"IF(AR27=\"Yes\",10,0)","v":0},"No",null,null,50,null,null,null,null,null,null,null,null,"Albemarle RPO",null,null,null,null,null,null,null,null,null,null,null,null,{"$f":"SUM(AF27+AG27+AH27+AI27+AK27+AM27+AO27)","v":75},null,null,null,null,null,null,null,null,null,"Perquimans County",null,null,null,null,null,null,null,null,null,null,null,null,null,0.66,null,null,null,null,null,null,null,null,null,null,158,null,null,null,null,null,null,null,null,null,null,null,null,null,null,null,null,null,null,null,null,null,null,null,null,null,null,null,null,null,380000,0,null,400000,0,150300]
["F130012","Currituck","Albemarle RPO","Ferry","Division Needs",null,"Currituck - Knotts Island",null,null,"Replacement Vessel-River Class Ferry (Hunt)",null,12000000,null,null,null,null,null,null,12.3,7.5,null,null,null,660.42927903137047,null,null,"Yes",null,null,null,null,5,20,15,10,"Yes",15,"Minimal",10,"Yes",{"$f":"IF(AP28=\"Yes\",5,0)","v":0},"No",{"$f":"IF(AR28=\"Yes\",5,0)","v":0},"No",null,null,46,null,null,null,null,null,null,null,null,"Albemarle RPO",null,null,null,null,null,null,null,null,null,null,null,null,{"$f":"SUM(AF28+AG28+AH28+AI28++AK28+AM28+AO28+AQ28)","v":75},null,null,null,null,null,null,null,null,null,null,null,null,null,null,null,null,null,null,null,null,null,null,null,{"$f":"5*2","v":10},null,null,null,null,null,null,null,null,null,null,1817,null,null,null,null,null,null,null,null,null,null,null,null,null,null,null,null,null,null,null,null,null,null,null,null,null,null,null,null,null,null,null,null,12000000,null,12000000]
["T130067","Hyde","Albemarle RPO","Transit","Division Needs",null,null,null,null,"Expansion Vehicle-This funding request is for 6 LTV and 3 Trams to support the Ocracoke Park and Ride Project.",null,85500,null,null,null,null,null,null,11.36,12,null,{"$f":"IF(AU29<30,0,IF(AU29<50,5,IF(AU29<65,10,IF(AU29>66,15))))","v":0},0,3.2089679958925209E-6,0," ","Yes",{"$f":"IF(AC29=\"Yes\",10,0)","v":0},"No",{"$f":"IF(AE29=\"Yes\",10,0)","v":0},"No",0,20,15,10,"Yes",15,"Minimal",10,"Yes",{"$f":"IF(AP29=\"Yes\",5,0)","v":0},"No",{"$f":"IF(AR29=\"Yes\",5,0)","v":5},"Yes",null,null,20.6,null,null,null,null,null,null,null,null,"Albemarle RPO",null,null,null,null,null,null,null,null,null,null,null,null,{"$f":"SUM(AF29+AG29+AH29+AI29+AK29+AM29+AO29+AQ29)","v":75},null,null,null,null,null,null,null,null,null,"Hyde",null,null,null,null,null,null,null,null,null,null,null,null,null,175290,null,null,null,null,null,null,null,null,null,null,152000,null,null,null,null,null,null,null,null,null,null,null,null,null,null,null,null,null,null,null,null,null,null,null,null,null,null,null,null,null,null,null,null,855000,null,85500,null,"Fed:$684,000   Local:$85,500"]
["F130013","Hyde","Albemarle RPO","Ferry","Division Needs",null,"Cedar Island-Ocracoke",null,null,"Replacement Vessel-Sound Class Ferry (Silver Lake)",null,16000000,null,null,null,null,null,null,16.3,7.5,null,null,null,263.20984404816738,null,null,"Yes",null,null,null,null,5,20,15,10,"Yes",15,"Minimal",10,"Yes",{"$f":"IF(AP30=\"Yes\",5,0)","v":0},"No",{"$f":"IF(AR30=\"Yes\",5,0)","v":0},"No",null,null,38.5,null,null,null,null,null,null,null,null,"Albemarle RPO",null,null,null,null,null,null,null,null,null,null,null,null,{"$f":"SUM(AF30+AG30+AH30+AI30++AK30+AM30+AO30+AQ30)","v":75},null,null,null,null,null,null,null,null,null,null,null,null,null,null,null,null,null,null,null,null,null,null,null,{"$f":"13*2","v":26},null,null,null,null,null,null,null,null,null,null,2338,null,null,null,null,null,null,null,null,null,null,null,null,null,null,null,null,null,null,null,null,null,null,null,null,null,null,null,null,null,null,null,null,16000000,null,16000000]
["F130014","Hyde","Albemarle RPO","Ferry","Division Needs",null,"Cedar Island-Ocracoke",null,null,"Replacement Vessel-Sound Class Ferry (Carteret)",null,16000000,null,null,null,null,null,null,15.3,7.5,null,null,null,263.20984404816738,null,null,"Yes",null,null,null,null,5,20,15,10,"Yes",15,"Minimal",10,"Yes",{"$f":"IF(AP31=\"Yes\",5,0)","v":0},"No",{"$f":"IF(AR31=\"Yes\",5,0)","v":0},"No",null,null,38.5,null,null,null,null,null,null,null,null,"Albemarle RPO",null,null,null,null,null,null,null,null,null,null,null,null,{"$f":"SUM(AF31+AG31+AH31+AI31++AK31+AM31+AO31+AQ31)","v":75},null,null,null,null,null,null,null,null,null,"Currituck",null,null,null,null,null,null,null,null,null,null,null,null,null,{"$f":"13*2","v":26},null,null,null,null,null,null,null,null,null,null,2338,null,null,null,null,null,null,null,null,null,null,null,null,null,null,null,null,null,null,null,null,null,null,null,null,null,null,null,null,null,null,null,null,16000000,null,16000000]
["A130413","Hertford","Peanut Belt RPO","Aviation","Division Needs",null,"Tri-County",null,null,"Corporate & T-hanger Taxiways",null,230400,null,null,null,null,null,null,7.47,null,null,"N/A",null,7552.4888138593415,null,null,"Yes",{"$f":"IF(AC32=\"Yes\",10,0)","v":0},null,{"$f":"IF(AE32=\"Yes\",10,0)","v":0},null,0,{"$f":"IF(BM30<999,20,IF(BM30<1499,15,IF(BM30<1999,10,IF(BM30<3999,5,IF(BM30>4000,0)))))","v":20},15,10,"Yes",15,"Minimal",10,"Yes",{"$f":"IF(AP32=\"Yes\",5,0)","v":5},"Yes",{"$f":"IF(AR32=\"Yes\",10,0)","v":0},"No",null,null,null,null,null,null,null,null,null,null,null,"Peanut Belt RPO",null,null,null,null,null,null,null,null,null,null,null,null,{"$f":"SUM(AF32+AG32+AH32+AI32+AK32+AM32+AO32+AQ32)","v":75},null,null,null,null,null,null,null,null,null,"Hertford",null,null,null,null,null,null,null,null,null,null,null,null,null,0.85,null,null,null,null,null,null,null,null,null,null,35.89,null,null,null,null,null,null,null,null,null,null,null,null,null,null,null,null,null,null,null,null,null,null,null,null,null,null,null,null,null,null,null,null,256000,null,230400]
["H090098","Bertie","Peanut Belt RPO","Highway","Statewide Mobility","R-2506","US-13 ","US 13 Business North of Windsor","NC 42","Widen to Multi-Lanes.","1 - Widen Existing Roadway",99400000,11.136523875976859,null,12.4,{"$f":"(V33+W33+Y33+Z33+AB33+AD33)","v":45},null,{"$f":"O33+P33+Q33","v":57.4},9.1,null,null,{"$f":"IF(AU33<30,0,IF(AU33<50,5,IF(AU33<65,10,IF(AU33>66,15))))","v":10},{"$f":"IF(X33<499,15,IF(X33<999,10,IF(X33<1499,5,IF(X33>1500,0))))","v":0},1765.7073314003956,{"$f":"IF(DD33<500,0,IF(DD33<1000,5,IF(DD33>1000,10)))","v":0},{"$f":"IF(AA33=\"Yes\",15,0)","v":15},"Yes",{"$f":"IF(AC33=\"Yes\",10,0)","v":10},"Yes",{"$f":"IF(AE33=\"Yes\",10,0)","v":10},"Yes",10,{"$f":"IF(BM31<999,20,IF(BM31<1499,15,IF(BM31<1999,10,IF(BM31<3999,5,IF(BM31>4000,0)))))","v":20},15,10,"Yes",15,"Minimal",10,"Yes",{"$f":"IF(AP33=\"Yes\",10,0)","v":0},"No",0,"No",14.914047600427818,6.1686539235412473E-2,50.994178142192993,7.1730424362549918,1.097773326075915,20.499871621,25,0,null,null,null,"Peanut Belt RPO",100,"","","","","01",100,"","","","",{"$f":"SUM(V33+W33+Y33+Z33+AB33+AD33)","v":45},{"$f":"SUM(AF33+AG33+AH33+AI33+AK33+AM33+AO33+AQ33)","v":80},null,null,null,null,{"$f":"S33+BU33*0.25","v":9.1},{"$f":"T33+BV33","v":9.1},"Exceeds cap of $15 million for Statewide & Regional Projects cascading to Division Needs",{"$f":"O33+BT33*0.25","v":12.4},null,"Bertie",100,"","","","","","",1,"A","01, , ","Peanut Belt RPO, , ","Bertie, , , ",16.084402399999998,16.084402399999998,"Two Lane Highway","Multi-Lane Highway",1,2,"Undivided","Divided",49,50,8.8125771032800007,91.187422896719994,3499.9572069999999,15539.176170000001,0.22523441196046365,3191.5207795513193,308.43642744868021,245144.62958747204,23691.38068680216,268836.01027427422,6131642,54.538307000000003,43.544452530000001,54.915074679999996,"","",4,1.7955466521518299E-5,"Yes","No",11,12,"No",0,0,"2 Lane Undivided","4A - 4 Lane Divided (46' Depressed Median) with Paved Shoulders","None","Partial",1,"Yes",25,61000000,35800000,2600000,99400000,"",99400000,99400000,""]
["H111228","Camden","Albemarle RPO","Highway","Division Needs","","SR-1227 ","NC 168","NC 343 in Camden County","Widen to 24 Feet with Paved Shoulders and Turn Lanes Where Necessary from\nthe Camden County Line to the Location of the Proposed NC 168 Bypass.","16 - Modernize Roadway",12540000,null,null,null,null,null,null,10.43,9.75,null,"N/A",null,7.9858468392354567,null,null,"Yes",null,null,null,null,5,{"$f":"IF(X34<999,20,IF(X34<1499,15,IF(X34<1999,10,IF(X34<3999,5,IF(X34>4000,0)))))","v":20},15,10,"No",{"$f":"IF(AL34=\"Minimal\",15,0)","v":15},"Minimal",10,"Yes",{"$f":"IF(AP34=\"Yes\",10,0)","v":0},"No",0,"No",9.3998067385422761,0,44.936317592166006,0,"N/A","N/A",50,0,null,null,null,"Albemarle RPO",100,"","","","","01",100,"","","","",null,{"$f":"SUM(AF34+AG34+AH34+AI34+AK34+AM34+AO34+AQ34)","v":75},null,null,null,100,{"$f":"S34+BU34*0.25","v":35.43},45.18,null,null,null,"Camden",55.7,"Currituck",44.3,"","","","",1,"A","01, , ","Albemarle RPO, , ","Camden, Currituck, , ",11.004277439999999,11.004277439999999,"Two Lane Highway","Two Lane Highway",1,1,"Undivided","Undivided",54,54,0,100,2201.904411,15508.10743,0.14198408290237127,2201.904411,0,0,0,0,0,69.443972479999999,39.267785250000003,26.110677290000002,"","","","","No","No",10,12,"No",0,0,"2 Lane Undivided","","None","None",1,"No",34,12540000,0,0,12540000,"",193500,12540000,""]
["H141680","Northampton","Peanut Belt RPO","Highway","Regional Impact","","NC-46 ","Virginia State Line","NC 48 in Gaston","Currently a 2-lane major thoroughfare from the Virginia State Line to NC 48 (TIP#U-2419), this project recommends to upgrade the existing facility to 24 feet w/ paved shoulders; while modifying sharp horizontal curves. This would provide safer maneuvering in a 12-foot lane; while tying in bike lane recommendations.\n","16 - Modernize Roadway",8587000,null,null,12.09,{"$f":"(V35+W35+Y35+Z35+AB35+AD35)","v":55},null,{"$f":"O35+P35+Q35","v":67.09},8.89,null,null,{"$f":"IF(AU35<30,0,IF(AU35<50,5,IF(AU35<65,10,IF(AU35>66,15))))","v":5},{"$f":"IF(X35<499,15,IF(X35<999,10,IF(X35<1499,5,IF(X35>1500,0))))","v":15},226.17036161740458,{"$f":"IF(DD35<500,0,IF(DD35<1000,5,IF(DD35>1000,10)))","v":0},{"$f":"IF(AA35=\"Yes\",15,0)","v":15},"Yes",{"$f":"IF(AC35=\"Yes\",10,0)","v":10},"Yes",{"$f":"IF(AE35=\"Yes\",10,0)","v":10},"Yes",5,{"$f":"IF(BM33<999,20,IF(BM33<1499,15,IF(BM33<1999,10,IF(BM33<3999,5,IF(BM33>4000,0)))))","v":0},15,{"$f":"IF(AJ35=\"Yes\",10,0)","v":10},"Yes",15,"Minimal",10,"Yes",{"$f":"IF(AP35=\"Yes\",10,0)","v":0},"No",0,"No",15.582930485979688,0,48.359228950130998,1.1083439460534406,"N/A",17.64857133735174,25,0,null,null,null,"Peanut Belt RPO",100,"","","","","01",100,"","","","",{"$f":"SUM(V35+W35+Y35+Z35+AB35+AD35)","v":55},{"$f":"SUM(AF35+AG35+AH35+AI35+AK35+AM35+AO35+AQ35)","v":55},null,null,100,100,{"$f":"S35+BU35*0.25","v":33.89},33.89,null,{"$f":"O35+BT35*0.25","v":37.090000000000003},null,"Northampton",100,"","","","","","",1,"A","01, , ","Peanut Belt RPO, , ","Northampton, , , ",10.4059785999999,10.4059785999999,"Two Lane Highway","Two Lane Highway",1,1,"Undivided","Undivided",55,55,6.0754955492136,93.924504450786401,3648.5713373517401,15500,0.23539169918398323,3426.9025481410522,221.66878921068809,0,0,0,0,52.554759300000001,46.363860670000001,46.173576099999998,"","","","","No","No",11,12,"No",2,0,"2 Lane Undivided","3A - 2 Lane with Two Way Left Turn Lane, and Paved Shoulders","None","None",1,"No",27,8587000,0,0,8587000,"",8587000,8587000,""]
["B141365","Dare","Albemarle RPO","Bike & Ped","Division Needs",null,"Us 158 sidewalk","Bennett Street","Worthington Lane","Construct 6000' of sidewalk on west side of US 158","5. Construct Sidewalk",282000,null,null,null,null,null,null,15.295680447883793,9.75,null,"N/A",null,3163.9556096077831,null,null,"Yes",null,null,null,null,15,{"$f":"IF(X36<999,20,IF(X36<1499,15,IF(X36<1999,10,IF(X36<3999,5,IF(X36>4000,0)))))","v":5},15,{"$f":"IF(AJ36=\"Yes\",10,0)","v":10},"Yes",{"$f":"IF(AL36=\"Minimal\",15,0)","v":15},"Minimal",10,"Yes",{"$f":"IF(AP36=\"Yes\",10,0)","v":0},"No",0,"No",null,null,65,null,null,null,null,null,null,null,null,"Albemarle RPO",null,null,null,null,null,null,null,null,null,null,null,null,{"$f":"SUM(AF36+AG36+AH36+AI36+AK36+AM36+AO36)","v":70},null,null,null,null,null,null,null,null,null,"Dare County",null,null,null,null,null,null,null,null,null,null,null,null,null,1.56,null,null,null,null,null,null,null,null,null,null,{"$f":"1012*0.1","v":101.2},null,null,null,null,null,null,null,null,null,null,null,null,null,null,null,null,null,null,null,null,null,null,null,null,null,null,null,null,null,272000,0,null,282000,0,499500]
["A130011","Pasquotank","Albemarle RPO","Aviation","Division Needs",null,"Elizabeth City Coast Guard Air Station/Regional",null,null,"Hangers and Economic Development",null,150300,null,null,null,null,null,null,5.76,13.5,null,"N/A",null,1061.0615133292763,null,null,"Yes",{"$f":"IF(AC37=\"Yes\",10,0)","v":0},null,{"$f":"IF(AE37=\"Yes\",10,0)","v":0},null,0,{"$f":"IF(X37<999,20,IF(X37<1499,15,IF(X37<1999,10,IF(X37<3999,5,IF(X37>4000,0)))))","v":15},15,{"$f":"IF(AJ37=\"Yes\",10,0)","v":10},"Yes",{"$f":"IF(AL37=\"Minimal\",15,0)","v":15},"Minimal",10,"Yes",{"$f":"IF(AP37=\"Yes\",5,0)","v":5},"Yes",0,"No",null,null,null,null,null,null,null,null,null,null,null,"Albemarle RPO",null,null,null,null,null,null,null,null,null,null,null,null,{"$f":"SUM(AF37+AG37+AH37+AI37+AK37+AM37+AO37+AQ37)","v":70},null,null,null,null,null,null,null,null,null,"Pasquotank",null,null,null,null,null,null,null,null,null,null,null,null,null,0.86,null,null,null,null,null,null,null,null,null,null,164.71,null,null,null,null,null,null,null,null,null,null,null,null,null,null,null,null,null,null,null,null,null,null,null,null,null,null,null,null,null,null,null,null,167000,null,150300]
["H090139","Currituck","Albemarle RPO","Highway","Statewide Mobility","R-2574","US-158 ","East of NC 34 at Belcross in Camden County","NC 168 in Currituck County","Widen to Multi-Lanes.","1 - Widen Existing Roadway",124500000,12.917806507523943,null,15.32,{"$f":"(V38+W38+Y38+Z38+AB38+AD38)","v":60},5.85,{"$f":"O38+P38+Q38","v":81.169999999999987},11.88,19,null,{"$f":"IF(AU38<30,0,IF(AU38<50,5,IF(AU38<65,10,IF(AU38>66,15))))","v":5},{"$f":"IF(X38<499,15,IF(X38<999,10,IF(X38<1499,5,IF(X38>1500,0))))","v":0},1995.9908209645782,{"$f":"IF(DD38<500,0,IF(DD38<1000,5,IF(DD38>1000,10)))","v":5},{"$f":"IF(AA38=\"Yes\",20,0)","v":20},"Yes",{"$f":"IF(AC38=\"Yes\",10,0)","v":10},"Yes",{"$f":"IF(AE38=\"Yes\",20,0)","v":20},"Yes",5,{"$f":"IF(BM36<999,20,IF(BM36<1499,15,IF(BM36<1999,10,IF(BM36<3999,5,IF(BM36>4000,0)))))","v":20},15,10,"No",{"$f":"IF(AL38=\"Minimal\",15,0)","v":15},"Minimal",10,"Yes",{"$f":"IF(AP38=\"Yes\",10,0)","v":0},"No",0,"No",25.899192792202655,4.9311622489959836E-2,42.817742247555003,3.7513246389685184,1.0121603056695501,40.175551936000005,0,50,null,null,null,"Albemarle RPO",100,"","","","","01",100,"","","","",{"$f":"SUM(V38+W38+Y38+Z38+AB38+AD38)","v":60},75,null,null,100,null,{"$f":"S38+BU38*0.25","v":11.88},{"$f":"T38+BV38","v":30.880000000000003},"Exceeds cap of $15 million for Statewide & Regional Projects cascading to Division Needs",{"$f":"O38+BT38*0.25","v":40.32},null,"Currituck",81.819999999999993,"Camden",18.18,"","","","",1,"A","01, , ","Albemarle RPO, , ","Currituck, Camden, , ",10.2830142,10.2830142,"Two Lane Highway","Multi-Lane Highway",1,2,"Undivided","Divided",55,55,12.3687060697064,87.631293930293594,6065.8319760000004,15505.137360000001,0.39121433336337758,5315.5670482062969,750.26492779370369,232553.67338973124,32823.753964834919,265377.42735456617,6139297,47.387447479999999,46.640021480000001,34.438604390000002,"","",4,1.6243206113391E-5,"No","No",12,12,"No",0,2,"2 Lane Undivided","4A - 4 Lane Divided (46' Depressed Median) with Paved Shoulders","None","Partial",2,"Yes",32,82500000,40600000,1400000,124500000,"",124500000,124500000,""]
["H090869","Camden","Albemarle RPO","Highway","Regional Impact","","NC-343 ","US 158","SR 1119 in Shiloh","Upgrade Roadway with Wider Shoulders and New Culvert(S).","16 - Modernize Roadway",17898000,null,null,14.28,{"$f":"(V39+W39+Y39+Z39+AB39+AD39)","v":35},4.95,{"$f":"O39+P39+Q39","v":54.230000000000004},11.19,6.75,null,{"$f":"IF(AU39<30,0,IF(AU39<50,5,IF(AU39<65,10,IF(AU39>66,15))))","v":5},{"$f":"IF(X39<499,15,IF(X39<999,10,IF(X39<1499,5,IF(X39>1500,0))))","v":10},902.06866756128704,{"$f":"IF(DD39<500,0,IF(DD39<1000,5,IF(DD39>1000,10)))","v":0},{"$f":"IF(AA39=\"Yes\",20,0)","v":20},"Yes",{"$f":"IF(AC39=\"Yes\",10,0)","v":0},"No",{"$f":"IF(AE39=\"Yes\",20,0)","v":0},"No",5,{"$f":"IF(BM37<999,20,IF(BM37<1499,15,IF(BM37<1999,10,IF(BM37<3999,5,IF(BM37>4000,0)))))","v":20},15,10,"No",{"$f":"IF(AL39=\"Minimal\",15,0)","v":15},"Minimal",10,"Yes",0,"No",0,"No",12.434121680232257,0,49.452596115812995,0.63988824624267526,"N/A",26.911312477999999,50,0,null,null,null,"Albemarle RPO",100,"","","","","01",100,"","","","",{"$f":"SUM(V39+W39+Y39+Z39+AB39+AD39)","v":35},75,null,null,null,null,11.19,17.939999999999998,"Exceeds cap of $15 million for Statewide & Regional Projects cascading to Division Needs",{"$f":"O39+BT39*0.25","v":14.28},null,"Camden",100,"","","","","","",1,"A","01, , ","Albemarle RPO, , ","Camden, , , ",6.8151604299999997,6.8151604299999997,"Two Lane Highway","Two Lane Highway",1,1,"Undivided","Undivided",55,55,4.3958747202722996,95.604125279727697,2911.3124779999998,15500,0.18782661148387095,2783.334828751465,127.97764924853506,0,0,0,0,55.740450629999998,49.081060229999999,43.551114750000004,"","","","","No","No",10,12,"No",0,0,"2 Lane Undivided","","None","None",1,"No",32,17898000,0,0,17898000,"",17898000,17898000,""]
["H141741","Bertie","Peanut Belt RPO","Highway","Regional Impact","","NC-45 ","Hertford County Line","Washington County Line","Currently a 2- lane major thoroughfare with high truck percentage, this project recommends road be widened to 24 feet with paved shoulders and turn lanes where necessary through Bertie County, with safety and mobility the primary purpose.\n","1 - Widen Existing Roadway",130375000,null,null,9.07,{"$f":"(V40+W40+Y40+Z40+AB40+AD40)","v":45},null,{"$f":"O40+P40+Q40","v":54.07},6.88,null,null,{"$f":"IF(AU40<30,0,IF(AU40<50,5,IF(AU40<65,10,IF(AU40>66,15))))","v":5},{"$f":"IF(X40<499,15,IF(X40<999,10,IF(X40<1499,5,IF(X40>1500,0))))","v":0},2103.5491872249895,{"$f":"IF(DD40<500,0,IF(DD40<1000,5,IF(DD40>1000,10)))","v":5},{"$f":"IF(AA40=\"Yes\",15,0)","v":15},"Yes",{"$f":"IF(AC40=\"Yes\",10,0)","v":10},"Yes",{"$f":"IF(AE40=\"Yes\",10,0)","v":10},"Yes",5,{"$f":"IF(BM38<999,20,IF(BM38<1499,15,IF(BM38<1999,10,IF(BM38<3999,5,IF(BM38>4000,0)))))","v":0},15,{"$f":"IF(AJ40=\"Yes\",10,0)","v":10},"Yes",15,"Minimal",10,"Yes",0,"No",0,"No",10.66617998102131,1.6161204218600192E-2,33.133862619032996,2.6845429695994789,"N/A",16.497368424559369,25,0,null,null,null,"Peanut Belt RPO",100,"Albemarle RPO","","","","01",100,"","","","",{"$f":"SUM(V40+W40+Y40+Z40+AB40+AD40)","v":45},55,null,null,null,null,6.88,6.88,"Exceeds cap of $15 million for Statewide & Regional Projects cascading to Division Needs",{"$f":"O40+BT40*0.25","v":9.07},null,"Bertie",100,"Washington","","","","","",1,"A","01, , ","Peanut Belt RPO, Albemarle RPO, ","Bertie, Washington, , ",24.817557310000002,24.817557310000002,"Two Lane Highway","Two Lane Highway",1,1,"Undivided","TWLTL",55,55,21.498974225824398,78.501025774175602,2497.3684245593699,15500,0.16112054351995936,1960.4598306394741,536.90859391989579,68999.968866657597,18896.932079771112,87896.900946428708,2107017,34.606511580000003,28.184745840000001,36.620271590000002,"","","","","No","No",11,12,"No",0,0,"2 Lane Undivided","3A - 2 Lane with Two Way Left Turn Lane, and Paved Shoulders","None","None",1,"No",27,108729000,19327000,2319000,130375000,"",130375000,130375000,""]
["H141218","Perquimans","Albemarle RPO","Highway","Division Needs","","SR-1329","SR 1331","SR 1300","Widen and repave Woodville Road Phase 2","16 - Modernize Roadway",734000,null,null,null,null,null,null,8.27,5.25,null,"N/A",null,548.01863437169857,null,null,"Yes",null,null,null,null,0,{"$f":"IF(X41<999,20,IF(X41<1499,15,IF(X41<1999,10,IF(X41<3999,5,IF(X41>4000,0)))))","v":20},15,10,"No",{"$f":"IF(AL41=\"Minimal\",15,0)","v":15},"Minimal",10,"Yes",0,"No",0,"No",7.6877419354838707,0,0,0,"N/A","N/A",75,0,null,null,null,"Albemarle RPO",100,"","","","","01",100,"","","","",null,70,null,null,null,100,33.269999999999996,38.519999999999996,null,null,null,"Perquimans",100,"","","","","","",1,"A","01, , ","Albemarle RPO, , ","Perquimans, , , ",0.74409473000000004,0.74409473000000004,"Two Lane Highway","Two Lane Highway",1,1,"Undivided","Undivided",55,55,0,100,1800,15500,0.11612903225806452,1800,0,0,0,0,0,0,0,0,"","","","","No","No",9,12,"No",0,0,"2 Lane Undivided","3A - 2 Lane with Two Way Left Turn Lane, and Paved Shoulders","None","None",2,"No",30,734000,0,0,734000,"",734000,734000,""]
["H141650","Northampton","Peanut Belt RPO","Highway","Regional Impact","","US-258 ","Halifax County Line","Rich Square Town Limits","Currently a 2-lane major thoroughfare, it is recommended to widen to 24 feet w/ paved shoulders where necessary from Halifax County line to Rich Square town limits. Provides continuity with Halifax County CTP recommendations, which were based on recommendations in the Edgecombe County CTP.\n","16 - Modernize Roadway",701000,null,null,6.001844019965354,{"$f":"(V42+W42+Y42+Z42+AB42+AD42)","v":50},null,{"$f":"O42+P42+Q42","v":56.001844019965354},4.0012293466435693,null,null,{"$f":"IF(AU42<30,0,IF(AU42<50,5,IF(AU42<65,10,IF(AU42>66,15))))","v":0},{"$f":"IF(X42<499,15,IF(X42<999,10,IF(X42<1499,5,IF(X42>1500,0))))","v":15},45.604565057177851,{"$f":"IF(DD42<500,0,IF(DD42<1000,5,IF(DD42>1000,10)))","v":0},{"$f":"IF(AA42=\"Yes\",15,0)","v":15},"Yes",{"$f":"IF(AC42=\"Yes\",10,0)","v":10},"Yes",{"$f":"IF(AE42=\"Yes\",10,0)","v":10},"Yes",0,{"$f":"IF(X42<999,20,IF(X42<1499,15,IF(X42<1999,10,IF(X42<3999,5,IF(X42>4000,0)))))","v":20},15,{"$f":"IF(AJ42=\"Yes\",10,0)","v":10},"Yes",15,"Minimal",10,"Yes",0,"No",0,"No",11.153476270105694,0,28.858817196330001,1.999890922488379,"N/A",12.61146520254281,0,0,null,null,null,"Peanut Belt RPO",100,"","","","","01",100,"04","","","",{"$f":"SUM(V42+W42+Y42+Z42+AB42+AD42)","v":50},70,null,null,null,100,29.001229346643569,29.001229346643569,null,{"$f":"O42+BT42*0.25","v":6.001844019965354},null,"Northampton",100,"Halifax","","","","","",1,"A","01, 04, ","Peanut Belt RPO, , ","Northampton, Halifax, , ",5.88607046,5.88607046,"Two Lane Highway","Two Lane Highway",1,1,"Undivided","Undivided",55.000040093698097,55.000040093698097,15.316236421921801,84.683763578078199,2611.4652025428099,15500.011299133101,0.16848150315147617,2211.4870180451339,399.97818449767578,0,0,0,0,29.796681070000002,26.991747960000001,29.796681070000002,"","","","","No","No",12,12,"No",4,0,"2 Lane Undivided","3A - 2 Lane with Two Way Left Turn Lane, and Paved Shoulders","None","None",1,"No",25,701000,0,0,701000,"",701000,701000,""]
["H141863","Bertie","Peanut Belt RPO","Highway","Statewide Mobility","","US-17-BYP-Windsor Bypass","US 13 North at Windsor","US 17A East of Windsor","Upgrade freeway to interstate standards","17 - Upgrade Freeway to Interstate Standards",18115000,5.280522319769938,null,13.48,{"$f":"(V43+W43+Y43+Z43+AB43+AD43)","v":60},null,{"$f":"O43+P43+Q43","v":73.48},12.32,null,null,{"$f":"IF(AU43<30,0,IF(AU43<50,5,IF(AU43<65,10,IF(AU43>66,15))))","v":0},{"$f":"IF(X43<499,15,IF(X43<999,10,IF(X43<1499,5,IF(X43>1500,0))))","v":15},377.5845547580675,{"$f":"IF(DD43<500,0,IF(DD43<1000,5,IF(DD43>1000,10)))","v":10},{"$f":"IF(AA43=\"Yes\",15,0)","v":15},"Yes",{"$f":"IF(AC43=\"Yes\",10,0)","v":10},"Yes",{"$f":"IF(AE43=\"Yes\",10,0)","v":10},"Yes",0,{"$f":"IF(X43<999,20,IF(X43<1499,15,IF(X43<1999,10,IF(X43<3999,5,IF(X43>4000,0)))))","v":20},15,{"$f":"IF(AJ43=\"Yes\",10,0)","v":10},"Yes",15,"Minimal",10,"Yes",0,"No",0,"No",8.9789540080974994,0,14.225955942132,5.8043325764056979,3.3740078463481447E-2,17.24548809831855,0,100,null,null,null,"Peanut Belt RPO",100,"","","","","01",100,"","","","",{"$f":"SUM(V43+W43+Y43+Z43+AB43+AD43)","v":60},70,null,null,null,null,12.32,12.32,"Delay Division Local Input Scoring pending outcome of Future Interstate Designation; Exceeds cap of $15 million for Statewide & Regional Projects cascading to Division Needs",{"$f":"O43+BT43*0.25","v":13.48},null,"Bertie",100,"","","","","","",1,"A","01, , ","Peanut Belt RPO, , ","Bertie, , , ",6.6215013200000001,6.6215013200000001,"Freeway","Freeway",2,2,"Divided","Divided",69.868031583409305,69.868031583409305,16.0219228784675,83.978077121532493,7245.4880983185503,71492.605187994195,0.10134597947950133,6084.6215830374103,1160.8665152811395,0,0,0,0,15.056317160000001,7.53506316,20.090755720000001,"","",0.15711071904780799,5.1769085022182097E-7,"No","No",12,12,"No",0,4,"4 Lane with Median - Full Control","","Full","Full",1,"No",25,18115000,0,0,18115000,"",18115000,18115000,""]
["H090285","Perquimans","Albemarle RPO","Highway","Statewide Mobility","R-4458","US-17 ","SR 1300 (New Hope Road)","","Convert at-Grade intersection to An interchange","7 - Upgrade At-grade Intersection to Interchange or Grade Separation",12906000,11.908335891675366,null,12.64,{"$f":"(V44+W44+Y44+Z44+AB44+AD44)","v":65},4.95,{"$f":"O44+P44+Q44","v":82.59},9.24,7.5,null,{"$f":"IF(AU44<30,0,IF(AU44<50,5,IF(AU44<65,10,IF(AU44>66,15))))","v":10},{"$f":"IF(X44<499,15,IF(X44<999,10,IF(X44<1499,5,IF(X44>1500,0))))","v":15},407.68760462512967,{"$f":"IF(DD44<500,0,IF(DD44<1000,5,IF(DD44>1000,10)))","v":10},{"$f":"IF(AA44=\"Yes\",20,0)","v":20},"Yes",{"$f":"IF(AC44=\"Yes\",10,0)","v":10},"Yes",{"$f":"IF(AE44=\"Yes\",20,0)","v":0},"no",10,{"$f":"IF(BM42<999,20,IF(BM42<1499,15,IF(BM42<1999,10,IF(BM42<3999,5,IF(BM42>4000,0)))))","v":0},15,{"$f":"IF(AJ44=\"Yes\",10,0)","v":0},"No",{"$f":"IF(AL44=\"Minimal\",15,0)","v":15},"Minimal",10,"Yes",0,"No",0,"No",16.727256327764458,0.67404679993801331,50,7.7049196029202633,1.46961032780572,63.408788800000011,0,25,null,null,null,"Albemarle RPO",100,"","","","","01",100,"","","","",{"$f":"SUM(V44+W44+Y44+Z44+AB44+AD44)","v":65},50,null,null,null,null,9.24,16.740000000000002,"Delay Division Local Input Scoring pending outcome of Future Interstate Designation; Need to coordinate this project with SPOT ID#H090286 & TIP#R-4459",{"$f":"O44+BT44*0.25","v":12.64},"County Does not support project","Perquimans",100,"","","","","","",1,"A","01, , ","Albemarle RPO, , ","Perquimans, , , ",2,2,"Multi-Lane Highway","Freeway",2,2,"Divided","Divided",55,55,9.7356275119906002,90.2643724880094,15828.2958,91352.771370000002,0.17326563346274099,14287.311879415947,1540.9839205840526,343004.6154544357,36995.38454556428,380000,8699248,"","","",0,100,6,2.3392206556114398E-5,"no","No",12,12,"No",3,4,"2 Lane Undivided","","None","Full",2,"Yes",30.6,10716000,2190000,0,12906000,"",12906000,12906000,""]
["H090099-B","Gates","Albemarle RPO","Highway","Statewide Mobility","R-2507B","US-13 ","US 158 Bypass in Tarheel","SR 1202 (Eure Road/Gates School Road)","Widen to Multi-Lanes.","1 - Widen Existing Roadway",26200000,11.662716525966273,null,12.49,{"$f":"(V45+W45+Y45+Z45+AB45+AD45)","v":65},3.6,{"$f":"O45+P45+Q45","v":81.089999999999989},9.16,5.25,null,{"$f":"IF(AU45<30,0,IF(AU45<50,5,IF(AU45<65,10,IF(AU45>66,15))))","v":10},{"$f":"IF(X45<499,15,IF(X45<999,10,IF(X45<1499,5,IF(X45>1500,0))))","v":0},1700.8127716901893,{"$f":"IF(DD45<500,0,IF(DD45<1000,5,IF(DD45>1000,10)))","v":5},{"$f":"IF(AA45=\"Yes\",20,0)","v":20},"Yes",{"$f":"IF(AC45=\"Yes\",10,0)","v":10},"Yes",{"$f":"IF(AE45=\"Yes\",20,0)","v":20},"Yes",10,{"$f":"IF(X45<999,20,IF(X45<1499,15,IF(X45<1999,10,IF(X45<3999,5,IF(X45>4000,0)))))","v":10},15,10,"No",15,"Minimal",10,"Yes",0,"No",0,"No",15.80258064516129,1.9666755725190839E-2,50.766884000546995,9.1677418804838702,5.8055295488545502E-2,45.1,25,0,null,null,null,"Albemarle RPO",100,"","","","","01",100,"","","","",{"$f":"SUM(V45+W45+Y45+Z45+AB45+AD45)","v":65},70,null,null,100,null,9.16,14.41,"Exceeds cap of $15 million for Statewide & Regional Projects cascading to Division Needs",{"$f":"O45+BT45*0.25","v":37.49},null,"Gates",100,"","","","","","",1,"A","01, , ","Albemarle RPO, , ","Gates, , , ",4.1633513100000004,4.1633513100000004,"Two Lane Highway","Multi-Lane Highway",1,2,"Undivided","Divided",55,55,17.297297,82.702703,3700,15500,0.23870967741935484,3060.0000110000001,639.99998900000003,18067.430804417563,3778.8089786008504,21846.239783018413,515269,59.821943230000002,36.671154739999999,55.822785619999998,"","",0,1.16110590977091E-6,"Yes","No",11,12,"No",2,0,"2 Lane Undivided","4A - 4 Lane Divided (46' Depressed Median) with Paved Shoulders","None","Partial",1,"Yes",37,23200000,1800000,1200000,26200000,"",26200000,26200000,""]
["H090400","Pasquotank","Albemarle RPO","Highway","Division Needs","U-3420","SR-1309 New Route - Main Street Extension","Proposed US 17 Bypass","US 17","Proposed US 17 Bypass to US 17 Bypass (Hughes Boulevard). Upgrade Roadway, Some New Location with interchange at the  Proposed US 17 Bypass.","6 - Widen Existing Roadway and Construct Part on New Location",37604000,null,null,null,null,null,null,7.4926218010578971,9.75,null,"N/A",null,570.59042489894205,null,null,"Yes",null,null,null,null,10,20,15,{"$f":"IF(AJ46=\"Yes\",10,0)","v":0},"No",15,"Minimal",10,"Yes",0,"No",0,"No",21.23955152748097,0,53.686666483098001,2.2125776482960196,"N/A","N/A",0,0,null,null,null,"Albemarle RPO",100,"","","","","01",100,"","","","",null,70,null,null,null,null,7.4926218010578971,17.242621801057897,"Exceeds cap of $15 million for Statewide & Regional Projects cascading to Division Needs",null,null,"Pasquotank",100,"","","","","","",1,"A","01, , ","Albemarle RPO, , ","Pasquotank, , , ",8.1,4.4965362500000001,"Multi-Lane Highway","Arterial",2,2,"Divided","Divided",53,45,3.0192359281745,96.980764071825504,14656.54027,57189.055699999997,0.25628225699134949,14214.024740340796,442.51552965920388,0,0,0,0,45.39256322,70.290980619999999,45.39256322,"","","","","No","No",12,12,"No",4,4,"New Roadway","4B - 4 Lane Divided (23' Raised Median) with Paved Shoulders and Sidewalks","None","Partial",2,"No",23,32490000,4566000,548000,37604000,"",37604000,37604000,""]
["F130002","Hyde","Albemarle RPO","Ferry","Division Needs",null,"Statewide: Support Vessel",null,null,"Replacement Vessel-Tug (Dare)",null,1725000,null,null,null,null,null,null,25.9,6,null,null,null,0.4157119961235074,null,null,"Yes",null,null,null,null,5,20,15,0,"No",15,"Minimal",10,"Yes",{"$f":"IF(AP47=\"Yes\",5,0)","v":0},"No",{"$f":"IF(AR47=\"Yes\",5,0)","v":0},"No",null,null,39.43,null,null,null,null,null,null,null,null,"Albemarle RPO",null,null,null,null,null,null,null,null,null,null,null,null,{"$f":"SUM(AF47+AG47+AH47+AI47++AK47+AM47+AO47+AQ47)","v":65},null,null,null,null,null,null,null,null,null,"Hyde",null,null,null,null,null,null,null,null,null,null,null,null,null,{"$f":"9.5*2","v":19},null,null,null,null,null,null,null,null,null,null,60391,null,null,null,null,null,null,null,null,null,null,null,null,null,null,null,null,null,null,null,null,null,null,null,null,null,null,null,null,null,null,null,null,1725000,null,477000]
["F130004",null,"Albemarle RPO","Ferry","Division Needs",null,"Statewide: Support Vessel",null,null,"Replacement Vessel-Tug  (Buxton Jr.)",null,1725000,null,null,null,null,null,null,23.4,6,null,null,null,0.20079673775022244,null,null,"Yes",null,null,null,null,5,20,15,0,"No",15,"Minimal",10,"Yes",{"$f":"IF(AP48=\"Yes\",5,0)","v":0},"No",{"$f":"IF(AR48=\"Yes\",5,0)","v":0},"No",null,null,39.43,null,null,null,null,null,null,null,null,"Albemarle RPO",null,null,null,null,null,null,null,null,null,null,null,null,{"$f":"SUM(AF48+AG48+AH48+AI48++AK48+AM48+AO48+AQ48)","v":65},null,null,null,null,null,null,null,null,null,null,null,null,null,null,null,null,null,null,null,null,null,null,null,{"$f":"9.5*2","v":19},null,null,null,null,null,null,null,null,null,null,60391,null,null,null,null,null,null,null,null,null,null,null,null,null,null,null,null,null,null,null,null,null,null,null,null,null,null,null,null,null,null,null,null,1725000,null,230400]
["F130001","Hyde","Albemarle RPO","Ferry","Division Needs",null,"Statewide: Support Vessel",null,null,"Replacement Vessel-Tug(Albemarle)",null,5000000,null,null,null,null,null,null,19.3,6,null,null,null,{"$f":"(EI49/CZ49)/CO49","v":1.0039836887511122},null,null,"Yes",null,null,null,null,{"$f":"IF(AU49<30,0,IF(AU49<50,5,IF(AU49<65,10,IF(AU49<79,15,IF(AU49>80,20)))))","v":5},20,{"$f":"IF(AA49=\"Yes\",15,0)","v":15},0,"No",15,"Minimal",{"$f":"IF(AN49=\"Yes\",10,0)","v":10},"Yes",{"$f":"IF(AP49=\"Yes\",5,0)","v":0},"No",{"$f":"IF(AR49=\"Yes\",5,0)","v":0},"No",null,null,39.43,null,null,null,null,null,null,null,null,"Albemarle RPO",null,null,null,null,null,null,null,null,null,null,null,null,{"$f":"SUM(AF49+AG49+AH49+AI49++AK49+AM49+AO49+AQ49)","v":65},null,null,null,null,null,null,null,null,null,"Hyde",null,null,null,null,null,null,null,null,null,null,null,null,null,{"$f":"9.5*2","v":19},null,null,null,null,null,null,null,null,null,null,60391,null,null,null,null,null,null,null,null,null,null,null,null,null,null,null,null,null,null,null,null,null,null,null,null,null,null,null,null,null,null,null,null,5000000,null,1152000]
["B141476","Dare","Albemarle RPO","Bike & Ped","Division Needs",null,"Kill Devil Hills Multi Use Path","Ocean Acres","Atlantic","Construct Multi-Use Path","2. Construct multi-use trail / greenway / sidepath or on-road bike lane on local roadway",356500,null,null,null,null,null,null,18.504548236546277,9.75,null,"N/A",null,7756.7101699088889,null,null,"Yes",null,null,null,null,15,0,15,10,"Yes",15,"Minimal",10,"Yes",{"$f":"IF(AP50=\"Yes\",10,0)","v":0},"No",{"$f":"IF(AR50=\"Yes\",10,0)","v":0},"No",null,null,75,null,null,null,null,null,null,null,null,"Albemarle RPO",null,null,null,null,null,null,null,null,null,null,null,null,{"$f":"SUM(AF50+AG50+AH50+AI50+AK50+AM50+AO50)","v":65},null,null,null,null,null,null,null,null,null,"Dare County",null,null,null,null,null,null,null,null,null,null,null,null,null,0.31,null,null,null,null,null,null,null,null,null,null,{"$f":"786*0.1","v":78.600000000000009},null,null,null,null,null,null,null,null,null,null,null,null,null,null,null,null,null,null,null,null,null,null,null,null,null,null,null,null,null,310000,0,null,356500,0,189000]
["F130005",null,"Albemarle RPO","Ferry","Division Needs",null,"Statewide: Support Vessel",null,null,"Replacement Vessel-Barge (NC-2 Fuel Barge)",null,200000,null,null,null,null,null,null,18.2,3,null,null,null,0.28609613318122518,null,null,"Yes",null,null,null,null,5,20,15,0,"No",15,"Minimal",10,"Yes",{"$f":"IF(AP51=\"Yes\",5,0)","v":0},"No",{"$f":"IF(AR51=\"Yes\",5,0)","v":0},"No",null,null,39.43,null,null,null,null,null,null,null,null,"Albemarle RPO",null,null,null,null,null,null,null,null,null,null,null,null,{"$f":"SUM(AF51+AG51+AH51+AI51++AK51+AM51+AO51+AQ51)","v":65},null,null,null,null,null,null,null,null,null,null,null,null,null,null,null,null,null,null,null,null,null,null,null,{"$f":"9.5*2","v":19},null,null,null,null,null,null,null,null,null,null,60391,null,null,null,null,null,null,null,null,null,null,null,null,null,null,null,null,null,null,null,null,null,null,null,null,null,null,null,null,null,null,null,null,200000,null,328275]
["B141349","Dare","Albemarle RPO","Bike & Ped","Division Needs",null,"NC 12","Gull Street","Jennettes Pier","Construct sidewalk on west side of NC 12 from Gull Street south to Jennets Pier","5. Construct Sidewalk",100000,null,null,null,null,null,null,15.642500000000002,6.75,null,"N/A",null,1461.0389610389611,null,null,"Yes",null,null,null,null,0,15,15,10,"Yes",15,"Minimal",10,"Yes",{"$f":"IF(AP52=\"Yes\",10,0)","v":0},"No",{"$f":"IF(AR52=\"Yes\",10,0)","v":0},"No",null,null,12.5,null,null,null,null,null,null,null,null,"Albemarle RPO",null,null,null,null,null,null,null,null,null,null,null,null,{"$f":"SUM(AF52+AG52+AH52+AI52+AK52+AM52+AO52)","v":65},null,null,null,null,null,null,null,null,null,"Dare County",null,null,null,null,null,null,null,null,null,null,null,null,null,0.3,null,null,null,null,null,null,null,null,null,null,308,null,null,null,null,null,null,null,null,null,null,null,null,null,null,null,null,null,null,null,null,null,null,null,null,null,null,null,null,null,90000,0,null,100000,0,135000]
["F130009","Hyde","Albemarle RPO","Ferry","Division Needs",null,"Statewide: Support Vessel",null,null,"Replacement Vessel-Barge (NC-1 Pipeline Barge)",null,185000,null,null,null,null,null,null,13.7,3,null,null,null,1.7255969650409739,null,null,"Yes",null,null,null,null,5,20,15,0,"No",15,"Minimal",10,"Yes",{"$f":"IF(AP53=\"Yes\",5,0)","v":0},"No",{"$f":"IF(AR53=\"Yes\",5,0)","v":0},"No",null,null,39.43,null,null,null,null,null,null,null,null,"Albemarle RPO",null,null,null,null,null,null,null,null,null,null,null,null,{"$f":"SUM(AF53+AG53+AH53+AI53++AK53+AM53+AO53+AQ53)","v":65},null,null,null,null,null,null,null,null,null,"Hyde",null,null,null,null,null,null,null,null,null,null,null,null,null,{"$f":"9.5*2","v":19},null,null,null,null,null,null,null,null,null,null,60391,null,null,null,null,null,null,null,null,null,null,null,null,null,null,null,null,null,null,null,null,null,null,null,null,null,null,null,null,null,null,null,null,185000,null,1980000]
["F130010","Hyde","Albemarle RPO","Ferry","Division Needs",null,"Statewide: Support Vessel",null,null,"Replacement Vessel-Barge (NC-3 Equipment Barge)",null,185000,null,null,null,null,null,null,13.7,3,null,null,null,0.5804280700592368,null,null,"Yes",null,null,null,null,5,20,15,0,"No",15,"Minimal",10,"Yes",{"$f":"IF(AP54=\"Yes\",5,0)","v":0},"No",{"$f":"IF(AR54=\"Yes\",5,0)","v":0},"No",null,null,39.43,null,null,null,null,null,null,null,null,"Albemarle RPO",null,null,null,null,null,null,null,null,null,null,null,null,{"$f":"SUM(AF54+AG54+AH54+AI54++AK54+AM54+AO54+AQ54)","v":65},null,null,null,null,null,null,null,null,null,"Hyde",null,null,null,null,null,null,null,null,null,null,null,null,null,{"$f":"9.5*2","v":19},null,null,null,null,null,null,null,null,null,null,60391,null,null,null,null,null,null,null,null,null,null,null,null,null,null,null,null,null,null,null,null,null,null,null,null,null,null,null,null,null,null,null,null,185000,null,666000]
["H090099-C","Gates","Albemarle RPO","Highway","Statewide Mobility","R-2507C","US-13 ","SR 1202 (Eure Road/Gates School Road)","Virginia State Line","Widen to Multi-Lanes.","1 - Widen Existing Roadway",31000000,12.467522810856204,null,10.977776395583573,{"$f":"(V55+W55+Y55+Z55+AB55+AD55)","v":65},3.15,{"$f":"O55+P55+Q55","v":79.127776395583581},7.3178708035073292,5.25,null,{"$f":"IF(AU55<30,0,IF(AU55<50,5,IF(AU55<65,10,IF(AU55>66,15))))","v":10},{"$f":"IF(X55<499,15,IF(X55<999,10,IF(X55<1499,5,IF(X55>1500,0))))","v":0},1720.1381017321557,{"$f":"IF(DD55<500,0,IF(DD55<1000,5,IF(DD55>1000,10)))","v":5},{"$f":"IF(AA55=\"Yes\",20,0)","v":20},"Yes",{"$f":"IF(AC55=\"Yes\",10,0)","v":10},"Yes",{"$f":"IF(AE55=\"Yes\",20,0)","v":20},"Yes",10,10,15,10,"No",15,"Minimal",10,"Yes",{"$f":"IF(AP55=\"Yes\",10,0)","v":0},"No",{"$f":"IF(AR55=\"Yes\",10,0)","v":0},"No",16.327877726309676,1.9403806451612902E-2,56.831426502311999,9.3663279759304228,6.9301056105317504E-2,45.468977557000002,0,0,null,null,null,"Albemarle RPO",100,"","","","","01",100,"","","","",{"$f":"SUM(V55+W55+Y55+Z55+AB55+AD55)","v":65},{"$f":"SUM(AF55+AG55+AH55+AI55+AK55+AM55+AO55+AQ55)","v":70},null,null,100,null,{"$f":"S55+BU55*0.25","v":7.3178708035073292},{"$f":"T55+BV55","v":12.567870803507329},"Exceeds cap of $15 million for Statewide & Regional Projects cascading to Division Needs",{"$f":"O55+BT55*0.25","v":35.977776395583575},null,"Gates",100,"","","","","","",1,"A","01, , ","Albemarle RPO, , ","Gates, , , ",4.71405809,4.71405809,"Two Lane Highway","Multi-Lane Highway",1,2,"Undivided","Divided",55,55,16.741916150222998,83.258083849776995,3822.9925189999999,15500,0.24664467864516129,3182.9503170397215,640.04220196027802,21279.268908809252,4278.9326794035505,25558.201588212803,601518,71.452794549999993,31.798630360000001,67.25990573,"","",0,1.38602112210635E-6,"Yes","No",12,12,"No",0,0,"2 Lane Undivided","4A - 4 Lane Divided (46' Depressed Median) with Paved Shoulders","None","Partial",1,"Yes",37,23800000,6000000,1200000,31000000,"",31000000,31000000,""]
["H090149-C","Northampton","Peanut Belt RPO","Highway","Statewide Mobility","R-2584C","US-158 ","East of SR 1365","Murfreesboro Bypass","Widen to Multi-Lanes, Part on New  Location.","1 - Widen Existing Roadway",15500000,9.3681981442180433,null,8.4421943032112416,{"$f":"(V56+W56+Y56+Z56+AB56+AD56)","v":45},null,{"$f":"O56+P56+Q56","v":53.442194303211238},5.627067316119323,null,null,{"$f":"IF(AU56<30,0,IF(AU56<50,5,IF(AU56<65,10,IF(AU56>66,15))))","v":5},{"$f":"IF(X56<499,15,IF(X56<999,10,IF(X56<1499,5,IF(X56>1500,0))))","v":5},1024.9810988969052,{"$f":"IF(DD56<500,0,IF(DD56<1000,5,IF(DD56>1000,10)))","v":0},{"$f":"IF(AA56=\"Yes\",15,0)","v":15},"Yes",10,"Yes",{"$f":"IF(AE56=\"Yes\",10,0)","v":10},"Yes",5,15,15,{"$f":"IF(AJ56=\"Yes\",10,0)","v":10},"Yes",15,"Minimal",10,"Yes",{"$f":"IF(AP56=\"Yes\",10,0)","v":0},"No",0,"No",16.471282630658063,3.1866580645161291E-2,39.767523949889998,2.1687150311144747,6.7579796151811991E-2,23.569707588,0,0,null,null,null,"Peanut Belt RPO",100,"","","","","01",100,"","","","",{"$f":"SUM(V56+W56+Y56+Z56+AB56+AD56)","v":45},70,null,null,null,null,{"$f":"S56+BU56*0.25","v":5.627067316119323},5.627067316119323,"Exceeds cap of $15 million for Statewide & Regional Projects cascading to Division Needs",{"$f":"O56+BT56*0.25","v":8.4421943032112416},null,"Northampton",100,"","","","","","",1,"A","01, , ","Peanut Belt RPO, , ","Northampton, , , ",3.9211613500000002,3.9211613500000002,"Two Lane Highway","Multi-Lane Highway",1,2,"Undivided","Divided",55,55,11.2468617618159,88.753138238184107,3856.5691959999999,15500,0.24881091587096774,3422.8261897771054,433.74300622289491,19034.061700427039,2412.010042237323,21446.07174266436,493932,45.618827529999997,32.736669169999999,40.959006600000002,"","",0,1.3515959230362399E-6,"No","No",12,12,"No",2,0,"2 Lane Undivided","4A - 4 Lane Divided (46' Depressed Median) with Paved Shoulders","None","Partial",1,"Yes",26,10800000,4700000,0,15500000,"",15500000,15500000,""]
["H129676-A","Hertford","Peanut Belt RPO","Highway","Statewide Mobility","R-5311A","NC-11 ","SR 1213 (Old NC 11 Road)","","Upgrade At-Grade Intersecton to Interchange.","7 - Upgrade At-grade Intersection to Interchange or Grade Separation",9460000,15.194668034134692,null,13.574471535535771,{"$f":"(V57+W57+Y57+Z57+AB57+AD57)","v":70},null,{"$f":"O57+P57+Q57","v":83.574471535535764},8.9410226938807895,null,null,{"$f":"IF(AU57<30,0,IF(AU57<50,5,IF(AU57<65,10,IF(AU57>66,15))))","v":15},{"$f":"IF(X57<499,15,IF(X57<999,10,IF(X57<1499,5,IF(X57>1500,0))))","v":10},566.46164208284017,{"$f":"IF(DD57<500,0,IF(DD57<1000,5,IF(DD57>1000,10)))","v":10},{"$f":"IF(AA57=\"Yes\",15,0)","v":15},"Yes",10,"Yes",{"$f":"IF(AE57=\"Yes\",10,0)","v":10},"Yes",15,{"$f":"IF(BM55<999,20,IF(BM55<1499,15,IF(BM55<1999,10,IF(BM55<3999,5,IF(BM55>4000,0)))))","v":0},15,{"$f":"IF(AJ57=\"Yes\",10,0)","v":10},"Yes",15,"Minimal",10,"Yes",{"$f":"IF(AP57=\"Yes\",10,0)","v":0},"No",0,"No",19.501477044516125,3.2587498942917548,66.650000000000006,6.2469894638882204,4.5220205971468346,25.050239849999997,0,0,null,null,null,"Peanut Belt RPO",100,"","","","","01",100,"","","","",{"$f":"SUM(V57+W57+Y57+Z57+AB57+AD57)","v":70},65,null,null,100,100,{"$f":"S57+BU57*0.25","v":33.94102269388079},33.94102269388079,null,{"$f":"O57+BT57*0.25","v":38.574471535535771},null,"Hertford",100,"","","","","","",1,"A","01, , ","Peanut Belt RPO, , ","Hertford, , , ",2,2,"Two Lane Highway","Multi-Lane Highway",1,1,"Undivided","Divided",49.999892227322199,55,14.962705749633502,85.0372942503665,8350.0799499999994,31000,0.26935741774193545,7100.6820572223551,1249.3978927776441,1121641.911162334,197358.08883766588,1319000,30827774,"","","",33.299999999999997,100,21,6.9440411942936698E-5,"No","No",12,12,"No",2,2,"2 Lane Undivided","","None","Full",1,"Yes",19.565219056081599,8900000,500000,60000,9460000,"",9460000,9460000,""]
["A130008","Pasquotank","Albemarle RPO","Aviation","Division Needs",null,"Elizabeth City Coast Guard Air Station/Regional",null,null,"Land Acquisition-Apron Construction",null,1800000,null,null,null,null,null,null,8.59,13.5,null,"N/A",null,1588.4154391156831,null,null,"Yes",0,null,{"$f":"IF(AE58=\"Yes\",10,0)","v":0},null,0,{"$f":"IF(X58<999,20,IF(X58<1499,15,IF(X58<1999,10,IF(X58<3999,5,IF(X58>4000,0)))))","v":10},15,{"$f":"IF(AJ58=\"Yes\",10,0)","v":10},"Yes",{"$f":"IF(AL58=\"Minimal\",15,0)","v":15},"Minimal",10,"Yes",{"$f":"IF(AP58=\"Yes\",5,0)","v":5},"Yes",0,"No",null,null,null,null,null,null,null,null,null,null,null,"Albemarle RPO",null,null,null,null,null,null,null,null,null,null,null,null,65,null,null,null,null,null,null,null,null,null,"Pasquotank",null,null,null,null,null,null,null,null,null,null,null,null,null,0.86,null,null,null,null,null,null,null,null,null,null,164.71,null,null,null,null,null,null,null,null,null,null,null,null,null,null,null,null,null,null,null,null,null,null,null,null,null,null,null,null,null,null,null,null,2000000,null,225000]
["A130007","Pasquotank","Albemarle RPO","Aviation","Division Needs",null,"Elizabeth City Coast Guard Air Station/Regional",null,null,"Permitting/mitigation/preliminary",null,247500,null,null,null,null,null,null,7.89,13.5,null,"N/A",null,1747.2569830272516,null,null,"Yes",0,null,{"$f":"IF(AE59=\"Yes\",10,0)","v":0},null,0,{"$f":"IF(X59<999,20,IF(X59<1499,15,IF(X59<1999,10,IF(X59<3999,5,IF(X59>4000,0)))))","v":10},15,{"$f":"IF(AJ59=\"Yes\",10,0)","v":10},"Yes",15,"Minimal",10,"Yes",{"$f":"IF(AP59=\"Yes\",5,0)","v":5},"Yes",0,"No",null,null,null,null,null,null,null,null,null,null,null,"Albemarle RPO",null,null,null,null,null,null,null,null,null,null,null,null,65,null,null,null,null,null,null,null,null,null,"Pasquotank",null,null,null,null,null,null,null,null,null,null,null,null,null,0.86,null,null,null,null,null,null,null,null,null,null,164.71,null,null,null,null,null,null,null,null,null,null,null,null,null,null,null,null,null,null,null,null,null,null,null,null,null,null,null,null,null,null,null,null,275000,null,247500]
["A130036","Currituck","Albemarle RPO","Aviation","Division Needs",null,"Currituck County Regional",null,null,"Acquire Equipment Shelter",null,135000,null,null,null,null,null,null,5.56,15,null,"N/A",null,1895.2794905488729,null,null,"Yes",0,null,{"$f":"IF(AE60=\"Yes\",10,0)","v":0},null,0,{"$f":"IF(X60<999,20,IF(X60<1499,15,IF(X60<1999,10,IF(X60<3999,5,IF(X60>4000,0)))))","v":10},15,{"$f":"IF(AJ60=\"Yes\",10,0)","v":10},"Yes",15,"Minimal",10,"Yes",{"$f":"IF(AP60=\"Yes\",5,0)","v":5},"Yes",0,"No",null,null,null,null,null,null,null,null,null,null,null,"Albemarle RPO",null,null,null,null,null,null,null,null,null,null,null,null,65,null,null,null,null,null,null,null,null,null,"Currituck",null,null,null,null,null,null,null,null,null,null,null,null,null,1.04,null,null,null,null,null,null,null,null,null,null,68.489999999999995,null,null,null,null,null,null,null,null,null,null,null,null,null,null,null,null,null,null,null,null,null,null,null,null,null,null,null,null,null,null,null,null,150000,null,135000]
["H090230","Dare","Albemarle RPO","Highway","Statewide Mobility","R-3419","US-158 ","US 64-NC 12","Eastern End of Currituck Sound Bridge","Add Additional Lanes.","1 - Widen Existing Roadway",85428000,33.826595565109983,null,22.42,{"$f":"(V61+W61+Y61+Z61+AB61+AD61)","v":90},6.3,{"$f":"O61+P61+Q61","v":118.72},15.67,6.75,null,{"$f":"IF(AU61<30,0,IF(AU61<50,5,IF(AU61<65,10,IF(AU61>66,15))))","v":15},{"$f":"IF(X61<499,15,IF(X61<999,10,IF(X61<1499,5,IF(X61>1500,0))))","v":15},183.5913006327666,{"$f":"IF(DD61<500,0,IF(DD61<1000,5,IF(DD61>1000,10)))","v":10},{"$f":"IF(AA61=\"Yes\",20,0)","v":20},"Yes",10,"Yes",{"$f":"IF(AE61=\"Yes\",20,0)","v":20},"Yes",15,{"$f":"IF(BM59<999,20,IF(BM59<1499,15,IF(BM59<1999,10,IF(BM59<3999,5,IF(BM59>4000,0)))))","v":20},15,10,"No",15,"Minimal",10,"Yes",{"$f":"IF(AP61=\"Yes\",10,0)","v":0},"No",0,"No",61.663206108983005,3.1984238540057124,66.848834021375993,12.296076997726795,52.240077745304099,17.929986580000001,0,25,null,null,null,"Albemarle RPO",100,"","","","","01",100,"","","","",{"$f":"SUM(V61+W61+Y61+Z61+AB61+AD61)","v":90},85,null,null,100,null,{"$f":"S61+BU61*0.25","v":15.67},{"$f":"T61+BV61","v":22.42},"Exceeds cap of $15 million for Statewide & Regional Projects cascading to Division Needs",{"$f":"O61+BT61*0.25","v":47.42},null,"Dare",100,"","","","","","",1,"A","01, , ","Albemarle RPO, , ","Dare, , , ",17.3012275,17.3012275,"Arterial","Arterial",2,3,"TWLTL","Divided",50,45,9.1437711105651012,90.856228889434902,26894.979869999999,31700.06882,0.8484202360163835,24435.76447045464,2459.2153995453591,10869853.540386515,1093942.0884352552,11963795.62882177,273234953,66.845883279999995,76.036630419999995,57.684045019999999,"","",200,8.4480155490608197E-4,"No","No",12,12,"No",3,4,"4 Lane with TWLTL (Five Lane)","6E - 6 Lane Divided (23' Raised Median) with Curb & Gutter, Wide Outside Lanes, and Sidewalks","None","Partial",2,"No",18,56202000,26095000,3131000,85428000,"",85428000,85428000,""]
["H129515","Currituck","Albemarle RPO","Highway","Statewide Mobility","R-2576","- New Location Mid-Currituck Bridge","Coinjock","Corolla","Construct New Bridge Over Currituck Sound","5 - Construct Roadway on New Location",173304000,23.342830564038344,null,15.726629282408148,60,6.3,82.026629282408138,11.853563286896481,19,null,5,0,2285.8539293439476,5,20,"Yes",10,"Yes",20,"Yes",5,{"$f":"IF(BM60<999,20,IF(BM60<1499,15,IF(BM60<1999,10,IF(BM60<3999,5,IF(BM60>4000,0)))))","v":20},15,{"$f":"IF(AJ62=\"Yes\",10,0)","v":0},"No",15,"Minimal",10,"Yes",0,"No",0,"No",18.793795397608299,8.9256870412685227,40.816150430087994,4.7268539468324926,100,15.360235206666667,25,25,null,null,null,"Albemarle RPO",100,"","","","","01",100,"","","","",60,65,null,null,null,null,11.853563286896481,30.853563286896481,"Exceeds cap of $15 million for Statewide & Regional Projects cascading to Division Needs",15.726629282408148,null,"Currituck",100,"","","","","","",1,"A","01, , ","Albemarle RPO, , ","Currituck, , , ",43.4,6.8671598999999999,"Multi-Lane Highway","Two Lane Highway",2,1,"Undivided","Undivided",48,55,8.5628675608103002,91.437132439189696,11040.35281,46072.965450000003,0.23962757122680498,10094.982020633501,945.37078936649846,62075426.132216401,5813214.3755113408,67888640.507727742,1546857267,39.093044159999998,53.593429299999997,29.774223899999999,"","",2016,5.7389172778583896E-3,"No","No",11,12,"No",3,4,"New Roadway","2A - 2 Lane Undivided with Paved Shoulders, 55 mph","None","None",2,"No",24,383281000,25592000,1947000,410820000,237516000,173304000,173304000,"Toll Revenue less Roadway Maintenance and Financing"]
["H141869","Chowan","Albemarle RPO","Highway","Statewide Mobility","","US-17-BYP-Edenton Bypass","South end of Chowan River Bridge","US 17 Business (North) in Edenton (Broad Street)","Upgrade freeway to interstate standards","17 - Upgrade Freeway to Interstate Standards",39943000,8.7484760417394707,null,13.199578131959568,75,4.95,93.149578131959572,10.466385421306379,7.5,null,5,10,527.48148407603003,10,20,"Yes",10,"Yes",20,"Yes",5,{"$f":"IF(X63<999,20,IF(X63<1499,15,IF(X63<1999,10,IF(X63<3999,5,IF(X63>4000,0)))))","v":20},15,0,"No",15,"Minimal",10,"Yes",0,"No",0,"No",10.143372066527785,0,44.520482146535997,5.8742929410305047,0.78557618921433359,18.241940617180788,25,25,null,null,null,"Albemarle RPO",90.31,"Peanut Belt RPO",9.69,"","","01",100,"","","","",75,65,null,null,100,null,10.466385421306379,17.966385421306377,"Delay Division Local Input Scoring pending outcome of Future Interstate Designation; Exceeds cap of $15 million for Statewide & Regional Projects cascading to Division Needs",38.199578131959569,null,"Chowan",90.31,"Bertie",9.69,"","","","",1,"A","01, , ","Albemarle RPO, Peanut Belt RPO, ","Chowan, Bertie, , ",9.1876402099999996,9.1876402099999996,"Freeway","Freeway",2,2,"Divided","Divided",58.657857951946099,58.657857951946099,14.2546354405544,85.745364559445605,8241.9406171807896,72228.075098455607,0.11410993032759113,7067.0820289746889,1174.8585882061009,0,0,0,0,49.239147449999997,33.660043209999998,50.675613259999999,"","",3.5297729597742702,1.21817508245124E-5,"No","No",11,12,"No",3,4,"4 Lane with Median - Full Control","","Full","Full",1,"No",25,39943000,0,0,39943000,"",39943000,39943000,""]
["H111225","Currituck","Albemarle RPO","Highway","Statewide Mobility","","US-158 ","Proposed Mid Currituck Bridge","Dare County Line","Upgrade the Existing 5-Lane Boulevard to a 4-Lane Divided Boulevard fromtheproposed Mid-Currituck Bridge to the Dare County Line.","11 - Access Management",130843000,11.16234915458393,null,12.45,80,6.3,98.75,9.1300000000000008,9,null,5,15,484.12802715559553,10,20,"Yes",10,"Yes",20,"Yes",5,20,15,0,"No",15,"Minimal",10,"Yes",0,"No",0,"No",16.869019924360721,0,49.446054653357997,5.7851885596995665,0,19.311718553333336,0,25,null,null,null,"Albemarle RPO",100,"","","","","01",100,"","","","",80,65,null,null,0,null,9.1300000000000008,18.130000000000003,"Exceeds cap of $15 million for Statewide & Regional Projects cascading to Division Needs",12.45,null,"Currituck",100,"","","","","","",1,"A","01, , ","Albemarle RPO, , ","Currituck, , , ",19.349474180000001,19.349474180000001,"Multi-Lane Highway","Multi-Lane Highway",2,2,"TWLTL","Divided",55,55,8.2837391423356994,91.716260857664295,13967.57783,74282.529899999994,0.18803314653934533,12810.540118060086,1157.0377119399134,0,0,0,0,46.775181750000002,60.689393699999997,40.888423809999999,"","",0,0,"No","No",12,12,"No",3,4,"4 Lane with TWLTL (Five Lane)","4E - 4 Lane Divided (17'-6\"' Raised Median) with Paved Shoulders and Sidewalks","None","None",2,"No",25,125286000,4962000,595000,130843000,"",130843000,130843000,""]
["H111227","Currituck","Albemarle RPO","Highway","Statewide Mobility","","NC-168 ","Virginia Line","US 158","Upgrade the Existing 5-Lane Major Thoroughfare to a 4-Lane Divided Boulevardfrom the Virginia Line to US 158","11 - Access Management",122633000,9.259530084621499,null,10.46,70,6.3,86.76,7.81,9,null,5,10,512.62152970794932,5,20,"Yes",10,"Yes",20,"Yes",5,20,15,0,"No",15,"Minimal",10,"Yes",0,"No",0,"No",15.564629295984382,0,37.494202474773004,4.2036052417444214,0,36.707706353333336,0,25,null,null,null,"Albemarle RPO",100,"","","","","01",100,"","","","",70,65,null,null,null,null,7.81,16.809999999999999,"Exceeds cap of $15 million for Statewide & Regional Projects cascading to Division Needs",10.46,null,"Currituck",100,"","","","","","",1,"A","01, , ","Albemarle RPO, , ","Currituck, , , ",18.31536071,18.31536071,"Multi-Lane Highway","Multi-Lane Highway",2,2,"TWLTL","Divided",55,55,6.4366054177367005,93.5633945822633,13061.55953,75792.37487,0.17233342473307303,12220.838481651117,840.72104834888432,0,0,0,0,39.915379160000001,42.339522950000003,30.238954700000001,"","",0,0,"No","No",12,12,"No",3,4,"4 Lane with TWLTL (Five Lane)","4E - 4 Lane Divided (17'-6\"' Raised Median) with Paved Shoulders and Sidewalks","None","None",2,"No",34,120156000,2212000,265000,122633000,"",122633000,122633000,""]
["H090286","Perquimans","Albemarle RPO","Highway","Statewide Mobility","R-4459","US-17 ","SR 1336 (Harvey Point Road) and SR 1338 (Wayne Fork Road)","","Convert at-Grade intersection to An interchange","7 - Upgrade At-grade Intersection to Interchange or Grade Separation",17124000,11.326621906015168,null,10.49,60,4.95,75.44,7.79,7.5,null,5,15,485.15757135953902,10,20,"Yes",10,"Yes",0,"no",5,20,15,0,"No",15,"Minimal",10,"Yes",0,"No",0,"No",18.637613344626359,0.98769090165849105,33.299999999999997,9.1293282844147789,2.8316497524675701,58.660999040000007,0,25,null,null,null,"Albemarle RPO",100,"","","","","01",100,"","","","",60,65,null,null,null,null,7.79,15.29,"Delay Division Local Input Scoring pending outcome of Future Interstate Designation; Need to coordinate this project with SPOT ID#H090285 & TIP#R-4458; Exceeds cap of $15 million for Statewide & Regional Projects cascading to Division Needs",10.49,null,"Perquimans",100,"","","","","","",1,"A","01, , ","Albemarle RPO, , ","Perquimans, , , ",2,2,"Multi-Lane Highway","Freeway",2,2,"Divided","Divided",55,55,10.346093759894,89.653906240105997,17647.874640000002,91451.899420000002,0.19297439147710599,15822.008983117046,1825.8656568829558,660749.28898958117,76250.711010418774,737000,16913219,"","","",33.299999999999997,33.299999999999997,12,4.4632995049351403E-5,"No","No",12,12,"No",3,4,"2 Lane Undivided","","Limited","Full",2,"Yes",25.8,14934000,2190000,0,17124000,"",17124000,17124000,""]
["B141773","Dare","Albemarle RPO","Bike & Ped","Division Needs",null,"NC 12 Duck","1174 Duck Road","Cook Drive","Construct Sidewalk on West side of NC 12","2. Construct multi-use trail / greenway / sidepath or on-road bike lane on local roadway",303600,null,null,null,null,null,null,20.72,13.5,null,"N/A",null,14426.229508196724,null,null,"Yes",null,null,null,null,10,0,15,10,"Yes",15,"Minimal",10,"Yes",0,"No",0,"No",null,null,62.5,null,null,null,null,null,null,null,null,"Albemarle RPO",null,null,null,null,null,null,null,null,null,null,null,null,{"$f":"SUM(AF67+AG67+AH67+AI67+AK67+AM67+AO67)","v":60},null,null,null,null,null,null,null,null,null,"Dare County",null,null,null,null,null,null,null,null,null,null,null,null,null,0.69,null,null,null,null,null,null,null,null,null,null,{"$f":"305*0.1","v":30.5},null,null,null,null,null,null,null,null,null,null,null,null,null,null,null,null,null,null,null,null,null,null,null,null,null,null,null,null,null,385000,0,null,442000,138400,303600]
["B141770","Dare","Albemarle RPO","Bike & Ped","Division Needs",null,"NC 12 Duck","Four Seasons Lane","Cook Drive","Connect share path and construct sidewalk","5. Construct Sidewalk",286000,null,null,null,null,null,null,19.84,13.5,null,"N/A",null,9712.7677237257158,null,null,"Yes",null,null,null,null,10,0,15,10,"Yes",15,"Minimal",10,"Yes",0,"No",0,"No",null,null,62.5,null,null,null,null,null,null,null,null,"Albemarle RPO",null,null,null,null,null,null,null,null,null,null,null,null,60,null,null,null,null,null,null,null,null,null,"Dare County",null,null,null,null,null,null,null,null,null,null,null,null,null,2.4700000000000002,null,null,null,null,null,null,null,null,null,null,{"$f":"317*0.1","v":31.700000000000003},null,null,null,null,null,null,null,null,null,null,null,null,null,null,null,null,null,null,null,null,null,null,null,null,null,null,null,null,null,365000,0,null,420000,134000,760500]
["B141788","Camden","Albemarle RPO","Bike & Ped","Division Needs",null,"SR 1216","US 17","End Pavement","Construct Sidewalks","5. Construct Sidewalk",200000,null,null,null,null,null,null,19.2234926866,8.25,null,"N/A",null,18705.574261129816,null,null,"Yes",null,null,null,null,10,0,15,10,"Yes",15,"Minimal",10,"Yes",0,"No",0,"No",null,null,50,null,null,null,null,null,null,null,null,"Albemarle RPO",null,null,null,null,null,null,null,null,null,null,null,null,60,null,null,null,null,null,null,null,null,null,"Camden County",null,null,null,null,null,null,null,null,null,null,null,null,null,0.33,null,null,null,null,null,null,null,null,null,null,{"$f":"324*0.1","v":32.4},null,null,null,null,null,null,null,null,null,null,null,null,null,null,null,null,null,null,null,null,null,null,null,null,null,null,null,null,null,170000,0,null,200000,0,200000]
["B141479","Dare","Albemarle RPO","Bike & Ped","Division Needs",null,"Kill Devil Hills Multi Use Path","Eighth Street","Ocean Acres","Construct Multi use path","2. Construct multi-use trail / greenway / sidepath or on-road bike lane on local roadway",414000,null,null,null,null,null,null,15.233988893053294,9.75,null,"N/A",null,16290.726817042605,null,null,"Yes",null,null,null,null,10,0,15,10,"Yes",15,"Minimal",10,"Yes",0,"No",0,"No",null,null,55,null,null,null,null,null,null,null,null,"Albemarle RPO",null,null,null,null,null,null,null,null,null,null,null,null,60,null,null,null,null,null,null,null,null,null,"Dare County",null,null,null,null,null,null,null,null,null,null,null,null,null,0.36,null,null,null,null,null,null,null,null,null,null,{"$f":"798*0.1","v":79.800000000000011},null,null,null,null,null,null,null,null,null,null,null,null,null,null,null,null,null,null,null,null,null,null,null,null,null,null,null,null,null,360000,0,null,414000,0,468000]
["B141368","Dare","Albemarle RPO","Bike & Ped","Division Needs",null,"US 158","Worthington Lane","Jejac Street","Construct approximately 8200' of sidewalk on the west side of US 158","5. Construct Sidewalk",405375,null,null,null,null,null,null,14.980262092711737,9.75,null,"N/A",null,2732.7935222672068,null,null,"Yes",null,null,null,null,5,5,15,10,"Yes",15,"Minimal",10,"Yes",0,"No",0,"No",null,null,42.5,null,null,null,null,null,null,null,null,"Albemarle RPO",null,null,null,null,null,null,null,null,null,null,null,null,60,null,null,null,null,null,null,null,null,null,"Dare County",null,null,null,null,null,null,null,null,null,null,null,null,null,3.12,null,null,null,null,null,null,null,null,null,null,{"$f":"950*0.1","v":95},null,null,null,null,null,null,null,null,null,null,null,null,null,null,null,null,null,null,null,null,null,null,null,null,null,null,null,null,null,385375,0,null,405375,0,810000]
["B141956","Camden","Albemarle RPO","Bike & Ped","Division Needs",null,"Dismal Swamp Trail","McPherson Road",null,"Construct a 10' wide trail running between US 17 and the historic Dismal Swamp. (Phase 1)","2. Construct multi-use trail / greenway / sidepath or on-road bike lane on local roadway",400000,null,null,null,null,null,null,14.580441313826976,7.5,null,"N/A",null,94562.647754137128,null,null,"Yes",null,null,null,null,10,0,15,10,"Yes",15,"Minimal",10,"Yes",0,"No",0,"No",null,null,50,null,null,null,null,null,null,null,null,"Albemarle RPO",null,null,null,null,null,null,null,null,null,null,null,null,60,null,null,null,null,null,null,null,null,null,"Camden County",null,null,null,null,null,null,null,null,null,null,null,null,null,0.47,null,null,null,null,null,null,null,null,null,null,{"$f":"90*0.1","v":9},null,null,null,null,null,null,null,null,null,null,null,null,null,null,null,null,null,null,null,null,null,null,null,null,null,null,null,null,null,380000,0,null,400000,0,400000]
["B141965","Camden","Albemarle RPO","Bike & Ped","Division Needs",null,"Dismal Swamp Trail",null,null,"Construct a 10' wide trail running between US 17 and the historic Dismal Swamp (Phase 2)","2. Construct multi-use trail / greenway / sidepath or on-road bike lane on local roadway",400000,null,null,null,null,null,null,14.551587373051026,7.5,null,"N/A",null,120809.42313500452,null,null,"Yes",null,null,null,null,10,0,15,10,"Yes",15,"Minimal",10,"Yes",0,"No",0,"No",null,null,50,null,null,null,null,null,null,null,null,"Albemarle RPO",null,null,null,null,null,null,null,null,null,null,null,null,60,null,null,null,null,null,null,null,null,null,"Camden County",null,null,null,null,null,null,null,null,null,null,null,null,null,0.43,null,null,null,null,null,null,null,null,null,null,{"$f":"77*0.1","v":7.7},null,null,null,null,null,null,null,null,null,null,null,null,null,null,null,null,null,null,null,null,null,null,null,null,null,null,null,null,null,380000,0,null,400000,0,400000]
["H090146","Pasquotank","Albemarle RPO","Highway","Statewide Mobility","R-2579","US-158 ","NC 32 in Sunbury in Gates County","US 17 at Morgan's County in Pasquotank County","Widen to Multi-Lanes.","1 - Widen Existing Roadway",116900000,10.169185073380103,null,9.8457510643364152,{"$f":"(V74+W74+Y74+Z74+AB74+AD74)","v":55},3.6,{"$f":"O74+P74+Q74","v":68.445751064336406},6.5632928241854991,5.25,null,{"$f":"IF(AU74<30,0,IF(AU74<50,5,IF(AU74<65,10,IF(AU74>66,15))))","v":5},{"$f":"IF(X74<499,15,IF(X74<999,10,IF(X74<1499,5,IF(X74>1500,0))))","v":0},1998.9636506206675,{"$f":"IF(DD74<500,0,IF(DD74<1000,5,IF(DD74>1000,10)))","v":0},{"$f":"IF(AA74=\"Yes\",20,0)","v":20},"Yes",{"$f":"IF(AC74=\"Yes\",10,0)","v":10},"Yes",{"$f":"IF(AE74=\"Yes\",20,0)","v":20},"Yes",5,10,15,10,"No",15,"Minimal",10,"Yes",0,"No",0,"No",16.037487030331597,1.6236561163387512E-2,49.579204650359998,1.8147225661842494,0.32203017658757549,44.018879968,0,0,null,null,null,"Albemarle RPO",100,"","","","","01",100,"","","","",{"$f":"SUM(V74+W74+Y74+Z74+AB74+AD74)","v":55},{"$f":"SUM(AF74+AG74+AH74+AI74+AK74+AM74+AO74+AQ74)","v":65},null,null,null,null,{"$f":"S74+BU74*0.25","v":6.5632928241854991},{"$f":"T74+BV74","v":11.813292824185499},"Exceeds cap of $15 million for Statewide & Regional Projects cascading to Division Needs",{"$f":"O74+BT74*0.25","v":9.8457510643364152},null,"Pasquotank",50.79,"Gates",49.21,"","","","",1,"A","01, , ","Albemarle RPO, , ","Pasquotank, Gates, , ",15.565360119999999,15.565360119999999,"Two Lane Highway","Multi-Lane Highway",1,2,"Undivided","Divided",55,55,9.6602817719101992,90.339718228089794,3757.079988,15509.470209999999,0.24224425058552662,3394.1354747631499,362.9445132368499,74923.879907980401,8011.8225466282393,82935.702454608647,1898054,55.621653420000001,44.958995770000001,48.171840009999997,"","",1,5.4406035317515099E-6,"No","No",12,12,"No",1,0,"2 Lane Undivided","4A - 4 Lane Divided (46' Depressed Median) with Paved Shoulders","None","Partial",2,"Yes",37,91500000,20000000,5400000,116900000,"",116900000,116900000,""]
["B141867","Chowan","Albemarle RPO","Bike & Ped","Division Needs",null,";;",";;",";;","Connect path where existing sidewalk stops near Twiddy Ave. and extend towards Pembroke to the west side of town, connecting  residential subdivisions and over the US 17 bypass overpass, terminating at the new Chowan River fishing pier. (Phase 1)","2. Construct multi-use trail / greenway / sidepath or on-road bike lane on local roadway",400000,null,null,null,null,null,null,9.2594271087650011,3.75,null,"N/A",null,1871.3051080641271,null,null,"Yes",null,null,null,null,0,10,15,{"$f":"IF(AJ75=\"Yes\",10,0)","v":10},"Yes",15,"Minimal",10,"Yes",0,"No",0,"No",null,null,12.5,null,null,null,null,null,null,null,null,"Albemarle RPO",null,null,null,null,null,null,null,null,null,null,null,null,{"$f":"SUM(AF75+AG75+AH75+AI75+AK75+AM75+AO75)","v":60},null,null,null,null,null,null,null,null,null,"Chowan County",null,null,null,null,null,null,null,null,null,null,null,null,null,0.96,null,null,null,null,null,null,null,null,null,null,{"$f":"2226.61*0.1","v":222.66100000000003},null,null,null,null,null,null,null,null,null,null,null,null,null,null,null,null,null,null,null,null,null,null,null,null,null,null,null,null,null,380000,0,null,400000,0,400000]
["H090149-A","Northampton","Peanut Belt RPO","Highway","Statewide Mobility","R-2584A","US-158 ","SR 1333 (Mt. Caramel Road-Severn Road) East of Jackson","East of SR 1500","Widen to Multi-Lanes, Part on New  Location.","1 - Widen Existing Roadway",35400000,6.7665917857530138,null,6.1953666496314517,{"$f":"(V76+W76+Y76+Z76+AB76+AD76)","v":40},null,{"$f":"O76+P76+Q76","v":46.195366649631453},4.1302444330876344,null,null,{"$f":"IF(AU76<30,0,IF(AU76<50,5,IF(AU76<65,10,IF(AU76>66,15))))","v":0},{"$f":"IF(X76<499,15,IF(X76<999,10,IF(X76<1499,5,IF(X76>1500,0))))","v":5},1494.0486221150661,{"$f":"IF(DD76<500,0,IF(DD76<1000,5,IF(DD76>1000,10)))","v":0},{"$f":"IF(AA76=\"Yes\",15,0)","v":15},"Yes",{"$f":"IF(AC76=\"Yes\",10,0)","v":10},"Yes",{"$f":"IF(AE76=\"Yes\",10,0)","v":10},"Yes",0,15,15,10,"Yes",15,"Minimal",10,"Yes",0,"No",0,"No",11.375504147527343,0,29.926940183349,1.8062326157995514,0,19.990346666999997,0,0,null,null,null,"Peanut Belt RPO",100,"","","","","01",100,"","","","",{"$f":"SUM(V76+W76+Y76+Z76+AB76+AD76)","v":40},{"$f":"SUM(AF76+AG76+AH76+AI76+AK76+AM76+AO76+AQ76)","v":65},null,null,null,null,{"$f":"S76+BU76*0.25","v":4.1302444330876344},{"$f":"T76+BV76","v":4.1302444330876344},"Exceeds cap of $15 million for Statewide & Regional Projects cascading to Division Needs",{"$f":"O76+BT76*0.25","v":6.1953666496314517},null,"Northampton",100,"","","","","","",1,"A","01, , ","Peanut Belt RPO, , ","Northampton, , , ",8.8959874899999996,8.8959874899999996,"Two Lane Highway","Multi-Lane Highway",1,2,"Undivided","Divided",55,55,13.563110771595898,86.436889228404098,2663.4488889999998,15500.00021,0.17183540986545573,2302.2023658400894,361.24652315991028,0,0,0,0,31.488997040000001,30.542237579999998,27.75856491,"","",0,0,"No","No",12,12,"No",2,0,"2 Lane Undivided","4A - 4 Lane Divided (46' Depressed Median) with Paved Shoulders","None","Partial",1,"Yes",26,31300000,4100000,0,35400000,"",35400000,35400000,""]
["H129070-AA","Tyrrell","Albemarle RPO","Highway","Statewide Mobility","R-2545AA","US-64 ","East of Columbia","West of SR 1229 (Old US 64) at Alligator River","Widen to Multi-Lanes.","1 - Widen Existing Roadway",20780000,5.3659988106159062,null,2.4071891913157408,{"$f":"(V77+W77+Y77+Z77+AB77+AD77)","v":55},6.3,{"$f":"O77+P77+Q77","v":63.707189191315734},1.6040208211594833,9,null,{"$f":"IF(AU77<30,0,IF(AU77<50,5,IF(AU77<65,10,IF(AU77>66,15))))","v":0},{"$f":"IF(X77<499,15,IF(X77<999,10,IF(X77<1499,5,IF(X77>1500,0))))","v":5},1402.7886202635034,{"$f":"IF(DD77<500,0,IF(DD77<1000,5,IF(DD77>1000,10)))","v":0},{"$f":"IF(AA77=\"Yes\",20,0)","v":20},"Yes",{"$f":"IF(AC77=\"Yes\",10,0)","v":10},"Yes",{"$f":"IF(AE77=\"Yes\",20,0)","v":20},"Yes",0,15,15,10,"No",{"$f":"IF(AL77=\"Minimal\",15,0)","v":15},"Minimal",10,"Yes",0,"No",0,"No",16.017049020064515,2.3159191530317612E-2,0,1.8563572953123741,1.8266488807498149,31.250646215000003,0,0,null,null,null,"Albemarle RPO",100,"","","","","01",100,"","","","",{"$f":"SUM(V77+W77+Y77+Z77+AB77+AD77)","v":55},65,null,null,null,null,{"$f":"S77+BU77*0.25","v":1.6040208211594833},10.604020821159484,"Exceeds cap of $15 million for Statewide & Regional Projects cascading to Division Needs",{"$f":"O77+BT77*0.25","v":2.4071891913157408},null,"Tyrrell",100,"","","","","","",1,"A","01, , ","Albemarle RPO, , ","Tyrrell, , , ",3.95,3.95,"Two Lane Highway","Multi-Lane Highway",1,2,"Undivided","Divided",55,55,9.9000035722608004,90.0999964277392,3750.2154049999999,15500,0.24194938096774193,3378.9439459375253,371.27145906247483,18928.229631697483,2079.7952097663565,21008.024841463841,481248,0,0,0,"","",7,2.9532977614996302E-5,"No","No",12,12,"No",0,0,"2 Lane Undivided","4A - 4 Lane Divided (46' Depressed Median) with Paved Shoulders","None","Partial",1,"Yes",30,17800000,1730000,1250000,20780000,"",20780000,20780000,""]
["H129070-AB","Tyrrell","Albemarle RPO","Highway","Statewide Mobility","R-2545AB","US-64 ","West of SR 1229 (Old US 64) at Alligator River","West of Alligator River","Widen to Multi-Lanes.","1 - Widen Existing Roadway",44850000,5.2027678758907117,null,2.4071000419728881,{"$f":"(V78+W78+Y78+Z78+AB78+AD78)","v":55},6.3,{"$f":"O78+P78+Q78","v":63.707100041972886},1.6039762464880569,9,null,{"$f":"IF(AU78<30,0,IF(AU78<50,5,IF(AU78<65,10,IF(AU78>66,15))))","v":0},{"$f":"IF(X78<499,15,IF(X78<999,10,IF(X78<1499,5,IF(X78>1500,0))))","v":5},1430.3182031467043,{"$f":"IF(DD78<500,0,IF(DD78<1000,5,IF(DD78>1000,10)))","v":0},{"$f":"IF(AA78=\"Yes\",20,0)","v":20},"Yes",{"$f":"IF(AC78=\"Yes\",10,0)","v":10},"Yes",{"$f":"IF(AE78=\"Yes\",20,0)","v":20},"Yes",0,15,15,10,"No",15,"Minimal",10,"Yes",0,"No",0,"No",16.017049020064515,2.2713444816053512E-2,0,1.8563572953123741,0.19567677364066899,31.250646215000003,0,0,null,null,null,"Albemarle RPO",100,"","","","","01",100,"","","","",{"$f":"SUM(V78+W78+Y78+Z78+AB78+AD78)","v":55},65,null,null,null,null,{"$f":"S78+BU78*0.25","v":1.6039762464880569},10.603976246488056,"Exceeds cap of $15 million for Statewide & Regional Projects cascading to Division Needs",{"$f":"O78+BT78*0.25","v":2.4071000419728881},null,"Tyrrell",100,"","","","","","",1,"A","01, , ","Albemarle RPO, , ","Tyrrell, , , ",8.3612954199999994,8.3612954199999994,"Two Lane Highway","Multi-Lane Highway",1,2,"Undivided","Divided",55,55,9.9000035722608004,90.0999964277392,3750.2154049999999,15500,0.24194938096774193,3378.9439459375253,371.27145906247483,40066.96701980244,4402.4764966980465,44469.443516500483,1018698,0,0,0,"","",1,2.91353547281338E-6,"No","No",12,12,"No",0,0,"2 Lane Undivided","4A - 4 Lane Divided (46' Depressed Median) with Paved Shoulders","None","Partial",1,"Yes",30,41500000,1300000,2050000,44850000,"",44850000,44850000,""]
["A130009","Pasquotank","Albemarle RPO","Aviation","Division Needs",null,"Elizabeth City Coast Guard Air Station/Regional",null,null,"Install MALS/MALSF/MALSR",null,900000,null,null,null,null,null,null,12.05,13.5,null,"N/A",null,3176.8308782313661,null,null,"Yes",{"$f":"IF(AC79=\"Yes\",10,0)","v":0},null,{"$f":"IF(AE79=\"Yes\",10,0)","v":0},null,0,5,15,{"$f":"IF(AJ79=\"Yes\",10,0)","v":10},"Yes",15,"Minimal",10,"Yes",{"$f":"IF(AP79=\"Yes\",5,0)","v":5},"Yes",0,"No",null,null,null,null,null,null,null,null,null,null,null,"Albemarle RPO",null,null,null,null,null,null,null,null,null,null,null,null,60,null,null,null,null,null,null,null,null,null,"Pasquotank",null,null,null,null,null,null,null,null,null,null,null,null,null,0.86,null,null,null,null,null,null,null,null,null,null,164.71,null,null,null,null,null,null,null,null,null,null,null,null,null,null,null,null,null,null,null,null,null,null,null,null,null,null,null,null,null,null,null,null,1000000,null,450000]
["A130010","Pasquotank","Albemarle RPO","Aviation","Division Needs",null,"Elizabeth City Coast Guard Air Station/Regional",null,null,"Acquire Equipment Shelter",null,490500,null,null,null,null,null,null,7.11,13.5,null,"N/A",null,3462.7456572721894,null,null,"Yes",{"$f":"IF(AC80=\"Yes\",10,0)","v":0},null,{"$f":"IF(AE80=\"Yes\",10,0)","v":0},null,0,5,15,{"$f":"IF(AJ80=\"Yes\",10,0)","v":10},"Yes",15,"Minimal",10,"Yes",{"$f":"IF(AP80=\"Yes\",5,0)","v":5},"Yes",0,"No",null,null,null,null,null,null,null,null,null,null,null,"Albemarle RPO",null,null,null,null,null,null,null,null,null,null,null,null,60,null,null,null,null,null,null,null,null,null,"Pasquotank",null,null,null,null,null,null,null,null,null,null,null,null,null,0.86,null,null,null,null,null,null,null,null,null,null,164.71,null,null,null,null,null,null,null,null,null,null,null,null,null,null,null,null,null,null,null,null,null,null,null,null,null,null,null,null,null,null,null,null,545000,null,490500]
["H112082","Dare","Albemarle RPO","Highway","Division Needs","","SR-1208 W. Kitty Hawk Road","SR 1210 (Bob Perry Road)","Ivy Lane","Modernize Roadway with Wide Shoulders For Bicyclists","16 - Modernize Roadway",2736000,null,null,null,null,null,null,9.57,6.75,null,"N/A",null,{"$f":"(EI81/CZ81)/CO81","v":2827.9496762997946},null,null,"Yes",null,null,null,null,{"$f":"IF(AU81<30,0,IF(AU81<50,5,IF(AU81<65,10,IF(AU81<79,15,IF(AU81>80,20)))))","v":5},5,{"$f":"IF(AA81=\"Yes\",15,0)","v":15},10,"No",15,"Minimal",{"$f":"IF(AN81=\"Yes\",10,0)","v":10},"Yes",{"$f":"IF(AP81=\"Yes\",10,0)","v":0},"No",0,"No",3.8196962025316457,0,41.863874847167999,0,"N/A","N/A",50,0,null,null,null,"Albemarle RPO",100,"","","","","01",100,"","","","",null,60,null,null,null,100,{"$f":"S81+BU81*0.25","v":34.57},{"$f":"T81+BV81","v":41.32},null,null,null,"Dare",100,"","","","","","",1,"A","01, , ","Albemarle RPO, , ","Dare, , , ",1.06317076,1.06317076,"Arterial","Arterial",1,1,"Undivided","Undivided",35,35,0,100,910,15800,5.7594936708860761E-2,910,0,0,0,0,0,31.412820159999999,47.095682400000001,47.095682400000001,"","","","","No","No",9,11,"No",0,0,"2 Lane Undivided","","None","None",2,"No",18,2736000,0,0,2736000,"",2736000,2736000,""]
["H090376","Dare","Albemarle RPO","Highway","Regional Impact","U-2917","NC-12 ","Vicinity of SR 1206 in Kitty Hawk","","Roadway Improvements.","16 - Modernize Roadway",21318000,null,null,15.32,{"$f":"(V82+W82+Y82+Z82+AB82+AD82)","v":35},4.95,{"$f":"O82+P82+Q82","v":55.27},11.87,7.5,null,{"$f":"IF(AU82<30,0,IF(AU82<50,5,IF(AU82<65,10,IF(AU82>66,15))))","v":10},{"$f":"IF(X82<499,15,IF(X82<999,10,IF(X82<1499,5,IF(X82>1500,0))))","v":5},1416.5434087463095,{"$f":"IF(DD82<500,0,IF(DD82<1000,5,IF(DD82>1000,10)))","v":0},{"$f":"IF(AA82=\"Yes\",20,0)","v":20},"Yes",{"$f":"IF(AC82=\"Yes\",10,0)","v":0},"No",{"$f":"IF(AE82=\"Yes\",20,0)","v":0},"No",10,{"$f":"IF(BM80<999,20,IF(BM80<1499,15,IF(BM80<1999,10,IF(BM80<3999,5,IF(BM80>4000,0)))))","v":20},15,10,"No",15,"Minimal",10,"Yes",0,"No",0,"No",15.607000817638772,0,53.139971694710994,0.88886058751024577,"N/A",2.4787958946666668,50,0,null,null,null,"Albemarle RPO",100,"","","","","01",100,"","","","",{"$f":"SUM(V82+W82+Y82+Z82+AB82+AD82)","v":35},80,null,null,null,null,11.87,19.369999999999997,"Exceeds cap of $15 million for Statewide & Regional Projects cascading to Division Needs",{"$f":"O82+BT82*0.25","v":15.32},null,"Dare",100,"","","","","","",1,"A","01, , ","Albemarle RPO, , ","Dare, , , ",4.04747843,4.04747843,"Arterial","Arterial",1,1,"Undivided","Undivided",35,35,4.7811417332246,95.218858266775399,3718.1938420000001,15800.000190000001,0.23532872134731284,3540.4217244979513,177.77211750204916,0,0,0,0,47.458223420000003,43.976591910000003,68.001043339999995,"","","","","No","No",10,12,"No",4,0,"2 Lane Undivided","","None","None",2,"No",19,21318000,0,0,21318000,"",21318000,21318000,""]
["H090055","Bertie","Peanut Belt RPO","Highway","Statewide Mobility","R-2205","US-13 ","NC 42 at Powellsville. in Bertie County","US 13 Bypass North of Ahoskie in Hertford County","Construct Multi-Lanes with Bypass of Ahoskie on New Location.","1 - Widen Existing Roadway",49575000,16.451595973936445,null,15.16,45,null,60.16,10.94,null,null,10,0,4708.3774991272439,0,{"$f":"IF(AA83=\"Yes\",15,0)","v":15},"Yes",10,"Yes",{"$f":"IF(AE83=\"Yes\",10,0)","v":10},"Yes",10,{"$f":"IF(BM81<999,20,IF(BM81<1499,15,IF(BM81<1999,10,IF(BM81<3999,5,IF(BM81>4000,0)))))","v":0},15,{"$f":"IF(AJ83=\"Yes\",10,0)","v":10},"Yes",15,"Minimal",10,"Yes",0,"No",0,"No",27.533278106761291,2.989666162380232E-2,56.820126272447993,12.360755065048751,0.28479903166367554,27.339840362,25,0,null,null,null,"Peanut Belt RPO",100,"","","","","01",100,"","","","",45,60,null,null,null,null,10.94,10.94,"Exceeds cap of $15 million for Statewide & Regional Projects cascading to Division Needs",15.16,null,"Bertie",51.94,"Hertford",48.06,"","","","",1,"A","01, , ","Peanut Belt RPO, , ","Bertie, Hertford, , ",1.6332768900000001,1.6332768900000001,"Two Lane Highway","Multi-Lane Highway",1,2,"Undivided","Divided",50,50,6.0899926560569,93.910007343943107,6446.6134540000003,15500,0.41591054541935485,6054.0151680870249,392.59828591297605,61700.390330254988,4001.2234543961185,65701.613784651112,1482127,71.632139179999996,31.628654959999999,67.216632419999996,"","",1,4.6959806332735103E-6,"Yes","No",11,12,"No",3,2,"2 Lane Undivided","4A - 4 Lane Divided (46' Depressed Median) with Paved Shoulders","None","Limited",1,"Yes",24,46000000,3575000,0,49575000,"",49575000,49575000,""]
["H090399","Chowan","Albemarle RPO","Highway","Regional Impact","U-3419","NC-94 Soundside Road","NC 32","US 17 Bypass","NC 32  to US 17 Bypass. Two Lanes  on New Location.","5 - Construct Roadway on New Location",24738000,null,null,12.13,30,3.6,45.730000000000004,9.75,5.25,null,0,0,1818.1844987799473,0,{"$f":"IF(AA84=\"Yes\",20,0)","v":20},"Yes",10,"Yes",{"$f":"IF(AE84=\"Yes\",20,0)","v":0},"no",0,{"$f":"IF(X84<999,20,IF(X84<1499,15,IF(X84<1999,10,IF(X84<3999,5,IF(X84>4000,0)))))","v":10},15,10,"No",{"$f":"IF(AL84=\"Minimal\",15,0)","v":15},"Minimal",10,"Yes",0,"No",0,"No",20.802069229215935,0,26.713074408734997,1.0562003183467636,"N/A",24.906870215000001,0,50,null,null,null,"Albemarle RPO",100,"","","","","01",100,"","","","",30,60,null,null,null,null,9.75,15,"Exceeds cap of $15 million for Statewide & Regional Projects cascading to Division Needs",12.13,null,"Chowan",100,"","","","","","",1,"A","01, , ","Albemarle RPO, , ","Chowan, , , ",3.7,2.77282246,"Two Lane Highway","Arterial",1,1,"Undivided","Undivided",46,45,4.3049857529063003,95.695014247093695,4906.8702149999999,15627.53831,0.31398868572026556,4695.6301513306471,211.24006366935274,0,0,0,0,29.14122888,21.864780190000001,29.14122888,"","","","","No","No",12,12,"No",0,2,"New Roadway","2B - 2 Lane Undivided with Paved Shoulders, 25-45 mph","None","None",1,"No",30,24510000,204000,24000,24738000,"",24738000,24738000,""]
["H141929","Perquimans","Albemarle RPO","Highway","Statewide Mobility","","US-17","US 17 Business (North) in Edenton (Broad Street)","SR 1100 / 1140 (Okisko Road)","Upgrade roadway to Interstate","2 - Upgrade Arterial to Freeway/Expressway",362296000,12.231591398447446,null,9.98,70,4.95,84.93,7.47,7.5,null,5,5,1471.2174057748716,10,{"$f":"IF(AA85=\"Yes\",20,0)","v":20},"Yes",10,"Yes",{"$f":"IF(AE85=\"Yes\",20,0)","v":20},"Yes",5,15,15,{"$f":"IF(AJ85=\"Yes\",10,0)","v":0},"No",{"$f":"IF(AL85=\"Minimal\",15,0)","v":15},"Minimal",10,"Yes",0,"No",0,"No",15.310184131456303,0.46260251838275884,33.909394688070002,6.3722125822879949,28.343734182311298,50.155493607634938,0,25,null,null,null,"Albemarle RPO",100,"","","","","01",100,"","","","",70,60,null,null,100,null,7.47,14.969999999999999,"Delay Division Local Input Scoring pending outcome of Future Interstate Designation; Exceeds cap of $15 million for Statewide & Regional Projects cascading to Division Needs",34.980000000000004,null,"Perquimans",89.76,"Chowan",8.6,"Pasquotank",1.63,"","",1,"A","01, , ","Albemarle RPO, , ","Perquimans, Chowan, Pasquotank, ",19.226261770000001,19.226261770000001,"Multi-Lane Highway","Freeway",2,2,"Divided","Divided",55.267216771237202,70,9.9501222739189998,90.049877726081007,12808.310102863101,75440.184645582907,0.16978100150518441,11533.867586405504,1274.4425164575989,6586938.0592921842,727828.18539802916,7314766.2446902134,167599042,27.89512178,40.943156899999998,32.900079220000002,"","",116.79099750996799,4.5008368613625799E-4,"No","No",12,12,"No",3,4,"4 Lane with Median - Partial Control","4A - 4 Lane Divided (46' Depressed Median) with Paved Shoulders","None","None",2,"Yes",28,248047000,102008000,12241000,362296000,"",362296000,362296000,""]
["H141931","Camden","Albemarle RPO","Highway","Statewide Mobility","","US-17","US 17/158 north of Elizabeth City (North Road Street)","Virginia State LIne","Upgrade roadway to Interstate","2 - Upgrade Arterial to Freeway/Expressway",66692000,11.444817563368547,null,9.1,75,4.95,89.05,6.84,7.5,null,0,15,380.94657353193423,10,{"$f":"IF(AA86=\"Yes\",20,0)","v":20},"Yes",10,"Yes",{"$f":"IF(AE86=\"Yes\",20,0)","v":20},"Yes",0,20,15,{"$f":"IF(AJ86=\"Yes\",10,0)","v":0},"No",{"$f":"IF(AL86=\"Minimal\",15,0)","v":15},"Minimal",10,"Yes",0,"No",0,"No",16.058654438177065,1.8246393120614166,25.536049133033998,6.3980551436151325,22.466134962705745,64.340570639189394,0,25,null,null,null,"Albemarle RPO",100,"","","","","01",100,"","","","",75,60,null,null,null,null,6.84,14.34,"Delay Division Local Input Scoring pending outcome of Future Interstate Designation; Exceeds cap of $15 million for Statewide & Regional Projects cascading to Division Needs",9.1,null,"Camden",73.67,"Pasquotank",26.33,"","","","",1,"A","01, , ","Albemarle RPO, , ","Camden, Pasquotank, , ",13.01933756,13.01933756,"Multi-Lane Highway","Freeway",2,2,"Divided","Divided",55,70,9.5160604457086997,90.483939554291297,13446.856879729799,75544.764459042606,0.17799852810475245,12167.245851006774,1279.6110287230265,4814002.4068682343,506281.42535790673,5320283.8322261414,121688845,16.545985770000001,37.384043830000003,22.68577938,"","",86.358414733329894,3.6296428452078499E-4,"No","No",12,12,"No",3,4,"4 Lane with Median - Limited Control","4A - 4 Lane Divided (46' Depressed Median) with Paved Shoulders","Limited","Limited",1,"Yes",32,54160000,11189000,1343000,66692000,"",66692000,66692000,""]
["H090868","Gates","Albemarle RPO","Highway","Regional Impact","","NC-32 ","Chowan County","Virginia State Line","Widen to Multi-Lanes from Chowan County to Virginia Border","1 - Widen Existing Roadway",164732000,null,null,8.6051018168922653,55,3.6,67.205101816892267,5.7367345445948441,5.25,null,5,0,3736.084845243709,0,{"$f":"IF(AA87=\"Yes\",20,0)","v":20},"Yes",10,"Yes",{"$f":"IF(AE87=\"Yes\",20,0)","v":20},"Yes",5,5,15,10,"No",{"$f":"IF(AL87=\"Minimal\",15,0)","v":15},"Minimal",10,"Yes",0,"No",{"$f":"IF(AR87=\"Yes\",10,0)","v":0},"No",11.331138193748444,0,46.036207252199993,1.1899936567631844,"N/A",43.959183177,0,0,null,null,null,"Albemarle RPO",100,"","","","","01",100,"","","","",55,60,null,null,null,null,5.7367345445948441,10.986734544594844,"Exceeds cap of $15 million for Statewide & Regional Projects cascading to Division Needs",8.6051018168922653,null,"Gates",100,"","","","","","",1,"A","01, , ","Albemarle RPO, , ","Gates, , , ",16.61934853,16.61934853,"Two Lane Highway","Multi-Lane Highway",1,2,"Undivided","Divided",55,55,8.9707219720884996,91.029278027911502,2653.0610590000001,15500.00001,0.17116522950247406,2415.0623276473634,237.99873135263687,0,0,0,0,52.038928579999997,41.030888079999997,45.052617339999998,"","","","","No","No",12,12,"No",0,0,"2 Lane Undivided","4A - 4 Lane Divided (46' Depressed Median) with Paved Shoulders","None","Partial",1,"Yes",38,106020000,52421000,6291000,164732000,"",164732000,164732000,""]
["H090145","Gates","Albemarle RPO","Highway","Statewide Mobility","R-2578","US-158 ","US 13","NC 32 in Sunbury","Widen to Multi-Lanes.","1 - Widen Existing Roadway",110400000,8.2154544470739186,null,8.1873220710655996,55,4.95,68.137322071065597,5.4582147140437334,7.5,null,5,0,2636.408006233883,0,{"$f":"IF(AA88=\"Yes\",20,0)","v":20},"Yes",10,"Yes",{"$f":"IF(AE88=\"Yes\",20,0)","v":20},"Yes",5,5,15,10,"No",{"$f":"IF(AL88=\"Minimal\",15,0)","v":15},"Minimal",10,"Yes",0,"No",0,"No",11.950545640279334,0,42.631601500157998,1.8356530248715976,0,48.394265506000004,0,0,null,null,null,"Albemarle RPO",100,"","","","","01",100,"","","","",55,60,null,null,null,null,5.4582147140437334,12.958214714043734,"Exceeds cap of $15 million for Statewide & Regional Projects cascading to Division Needs",8.1873220710655996,null,"Gates",100,"","","","","","",1,"A","01, , ","Albemarle RPO, , ","Gates, , , ",14.96563003,14.96563003,"Two Lane Highway","Multi-Lane Highway",1,2,"Undivided","Divided",55,55,13.120764575956201,86.879235424043799,2798.0885020000001,15500.00013,0.18052183732465557,2430.9578970256807,367.13060497431951,0,0,0,0,42.384867309999997,36.449745309999997,49.072982639999999,"","",0,0,"No","No",12,12,"No",0,0,"2 Lane Undivided","4A - 4 Lane Divided (46' Depressed Median) with Paved Shoulders","None","Partial",1,"Yes",40,65000000,35500000,9900000,110400000,"",110400000,110400000,""]
["H090182","Martin","Mid-East RPO","Highway","Regional Impact","R-2700","NC-11 ","US 64 Relocation North of Bethel","NC 903","Widen to Four Lanes with a Bypass of Oak City on New Location.","6 - Widen Existing Roadway and Construct Part on New Location",120488000,null,null,7.5066214316192408,45,null,52.506621431619237,5.0029548834901352,10,null,5,0,2117.0917484054085,5,{"$f":"IF(AA89=\"Yes\",15,0)","v":15},"Yes",10,"Yes",{"$f":"IF(AE89=\"Yes\",10,0)","v":10},"Yes",5,5,15,{"$f":"IF(AJ89=\"Yes\",10,0)","v":10},"Yes",15,"Minimal",10,"Yes",0,"No",0,"No",16.498670475081592,4.3782127680764893E-2,33.487096232138995,3.4346861968498441,"N/A",23.602926140999998,0,0,null,null,null,"Mid-East RPO",86.92,"Upper Coastal Plain RPO",13.08,"","","01",86.92,"04",13.08,"","",45,60,null,null,null,null,5.0029548834901352,15.002954883490135,"Exceeds cap of $15 million for Statewide & Regional Projects cascading to Division Needs",7.5066214316192408,null,"Martin",86.92,"Edgecombe",13.08,"","","","",1,"A","01, 04, ","Mid-East RPO, Upper Coastal Plain RPO, ","Martin, Edgecombe, , ",14.7,14.714917890000001,"Two Lane Highway","Multi-Lane Highway",1,2,"Undivided","Divided",54,55,17.761137949743897,82.238862050256103,3867.6420469999998,15520.633970000001,0.24919356093802653,3180.7048076300312,686.93723936996878,183602.25972227845,39652.60439546586,223254.86411774432,5275221,43.679475170000003,30.094417199999999,26.697443459999999,"","","","","No","No",12,12,"No",3,0,"New Roadway","4A - 4 Lane Divided (46' Depressed Median) with Paved Shoulders","None","Partial",1,"Yes",26,113088000,6607000,793000,120488000,"",120488000,120488000,""]
["H090124-B","Dare","Peanut Belt RPO","Highway","Statewide Mobility","R-2544B","US-64 ","West of SR 1102 (East Lake Road)","East of Dare County Landfill","Widen to Multi-Lanes.","1 - Widen Existing Roadway",26450000,7.7762964530412519,null,7.4354279530602927,60,6.3,73.735427953060295,4.9569519687068624,9,null,5,5,1021.2769561031048,0,{"$f":"IF(AA90=\"Yes\",20,0)","v":20},"Yes",10,"Yes",{"$f":"IF(AE90=\"Yes\",20,0)","v":20},"Yes",5,15,15,0,"No",{"$f":"IF(AL90=\"Minimal\",15,0)","v":15},"Minimal",10,"Yes",0,"No",0,"No",12.646326065699627,0,36.923193621368995,1.4503963559723212,0,15.895993893333333,0,0,null,null,null,"Albemarle RPO",100,"","","","","01",100,"","","","",60,60,null,null,null,null,4.9569519687068624,13.956951968706862,"Exceeds cap of $15 million for Statewide & Regional Projects cascading to Division Needs",7.4354279530602927,null,"Dare",100,"","","","","","",1,"A","01, , ","Albemarle RPO, , ","Dare, , , ",8.7466968000000005,8.7466968000000005,"Two Lane Highway","Multi-Lane Highway",1,2,"Undivided","Divided",55,55,9.796673270458701,90.203326729541303,2960.9977100000001,15499.99951,0.19103211636166045,2670.918438805536,290.07927119446424,0,0,0,0,44.270671739999997,26.617315269999999,39.892671919999998,"","",0,0,"No","No",12,12,"No",0,0,"2 Lane Undivided","4A - 4 Lane Divided (46' Depressed Median) with Paved Shoulders","None","Partial",2,"Yes",24,23300000,2100000,1050000,26450000,"",26450000,26450000,""]
["H141880","Pasquotank","Albemarle RPO","Highway","Statewide Mobility","","US-17-BYP-Elizabeth City Bypass","SR 1100 / 1140 (Okisko Road)","US 17/158 north of Elizabeth City (North Road Street)","Upgrade freeway to interstate standards","17 - Upgrade Freeway to Interstate Standards",16554000,7.4401437540013751,null,5.1586118755402079,75,6.3,86.4586118755402,3.4390745836934724,9,null,0,15,146.45742390673294,10,{"$f":"IF(AA91=\"Yes\",20,0)","v":20},"Yes",10,"Yes",{"$f":"IF(AE91=\"Yes\",20,0)","v":20},"Yes",0,20,15,0,"No",15,"Minimal",10,"Yes",0,"No",0,"No",13.968030206078721,0,20.422715630856001,5.5853239091258402,0.90398347266990298,13.553747511552267,0,0,null,null,null,"Albemarle RPO",100,"","","","","01",100,"","","","",75,60,null,null,null,null,3.4390745836934724,12.439074583693472,"Delay Division Local Input Scoring pending outcome of Future Interstate Designation; Exceeds cap of $15 million for Statewide & Regional Projects cascading to Division Needs",5.1586118755402079,null,"Pasquotank",100,"","","","","","",1,"A","01, , ","Albemarle RPO, , ","Pasquotank, , , ",9.97557267,9.97557267,"Freeway","Freeway",2,2,"Divided","Divided",68.723659978444402,68.723659978444402,9.858813170697001,90.141186829302995,11330.621267328401,72048.855909959806,0.1572630283191227,10213.556485503232,1117.064781825168,0,0,0,0,23.95659736,8.3349116199999997,28.98276534,"","",3.7328922246088601,1.43467772287892E-5,"No","No",12,12,"No",4,4,"4 Lane with Median - Full Control","","Full","Full",2,"No",23,16554000,0,0,16554000,"",16554000,16554000,""]
["A130016","Dare","Albemarle RPO","Aviation","Division Needs",null,"Dare County Regional",null,null,"Land Acquisition-Runway Approach",null,428000,null,null,null,null,null,null,38.049999999999997,9.75,null,"N/A",null,11239.259679418501,null,{"$f":"IF(AA92=\"Yes\",15,0)","v":15},"Yes",0,null,{"$f":"IF(AE92=\"Yes\",10,0)","v":0},null,0,0,15,10,"Yes",15,"Minimal",10,"Yes",{"$f":"IF(AP92=\"Yes\",5,0)","v":5},"Yes",0,"No",null,null,null,null,null,null,null,null,null,null,null,"Albemarle RPO",null,null,null,null,null,null,null,null,null,null,null,null,55,null,null,null,null,null,null,null,null,null,"Dare",null,null,null,null,null,null,null,null,null,null,null,null,null,0.82,null,null,null,null,null,null,null,null,null,null,46.44,null,null,null,null,null,null,null,null,null,null,null,null,null,null,null,null,null,null,null,null,null,null,null,null,null,null,null,null,null,null,null,null,475555,null,428000]
["A130018","Dare","Albemarle RPO","Aviation","Division Needs",null,"Dare County Regional",null,null,"Land Acquisition-Runway Approach",null,454815,null,null,null,null,null,null,38.049999999999997,9.75,null,"N/A",null,11943.420306296088,null,{"$f":"IF(AA93=\"Yes\",15,0)","v":15},"Yes",0,null,{"$f":"IF(AE93=\"Yes\",10,0)","v":0},null,0,0,15,10,"Yes",15,"Minimal",10,"Yes",{"$f":"IF(AP93=\"Yes\",5,0)","v":5},"Yes",0,"No",null,null,null,null,null,null,null,null,null,null,null,"Albemarle RPO",null,null,null,null,null,null,null,null,null,null,null,null,55,null,null,null,null,null,null,null,null,null,"Dare",null,null,null,null,null,null,null,null,null,null,null,null,null,0.82,null,null,null,null,null,null,null,null,null,null,46.44,null,null,null,null,null,null,null,null,null,null,null,null,null,null,null,null,null,null,null,null,null,null,null,null,null,null,null,null,null,null,null,null,505350,null,454815]
["A130019","Dare","Albemarle RPO","Aviation","Division Needs",null,"Dare County Regional",null,null,"Land Acquisition-Runway Approach",null,3325500,null,null,null,null,null,null,38.049999999999997,9.75,null,"N/A",null,87327.47211193043,null,{"$f":"IF(AA94=\"Yes\",15,0)","v":15},"Yes",0,null,{"$f":"IF(AE94=\"Yes\",10,0)","v":0},null,0,0,15,10,"Yes",15,"Minimal",10,"Yes",{"$f":"IF(AP94=\"Yes\",5,0)","v":5},"Yes",0,"No",null,null,null,null,null,null,null,null,null,null,null,"Albemarle RPO",null,null,null,null,null,null,null,null,null,null,null,null,55,null,null,null,null,null,null,null,null,null,"Dare",null,null,null,null,null,null,null,null,null,null,null,null,null,0.82,null,null,null,null,null,null,null,null,null,null,46.44,null,null,null,null,null,null,null,null,null,null,null,null,null,null,null,null,null,null,null,null,null,null,null,null,null,null,null,null,null,null,null,null,3695000,null,3325500]
["A130028","Dare","Albemarle RPO","Aviation","Division Needs",null,"Dare County Regional",null,null,"Land Acquisition-Obstruction Removal",null,1152000,null,null,null,null,null,null,36.85,9.75,null,"N/A",null,30251.465305350732,null,{"$f":"IF(AA95=\"Yes\",15,0)","v":15},"Yes",0,null,{"$f":"IF(AE95=\"Yes\",10,0)","v":0},null,0,0,15,10,"Yes",15,"Minimal",10,"Yes",{"$f":"IF(AP95=\"Yes\",5,0)","v":5},"Yes",0,"No",null,null,null,null,null,null,null,null,null,null,null,"Albemarle RPO",null,null,null,null,null,null,null,null,null,null,null,null,55,null,null,null,null,null,null,null,null,null,"Dare",null,null,null,null,null,null,null,null,null,null,null,null,null,0.82,null,null,null,null,null,null,null,null,null,null,46.44,null,null,null,null,null,null,null,null,null,null,null,null,null,null,null,null,null,null,null,null,null,null,null,null,null,null,null,null,null,null,null,null,1280000,null,1152000]
["A130415","Hertford","Peanut Belt RPO","Aviation","Division Needs",null,"Tri-County",null,null,"Land Acquisition-Runway Approach",null,450000,null,null,null,null,null,null,35.35,null,null,"N/A",null,14750.954714569027,null,{"$f":"IF(AA96=\"Yes\",15,0)","v":15},"Yes",0,null,{"$f":"IF(AE96=\"Yes\",10,0)","v":0},null,0,0,15,10,"Yes",15,"Minimal",10,"Yes",{"$f":"IF(AP96=\"Yes\",5,0)","v":5},"Yes",0,"No",null,null,null,null,null,null,null,null,null,null,null,"Peanut Belt RPO",null,null,null,null,null,null,null,null,null,null,null,null,55,null,null,null,null,null,null,null,null,null,"Hertford",null,null,null,null,null,null,null,null,null,null,null,null,null,0.85,null,null,null,null,null,null,null,null,null,null,35.89,null,null,null,null,null,null,null,null,null,null,null,null,null,null,null,null,null,null,null,null,null,null,null,null,null,null,null,null,null,null,null,null,500000,null,450000]
["B142220","Chowan","Albemarle RPO","Bike & Ped","Division Needs",null,"North Broad Street","Church Street","Water Street","North Broad Street Bike Path","2. Construct multi-use trail / greenway / sidepath or on-road bike lane on local roadway",400000,null,null,null,null,null,null,21.145250000000001,9.75,null,"N/A",null,4205.3913116615495,null,null,"Yes",null,null,null,null,5,0,15,10,"Yes",15,"Minimal",10,"Yes",{"$f":"IF(AP97=\"Yes\",10,0)","v":0},"No",0,"No",null,null,32.5,null,null,null,null,null,null,null,null,"Albemarle RPO",null,null,null,null,null,null,null,null,null,null,null,null,{"$f":"SUM(AF97+AG97+AH97+AI97+AK97+AM97+AO97)","v":55},null,null,null,null,null,null,null,null,null,"Chowan County",null,null,null,null,null,null,null,null,null,null,null,null,null,0.28000000000000003,null,null,null,null,null,null,null,null,null,null,{"$f":"3397*0.1","v":339.70000000000005},null,null,null,null,null,null,null,null,null,null,null,null,null,null,null,null,null,null,null,null,null,null,null,null,null,null,null,null,null,380000,0,null,400000,0,400000]
["B141529","Dare","Albemarle RPO","Bike & Ped","Division Needs",null,"US 158","Atlantic","Baum","Construct Sidewalk","5. Construct Sidewalk",345000,null,null,null,null,null,null,21.058673913043478,9.75,null,"N/A",null,5058.8550026752273,null,null,"Yes",null,null,null,null,5,0,15,10,"Yes",15,"Minimal",10,"Yes",{"$f":"IF(AP98=\"Yes\",10,0)","v":0},"No",0,"No",null,null,45,null,null,null,null,null,null,null,null,"Albemarle RPO",null,null,null,null,null,null,null,null,null,null,null,null,{"$f":"SUM(AF98+AG98+AH98+AI98+AK98+AM98+AO98)","v":55},null,null,null,null,null,null,null,null,null,"Dare County",null,null,null,null,null,null,null,null,null,null,null,null,null,0.89,null,null,null,null,null,null,null,null,null,null,{"$f":"1512*0.1","v":151.20000000000002},null,null,null,null,null,null,null,null,null,null,null,null,null,null,null,null,null,null,null,null,null,null,null,null,null,null,null,null,null,300000,0,null,345000,0,680760]
["B141937","Currituck","Albemarle RPO","Bike & Ped","Division Needs",null,"Currituck Multiuse","Albacore St","Driftwood Way","Construct Mult-use Path","2. Construct multi-use trail / greenway / sidepath or on-road bike lane on local roadway",460000,null,null,null,null,null,null,16.10631928977989,13.5,null,"N/A",null,158402.20385674931,null,null,"Yes",null,null,null,null,5,0,15,10,"Yes",15,"Minimal",10,"Yes",{"$f":"IF(AP99=\"Yes\",10,0)","v":0},"No",0,"No",null,null,45,null,null,null,null,null,null,null,null,"Albemarle RPO",null,null,null,null,null,null,null,null,null,null,null,null,{"$f":"SUM(AF99+AG99+AH99+AI99+AK99+AM99+AO99)","v":55},null,null,null,null,null,null,null,null,null,"Currituck County",null,null,null,null,null,null,null,null,null,null,null,null,null,0.66,null,null,null,null,null,null,null,null,null,null,{"$f":"44*0.1","v":4.4000000000000004},null,null,null,null,null,null,null,null,null,null,null,null,null,null,null,null,null,null,null,null,null,null,null,null,null,null,null,null,null,400000,0,null,460000,0,460000]
["A130029","Dare","Albemarle RPO","Aviation","Division Needs",null,"Dare County Regional",null,null,"Design",null,1620000,null,null,null,null,null,null,35.229999999999997,9.75,null,"N/A",null,42541.123085649466,null,{"$f":"IF(AA100=\"Yes\",15,0)","v":15},"Yes",{"$f":"IF(AC100=\"Yes\",10,0)","v":0},null,{"$f":"IF(AE100=\"Yes\",10,0)","v":0},null,0,0,15,10,"Yes",15,"Minimal",10,"Yes",{"$f":"IF(AP100=\"Yes\",5,0)","v":5},"Yes",0,"No",null,null,null,null,null,null,null,null,null,null,null,"Albemarle RPO",null,null,null,null,null,null,null,null,null,null,null,null,{"$f":"SUM(AF100+AG100+AH100+AI100+AK100+AM100+AO100+AQ100)","v":55},null,null,null,null,null,null,null,null,null,"Dare",null,null,null,null,null,null,null,null,null,null,null,null,null,0.82,null,null,null,null,null,null,null,null,null,null,46.44,null,null,null,null,null,null,null,null,null,null,null,null,null,null,null,null,null,null,null,null,null,null,null,null,null,null,null,null,null,null,null,null,1800000,null,1620000]
["A130006","Pasquotank","Albemarle RPO","Aviation","Division Needs",null,"Elizabeth City Coast Guard Air Station/Regional",null,null,"Permitting/mitigation/preliminary",null,3659719,null,null,null,null,null,null,27.7,13.5,null,"N/A",null,25836.240721888931,null,null,"Yes",{"$f":"IF(AC101=\"Yes\",10,0)","v":0},null,{"$f":"IF(AE101=\"Yes\",10,0)","v":0},null,0,0,15,10,"Yes",15,"Minimal",10,"Yes",{"$f":"IF(AP101=\"Yes\",5,0)","v":5},"Yes",0,"No",null,null,null,null,null,null,null,null,null,null,null,"Albemarle RPO",null,null,null,null,null,null,null,null,null,null,null,null,{"$f":"SUM(AF101+AG101+AH101+AI101+AK101+AM101+AO101+AQ101)","v":55},null,null,null,100,{"$f":"S101+BU101*0.25","v":52.7},null,null,null,null,"Pasquotank",null,null,null,null,null,null,null,null,null,null,null,null,null,0.86,null,null,null,null,null,null,null,null,null,null,164.71,null,null,null,null,null,null,null,null,null,null,null,null,null,null,null,null,null,null,null,null,null,null,null,null,null,null,null,null,null,null,null,null,4066354,null,3659719]
["A130042","Washington","Albemarle RPO","Aviation","Division Needs",null,"Plymouth Municipal Airport",null,null,"Design",null,477000,null,null,null,null,null,null,26.37,6,null,"N/A",null,12610.773883801105,null,null,"Yes",{"$f":"IF(AC102=\"Yes\",10,0)","v":0},null,{"$f":"IF(AE102=\"Yes\",10,0)","v":0},null,0,0,15,10,"Yes",15,"Minimal",10,"Yes",{"$f":"IF(AP102=\"Yes\",5,0)","v":5},"Yes",0,"No",null,null,null,null,null,null,null,null,null,null,null,"Albemarle RPO",null,null,null,null,null,null,null,null,null,null,null,null,{"$f":"SUM(AF102+AG102+AH102+AI102+AK102+AM102+AO102+AQ102)","v":55},null,null,null,100,{"$f":"S102+BU102*0.25","v":51.370000000000005},null,null,null,null,"Washington",null,null,null,null,null,null,null,null,null,null,null,null,null,1.04,null,null,null,null,null,null,null,null,null,null,36.369999999999997,null,null,null,null,null,null,null,null,null,null,null,null,null,null,null,null,null,null,null,null,null,null,null,null,null,null,null,null,null,null,null,null,530000,null,477000]
["B141941","Currituck","Albemarle RPO","Bike & Ped","Division Needs",null,"Currituck Multi use","Comrmonrant Ct.","Harris Teeter","Construct Multi use path","2. Construct multi-use trail / greenway / sidepath or on-road bike lane on local roadway",460000,null,null,null,null,null,null,14.62143146722117,13.5,null,"N/A",null,130718.95424836602,null,null,"Yes",null,null,null,null,5,0,15,10,"Yes",15,"Minimal",10,"Yes",{"$f":"IF(AP103=\"Yes\",10,0)","v":0},"No",0,"No",null,null,35,null,null,null,null,null,null,null,null,"Albemarle RPO",null,null,null,null,null,null,null,null,null,null,null,null,{"$f":"SUM(AF103+AG103+AH103+AI103+AK103+AM103+AO103)","v":55},null,null,null,null,null,null,null,null,null,"Currituck County",null,null,null,null,null,null,null,null,null,null,null,null,null,0.69,null,null,null,null,null,null,null,null,null,null,{"$f":"51*0.1","v":5.1000000000000005},null,null,null,null,null,null,null,null,null,null,null,null,null,null,null,null,null,null,null,null,null,null,null,null,null,null,null,null,null,400000,0,null,460000,0,460000]
["A130032","Currituck","Albemarle RPO","Aviation","Division Needs",null,"Currituck County Regional",null,null,"Clearing/grading/Drainage/paving/marking/lighting/signage",null,2520000,null,null,null,null,null,null,26.33,0,null,"N/A",null,35378.55049024563,null,null,"Yes",{"$f":"IF(AC104=\"Yes\",10,0)","v":0},null,{"$f":"IF(AE104=\"Yes\",10,0)","v":0},null,0,0,15,10,"Yes",15,"Minimal",10,"Yes",{"$f":"IF(AP104=\"Yes\",5,0)","v":5},"Yes",0,"No",null,null,null,null,null,null,null,null,null,null,null,"Albemarle RPO",null,null,null,null,null,null,null,null,null,null,null,null,{"$f":"SUM(AF104+AG104+AH104+AI104+AK104+AM104+AO104+AQ104)","v":55},null,null,null,null,null,null,null,null,null,"Currituck",null,null,null,null,null,null,null,null,null,null,null,null,null,1.04,null,null,null,null,null,null,null,null,null,null,68.489999999999995,null,null,null,null,null,null,null,null,null,null,null,null,null,null,null,null,null,null,null,null,null,null,null,null,null,null,null,null,null,null,null,null,2800000,null,2520000]
["B141958","Currituck","Albemarle RPO","Bike & Ped","Division Needs",null,"Currituck Multi use","Harris Teeter","Sandbucket","Construct Multi use trail","2. Construct multi-use trail / greenway / sidepath or on-road bike lane on local roadway",460000,null,null,null,null,null,null,14.378002237428664,13.5,null,"N/A",null,161857.84658691063,null,null,"Yes",null,null,null,null,5,0,15,10,"Yes",15,"Minimal",10,"Yes",{"$f":"IF(AP105=\"Yes\",10,0)","v":0},"No",0,"No",null,null,35,null,null,null,null,null,null,null,null,"Albemarle RPO",null,null,null,null,null,null,null,null,null,null,null,null,{"$f":"SUM(AF105+AG105+AH105+AI105+AK105+AM105+AO105)","v":55},null,null,null,null,null,null,null,null,null,"Currituck County",null,null,null,null,null,null,null,null,null,null,null,null,null,0.57999999999999996,null,null,null,null,null,null,null,null,null,null,{"$f":"49*0.1","v":4.9000000000000004},null,null,null,null,null,null,null,null,null,null,null,null,null,null,null,null,null,null,null,null,null,null,null,null,null,null,null,null,null,400000,0,null,460000,0,460000]
["A130033","Currituck","Albemarle RPO","Aviation","Division Needs",null,"Currituck County Regional",null,null,"Design",null,1746000,null,null,null,null,null,null,25,13.5,null,"N/A",null,24512.281411098757,null,null,"Yes",{"$f":"IF(AC106=\"Yes\",10,0)","v":0},null,{"$f":"IF(AE106=\"Yes\",10,0)","v":0},null,0,0,15,10,"Yes",15,"Minimal",10,"Yes",{"$f":"IF(AP106=\"Yes\",5,0)","v":5},"Yes",0,"No",null,null,null,null,null,null,null,null,null,null,null,"Albemarle RPO",null,null,null,null,null,null,null,null,null,null,null,null,{"$f":"SUM(AF106+AG106+AH106+AI106+AK106+AM106+AO106+AQ106)","v":55},null,null,null,null,null,null,null,null,null,"Currituck",null,null,null,null,null,null,null,null,null,null,null,null,null,1.04,null,null,null,null,null,null,null,null,null,null,68.489999999999995,null,null,null,null,null,null,null,null,null,null,null,null,null,null,null,null,null,null,null,null,null,null,null,null,null,null,null,null,null,null,null,null,1940000,null,1746000]
["B141764","Dare","Albemarle RPO","Bike & Ped","Division Needs",null,"Nags Head Multi Use Path","Grouse Street","Forbes Street","Construct Multi use path","2. Construct multi-use trail / greenway / sidepath or on-road bike lane on local roadway",335000,null,null,null,null,null,null,13.578235911783022,6.75,null,"N/A",null,41823.814655172406,null,null,"Yes",null,null,null,null,5,0,15,10,"Yes",15,"Minimal",10,"Yes",{"$f":"IF(AP107=\"Yes\",10,0)","v":0},"No",0,"No",null,null,35,null,null,null,null,null,null,null,null,"Albemarle RPO",null,null,null,null,null,null,null,null,null,null,null,null,{"$f":"SUM(AF107+AG107+AH107+AI107+AK107+AM107+AO107)","v":55},null,null,null,null,null,null,null,null,null,"Dare County",null,null,null,null,null,null,null,null,null,null,null,null,null,0.32,null,null,null,null,null,null,null,null,null,null,{"$f":"232*0.1","v":23.200000000000003},null,null,null,null,null,null,null,null,null,null,null,null,null,null,null,null,null,null,null,null,null,null,null,null,null,null,null,null,null,290000,0,null,335000,0,310500]
["B141531","Camden","Albemarle RPO","Bike & Ped","Division Needs",null,"US 158","Atlantic","Eighth","Construct Sidewalk","5. Construct Sidewalk",410100,null,null,null,null,null,null,13.560226164350158,9.75,null,"N/A",null,5436.1832356162604,null,null,"Yes",null,null,null,null,5,0,15,10,"Yes",15,"Minimal",10,"Yes",{"$f":"IF(AP108=\"Yes\",10,0)","v":0},"No",0,"No",null,null,45,null,null,null,null,null,null,null,null,"Albemarle RPO",null,null,null,null,null,null,null,null,null,null,null,null,{"$f":"SUM(AF108+AG108+AH108+AI108+AK108+AM108+AO108)","v":55},null,null,null,null,null,null,null,null,null,"Dare County",null,null,null,null,null,null,null,null,null,null,null,null,null,0.68,null,null,null,null,null,null,null,null,null,null,{"$f":"1826*0.1","v":182.60000000000002},null,null,null,null,null,null,null,null,null,null,null,null,null,null,null,null,null,null,null,null,null,null,null,null,null,null,null,null,null,355100,0,null,410100,0,675000]
["B141346","Tyrrell","Albemarle RPO","Bike & Ped","Division Needs",null,"US 64","Etheridge Road","Ludington Drive","Apply brick pavers or brick stamping on the north side of the Scuppernong River bridge, paint the existing guardrail and erect an entry sign to the existing pedestrian promenade leading to Veterans Park","7. Construct Streetscape Improvements",160000,null,null,null,null,null,null,12.590571576383752,9.75,null,"N/A",null,3803.5049627791564,null,null,"Yes",null,null,null,null,0,5,15,10,"Yes",15,"Minimal",10,"Yes",{"$f":"IF(AP109=\"Yes\",10,0)","v":0},"No",0,"No",null,null,12.5,null,null,null,null,null,null,null,null,"Albemarle RPO",null,null,null,null,null,null,null,null,null,null,null,null,{"$f":"SUM(AF109+AG109+AH109+AI109+AK109+AM109+AO109)","v":55},null,null,null,100,null,null,null,null,null,"Tyrrell County",null,null,null,null,null,null,null,null,null,null,null,null,null,0.32,null,null,null,null,null,null,null,null,null,null,403,null,null,null,null,null,null,null,null,null,null,null,null,null,null,null,null,null,null,null,null,null,null,null,null,null,null,null,null,null,155000,0,null,160000,0,490500]
["A130030","Dare","Albemarle RPO","Aviation","Division Needs",null,"Dare County Regional",null,null,"Runway Overlay",null,3060000,null,null,null,null,null,null,15.85,9.75,null,"N/A",null,80355.454717337881,null,null,"Yes",{"$f":"IF(AC110=\"Yes\",10,0)","v":0},null,{"$f":"IF(AE110=\"Yes\",10,0)","v":0},null,0,0,15,10,"Yes",15,"Minimal",10,"Yes",{"$f":"IF(AP110=\"Yes\",5,0)","v":5},"Yes",0,"No",null,null,null,null,null,null,null,null,null,null,null,"Albemarle RPO",null,null,null,null,null,null,null,null,null,null,null,null,{"$f":"SUM(AF110+AG110+AH110+AI110+AK110+AM110+AO110+AQ110)","v":55},null,null,null,null,null,null,null,null,null,"Dare",null,null,null,null,null,null,null,null,null,null,null,null,null,0.82,null,null,null,null,null,null,null,null,null,null,46.44,null,null,null,null,null,null,null,null,null,null,null,null,null,null,null,null,null,null,null,null,null,null,null,null,null,null,null,null,null,null,null,null,3400000,null,3060000]
["A130031","Currituck","Albemarle RPO","Aviation","Division Needs",null,"Currituck County Regional",null,null,"Land Acquisition-Runway Approach",null,19350000,null,null,null,null,null,null,15.64,15,null,"N/A",null,271656.7269786718,null,null,"Yes",{"$f":"IF(AC111=\"Yes\",10,0)","v":0},null,{"$f":"IF(AE111=\"Yes\",10,0)","v":0},null,0,0,15,10,"Yes",15,"Minimal",10,"Yes",{"$f":"IF(AP111=\"Yes\",5,0)","v":5},"Yes",0,"No",null,null,null,null,null,null,null,null,null,null,null,"Albemarle RPO",null,null,null,null,null,null,null,null,null,null,null,null,{"$f":"SUM(AF111+AG111+AH111+AI111+AK111+AM111+AO111+AQ111)","v":55},null,null,null,null,null,null,null,null,null,"Currituck",null,null,null,null,null,null,null,null,null,null,null,null,null,1.04,null,null,null,null,null,null,null,null,null,null,68.489999999999995,null,null,null,null,null,null,null,null,null,null,null,null,null,null,null,null,null,null,null,null,null,null,null,null,null,null,null,null,null,null,null,null,21500000,null,19350000]
["B141363","Dare","Albemarle RPO","Bike & Ped","Division Needs",null,"US 158","Cypress Knee Lane","Bennett Street","Construct 6000' of sidewalk on west side of US 158","5. Construct Sidewalk",282000,null,null,null,null,null,null,10.244104110930639,9.75,null,"N/A",null,9170.2063106796122,null,null,"Yes",null,null,null,null,5,0,15,10,"Yes",15,"Minimal",10,"Yes",{"$f":"IF(AP112=\"Yes\",10,0)","v":0},"No",0,"No",null,null,35,null,null,null,null,null,null,null,null,"Albemarle RPO",null,null,null,null,null,null,null,null,null,null,null,null,{"$f":"SUM(AF112+AG112+AH112+AI112+AK112+AM112+AO112)","v":55},null,null,null,null,null,null,null,null,null,"Dare County",null,null,null,null,null,null,null,null,null,null,null,null,null,2.06,null,null,null,null,null,null,null,null,null,null,{"$f":"960*0.1","v":96},null,null,null,null,null,null,null,null,null,null,null,null,null,null,null,null,null,null,null,null,null,null,null,null,null,null,null,null,null,272000,0,null,282000,0,1813500]
["A130046","Washington","Albemarle RPO","Aviation","Division Needs",null,"Plymouth Municipal Airport",null,null,"Land Acquisition-Obstruction Removal",null,315000,null,null,null,null,null,null,14.65,6,null,"N/A",null,{"$f":"(EI113/CZ113)/CO113","v":9755.5043252046289},null,null,"Yes",{"$f":"IF(AC113=\"Yes\",10,0)","v":0},null,{"$f":"IF(AE113=\"Yes\",10,0)","v":0},null,{"$f":"IF(AU113<30,0,IF(AU113<50,5,IF(AU113<65,10,IF(AU113<79,15,IF(AU113>80,20)))))","v":0},0,{"$f":"IF(AA113=\"Yes\",15,0)","v":15},10,"Yes",15,"Minimal",{"$f":"IF(AN113=\"Yes\",10,0)","v":10},"Yes",{"$f":"IF(AP113=\"Yes\",5,0)","v":5},"Yes",0,"No",null,null,null,null,null,null,null,null,null,null,null,"Albemarle RPO",null,null,null,null,null,null,null,null,null,null,null,null,{"$f":"SUM(AF113+AG113+AH113+AI113+AK113+AM113+AO113+AQ113)","v":55},null,null,null,null,null,null,null,null,null,"Washington",null,null,null,null,null,null,null,null,null,null,null,null,null,1.04,null,null,null,null,null,null,null,null,null,null,36.369999999999997,null,null,null,null,null,null,null,null,null,null,null,null,null,null,null,null,null,null,null,null,null,null,null,null,null,null,null,null,null,null,null,null,350000,null,369000]
["A130416","Hertford","Peanut Belt RPO","Aviation","Division Needs",null,"Tri-County",null,null,"Design",null,559913,null,null,null,null,null,null,14.48,null,null,"N/A",null,18353.891793552193,null,null,"Yes",{"$f":"IF(AC114=\"Yes\",10,0)","v":0},null,{"$f":"IF(AE114=\"Yes\",10,0)","v":0},null,0,0,15,10,"Yes",15,"Minimal",10,"Yes",{"$f":"IF(AP114=\"Yes\",5,0)","v":5},"Yes",0,"No",null,null,null,null,null,null,null,null,null,null,null,"Peanut Belt RPO",null,null,null,null,null,null,null,null,null,null,null,null,{"$f":"SUM(AF114+AG114+AH114+AI114+AK114+AM114+AO114+AQ114)","v":55},null,null,null,null,null,null,null,null,null,"Hertford",null,null,null,null,null,null,null,null,null,null,null,null,null,0.85,null,null,null,null,null,null,null,null,null,null,35.89,null,null,null,null,null,null,null,null,null,null,null,null,null,null,null,null,null,null,null,null,null,null,null,null,null,null,null,null,null,null,null,null,622125,null,559913]
["A130005","Hyde","Albemarle RPO","Aviation","Division Needs",null,"Hyde County",null,null,"Design",null,328275,null,null,null,null,null,null,14.08,6.75,null,"N/A",null,33229.577892499241,null,null,"Yes",{"$f":"IF(AC115=\"Yes\",10,0)","v":0},null,{"$f":"IF(AE115=\"Yes\",10,0)","v":0},null,0,0,15,10,"Yes",15,"Minimal",10,"Yes",{"$f":"IF(AP115=\"Yes\",5,0)","v":5},"Yes",0,"No",null,null,null,null,null,null,null,null,null,null,null,"Albemarle RPO",null,null,null,null,null,null,null,null,null,null,null,null,{"$f":"SUM(AF115+AG115+AH115+AI115+AK115+AM115+AO115+AQ115)","v":55},null,null,null,null,null,null,null,null,null,"Hyde",null,null,null,null,null,null,null,null,null,null,null,null,null,0.89,null,null,null,null,null,null,null,null,null,null,11.1,null,null,null,null,null,null,null,null,null,null,null,null,null,null,null,null,null,null,null,null,null,null,null,null,null,null,null,null,null,null,null,null,364750,null,328275]
["A130043","Washington","Albemarle RPO","Aviation","Division Needs",null,"Plymouth Municipal Airport",null,null,"Design",null,666000,null,null,null,null,null,null,11.07,6,null,"N/A",null,17607.495611344937,null,null,"Yes",{"$f":"IF(AC116=\"Yes\",10,0)","v":0},null,{"$f":"IF(AE116=\"Yes\",10,0)","v":0},null,0,{"$f":"IF(X116<999,20,IF(X116<1499,15,IF(X116<1999,10,IF(X116<3999,5,IF(X116>4000,0)))))","v":0},15,10,"Yes",15,"Minimal",10,"Yes",{"$f":"IF(AP116=\"Yes\",5,0)","v":5},"Yes",0,"No",null,null,null,null,null,null,null,null,null,null,null,"Albemarle RPO",null,null,null,null,null,null,null,null,null,null,null,null,{"$f":"SUM(AF116+AG116+AH116+AI116+AK116+AM116+AO116+AQ116)","v":55},null,null,null,null,null,null,null,null,null,"Washington",null,null,null,null,null,null,null,null,null,null,null,null,null,1.04,null,null,null,null,null,null,null,null,null,null,36.369999999999997,null,null,null,null,null,null,null,null,null,null,null,null,null,null,null,null,null,null,null,null,null,null,null,null,null,null,null,null,null,null,null,null,740000,null,666000]
["A130035","Currituck","Albemarle RPO","Aviation","Division Needs",null,"Currituck County Regional",null,null,"Install MALS/MALSF/MALSR",null,450000,null,null,null,null,null,null,10.42,13.5,null,"N/A",null,6317.5983018295765,null,null,"Yes",{"$f":"IF(AC117=\"Yes\",10,0)","v":0},null,{"$f":"IF(AE117=\"Yes\",10,0)","v":0},null,0,0,15,10,"Yes",15,"Minimal",10,"Yes",{"$f":"IF(AP117=\"Yes\",5,0)","v":5},"Yes",0,"No",null,null,null,null,null,null,null,null,null,null,null,"Albemarle RPO",null,null,null,null,null,null,null,null,null,null,null,null,{"$f":"SUM(AF117+AG117+AH117+AI117+AK117+AM117+AO117+AQ117)","v":55},null,null,null,null,null,null,null,null,null,"Currituck",null,null,null,null,null,null,null,null,null,null,null,null,null,1.04,null,null,null,null,null,null,null,null,null,null,68.489999999999995,null,null,null,null,null,null,null,null,null,null,null,null,null,null,null,null,null,null,null,null,null,null,null,null,null,null,null,null,null,null,null,null,500000,null,450000]
["B141353","Pasquotank","Albemarle RPO","Bike & Ped","Division Needs",null,"River Road","Weeksville Road - NC-344  ","Ehringhaus Street","Construct multi-use path and pedestrian crosswalks to connect Middle School and subdivisions","2. Construct multi-use trail / greenway / sidepath or on-road bike lane on local roadway",420000,null,null,null,null,null,null,8.4542459855749996,8.25,null,"N/A",null,2004.7520047520045,null,null,"Yes",null,null,null,null,0,5,15,10,"Yes",15,"Minimal",10,"Yes",{"$f":"IF(AP118=\"Yes\",10,0)","v":0},"No",0,"No",null,null,12.5,null,null,null,null,null,null,null,null,"Albemarle RPO",null,null,null,null,null,null,null,null,null,null,null,null,{"$f":"SUM(AF118+AG118+AH118+AI118+AK118+AM118+AO118)","v":55},null,null,null,null,null,null,null,null,null,"Pasquotank County",null,null,null,null,null,null,null,null,null,null,null,null,null,1.1200000000000001,null,null,null,null,null,null,null,null,null,null,481,null,null,null,null,null,null,null,null,null,null,null,null,null,null,null,null,null,null,null,null,null,null,null,null,null,null,null,null,null,400000,300000,null,720000,0,1080000]
["A130376","Martin","Mid-East RPO","Aviation","Division Needs",null,"Martin County ",null,null,"Land Acquisition",null,459000,null,null,null,null,null,null,10.199999999999999,null,null,"N/A",null,39185.555128697662,null,null,"Yes",{"$f":"IF(AC119=\"Yes\",10,0)","v":0},null,{"$f":"IF(AE119=\"Yes\",10,0)","v":0},null,0,0,15,10,"Yes",15,"Minimal",10,"Yes",{"$f":"IF(AP119=\"Yes\",5,0)","v":5},"Yes",{"$f":"IF(AR119=\"Yes\",10,0)","v":0},"No",null,null,null,null,null,null,null,null,null,null,null,"Mid-East RPO",null,null,null,null,null,null,null,null,null,null,null,null,{"$f":"SUM(AF119+AG119+AH119+AI119+AK119+AM119+AO119+AQ119)","v":55},null,null,null,null,null,null,null,null,null,"Martin",null,null,null,null,null,null,null,null,null,null,null,null,null,0.95,null,null,null,null,null,null,null,null,null,null,12.33,null,null,null,null,null,null,null,null,null,null,null,null,null,null,null,null,null,null,null,null,null,null,null,null,null,null,null,null,null,null,null,null,510000,null,459000]
["A130024","Dare","Albemarle RPO","Aviation","Division Needs",null,"Dare County Regional",null,null,"Construct/expand or repair",null,499500,null,null,null,null,null,null,9.1300000000000008,9.75,null,"N/A",null,13116.846284741918,null,null,"Yes",0,null,0,null,0,0,15,10,"Yes",15,"Minimal",10,"Yes",5,"Yes",0,"No",null,null,null,null,null,null,null,null,null,null,null,"Albemarle RPO",null,null,null,null,null,null,null,null,null,null,null,null,55,null,null,null,null,null,null,null,null,null,"Dare",null,null,null,null,null,null,null,null,null,null,null,null,null,0.82,null,null,null,null,null,null,null,null,null,null,46.44,null,null,null,null,null,null,null,null,null,null,null,null,null,null,null,null,null,null,null,null,null,null,null,null,null,null,null,null,null,null,null,null,555000,null,499500]
["A130015","Chowan","Albemarle RPO","Aviation","Division Needs",null,"Northeastern Regional",null,null,"Reconstruct/Rehabilitate/Overlay",null,801000,null,null,null,null,null,null,9.06,8.25,null,"N/A",null,18316.777344821909,null,null,"Yes",0,null,0,null,0,0,15,{"$f":"IF(AJ121=\"Yes\",10,0)","v":10},"Yes",15,"Minimal",10,"Yes",5,"Yes",0,"No",null,null,null,null,null,null,null,null,null,null,null,"Albemarle RPO",null,null,null,null,null,null,null,null,null,null,null,null,55,null,null,null,null,null,null,null,null,null,"Chowan",null,null,null,null,null,null,null,null,null,null,null,null,null,1.1399999999999999,null,null,null,null,null,null,null,null,null,null,38.36,null,null,null,null,null,null,null,null,null,null,null,null,null,null,null,null,null,null,null,null,null,null,null,null,null,null,null,null,null,null,null,null,890000,null,801000]
["A130020","Dare","Albemarle RPO","Aviation","Division Needs",null,"Dare County Regional",null,null,"Design",null,810000,null,null,null,null,null,null,8.7799999999999994,9.75,null,"N/A",null,21270.561542824733,null,null,"Yes",0,null,0,null,0,0,15,10,"Yes",{"$f":"IF(AL122=\"Minimal\",15,0)","v":15},"Minimal",10,"Yes",5,"Yes",0,"No",null,null,null,null,null,null,null,null,null,null,null,"Albemarle RPO",null,null,null,null,null,null,null,null,null,null,null,null,55,null,null,null,null,null,null,null,null,null,"Dare",null,null,null,null,null,null,null,null,null,null,null,null,null,0.82,null,null,null,null,null,null,null,null,null,null,46.44,null,null,null,null,null,null,null,null,null,null,null,null,null,null,null,null,null,null,null,null,null,null,null,null,null,null,null,null,null,null,null,null,900000,null,810000]
["A130021","Dare","Albemarle RPO","Aviation","Division Needs",null,"Dare County Regional",null,null,"Clearing/grading/Drainage/paving/marking/lighting/signage",null,189000,null,null,null,null,null,null,8.74,9.75,null,"N/A",null,4963.1310266591045,null,null,"Yes",0,null,0,null,0,0,15,10,"Yes",15,"Minimal",10,"Yes",5,"Yes",0,"No",null,null,null,null,null,null,null,null,null,null,null,"Albemarle RPO",null,null,null,null,null,null,null,null,null,null,null,null,55,null,null,null,null,null,null,null,null,null,"Dare",null,null,null,null,null,null,null,null,null,null,null,null,null,0.82,null,null,null,null,null,null,null,null,null,null,46.44,null,null,null,null,null,null,null,null,null,null,null,null,null,null,null,null,null,null,null,null,null,null,null,null,null,null,null,null,null,null,null,null,210000,null,189000]
["A130023","Dare","Albemarle RPO","Aviation","Division Needs",null,"Dare County Regional",null,null,"Install Taxiway edge lighting",null,405000,null,null,null,null,null,null,8.1999999999999993,9.75,null,"N/A",null,10635.280771412366,null,null,"Yes",0,null,0,null,0,0,15,10,"Yes",15,"Minimal",10,"Yes",5,"Yes",0,"No",null,null,null,null,null,null,null,null,null,null,null,"Albemarle RPO",null,null,null,null,null,null,null,null,null,null,null,null,55,null,null,null,null,null,null,null,null,null,"Dare",null,null,null,null,null,null,null,null,null,null,null,null,null,0.82,null,null,null,null,null,null,null,null,null,null,46.44,null,null,null,null,null,null,null,null,null,null,null,null,null,null,null,null,null,null,null,null,null,null,null,null,null,null,null,null,null,null,null,null,450000,null,405000]
["A130041","Currituck","Albemarle RPO","Aviation","Division Needs",null,"Currituck County Regional",null,null,"Runway Overlay",null,3105000,null,null,null,null,null,null,8.17,13.5,null,"N/A",null,43591.428282624081,null,null,"Yes",0,null,0,null,0,0,15,10,"Yes",15,"Minimal",10,"Yes",5,"Yes",0,"No",null,null,null,null,null,null,null,null,null,null,null,"Albemarle RPO",null,null,null,null,null,null,null,null,null,null,null,null,55,null,null,null,null,null,null,null,null,null,"Currituck",null,null,null,null,null,null,null,null,null,null,null,null,null,1.04,null,null,null,null,null,null,null,null,null,null,68.489999999999995,null,null,null,null,null,null,null,null,null,null,null,null,null,null,null,null,null,null,null,null,null,null,null,null,null,null,null,null,null,null,null,null,3450000,null,3105000]
["A130017","Dare","Albemarle RPO","Aviation","Division Needs",null,"Dare County Regional",null,null,"Land Acquisition - Runway Approach",null,1980000,null,null,null,null,null,null,8.0500000000000007,9.75,null,"N/A",null,51994.705993571573,null,null,"Yes",0,null,0,null,0,0,15,10,"Yes",15,"Minimal",10,"Yes",5,"Yes",0,"No",null,null,null,null,null,null,null,null,null,null,null,"Albemarle RPO",null,null,null,null,null,null,null,null,null,null,null,null,55,null,null,null,null,null,null,null,null,null,"Dare",null,null,null,null,null,null,null,null,null,null,null,null,null,0.82,null,null,null,null,null,null,null,null,null,null,46.44,null,null,null,null,null,null,null,null,null,null,null,null,null,null,null,null,null,null,null,null,null,null,null,null,null,null,null,null,null,null,null,null,2200000,null,1980000]
["A130012","Chowan","Albemarle RPO","Aviation","Division Needs",null,"Northeastern Regional",null,null,"Design",null,420368,null,null,null,null,null,null,8.0399999999999991,8.25,null,"N/A",null,9612.7179262023674,null,null,"Yes",0,null,0,null,0,0,15,10,"Yes",15,"Minimal",10,"Yes",5,"Yes",0,"No",null,null,null,null,null,null,null,null,null,null,null,"Albemarle RPO",null,null,null,null,null,null,null,null,null,null,null,null,55,null,null,null,null,null,null,null,null,null,"Chowan",null,null,null,null,null,null,null,null,null,null,null,null,null,1.1399999999999999,null,null,null,null,null,null,null,null,null,null,38.36,null,null,null,null,null,null,null,null,null,null,null,null,null,null,null,null,null,null,null,null,null,null,null,null,null,null,null,null,null,null,null,null,467075,null,420368]
["A130022","Dare","Albemarle RPO","Aviation","Division Needs",null,"Dare County Regional",null,null,"Upgrade Existing Terminal Bldg.",null,675000,null,null,null,null,null,null,7.97,9.75,null,"N/A",null,17725.467952353945,null,null,"Yes",0,null,0,null,0,0,15,10,"Yes",15,"Minimal",10,"Yes",5,"Yes",0,"No",null,null,null,null,null,null,null,null,null,null,null,"Albemarle RPO",null,null,null,null,null,null,null,null,null,null,null,null,55,null,null,null,null,null,null,null,null,null,"Dare",null,null,null,null,null,null,null,null,null,null,null,null,null,0.82,null,null,null,null,null,null,null,null,null,null,46.44,null,null,null,null,null,null,null,null,null,null,null,null,null,null,null,null,null,null,null,null,null,null,null,null,null,null,null,null,null,null,null,null,750000,null,675000]
["A130002","Hyde","Albemarle RPO","Aviation","Division Needs",null,"Hyde County",null,null,"Upgrade Existing Terminal Bldg.",null,675000,null,null,null,null,null,null,7.95,6.75,null,"N/A",null,68326.753720012144,null,null,"Yes",0,null,0,null,0,0,15,10,"Yes",15,"Minimal",10,"Yes",5,"Yes",0,"No",null,null,null,null,null,null,null,null,null,null,null,"Albemarle RPO",null,null,null,null,null,null,null,null,null,null,null,null,55,null,null,null,null,null,null,null,null,null,"Hyde",null,null,null,null,null,null,null,null,null,null,null,null,null,0.89,null,null,null,null,null,null,null,null,null,null,11.1,null,null,null,null,null,null,null,null,null,null,null,null,null,null,null,null,null,null,null,null,null,null,null,null,null,null,null,null,null,null,null,null,750000,null,675000]
["A130027","Dare","Albemarle RPO","Aviation","Division Needs",null,"Dare County Regional",null,null,"Relocate TVOR",null,382500,null,null,null,null,null,null,7.87,9.75,null,"N/A",null,10044.431839667235,null,null,"Yes",0,null,0,null,0,0,15,10,"Yes",15,"Minimal",10,"Yes",5,"Yes",0,"No",null,null,null,null,null,null,null,null,null,null,null,"Albemarle RPO",null,null,null,null,null,null,null,null,null,null,null,null,55,null,null,null,null,null,null,null,null,null,"Dare",null,null,null,null,null,null,null,null,null,null,null,null,null,0.82,null,null,null,null,null,null,null,null,null,null,46.44,null,null,null,null,null,null,null,null,null,null,null,null,null,null,null,null,null,null,null,null,null,null,null,null,null,null,null,null,null,null,null,null,425000,null,382500]
["A130040","Currituck","Albemarle RPO","Aviation","Division Needs",null,"Currituck County Regional",null,null,"Environmental Assessment",null,2475000,null,null,null,null,null,null,7.86,13.5,null,"N/A",null,34746.790660062674,null,null,"Yes",0,null,0,null,0,0,15,10,"Yes",15,"Minimal",10,"Yes",5,"Yes",0,"No",null,null,null,null,null,null,null,null,null,null,null,"Albemarle RPO",null,null,null,null,null,null,null,null,null,null,null,null,55,null,null,null,null,null,null,null,null,null,"Currituck",null,null,null,null,null,null,null,null,null,null,null,null,null,1.04,null,null,null,null,null,null,null,null,null,null,68.489999999999995,null,null,null,null,null,null,null,null,null,null,null,null,null,null,null,null,null,null,null,null,null,null,null,null,null,null,null,null,null,null,null,null,2750000,null,2475000]
["A130026","Dare","Albemarle RPO","Aviation","Division Needs",null,"Dare County Regional",null,null,"Hangers and Economic Development",null,270000,null,null,null,null,null,null,6.97,9.75,null,"N/A",null,7090.1871809415779,null,null,"Yes",0,null,0,null,0,0,15,10,"Yes",15,"Minimal",10,"Yes",5,"Yes",0,"No",null,null,null,null,null,null,null,null,null,null,null,"Albemarle RPO",null,null,null,null,null,null,null,null,null,null,null,null,55,null,null,null,null,null,null,null,null,null,"Dare",null,null,null,null,null,null,null,null,null,null,null,null,null,0.82,null,null,null,null,null,null,null,null,null,null,46.44,null,null,null,null,null,null,null,null,null,null,null,null,null,null,null,null,null,null,null,null,null,null,null,null,null,null,null,null,null,null,null,null,300000,null,270000]
["A130013","Chowan","Albemarle RPO","Aviation","Division Needs",null,"Northeastern Regional",null,null,"Design",null,680760,null,null,null,null,null,null,6.68,8.25,null,"N/A",null,15567.202678228419,null,null,"Yes",0,null,0,null,0,0,15,10,"Yes",15,"Minimal",10,"Yes",5,"Yes",0,"No",null,null,null,null,null,null,null,null,null,null,null,"Albemarle RPO",null,null,null,null,null,null,null,null,null,null,null,null,55,null,null,null,null,null,null,null,null,null,"Chowan",null,null,null,null,null,null,null,null,null,null,null,null,null,1.1399999999999999,null,null,null,null,null,null,null,null,null,null,38.36,null,null,null,null,null,null,null,null,null,null,null,null,null,null,null,null,null,null,null,null,null,null,null,null,null,null,null,null,null,null,null,null,756400,null,680760]
["A130414","Hertford","Peanut Belt RPO","Aviation","Division Needs",null,"Tri-County",null,null,"Upgrade Existing Terminal Bldg.",null,225000,null,null,null,null,null,null,6.66,null,null,"N/A",null,7375.4773572845133,null,null,"Yes",0,null,0,null,0,0,15,10,"Yes",15,"Minimal",10,"Yes",5,"Yes",0,"No",null,null,null,null,null,null,null,null,null,null,null,"Peanut Belt RPO",null,null,null,null,null,null,null,null,null,null,null,null,55,null,null,null,null,null,null,null,null,null,"Hertford",null,null,null,null,null,null,null,null,null,null,null,null,null,0.85,null,null,null,null,null,null,null,null,null,null,35.89,null,null,null,null,null,null,null,null,null,null,null,null,null,null,null,null,null,null,null,null,null,null,null,null,null,null,null,null,null,null,null,null,250000,null,225000]
["A130373","Martin","Mid-East RPO","Aviation","Division Needs",null,"Martin County ",null,null,"Design",null,369000,null,null,null,null,null,null,6.54,null,null,"N/A",null,31502.112946600078,null,null,"Yes",0,null,0,null,0,0,15,10,"Yes",15,"Minimal",10,"Yes",5,"Yes",0,"No",null,null,null,null,null,null,null,null,null,null,null,"Mid-East RPO",null,null,null,null,null,null,null,null,null,null,null,null,55,null,null,null,null,null,null,null,null,null,"Martin",null,null,null,null,null,null,null,null,null,null,null,null,null,0.95,null,null,null,null,null,null,null,null,null,null,12.33,null,null,null,null,null,null,null,null,null,null,null,null,null,null,null,null,null,null,null,null,null,null,null,null,null,null,null,null,null,null,null,null,410000,null,369000]
["A130047","Washington","Albemarle RPO","Aviation","Division Needs",null,"Plymouth Municipal Airport",null,null,"AWOS Installation",null,193500,null,null,null,null,null,null,6.1,6,null,"N/A",null,5102.4724519362962,null,null,"Yes",0,null,0,null,0,0,15,10,"Yes",15,"Minimal",10,"Yes",5,"Yes",0,"No",null,null,null,null,null,null,null,null,null,null,null,"Albemarle RPO",null,null,null,null,null,null,null,null,null,null,null,null,55,null,null,null,null,null,null,null,null,null,"Washington",null,null,null,null,null,null,null,null,null,null,null,null,null,1.04,null,null,null,null,null,null,null,null,null,null,36.369999999999997,null,null,null,null,null,null,null,null,null,null,null,null,null,null,null,null,null,null,null,null,null,null,null,null,null,null,null,null,null,null,null,null,215000,null,193000]
["A130025","Dare","Albemarle RPO","Aviation","Division Needs",null,"Dare County Regional",null,null,"Hangers and Economic Development",null,468000,null,null,null,null,null,null,5.56,9.75,null,"N/A",null,12289.657780298734,null,null,"Yes",0,null,0,null,0,0,15,10,"Yes",15,"Minimal",10,"Yes",5,"Yes",0,"No",null,null,null,null,null,null,null,null,null,null,null,"Albemarle RPO",null,null,null,null,null,null,null,null,null,null,null,null,55,null,null,null,null,null,null,null,null,null,"Dare",null,null,null,null,null,null,null,null,null,null,null,null,null,0.82,null,null,null,null,null,null,null,null,null,null,46.44,null,null,null,null,null,null,null,null,null,null,null,null,null,null,null,null,null,null,null,null,null,null,null,null,null,null,null,null,null,null,null,null,520000,null,468000]
["A130037","Currituck","Albemarle RPO","Aviation","Division Needs",null,"Currituck County Regional",null,null,"Hangers and Economic Development",null,1080000,null,null,null,null,null,null,5.56,15,null,"N/A",null,15162.235924390983,null,null,"Yes",0,null,0,null,0,0,15,10,"Yes",15,"Minimal",10,"Yes",5,"Yes",0,"No",null,null,null,null,null,null,null,null,null,null,null,"Albemarle RPO",null,null,null,null,null,null,null,null,null,null,null,null,55,null,null,null,null,null,null,null,null,null,"Currituck",null,null,null,null,null,null,null,null,null,null,null,null,null,1.04,null,null,null,null,null,null,null,null,null,null,68.489999999999995,null,null,null,null,null,null,null,null,null,null,null,null,null,null,null,null,null,null,null,null,null,null,null,null,null,null,null,null,null,null,null,null,1125000,null,1080000]
["A130038","Currituck","Albemarle RPO","Aviation","Division Needs",null,"Currituck County Regional",null,null,"Hangers and Economic Development",null,1012500,null,null,null,null,null,null,5.56,13.5,null,"N/A",null,14214.596179116548,null,null,"Yes",0,null,0,null,0,0,15,10,"Yes",15,"Minimal",10,"Yes",5,"Yes",0,"No",null,null,null,null,null,null,null,null,null,null,null,"Albemarle RPO",null,null,null,null,null,null,null,null,null,null,null,null,55,null,null,null,null,null,null,null,null,null,"Currituck",null,null,null,null,null,null,null,null,null,null,null,null,null,1.04,null,null,null,null,null,null,null,null,null,null,68.489999999999995,null,null,null,null,null,null,null,null,null,null,null,null,null,null,null,null,null,null,null,null,null,null,null,null,null,null,null,null,null,null,null,null,1125000,null,1012500]
["A130039","Currituck","Albemarle RPO","Aviation","Division Needs",null,"Currituck County Regional",null,null,"Hangers and Economic Development",null,1813500,null,null,null,null,null,null,5.56,13.5,null,"N/A",null,25459.921156373195,null,null,"Yes",0,null,0,null,0,0,15,10,"Yes",15,"Minimal",10,"Yes",5,"Yes",0,"No",null,null,null,null,null,null,null,null,null,null,null,"Albemarle RPO",null,null,null,null,null,null,null,null,null,null,null,null,55,null,null,null,null,null,null,null,null,null,"Currituck",null,null,null,null,null,null,null,null,null,null,null,null,null,1.04,null,null,null,null,null,null,null,null,null,null,68.489999999999995,null,null,null,null,null,null,null,null,null,null,null,null,null,null,null,null,null,null,null,null,null,null,null,null,null,null,null,null,null,null,null,null,2015000,null,1813500]
["A130034","Currituck","Albemarle RPO","Aviation","Division Needs",null,"Currituck County Regional",null,null,"Corporate & T-hanger Taxiways",null,2547000,null,null,null,null,null,null,4.26,15,null,"N/A",null,35757.606388355402,null,null,"Yes",0,null,0,null,0,0,15,10,"Yes",15,"Minimal",10,"Yes",5,"Yes",0,"No",null,null,null,null,null,null,null,null,null,null,null,"Albemarle RPO",null,null,null,null,null,null,null,null,null,null,null,null,55,null,null,null,null,null,null,null,null,null,"Currituck",null,null,null,null,null,null,null,null,null,null,null,null,null,1.04,null,null,null,null,null,null,null,null,null,null,68.489999999999995,null,null,null,null,null,null,null,null,null,null,null,null,null,null,null,null,null,null,null,null,null,null,null,null,null,null,null,null,null,null,null,null,2830000,null,2547000]
["A130014","Chowan","Albemarle RPO","Aviation","Division Needs",null,"Northeastern Regional",null,null,"Hangers and Economic Development",null,1048500,null,null,null,null,null,null,4.0599999999999996,8.25,null,"N/A",null,23976.455737884862,null,null,"Yes",0,null,0,null,0,0,15,10,"Yes",15,"Minimal",10,"Yes",5,"Yes",0,"No",null,null,null,null,null,null,null,null,null,null,null,"Albemarle RPO",null,null,null,null,null,null,null,null,null,null,null,null,55,null,null,null,null,null,null,null,null,null,"Chowan",null,null,null,null,null,null,null,null,null,null,null,null,null,1.1399999999999999,null,null,null,null,null,null,null,null,null,null,38.36,null,null,null,null,null,null,null,null,null,null,null,null,null,null,null,null,null,null,null,null,null,null,null,null,null,null,null,null,null,null,null,null,1165000,null,1048500]
["A130044","Washington","Albemarle RPO","Aviation","Division Needs",null,"Plymouth Municipal Airport",null,null,"Hangers and Economic Development",null,310500,null,null,null,null,null,null,3.56,6,null,"N/A",null,8208.8999809648703,null,null,"Yes",0,null,0,null,0,0,15,10,"Yes",15,"Minimal",10,"Yes",5,"Yes",0,"No",null,null,null,null,null,null,null,null,null,null,null,"Albemarle RPO",null,null,null,null,null,null,null,null,null,null,null,null,55,null,null,null,null,null,null,null,null,null,"Washington",null,null,null,null,null,null,null,null,null,null,null,null,null,1.04,null,null,null,null,null,null,null,null,null,null,36.369999999999997,null,null,null,null,null,null,null,null,null,null,null,null,null,null,null,null,null,null,null,null,null,null,null,null,null,null,null,null,null,null,null,null,345000,null,310500]
["A130045","Washington","Albemarle RPO","Aviation","Division Needs",null,"Plymouth Municipal Airport",null,null,"Hangers and Economic Development",null,760500," ",null," ",null,null,null,3.56,6,null,"N/A",null,5115.6912924853541,null,null,"Yes",0,null,0,null,0,0,15,10,"Yes",15,"Minimal",10,"Yes",5,"Yes",0,"No",null,null,null,null,null,null,null,null,null,null,null,"Albemarle RPO",null,null,null,null,null,null,null,null,null,null,null,null,55,null,null,null,null,null,null,null,null,null,"Washington",null,null,null,null,null,null,null,null,null,null,null,null,null,1.04,null,null,null,null,null,null,null,null,null,null,36.369999999999997,null,null,null,null,null,null,null,null,null,null,null,null,null,null,null,null,null,null,null,null,null,null,null,null,null,null,null,null,null,null,null,null,845000,null,193500]
["A130375","Martin","Mid-East RPO","Aviation","Division Needs",null,"Martin County ",null,null,"Hangers and Economic Development",null,535500," ",null," ",null,null,null,3.5,null,null,"N/A",null,{"$f":"(EI145/CZ145)/CO145","v":45716.4809834806},null,null,"Yes",0,null,0,null,{"$f":"IF(AU145<30,0,IF(AU145<50,5,IF(AU145<65,10,IF(AU145<79,15,IF(AU145>80,20)))))","v":0},0,{"$f":"IF(AA145=\"Yes\",15,0)","v":15},10,"Yes",15,"Minimal",{"$f":"IF(AN145=\"Yes\",10,0)","v":10},"Yes",5,"Yes",0,"No",null,null,null,null,null,null,null,null,null,null,null,"Mid-East RPO",null,null,null,null,null,null,null,null,null,null,null,null,55,null,null,null,null,null,null,null,null,null,"Martin",null,null,null,null,null,null,null,null,null,null,null,null,null,0.95,null,null,null,null,null,null,null,null,null,null,12.33,null,null,null,null,null,null,null,null,null,null,null,null,null,null,null,null,null,null,null,null,null,null,null,null,null,null,null,null,null,null,null,null,595000,null,535500]
["A130003","Hyde","Albemarle RPO","Aviation","Division Needs",null,"Hyde County",null,null,"Hangers and Economic Development",null,990000," ",null," ",null,null,null,3.16,6.75,null,"N/A",null,100212.57212268448,null,null,"Yes",0,null,0,null,0,0,15,10,"Yes",15,"Minimal",10,"Yes",5,"Yes",0,"No",null,null,null,null,null,null,null,null,null,null,null,"Albemarle RPO",null,null,null,null,null,null,null,null,null,null,null,null,55,null,null,null,null,null,null,null,null,null,"Hyde",null,null,null,null,null,null,null,null,null,null,null,null,null,0.89,null,null,null,null,null,null,null,null,null,null,11.1,null,null,null,null,null,null,null,null,null,null,null,null,null,null,null,null,null,null,null,null,null,null,null,null,null,null,null,null,null,null,null,null,1100000,null,990000]
["A130004","Hyde","Albemarle RPO","Aviation","Division Needs",null,"Hyde County",null,null,"other",null,2070000," ",null," ",null,null,null,3.16,6.75,null,"N/A",null,209535.37807470391,null,null,"Yes",0,null,0,null,0,0,15,10,"Yes",15,"Minimal",10,"Yes",5,"Yes",0,"No",null,null,null,null,null,null,null,null,null,null,null,"Albemarle RPO",null,null,null,null,null,null,null,null,null,null,null,null,55,null,null,null,null,null,null,null,null,null,"Hyde",null,null,null,null,null,null,null,null,null,null,null,null,null,0.89,null,null,null,null,null,null,null,null,null,null,11.1,null,null,null,null,null,null,null,null,null,null,null,null,null,null,null,null,null,null,null,null,null,null,null,null,null,null,null,null,null,null,null,null,2300000,null,2070000]
["A130374","Martin","Mid-East RPO","Aviation","Division Needs",null,"Martin County ",null,null,"Hangers and Economic Development",null,211500," ",null," ",null,null,null,3.16,null,null,"N/A",null,18056.08912792931,null,null,"Yes",0,null,0,null,0,0,15,10,"Yes",15,"Minimal",10,"Yes",5,"Yes",0,"No",null,null,null,null,null,null,null,null,null,null,null,"Mid-East RPO",null,null,null,null,null,null,null,null,null,null,null,null,55,null,null,null,null,null,null,null,null,null,"Martin",null,null,null,null,null,null,null,null,null,null,null,null,null,0.95,null,null,null,null,null,null,null,null,null,null,12.33,null,null,null,null,null,null,null,null,null,null,null,null,null,null,null,null,null,null,null,null,null,null,null,null,null,null,null,null,null,null,null,null,235000,null,211500]
["A130001",null,null,"Aviation","Division Needs",null,"Hyde County",null,null,"Design",null,622440,null,null,null,null,null,null,25.97,6.75,null,"N/A",null,63006.37716368054,null,null,"Yes",0,null,0,null,0,0,15,10,"Yes",15,"Minimal",10,"Yes",5,"Yes",0,"No",null,null,null,null,null,null,null,null,null,null,null,"Albemarle RPO",null,null,null,null,null,null,null,null,null,null,null,null,55,null,null,null,null,null,null,null,null,null,"Hyde",null,null,null,null,null,null,null,null,null,null,null,null,null,0.89,null,null,null,null,null,null,null,null,null,null,11.1,null,null,null,null,null,null,null,null,null,null,null,null,null,null,null,null,null,null,null,null,null,null,null,null,null,null,null,null,null,null,null,null,691600,null,622440]
["H129108","Martin","Mid-East RPO","Highway","Regional Impact","R-3826","NC-125 NC 125","SR 1182 (East of College Road)","NC 125 Northwest of Williamston","Construct Two Lanes, Part on New Location","5 - Construct Roadway on New Location",13455000,null,null,16.96,{"$f":"(V150+W150+Y150+Z150+AB150+AD150)","v":50},null,{"$f":"O150+P150+Q150","v":66.960000000000008},13.65,10,null,{"$f":"IF(AU150<30,0,IF(AU150<50,5,IF(AU150<65,10,IF(AU150>66,15))))","v":5},{"$f":"IF(X150<499,15,IF(X150<999,10,IF(X150<1499,5,IF(X150>1500,0))))","v":10},807.05092750951746,{"$f":"IF(DD150<500,0,IF(DD150<1000,5,IF(DD150>1000,10)))","v":0},{"$f":"IF(AA150=\"Yes\",15,0)","v":15},"Yes",10,"Yes",10,"Yes",5,{"$f":"IF(BM148<999,20,IF(BM148<1499,15,IF(BM148<1999,10,IF(BM148<3999,5,IF(BM148>4000,0)))))","v":20},15,10,"Yes",15,"Minimal",10,"Yes",{"$f":"IF(AP150=\"Yes\",10,0)","v":0},"No",0,"No",22.757972274033232,4.6692109996283913,34.092816780692999,2.0332975245396128,"N/A",11.222159958999999,25,50,null,null,null,"Mid-East RPO",100,"","","","","01",100,"","","","",{"$f":"SUM(V150+W150+Y150+Z150+AB150+AD150)","v":50},75,null,null,100,100,{"$f":"S150+BU150*0.25","v":38.65},{"$f":"T150+BV150","v":48.65},null,{"$f":"O150+BT150*0.25","v":41.96},null,"Martin",100,"","","","","","",1,"A","01, , ","Mid-East RPO, , ","Martin, , , ",3.6,2.3084244100000002,"Arterial","Arterial",1,1,"Undivided","Undivided",42,40,5.6307186107274996,94.369281389272501,7222.1599589999996,21809.21213,0.33115180484055384,6815.5004540920772,406.65950490792255,2633056.1127941757,157106.18793675935,2790162.3007309353,62824234,27.046175269999999,38.234234950000001,37.008268989999998,"","","","","No","No",11,12,"No",0,2,"New Roadway","2B - 2 Lane Undivided with Paved Shoulders, 25-45 mph","None","None",1,"No",22,10800000,2400000,255000,13455000,"",13455000,13455000,""]
["H141684","Northampton","Peanut Belt RPO","Highway","Regional Impact","","NC-305 ","Seaboard Town Limits","Hertford County Line","Currently a 2-lane major thoroughfare from Seaboard to Hertford County, NC 305 is recommended to be upgrade from its existing facility to 24 feet w/ paved shoulders. This would provides improved mobility between Jackson and Rich Square, while tying in with bike lane recommendations.  \n","16 - Modernize Roadway",340000,null,null,8.93,{"$f":"(V151+W151+Y151+Z151+AB151+AD151)","v":55},null,{"$f":"O151+P151+Q151","v":63.93},6.78,null,null,{"$f":"IF(AU151<30,0,IF(AU151<50,5,IF(AU151<65,10,IF(AU151>66,15))))","v":5},{"$f":"IF(X151<499,15,IF(X151<999,10,IF(X151<1499,5,IF(X151>1500,0))))","v":15},6.4567141369090955,{"$f":"IF(DD151<500,0,IF(DD151<1000,5,IF(DD151>1000,10)))","v":0},{"$f":"IF(AA151=\"Yes\",15,0)","v":15},"Yes",10,"Yes",10,"Yes",5,{"$f":"IF(BM149<999,20,IF(BM149<1499,15,IF(BM149<1999,10,IF(BM149<3999,5,IF(BM149>4000,0)))))","v":20},15,10,"Yes",15,"Minimal",10,"Yes",0,"No",{"$f":"IF(AR151=\"Yes\",10,0)","v":0},"No",9.1026580263264592,0,33.738719173995001,1.2485128352237644,"N/A",12.13739033746937,25,0,null,null,null,"Peanut Belt RPO",100,"","","","","01",100,"","","","",{"$f":"SUM(V151+W151+Y151+Z151+AB151+AD151)","v":55},75,null,null,null,100,31.78,31.78,null,{"$f":"O151+BT151*0.25","v":8.93},"Estimated costs too low.","Northampton",100,"","","","","","",1,"A","01, , ","Peanut Belt RPO, , ","Northampton, , , ",24.636755659999899,24.636755659999899,"Two Lane Highway","Two Lane Highway",1,1,"Undivided","Undivided",51.703662517699499,51.703662517699499,11.682590805589401,88.317409194410601,2137.39033746937,15548.988304589,0.13746169818897852,1887.6877704246172,249.7025670447529,0,0,0,0,34.662762260000001,27.896578810000001,38.666939079999999,"","","","","No","No",11,12,"No",0,0,"2 Lane Undivided","3A - 2 Lane with Two Way Left Turn Lane, and Paved Shoulders","None","None",1,"No",25,340000,0,0,340000,"",340000,340000,""]
["H141224","Currituck","Albemarle RPO","Highway","Division Needs","","Ponderosa Drive","US 17","NC 168","Upgrade Ponderosa Drive to provide direct connection between US 17 and NC 168 to alleviate existing traffic","6 - Widen Existing Roadway and Construct Part on New Location",46069000,null,null,null,null,null,null,11.1,7.5,null,"N/A",null,1967.3398086522786,null,null,"Yes",null,null,null,null,5,{"$f":"IF(X152<999,20,IF(X152<1499,15,IF(X152<1999,10,IF(X152<3999,5,IF(X152>4000,0)))))","v":10},15,0,"No",{"$f":"IF(AL152=\"Minimal\",15,0)","v":15},"Minimal",10,"Yes",0,"No",0,"No",9.7560748992085635,1.3002594152249887,49.966063520603996,0,"N/A","N/A",50,0,null,null,null,"Albemarle RPO",100,"","","","","01",100,"","","","",null,55,null,null,null,null,11.1,18.600000000000001,"Exceeds cap of $15 million for Statewide & Regional Projects cascading to Division Needs",null,null,"Currituck",63.5,"Camden",36.5,"","","","",1,"A","01, , ","Albemarle RPO, , ","Currituck, Camden, , ",17.899999999999999,10.223092530000001,"Two Lane Highway","Two Lane Highway",1,1,"Undivided","Undivided",53.1532929418469,55,0,100,2290.5886992880501,15547.2645412783,0.1473306569915557,2290.5886992880501,0,2722802.3267137692,0,2722802.3267137692,59901651,78.457510429999999,43.696003040000001,27.75966841,"","","","","No","No",10,12,"No",0,0,"New Roadway","2A - 2 Lane Undivided with Paved Shoulders, 55 mph","None","None",1,"No",34,44934000,1013000,122000,46069000,"",46069000,46069000,""]
["H090102","Martin","Mid-East RPO","Highway","Statewide Mobility","R-2511","US-17 ","Washington Bypass North of NC 171","Multi-Lanes South of Williamston","Widen to Multi-Lanes.","1 - Widen Existing Roadway",72100000,13.736271562618974,null,13.18,{"$f":"(V153+W153+Y153+Z153+AB153+AD153)","v":50},null,{"$f":"O153+P153+Q153","v":63.18},9.6199999999999992,12,null,{"$f":"IF(AU153<30,0,IF(AU153<50,5,IF(AU153<65,10,IF(AU153>66,15))))","v":5},{"$f":"IF(X153<499,15,IF(X153<999,10,IF(X153<1499,5,IF(X153>1500,0))))","v":5},1431.1007695384499,{"$f":"IF(DD153<500,0,IF(DD153<1000,5,IF(DD153>1000,10)))","v":5},{"$f":"IF(AA153=\"Yes\",15,0)","v":15},"Yes",{"$f":"IF(AC153=\"Yes\",10,0)","v":10},"Yes",{"$f":"IF(AE153=\"Yes\",10,0)","v":10},"Yes",5,{"$f":"IF(BM151<999,20,IF(BM151<1499,15,IF(BM151<1999,10,IF(BM151<3999,5,IF(BM151>4000,0)))))","v":0},15,{"$f":"IF(AJ153=\"Yes\",10,0)","v":10},"Yes",15,"Minimal",10,"Yes",0,"No",0,"No",21.525655987638711,4.5849292649098476E-2,49.622986325087993,11.243927572853604,0.53735831453110849,17.119984946000002,0,25,null,null,null,"Mid-East RPO",100,"","","","","01",61.75,"02",38.25,"","",{"$f":"SUM(V153+W153+Y153+Z153+AB153+AD153)","v":50},55,null,null,100,null,9.6199999999999992,21.619999999999997,"Exceeds cap of $15 million for Statewide & Regional Projects cascading to Division Needs",{"$f":"O153+BT153*0.25","v":38.18},null,"Martin",61.75,"Beaufort",38.25,"","","","",1,"A","01, 02, ","Mid-East RPO, , ","Martin, Beaufort, , ",9.9962002000000005,9.9962002000000005,"Two Lane Highway","Multi-Lane Highway",1,2,"Undivided","Divided",55,55,12.3607401176475,87.639259882352505,5039.9949820000002,15500,0.32516096658064519,4417.0143003325056,622.98068166749499,125234.98255004203,17663.283270730833,142898.26582077285,3305734,70.895399049999995,20.985946729999998,57.002501580000001,"","",2,8.7471662906221696E-6,"Yes","No",12,12,"No",1,2,"2 Lane Undivided","4A - 4 Lane Divided (46' Depressed Median) with Paved Shoulders","None","Partial",1,"Yes",21,51700000,16000000,4400000,72100000,"",72100000,72100000,""]
["H129070-B","Dare","Albemarle RPO","Highway","Statewide Mobility","R-2545B","US-64 ","West of Alligator River","East of SR 1153 (Old Ferry Landing Road)","Widen to Multi-Lanes and construct new multi-lane bridge","1 - Widen Existing Roadway",209520000,8.7940938845902572,null,10.91,55,6.3,72.209999999999994,8.11,9,null,5,0,29096.895469661078,0,{"$f":"IF(AA154=\"Yes\",20,0)","v":20},"Yes",10,"Yes",{"$f":"IF(AE154=\"Yes\",20,0)","v":20},"Yes",5,{"$f":"IF(X154<999,20,IF(X154<1499,15,IF(X154<1999,10,IF(X154<3999,5,IF(X154>4000,0)))))","v":0},15,10,"No",{"$f":"IF(AL154=\"Minimal\",15,0)","v":15},"Minimal",10,"Yes",0,"No",0,"No",14.270585729083869,1.1163993890798015E-3,41.794293499331999,1.6490928707611838,3.3353219629360747E-2,16.910134090666666,25,0,null,null,null,"Albemarle RPO",100,"","","","","01",100,"","","","",55,55,null,null,null,null,8.11,17.11,"Exceeds cap of $15 million for Statewide & Regional Projects cascading to Division Needs",10.91,null,"Dare",100,"","","","","","",1,"A","01, , ","Albemarle RPO, , ","Dare, , , ",2.1550796399999999,2.1550796399999999,"Two Lane Highway","Multi-Lane Highway",1,2,"Undivided","Divided",55,55,9.8709647777421008,90.129035222257897,3341.3002839999999,15500,0.21556776025806451,3011.4817098477629,329.81857415223675,9203.9757762141344,1008.0227806517644,10211.998556865899,233908,51.108556550000003,38.599637540000003,35.687225949999998,"","",0,6.6706439258721495E-7,"No","No",12,12,"No",0,0,"2 Lane Undivided","4A - 4 Lane Divided (46' Depressed Median) with Paved Shoulders","None","Partial",2,"Yes",24,208200000,1220000,100000,209520000,"",209520000,209520000,""]
["H129113-A","Northampton","Peanut Belt RPO","Highway","Statewide Mobility","R-2582A","US-158 , NC-46 ","I-95/NC 46 in Roanoke Rapids","SR 1312 (St. John Church Road)","Widen to Multi-Lanes.","1 - Widen Existing Roadway",61600000,10.75557238499411,null,10.87,45,null,55.87,8.0399999999999991,null,null,5,0,2091.14740608183,5,{"$f":"IF(AA155=\"Yes\",15,0)","v":15},"Yes",10,"Yes",{"$f":"IF(AE155=\"Yes\",10,0)","v":10},"Yes",5,{"$f":"IF(BM153<999,20,IF(BM153<1499,15,IF(BM153<1999,10,IF(BM153<3999,5,IF(BM153>4000,0)))))","v":20},15,{"$f":"IF(AJ155=\"Yes\",10,0)","v":10},"Yes",15,"Minimal",10,"Yes",0,"No",0,"No",16.653337707758549,1.1873089610389611,37.553088508914001,2.7725679898764266,10.935559354881701,15.814667089,25,0,null,null,null,"Peanut Belt RPO",100,"","","","","01",100,"","","","",45,75,null,null,null,null,8.0399999999999991,8.0399999999999991,"Exceeds cap of $15 million for Statewide & Regional Projects cascading to Division Needs",10.87,null,"Northampton",100,"","","","","","",1,"A","01, , ","Peanut Belt RPO, , ","Northampton, , , ",7.4799006700000001,7.4799006700000001,"Arterial","Multi-Lane Highway",1,2,"Undivided","Divided",50,50,14.080301894199701,85.919698105800293,3938.2223629999999,15671.3475,0.25130081270930915,3383.7087650247145,554.51359797528528,2698025.2618860388,442145.52707987302,3140170.7889659116,73138232,40.937157169999999,38.616381390000001,33.11699402,"","",50,1.6871118709763401E-4,"No","No",11,12,"No",1,0,"2 Lane Undivided","4A - 4 Lane Divided (46' Depressed Median) with Paved Shoulders","None","Partial",1,"Yes",22,54000000,7600000,0,61600000,"",61600000,61600000,""]
["H129676-B","Hertford","Peanut Belt RPO","Highway","Statewide Mobility","R-5311B","US-13 , NC-11 ","NC 11/NC 561 Near Ahoskie","US 158/NC 45 Near Winton","Widen to Multi-Lanes.","1 - Widen Existing Roadway",78190000,14.294078398139709,null,10.371087217043794,45,null,55.371087217043794,6.9127386775858319,null,null,5,0,1789.7333075371355,5,15,"Yes",10,"Yes",10,"Yes",5,{"$f":"IF(BM154<999,20,IF(BM154<1499,15,IF(BM154<1999,10,IF(BM154<3999,5,IF(BM154>4000,0)))))","v":0},15,10,"Yes",15,"Minimal",10,"Yes",0,"No",0,"No",24.001832373834379,3.9584013300933626E-2,45.085970388722998,12.62287902978008,0.48480637170798752,24.870691912999998,0,0,null,null,null,"Peanut Belt RPO",100,"","","","","01",100,"","","","",45,55,null,null,null,null,6.9127386775858319,6.9127386775858319,"Exceeds cap of $15 million for Statewide & Regional Projects cascading to Division Needs",10.371087217043794,null,"Hertford",100,"","","","","","",1,"A","01, , ","Peanut Belt RPO, , ","Hertford, , , ",7.7687519099999998,7.7687519099999998,"Two Lane Highway","Multi-Lane Highway",1,2,"Undivided","Divided",51,51,12.658791545258499,87.341208454741505,5623.5639709999996,15511.563459999999,0.36254011309057299,4911.6887304968486,711.87524050315096,116717.64369008195,16916.462999159405,133634.10668924137,3095074,59.757713440000003,36.965768650000001,38.547956220000003,"","",2.1084775792553301,7.5876498549044201E-6,"Yes","No",12,12,"No",4,2,"2 Lane Undivided","4A - 4 Lane Divided (46' Depressed Median) with Paved Shoulders","None","Partial",1,"Yes",24,73100000,4425000,665000,78190000,"",78190000,78190000,""]
["H090201","Bertie","Peanut Belt RPO","Highway","Regional Impact","R-2900","NC-11 ","NC 903 in Martin County","US 13 Bypass North of Ahoskie in Hertford County","Widen to Multi-Lanes","1 - Widen Existing Roadway",264678000,null,null,9.6828556939639139,45,null,54.682855693963916,6.4527639498232601,null,null,5,0,1767.5616600315998,5,15,"Yes",10,"Yes",10,"Yes",5,{"$f":"IF(BM155<999,20,IF(BM155<1499,15,IF(BM155<1999,10,IF(BM155<3999,5,IF(BM155>4000,0)))))","v":0},15,10,"Yes",15,"Minimal",10,"Yes",0,"No",0,"No",22.004158280104082,7.4195384580509144E-2,42.449285833548004,4.9984943886064652,"N/A",19.458886990000003,0,0,null,null,null,"Peanut Belt RPO",91.83,"Mid-East RPO",8.17,"","","01",100,"","","","",45,55,null,null,null,null,6.4527639498232601,6.4527639498232601,"Exceeds cap of $15 million for Statewide & Regional Projects cascading to Division Needs",9.6828556939639139,null,"Bertie",60.05,"Hertford",31.78,"Martin",8.17,"","",1,"A","01, , ","Peanut Belt RPO, Mid-East RPO, ","Bertie, Hertford, Martin, ",29.059377309999999,29.059377309999999,"Two Lane Highway","Multi-Lane Highway",1,2,"Undivided","Divided",54,55,19.400469355290102,80.599530644709901,5152.9623300000003,15503.09146,0.33238288913506808,4153.2634522787075,999.698877721293,665630.52880070708,160218.60887587239,825849.13767657941,19637886,52.985728870000003,37.521074390000003,36.8537903,"","","","","No","No",12,12,"No",2,2,"2 Lane Undivided","4A - 4 Lane Divided (46' Depressed Median) with Paved Shoulders","Limited","Partial",1,"Yes",22,224808000,35598000,4272000,264678000,"",264678000,264678000,""]
["H090149-B","Northampton","Peanut Belt RPO","Highway","Statewide Mobility","R-2584B","US-158 ","East of SR 1500","East of SR 1365","Widen to Multi-Lanes, Part on New  Location.","6 - Widen Existing Roadway and Construct Part on New Location",54800000,7.9305558958701106,null,8.2200000000000006,40,null,48.22,6.31,null,null,0,0,3336.37631613444,5,15,"Yes",10,"Yes",10,"Yes",0,{"$f":"IF(X158<999,20,IF(X158<1499,15,IF(X158<1999,10,IF(X158<3999,5,IF(X158>4000,0)))))","v":5},15,10,"Yes",15,"Minimal",10,"Yes",0,"No",0,"No",17.825798295498515,5.7991313868613135E-2,20.262297100979996,2.6959465148098603,0,24.612863031,0,25,null,null,null,"Peanut Belt RPO",100,"","","","","01",100,"","","","",40,55,null,null,null,null,6.31,6.31,"Exceeds cap of $15 million for Statewide & Regional Projects cascading to Division Needs",8.2200000000000006,null,"Northampton",100,"","","","","","",1,"A","01, , ","Peanut Belt RPO, , ","Northampton, , , ",3.5,3.9067273600000001,"Two Lane Highway","Multi-Lane Highway",1,2,"Undivided","Divided",47,55,12.824748075914599,87.175251924085401,4204.2876770000003,15625.369189999999,0.26906805374497528,3665.0983740380284,539.18930296197209,119535.72994085884,17585.445280927532,137121.17522178637,3177924,28.277875479999999,8.9871338000000005,23.527961319999999,"","",0,0,"No","No",12,12,"No",1,2,"New Roadway","4A - 4 Lane Divided (46' Depressed Median) with Paved Shoulders","None","Partial",1,"Yes",26,47600000,7200000,0,54800000,"",54800000,54800000,""]
["H141662","Northampton","Peanut Belt RPO","Highway","Regional Impact","","NC-35 ","Hertford County Line ","Virginia State Line","Currently 2-lane major thoroughfare from the Hertford County line to the Virginia State Line, NC 35 in Northampton County is a major truck route with high truck percentage. It is recommended to upgrade the existing facility to 24 feet w/ paved shoulders and turn lanes at all major intersections; while also modifying curves in some sections. This will improve overall connectivity in Severn, Conway, Woodland.\n","1 - Widen Existing Roadway",69277000,null,null,8.16,40,null,48.16,6.27,null,null,5,0,1957.443714235656,0,15,"Yes",10,"Yes",10,"Yes",5,{"$f":"IF(BM157<999,20,IF(BM157<1499,15,IF(BM157<1999,10,IF(BM157<3999,5,IF(BM157>4000,0)))))","v":0},15,10,"Yes",15,"Minimal",10,"Yes",0,"No",0,"No",7.3733627816354605,0.12733198608484778,30.197608283831997,1.1098492973746994,"N/A",13.732099667873541,25,0,null,null,null,"Peanut Belt RPO",100,"","","","","01",100,"","","","",40,55,null,null,null,null,6.27,6.27,"Exceeds cap of $15 million for Statewide & Regional Projects cascading to Division Needs",8.16,null,"Northampton",100,"","","","","","",1,"A","01, , ","Peanut Belt RPO, , ","Northampton, , , ",20.43275423,20.43275423,"Two Lane Highway","Two Lane Highway",1,1,"Undivided","TWLTL",51.123057912261999,55,12.8150743050166,87.184925694983406,1732.0996678735401,15556.563670646099,0.11134204857476741,1510.1298083986001,221.96985947493988,331852.88318075956,48778.149690389968,380631.03287114954,8821178,28.494854069999999,27.026539769999999,35.080491199999997,"","","","","No","No",10,11,"No",0,0,"2 Lane Undivided","3A - 2 Lane with Two Way Left Turn Lane, and Paved Shoulders","None","None",1,"No",26,60103000,8191000,983000,69277000,"",69277000,69277000,""]
["H129112-B","Northampton","Peanut Belt RPO","Highway","Statewide Mobility","R-2582B","US-158 , NC-46 ","SR 1312 (St. John Church Road)","SR 1333 (Lynch Road) East of Jackson","Widen to Multi-Lanes with Bypass of Jackson, Part on New Location.","1 - Widen Existing Roadway",66800000,8.5075034871344801,null,6.6843160297359381,40,null,46.684316029735939,4.4558793576483104,null,null,0,0,3315.5475518357507,5,15,"Yes",10,"Yes",10,"Yes",0,{"$f":"IF(X160<999,20,IF(X160<1499,15,IF(X160<1999,10,IF(X160<3999,5,IF(X160>4000,0)))))","v":5},15,10,"Yes",15,"Minimal",10,"Yes",0,"No",0,"No",17.447583609263642,9.9398652694610776E-3,27.10127010195,2.7582020050072966,8.4790335780915993E-2,16.255478221000004,0,0,null,null,null,"Peanut Belt RPO",100,"","","","","01",100,"","","","",40,55,null,null,null,null,4.4558793576483104,4.4558793576483104,"Exceeds cap of $15 million for Statewide & Regional Projects cascading to Division Needs",6.6843160297359381,null,"Northampton",100,"","","","","","",1,"A","01, , ","Peanut Belt RPO, , ","Northampton, , , ",4.9318765100000004,4.9318765100000004,"Two Lane Highway","Multi-Lane Highway",1,2,"Undivided","Divided",55,55,13.503522042645699,86.496477957354301,4085.1594070000001,15500.00043,0.26355866410772738,3533.5190059985407,551.64040100145928,24714.483489075938,3858.3371305809887,28572.820619656926,663983,37.272482830000001,20.230309649999999,23.80914902,"","",0,1.6958067156183199E-6,"No","No",12,12,"No",2,2,"2 Lane Undivided","4A - 4 Lane Divided (46' Depressed Median) with Paved Shoulders","None","Partial",1,"Yes",22,61400000,5400000,0,66800000,"",66800000,66800000,""]
["H090124-A","Dare","Albemarle RPO","Highway","Statewide Mobility","R-2544A","US-64 ","East of SR 1153 (Old Ferry Landing Road)","West of SR 1102 (East Lake Road)","Widen to Multi-Lanes.","1 - Widen Existing Roadway",15800000,6.9067768278857349,null,6.2094234301841915,50,6.3,62.509423430184185,4.1396156201227949,9,null,0,0,2473.1357746167182,0,{"$f":"IF(AA161=\"Yes\",20,0)","v":20},"Yes",10,"Yes",{"$f":"IF(AE161=\"Yes\",20,0)","v":20},"Yes",0,5,15,10,"No",{"$f":"IF(AL161=\"Minimal\",15,0)","v":15},"Minimal",10,"Yes",0,"No",0,"No",12.385806333013942,0,29.010349868214,1.4499997058007565,0,15.733332549333333,0,0,null,null,null,"Albemarle RPO",100,"","","","","01",100,"","","","",50,55,null,null,null,null,4.1396156201227949,13.139615620122795,"Exceeds cap of $15 million for Statewide & Regional Projects cascading to Division Needs",6.2094234301841915,null,"Dare",100,"","","","","","",1,"A","01, , ","Albemarle RPO, , ","Dare, , , ",2.2029831400000002,2.2029831400000002,"Two Lane Highway","Multi-Lane Highway",1,2,"Undivided","Divided",55,55,9.9999989848327004,90.0000010151673,2899.9997060000001,15499.99843,0.18709677417689907,2609.9997648398489,289.99994116015131,0,0,0,0,46.148892490000001,0,40.890861090000001,"","",0,0,"No","No",12,12,"No",0,0,"2 Lane Undivided","4A - 4 Lane Divided (46' Depressed Median) with Paved Shoulders","None","Partial",2,"Yes",24,14700000,1030000,70000,15800000,"",15800000,15800000,""]
["B141344","Tyrrell","Albemarle RPO","Bike & Ped","Division Needs",null,"Fonsoe Street","US 64/Scuppernong Drive","Main Street","Construct a pedestrian sidewalk on one side of Fonsoe Street to connect US 64/Scuppernong Drive to Main Street","5. Construct Sidewalk",100000,null,null,null,null,null,null,18.819570064834998,9.75,null,"N/A",null,20040.485829959514,null,null,"Yes",null,null,null,null,0,0,15,{"$f":"IF(AJ162=\"Yes\",10,0)","v":10},"Yes",15,"Minimal",10,"Yes",0,"No",0,"No",null,null,22.5,null,null,null,null,null,null,null,null,"Albemarle RPO",null,null,null,null,null,null,null,null,null,null,null,null,{"$f":"SUM(AF162+AG162+AH162+AI162+AK162+AM162+AO162)","v":50},null,null,null,null,null,null,null,null,null,"Tyrrell County",null,null,null,null,null,null,null,null,null,null,null,null,null,0.25,null,null,null,null,null,null,null,null,null,null,494,null,null,null,null,null,null,null,null,null,null,null,null,null,null,null,null,null,null,null,null,null,null,null,null,null,null,null,null,null,85000,0,null,100000,0,2475000]
["B141340","Tyrrell","Albemarle RPO","Bike & Ped","Division Needs",null,"Main Street","Broad Street","Road Street","Construct 305 feet of pedestrian sidewalk on the north side of Main Street in front of Columbia Middle School.","5. Construct Sidewalk",100000,null,null,null,null,null,null,17.717965136690001,9.75,null,"N/A",null,6121.9440192433849,null,null,"Yes",null,null,null,null,0,0,15,10,"Yes",15,"Minimal",10,"Yes",0,"No",0,"No",null,null,12.5,null,null,null,null,null,null,null,null,"Albemarle RPO",null,null,null,null,null,null,null,null,null,null,null,null,50,null,null,null,null,null,null,null,null,null,"Tyrrell County",null,null,null,null,null,null,null,null,null,null,null,null,null,0.17,null,null,null,null,null,null,null,null,null,null,538,null,null,null,null,null,null,null,null,null,null,null,null,null,null,null,null,null,null,null,null,null,null,null,null,null,null,null,null,null,80000,0,null,100000,0,559913]
["B141755","Camden","Albemarle RPO","Bike & Ped","Division Needs",null,"Main St.","US 17","SR 1243-Mullen Drive","Widen existing pavement","2. Construct multi-use trail / greenway / sidepath or on-road bike lane on local roadway",345000,null,null,null,null,null,null,13.997229630050075,8.25,null,"N/A",null,76968.816067653272,null,null,"Yes",null,null,null,null,0,0,15,10,"Yes",15,"Minimal",10,"Yes",0,"No",0,"No",null,null,25,null,null,null,null,null,null,null,null,"Albemarle RPO",null,null,null,null,null,null,null,null,null,null,null,null,50,null,null,null,null,null,null,null,null,null,"Camden County",null,null,null,null,null,null,null,null,null,null,null,null,null,1.056,null,null,null,null,null,null,null,null,null,null,{"$f":"129*0.1","v":12.9},null,null,null,null,null,null,null,null,null,null,null,null,null,null,null,null,null,null,null,null,null,null,null,null,null,null,null,null,null,300000,0,null,345000,0,1048500]
["B141780","Dare","Albemarle RPO","Bike & Ped","Division Needs",null,"Colington Road Path",".3 miles west Baum St","Bridge","Construct Multi use path","2. Construct multi-use trail / greenway / sidepath or on-road bike lane on local roadway",410000,null,null,null,null,null,null,13.321441426829745,9.75,null,"N/A",null,14204.545454545452,null,null,"Yes",null,null,null,null,0,0,15,10,"Yes",15,"Minimal",10,"Yes",0,"No",0,"No",null,null,12.5,null,null,null,null,null,null,null,null,"Albemarle RPO",null,null,null,null,null,null,null,null,null,null,null,null,50,null,null,null,null,null,null,null,null,null,"Dare County",null,null,null,null,null,null,null,null,null,null,null,null,null,0.32,null,null,null,null,null,null,null,null,null,null,{"$f":"902*0.1","v":90.2},null,null,null,null,null,null,null,null,null,null,null,null,null,null,null,null,null,null,null,null,null,null,null,null,null,null,null,null,null,310000,0,null,410000,0,410000]
["B141940","Currituck","Albemarle RPO","Bike & Ped","Division Needs",null,"Currituck Multi-Use","Ocean Sands(K)","Seabird Way","Construct Multi-use path","2. Construct multi-use trail / greenway / sidepath or on-road bike lane on local roadway",460000,null,null,null,null,null,null,13.102509516759566,13.5,null,"N/A",null,22616.647819460151,null,null,"Yes",null,null,null,null,0,0,15,10,"Yes",15,"Minimal",10,"Yes",0,"No",0,"No",null,null,25,null,null,null,null,null,null,null,null,"Albemarle RPO",null,null,null,null,null,null,null,null,null,null,null,null,50,null,null,null,null,null,null,null,null,null,"Currituck County",null,null,null,null,null,null,null,null,null,null,null,null,null,4.7300000000000004,null,null,null,null,null,null,null,null,null,null,{"$f":"43*0.1","v":4.3},null,null,null,null,null,null,null,null,null,null,null,null,null,null,null,null,null,null,null,null,null,null,null,null,null,null,null,null,null,400000,0,null,460000,0,460000]
["B141963","Currituck","Albemarle RPO","Bike & Ped","Division Needs",null,"Corolla multi-use path","Ocean Sands Section A","Yaupon Lane/Old Stoney Road","Oceans Sands section A (.1 mile south of Ocean Way) to Yaupon Lane/Old stoney Road","2. Construct multi-use trail / greenway / sidepath or on-road bike lane on local roadway",400000,null,null,null,null,null,null,12.852200094756203,13.5,null,"N/A",null,126984.126984127,null,null,"Yes",null,null,null,null,0,0,15,10,"Yes",15,"Minimal",10,"Yes",0,"No",0,"No",null,null,25,null,null,null,null,null,null,null,null,"Albemarle RPO",null,null,null,null,null,null,null,null,null,null,null,null,50,null,null,null,null,null,null,null,null,null,"Currituck County",null,null,null,null,null,null,null,null,null,null,null,null,null,0.7,null,null,null,null,null,null,null,null,null,null,{"$f":"45*0.1","v":4.5},null,null,null,null,null,null,null,null,null,null,null,null,null,null,null,null,null,null,null,null,null,null,null,null,null,null,null,null,null,380000,0,null,400000,0,400000]
["B141961","Currituck","Albemarle RPO","Bike & Ped","Division Needs",null,"Corolla multi-use path","Ocean Sands section c","Ocean Sands section A","Ocean Sands Section C, .5 miles south of Sandhill Ln. to .1 miles south of Ocean Way.","2. Construct multi-use trail / greenway / sidepath or on-road bike lane on local roadway",420000,null,null,null,null,null,null,12.73396082381764,13.5,null,"N/A",null,190217.39130434778,null,null,"Yes",null,null,null,null,0,0,15,10,"Yes",15,"Minimal",10,"Yes",0,"No",0,"No",null,null,25,null,null,null,null,null,null,null,null,"Albemarle RPO",null,null,null,null,null,null,null,null,null,null,null,null,50,null,null,null,null,null,null,null,null,null,"Currituck County",null,null,null,null,null,null,null,null,null,null,null,null,null,0.46,null,null,null,null,null,null,null,null,null,null,{"$f":"48*0.1","v":4.8000000000000007},null,null,null,null,null,null,null,null,null,null,null,null,null,null,null,null,null,null,null,null,null,null,null,null,null,null,null,null,null,400000,380000,null,800000,0,420000]
["B141774","Dare","Albemarle RPO","Bike & Ped","Division Needs",null,"NC 12 Duck","Cook Drive","Ships Watch Drive","Construct Sidewalk and extend share use path","5. Construct Sidewalk",290800,null,null,null,null,null,null,12.669319420463816,13.5,null,"N/A",null,7133.0455259026676,null,null,"Yes",null,null,null,null,0,0,15,10,"Yes",15,"Minimal",10,"Yes",0,"No",0,"No",null,null,25,null,null,null,null,null,null,null,null,"Albemarle RPO",null,null,null,null,null,null,null,null,null,null,null,null,50,null,null,null,null,null,null,null,null,null,"Dare County",null,null,null,null,null,null,null,null,null,null,null,null,null,2.08,null,null,null,null,null,null,null,null,null,null,{"$f":"196*0.1","v":19.600000000000001},null,null,null,null,null,null,null,null,null,null,null,null,null,null,null,null,null,null,null,null,null,null,null,null,null,null,null,null,null,370000,0,null,426000,135200,290800]
["B141362","Dare","Albemarle RPO","Bike & Ped","Division Needs",null,"US 158","Gulfstream Road","Gull Street","Construct sidewalk from Gulfstream Road to Gull Street","2. Construct multi-use trail / greenway / sidepath or on-road bike lane on local roadway",415000,null,null,null,null,null,null,11.799247349397591,9.75,null,"N/A",null,312132.35294117645,null,null,"Yes",null,null,null,null,0,0,15,10,"Yes",15,"Minimal",10,"Yes",0,"No",0,"No",null,null,25,null,null,null,null,null,null,null,null,"Albemarle RPO",null,null,null,null,null,null,null,null,null,null,null,null,50,null,null,null,null,null,null,null,null,null,"Dare County",null,null,null,null,null,null,null,null,null,null,null,null,null,0.48,null,null,null,null,null,null,null,null,null,null,{"$f":"170*0.1","v":17},null,null,null,null,null,null,null,null,null,null,null,null,null,null,null,null,null,null,null,null,null,null,null,null,null,null,null,null,null,400000,0,null,415000,0,2547000]
["B141791","Camden","Albemarle RPO","Bike & Ped","Division Needs",null,"SR 1215","US 17","US 17","Construct Sidewalk on roads south side of US 17","5. Construct Sidewalk",370000,null,null,null,null,null,null,11.62296046708027,8.25,null,"N/A",null,14192.558496355963,null,null,"Yes",null,null,null,null,0,0,15,10,"Yes",15,"Minimal",10,"Yes",0,"No",0,"No",null,null,5,null,null,null,null,null,null,null,null,"Albemarle RPO",null,null,null,null,null,null,null,null,null,null,null,null,50,null,null,null,null,null,null,null,null,null,"Camden County",null,null,null,null,null,null,null,null,null,null,null,null,null,0.79,null,null,null,null,null,null,null,null,null,null,{"$f":"330*0.1","v":33},null,null,null,null,null,null,null,null,null,null,null,null,null,null,null,null,null,null,null,null,null,null,null,null,null,null,null,null,null,320000,0,null,370000,0,370000]
["B141762","Dare","Albemarle RPO","Bike & Ped","Division Needs",null,"Nags Head Multi use Path","Gull Street","Grouse St.","Construct Multi use Path","2. Construct multi-use trail / greenway / sidepath or on-road bike lane on local roadway",437000,null,null,null,null,null,null,11.368879191733225,9.75,null,"N/A",null,340460.52631578944,null,null,"Yes",null,null,null,null,0,0,15,10,"Yes",15,"Minimal",10,"Yes",0,"No",0,"No",null,null,25,null,null,null,null,null,null,null,null,"Albemarle RPO",null,null,null,null,null,null,null,null,null,null,null,null,50,null,null,null,null,null,null,null,null,null,"Dare County",null,null,null,null,null,null,null,null,null,null,null,null,null,0.32,null,null,null,null,null,null,null,null,null,null,{"$f":"190*0.1","v":19},null,null,null,null,null,null,null,null,null,null,null,null,null,null,null,null,null,null,null,null,null,null,null,null,null,null,null,null,null,380000,0,null,437000,0,2070000]
["B141776","Dare","Albemarle RPO","Bike & Ped","Division Needs",null,"Colington Road","SR 1452",".3 miles west","Construct Multi use path","2. Construct multi-use trail / greenway / sidepath or on-road bike lane on local roadway",400000,null,null,null,null,null,null,10.899780568313751,9.75,null,"N/A",null,16479.215589337946,null,null,"Yes",null,null,null,null,0,0,15,10,"Yes",15,"Minimal",10,"Yes",0,"No",0,"No",null,null,12.5,null,null,null,null,null,null,null,null,"Albemarle RPO",null,null,null,null,null,null,null,null,null,null,null,null,50,null,null,null,null,null,null,null,null,null,"Dare County",null,null,null,null,null,null,null,null,null,null,null,null,null,0.27,null,null,null,null,null,null,null,null,null,null,{"$f":"899*0.1","v":89.9},null,null,null,null,null,null,null,null,null,null,null,null,null,null,null,null,null,null,null,null,null,null,null,null,null,null,null,null,null,300000,0,null,400000,0,400000]
["B141954","Dare","Albemarle RPO","Bike & Ped","Division Needs",null,"NC 12-Hatteras-II","SR 1237",".8 miles south","Construct curb & gutter /Sidewalk","5. Construct Sidewalk",370000,null,null,null,null,null,null,10.804722947171893,9.75,null,"N/A",null,11725.186969197615,null,null,"Yes",null,null,null,null,0,0,15,10,"Yes",15,"Minimal",10,"Yes",0,"No",0,"No",null,null,5,null,null,null,null,null,null,null,null,"Albemarle RPO",null,null,null,null,null,null,null,null,null,null,null,null,50,null,null,null,null,null,null,null,null,null,"Dare County",null,null,null,null,null,null,null,null,null,null,null,null,null,0.49,null,null,null,null,null,null,null,null,null,null,{"$f":"644*0.1","v":64.400000000000006},null,null,null,null,null,null,null,null,null,null,null,null,null,null,null,null,null,null,null,null,null,null,null,null,null,null,null,null,null,320000,145000,null,515000,0,370000]
["B141947","Dare","Albemarle RPO","Bike & Ped","Division Needs",null,"NC 12-Hatteras","Bridge","SR 1237","Construct curb & gutter and sidewalk","5. Construct Sidewalk",406000,null,null,null,null,null,null,10.502334790371034,9.75,null,"N/A",null,8369.4083694083693,null,null,"Yes",null,null,null,null,0,0,15,10,"Yes",15,"Minimal",10,"Yes",0,"No",0,"No",null,null,5,null,null,null,null,null,null,null,null,"Albemarle RPO",null,null,null,null,null,null,null,null,null,null,null,null,50,null,null,null,null,null,null,null,null,null,"Dare County",null,null,null,null,null,null,null,null,null,null,null,null,null,0.77,null,null,null,null,null,null,null,null,null,null,{"$f":"630*0.1","v":63},null,null,null,null,null,null,null,null,null,null,null,null,null,null,null,null,null,null,null,null,null,null,null,null,null,null,null,null,null,356000,162000,null,568000,0,406000]
["B141860","Dare","Albemarle RPO","Bike & Ped","Division Needs",null,"Twiford Street","Twiford Street","The Woods Road","Connect existing The Woods Road and Twiford Street multi-use paths","2. Construct multi-use trail / greenway / sidepath or on-road bike lane on local roadway",162000,null,null,null,null,null,null,10.153627313669816,7.5,null,"N/A",null,35495.179666958808,null,null,"Yes",null,null,null,null,0,0,15,10,"Yes",15,"Minimal",10,"Yes",0,"No",0,"No",null,null,12.5,null,null,null,null,null,null,null,null,"Albemarle RPO",null,null,null,null,null,null,null,null,null,null,null,null,50,null,null,null,null,null,null,null,null,null,"Dare County",null,null,null,null,null,null,null,null,null,null,null,null,null,7.0000000000000007E-2,null,null,null,null,null,null,null,null,null,null,{"$f":"652*0.1","v":65.2},null,null,null,null,null,null,null,null,null,null,null,null,null,null,null,null,null,null,null,null,null,null,null,null,null,null,null,null,null,152000,0,null,162000,0,162000]
["B141955","Chowan","Albemarle RPO","Bike & Ped","Division Needs",null,"Edenton Multi-use path","Twiddy Avenue","Chowan River fising pier","Connect path where existing sidewalk stops near Twiddy Ave. and extend towards Pembroke to the west side of town, connecting  residential subdivisions and over the US 17 bypass overpass, terminating at the new Chowan River fishing pier. (Phase 2)","2. Construct multi-use trail / greenway / sidepath or on-road bike lane on local roadway",400000,null,null,null,null,null,null,5.4141769778944999,3.75,null,"N/A",null,{"$f":"(EI177/CZ177)/CO177","v":38986.354775828462},null,null,"Yes",null,null,null,null,{"$f":"IF(AU177<30,0,IF(AU177<50,5,IF(AU177<65,10,IF(AU177<79,15,IF(AU177>80,20)))))","v":0},0,{"$f":"IF(AA177=\"Yes\",15,0)","v":15},10,"Yes",15,"Minimal",{"$f":"IF(AN177=\"Yes\",10,0)","v":10},"Yes",0,"No",0,"No",null,null,12.5,null,null,null,null,null,null,null,null,"Albemarle RPO",null,null,null,null,null,null,null,null,null,null,null,null,50,null,null,null,null,null,null,null,null,null,"Chowan County",null,null,null,null,null,null,null,null,null,null,null,null,null,0.15,null,null,null,null,null,null,null,null,null,null,{"$f":"684*0.1","v":68.400000000000006},null,null,null,null,null,null,null,null,null,null,null,null,null,null,null,null,null,null,null,null,null,null,null,null,null,null,null,null,null,380000,0,null,400000,0,400000]
["H090505","Chowan","Albemarle RPO","Highway","Division Needs","U-5001","- New Route - Western Connector (Luke Street)","Albania Stree","Virginia Street","Albania Street to Virginia Street.  Construct Multi-Lanes, Some New Location.","5 - Construct Roadway on New Location",9681000," ",null," ",null,null,null,3.3389965257502841,4.5,null,"N/A",null,1484.2014063804211,null,null,"Yes",null,null,null,null,0,15,15,0,"No",15,"Minimal",10,"Yes",0,"No",0,"No",21.672837154252885,1.44483162896395,10.272296474286,1.0195217718000875,"N/A","N/A",0,0,null,null,null,"Albemarle RPO",100,"","","","","01",100,"","","","",null,{"$f":"SUM(AF178+AG178+AH178+AI178+AK178+AM178+AO178+AQ178)","v":55},null,null,null,null,{"$f":"S178+BU178*0.25","v":3.3389965257502841},{"$f":"T178+BV178","v":7.8389965257502841},"Minimal Local Support",null,null,"Chowan",100,"","","","","","",1,"A","01, , ","Albemarle RPO, , ","Chowan, , , ",1.5,1.11961556,"Arterial","Arterial",1,2,"Undivided","Divided",38,35,3.5000000000003002,96.499999999999702,5825.8386959999998,18071.619050000001,0.32237502793088146,5621.9343416399824,203.90435436001749,604716.87205310084,21932.736292083333,626649.60834518413,13987415,7.8258291699999996,15.168313080000001,7.8258291699999996,"","","","","No","No",12,12,"Yes",0,2,"New Roadway","4C - 4 Lane Divided (23' Raised Median) with Curb & Gutter, Wide Outside Lanes, and Sidewalks","None","Partial",1,"No",24,5928000,3351000,402000,9681000,"",9681000,9681000,""]
["H090284","Dare","Albemarle RPO","Highway","Statewide Mobility","R-4457","US-158 ","NC 12","","Improve intersection ","7 - Upgrade At-grade Intersection to Interchange or Grade Separation",23870000,25.088572426440816,null,23.24,{"$f":"(V179+W179+Y179+Z179+AB179+AD179)","v":55},6.3,{"$f":"O179+P179+Q179","v":84.539999999999992},17.98,9,null,{"$f":"IF(AU179<30,0,IF(AU179<50,5,IF(AU179<65,10,IF(AU179>66,15))))","v":10},{"$f":"IF(X179<499,15,IF(X179<999,10,IF(X179<1499,5,IF(X179>1500,0))))","v":5},1254.6033770323088,{"$f":"IF(DD179<500,0,IF(DD179<1000,5,IF(DD179>1000,10)))","v":10},{"$f":"IF(AA179=\"Yes\",20,0)","v":20},"Yes",{"$f":"IF(AC179=\"Yes\",10,0)","v":10},"Yes",{"$f":"IF(AE179=\"Yes\",20,0)","v":0},"No",10,{"$f":"IF(BM177<999,20,IF(BM177<1499,15,IF(BM177<1999,10,IF(BM177<3999,5,IF(BM177>4000,0)))))","v":20},15,0,"No",15,"Minimal",10,"Yes",0,"No",0,"No",54.50533413736671,0.3082017176372015,50,17.576238950973607,1.2926387974492148,100,0,75,null,null,null,"Albemarle RPO",100,"","","","","01",100,"","","","",{"$f":"SUM(V179+W179+Y179+Z179+AB179+AD179)","v":55},70,null,null,null,null,17.98,26.98,"Exceeds cap of $15 million for Statewide & Regional Projects cascading to Division Needs",{"$f":"O179+BT179*0.25","v":23.24},null,"Dare",100,"","","","","","",1,"A","01, , ","Albemarle RPO, , ","Dare, , , ",0.5,0.5,"Arterial","Arterial",2,2,"TWLTL","Divided",50.0000000000014,50.0000000000014,9.2380430429066998,90.761956957093304,38051.866329999997,58117.244420000003,0.6547431267561119,34536.618539805277,3515.2477901947218,292253.50140184048,29746.498598159575,322000.00000000006,7356775,"","","",66.7,33.299999999999997,5,2.0852775948984299E-5,"No","No",12,12,"No",1,4,"4 Lane with TWLTL (Five Lane)","","None","Partial",2,"Yes",18.899999992478101,19250000,4620000,0,23870000,"",23870000,23870000,""]
["H090329","Northampton","Peanut Belt RPO","Highway","Regional Impact","U-2419","NC-48 ","Roanoke Avenue in Halifax County","NC 46 in Gaston in Northampton County","Roanoke Avenue in Halifax County to NC 46 in Gaston in Northampton County. Widen to Multi-Lanes.","1 - Widen Existing Roadway",30987000,null,null,20.72,{"$f":"(V180+W180+Y180+Z180+AB180+AD180)","v":40},null,{"$f":"O180+P180+Q180","v":60.72},17.12,null,null,{"$f":"IF(AU180<30,0,IF(AU180<50,5,IF(AU180<65,10,IF(AU180>66,15))))","v":0},{"$f":"IF(X180<499,15,IF(X180<999,10,IF(X180<1499,5,IF(X180>1500,0))))","v":0},1638.8925354054695,{"$f":"IF(DD180<500,0,IF(DD180<1000,5,IF(DD180>1000,10)))","v":5},{"$f":"IF(AA180=\"Yes\",15,0)","v":15},"Yes",{"$f":"IF(AC180=\"Yes\",10,0)","v":10},"Yes",{"$f":"IF(AE180=\"Yes\",10,0)","v":10},"Yes",0,{"$f":"IF(BM178<999,20,IF(BM178<1499,15,IF(BM178<1999,10,IF(BM178<3999,5,IF(BM178>4000,0)))))","v":0},15,10,"Yes",15,"Minimal",10,"Yes",0,"No",0,"No",46.280282747314516,0.8176696033820634,24.093813457691997,4.1616023981484593,"N/A",19.025870580000003,0,100,null,null,null,"Peanut Belt RPO",100,"","","","","01",79.88,"04",20.12,"","",{"$f":"SUM(V180+W180+Y180+Z180+AB180+AD180)","v":40},50,null,null,100,null,17.12,17.12,"Exceeds cap of $15 million for Statewide & Regional Projects cascading to Division Needs",{"$f":"O180+BT180*0.25","v":45.72},null,"Northampton",79.88,"Halifax",20.12,"","","","",1,"A","01, 04, ","Peanut Belt RPO, , ","Northampton, Halifax, , ",1.71481062,1.71481062,"Arterial","Arterial",1,2,"Undivided","Divided",43,45,7.5487960210548,92.451203978945202,11025.870580000001,15800.17362,0.69783224192190874,10193.550100370308,832.32047962969182,1032268.9976535406,84286.496733129708,1116555.4943866702,25337128,16.88552645,55.403142789999997,0,"","","","","No","No",12,12,"No",0,4,"2 Lane Undivided","4C - 4 Lane Divided (23' Raised Median) with Curb & Gutter, Wide Outside Lanes, and Sidewalks","None","Partial",1,"No",24,29754000,1101000,132000,30987000,"",30987000,30987000,""]
["H129208","Northampton","Peanut Belt RPO","Highway","Statewide Mobility","","I-95 ","Halifax/Northampton County Line","Virginia State Line","Widen Roadway to 6 Lanes.","1 - Widen Existing Roadway",301845000,28.416150288621655,null,16.180642213015471,{"$f":"(V181+W181+Y181+Z181+AB181+AD181)","v":60},null,{"$f":"O181+P181+Q181","v":76.180642213015474},10.783881430066547,null,null,{"$f":"IF(AU181<30,0,IF(AU181<50,5,IF(AU181<65,10,IF(AU181>66,15))))","v":10},{"$f":"IF(X181<499,15,IF(X181<999,10,IF(X181<1499,5,IF(X181>1500,0))))","v":5},1106.3946563455881,{"$f":"IF(DD181<500,0,IF(DD181<1000,5,IF(DD181>1000,10)))","v":10},{"$f":"IF(AA181=\"Yes\",15,0)","v":15},"Yes",{"$f":"IF(AC181=\"Yes\",10,0)","v":10},"Yes",{"$f":"IF(AE181=\"Yes\",10,0)","v":10},"Yes",10,{"$f":"IF(BM179<999,20,IF(BM179<1499,15,IF(BM179<1999,10,IF(BM179<3999,5,IF(BM179>4000,0)))))","v":0},15,0,"Yes",15,"Minimal",10,"Yes",0,"No",0,"No",47.900877747680426,9.640135831304146E-2,59.841535194671998,38.259352094788944,3.8094261839862646,40.362556689999998,0,0,null,null,null,"Peanut Belt RPO",100,"","","","","01",100,"","","04","",{"$f":"SUM(V181+W181+Y181+Z181+AB181+AD181)","v":60},50,null,null,null,null,10.783881430066547,10.783881430066547,"Exceeds cap of $15 million for Statewide & Regional Projects cascading to Division Needs",{"$f":"O181+BT181*0.25","v":16.180642213015471},null,"Northampton",100,"","","Halifax","","","",1,"A","01, , 04","Peanut Belt RPO, , ","Northampton, , Halifax, ",7.5027332400000004,7.5027332400000004,"Freeway","Freeway",2,3,"Divided","Divided",70,70,21.0432684483435,78.956731551656503,36362.556689999998,65408.408710000003,0.55593091786134041,28710.68627104221,7651.8704189577884,960106.99302050809,255884.31532331507,1215991.3083438231,29098268,57.640053430000002,53.200470930000002,68.702035480000006,"","",19,5.7188523679725298E-5,"No","No",12,12,"No",11,10,"4 Lane with Median - Full Control","6A - 6 Lane Divided (46' Depressed Median) with Paved Shoulders","Full","Full",1,"No",22,300960000,790000,95000,301845000,"",301845000,301845000,""]
["H141220","Perquimans","Albemarle RPO","Highway","Division Needs","","SR-1200 ","NC 37","SR 1213","Widen and repave Perry's Bridge Road","16 - Modernize Roadway",1487000,null,null,null,null,null,null,7.89,4.5,null,"N/A",null,9466.3921313637402,null,null,"Yes",null,null,null,null,0,{"$f":"IF(X182<999,20,IF(X182<1499,15,IF(X182<1999,10,IF(X182<3999,5,IF(X182>4000,0)))))","v":0},15,10,"No",{"$f":"IF(AL182=\"Minimal\",15,0)","v":15},"Minimal",10,"Yes",0,"No",0,"No",0.38438709677419353,0,3.5375503362540002,0,"N/A","N/A",75,0,null,null,null,"Albemarle RPO",100,"","","","","01",100,"","","","",null,50,null,null,null,null,7.89,12.39,"Project Not Competitive",null,null,"Perquimans",100,"","","","","","",1,"A","01, , ","Albemarle RPO, , ","Perquimans, , , ",1.7453557799999999,1.7453557799999999,"Two Lane Highway","Two Lane Highway",1,1,"Undivided","Undivided",55,55,0,100,90,15500,5.8064516129032262E-3,90,0,0,0,0,0,7.0511415900000003,0,3.5625707900000001,"","","","","No","No",9,12,"No",0,0,"2 Lane Undivided","3A - 2 Lane with Two Way Left Turn Lane, and Paved Shoulders","None","None",2,"No",30,1487000,0,0,1487000,"",1487000,1487000,""]
["H141739","Bertie","Peanut Belt RPO","Highway","Statewide Mobility","","US-17 ","US 17A East of Windsor","South end of Chowan River Bridge","Upgrade roadway to Interstate","2 - Upgrade Arterial to Freeway/Expressway",120801000,5.0079009635828404,null,4.04,{"$f":"(V183+W183+Y183+Z183+AB183+AD183)","v":45},null,{"$f":"O183+P183+Q183","v":49.04},3.52,null,null,{"$f":"IF(AU183<30,0,IF(AU183<50,5,IF(AU183<65,10,IF(AU183>66,15))))","v":0},{"$f":"IF(X183<499,15,IF(X183<999,10,IF(X183<1499,5,IF(X183>1500,0))))","v":0},1916.4046364329799,{"$f":"IF(DD183<500,0,IF(DD183<1000,5,IF(DD183>1000,10)))","v":10},{"$f":"IF(AA183=\"Yes\",15,0)","v":15},"Yes",{"$f":"IF(AC183=\"Yes\",10,0)","v":10},"Yes",{"$f":"IF(AE183=\"Yes\",10,0)","v":10},"Yes",0,{"$f":"IF(X183<999,20,IF(X183<1499,15,IF(X183<1999,10,IF(X183<3999,5,IF(X183>4000,0)))))","v":10},15,0,"Yes",15,"Minimal",10,"Yes",0,"No",{"$f":"IF(AR183=\"Yes\",10,0)","v":0},"No",9.7962399411793832,0.37251017789587837,0,6.6047609105597012,6.3632374574832147,42.364117748521622,0,25,null,null,null,"Peanut Belt RPO",100,"","","","","01",100,"","","","",{"$f":"SUM(V183+W183+Y183+Z183+AB183+AD183)","v":45},50,null,null,null,null,3.52,3.52,"Exceeds cap of $15 million for Statewide & Regional Projects cascading to Division Needs",{"$f":"O183+BT183*0.25","v":4.04},null,"Bertie",100,"","","","","","",1,"A","01, , ","Peanut Belt RPO, , ","Bertie, , , ",7.7616468999999997,7.7616468999999997,"Multi-Lane Highway","Freeway",2,2,"Divided","Divided",55.000291984953797,70,16.265134601790702,83.734865398209294,8121.3725828405404,74420.488354429806,0.10912818180071945,6800.4204007285998,1320.9521821119401,1603998.7142052867,311569.79668598284,1915568.5108912694,44999602,0,0,0,"","",29.776517950539802,9.7488231199124501E-5,"No","No",12,12,"No",3,4,"4 Lane with Median - Partial Control","4A - 4 Lane Divided (46' Depressed Median) with Paved Shoulders","None","Full",1,"Yes",29,94540000,23447000,2814000,120801000,"",120801000,120801000,""]
["H090305","Washington","Albemarle RPO","Highway","Division Needs","R-4909","- New Route","SR 1126 (Newland Road)","SR 1125 (Millpond Road)","Construct Two Lane Facility on New Location.","5 - Construct Roadway on New Location",3830000," ",null," ",null,null,null,1.7543918552372901,6,null,"N/A",null,5466.922175852761,null,null,"Yes",null,null,null,null,0,{"$f":"IF(X184<999,20,IF(X184<1499,15,IF(X184<1999,10,IF(X184<3999,5,IF(X184>4000,0)))))","v":0},15,10,"No",{"$f":"IF(AL184=\"Minimal\",15,0)","v":15},"Minimal",10,"Yes",0,"No",0,"No",2.661746009269887,1.3004642297650131,13.581708313338,0,"N/A","N/A",0,0,null,null,null,"Albemarle RPO",100,"","","","","01",100,"","","","",null,50,null,null,null,null,1.7543918552372901,7.7543918552372899,"Project Not Competitive",null,null,"Washington",100,"","","","","","",1,"A","01, , ","Albemarle RPO, , ","Washington, , , ",3.2,1.11833022,"Two Lane Highway","Two Lane Highway",1,1,"Undivided","Undivided",48,55,0,100,626.44914619999997,15588.69995,4.0186105846498121E-2,626.44914619999997,0,226398.99803106303,0,226398.99803106303,4980778,11.35602182,15.8078866,13.585291440000001,"","","","","No","No",11,11,"No",0,0,"New Roadway","2A - 2 Lane Undivided with Paved Shoulders, 55 mph","None","None",1,"No",32,3762000,61000,7000,3830000,"",3830000,3830000,""]
["H090442","Dare","Albemarle RPO","Highway","Statewide Mobility","U-3815","US-64 ","US 64 Business/NC 345","","US 64-US 64 Bypass-NC 345.  Improve intersection.","10 - Improve Intersection",1550000,26.823169613838097,null,21.9385617456722,{"$f":"(V185+W185+Y185+Z185+AB185+AD185)","v":60},5.85,{"$f":"O185+P185+Q185","v":87.788561745672197},13.654173443351365,9,null,{"$f":"IF(AU185<30,0,IF(AU185<50,5,IF(AU185<65,10,IF(AU185>66,15))))","v":15},{"$f":"IF(X185<499,15,IF(X185<999,10,IF(X185<1499,5,IF(X185>1500,0))))","v":15},139.0264115479155,{"$f":"IF(DD185<500,0,IF(DD185<1000,5,IF(DD185>1000,10)))","v":10},{"$f":"IF(AA185=\"Yes\",20,0)","v":20},"Yes",{"$f":"IF(AC185=\"Yes\",10,0)","v":0},"No",{"$f":"IF(AE185=\"Yes\",20,0)","v":0},"No",20,{"$f":"IF(BM183<999,20,IF(BM183<1499,15,IF(BM183<1999,10,IF(BM183<3999,5,IF(BM183>4000,0)))))","v":0},15,{"$f":"IF(AJ185=\"Yes\",10,0)","v":0},"No",{"$f":"IF(AL185=\"Minimal\",15,0)","v":0},"Significant",{"$f":"AQ185","v":0},"No",0,"No",0,"No",24.045702820610419,29.146031612903226,83.35,8.2540013041944356,8.7984902294512004,14.865280946666667,0,0,null,null,null,"Albemarle RPO",100,"","","","","01",100,"","","","",{"$f":"SUM(V185+W185+Y185+Z185+AB185+AD185)","v":60},35,null,null,null,null,13.654173443351365,22.654173443351365,"Minimal Local Support",{"$f":"O185+BT185*0.25","v":21.9385617456722},null,"Dare",100,"","","","","","",1,"A","01, , ","Albemarle RPO, , ","Dare, , , ",0.5,0.5,"Multi-Lane Highway","Multi-Lane Highway",2,2,"Undivided","Undivided",52.507045460133803,55,7.4033818208643005,92.596618179135703,22297.921419999999,88445.592550000001,0.25210890421017368,20647.121159161114,1650.800260838887,1844524.6341283831,147475.36587161687,1992000,45176349,"","","",66.7,100,33,1.4296980458902399E-4,"No","No",12,12,"No",4,4,"2 Lane Undivided","","Limited","Partial",2,"No",14.753019576345601,1250000,300000,0,1550000,"",1550000,1550000,""]
[null,null,null,null,null,null,null,null,null,null,null,null,null,null,null,null,null,null,null,null,null,null,null,null,null,null," ",null,null,null,null,null,null,{"$f":"IF(AA186=\"Yes\",15,0)","v":0},null,null,null,null,null," "]

{"sheet":"Division Needs-Aviation","index":3,"n_rows":186,"n_cols":141,"rows_kept":186,"cut":false,"hidden":false,"merged":[[1,4,1,45],[5,0,5,4],[5,6,5,40],[5,72,5,77],[6,21,6,30],[6,31,6,43]]}
[]
[null,null,null,null," "]
[]
[null,null,null,null,null,null,null,null,null,"Projects in blue are fully funded for construction and not eligible for local input point assignment ",null,"*Projects over $200M may be subject to the corridor cap",null,null,null,null,null,null,null,null,null,null,null,null,null,null,null,null,null,null,null,null,null,null,null,null,null,null,null,null,null,null,null,null,null,null,null,null,null,null,null,null,null,null,null,null,null,null,null,null,null,null,null,null,null,null,null,null,null,null,null,null,null,null,null,null,null,null,null,null,null,null,null,null,null,null,null,null,null,null,null,null,null,null,null,null,null,null,null,null,null,null,null,null,null,null,null,null,null,null,null,null,null,null,null,null,null,null,null,null,null,null,null,null,null,null,null,null,null,null,null,null,null,null,null,null,null,null,"*Projects over $200M may be subject to the corridor cap"]
[]
["DRAFT",null,null,null,null,null,"Division One Division Needs Point Assignment-Aviation",null,null,null,null,null,null,null,null,null,null,null,null,null,null,null,null,null,null,null,null,null,null,null,null,null,null,null,null,null,null,null,null,null,null,null,null,null,null,null,null,null,null,null,null,null,null,null,null,null,null,null,null,null,null,null,null,null,null,null,null,null,null,null,null,null,"DRAFT"]
[null,null,null,null,null,null,null,null,null,null,null,null,null,null,null,null,null,null,null,null,null,"Regional Criteria",null,null,null,null,null,null,null,null,null,"Division Needs"]
["SPOT ID","County","RPO","MODE","Project Category","TIP","Route","From / Cross Street","To","Description","Specific Improvement Type","Cost to NCDOT","Statewide Mobility Quantiative Score\n(Out of 100)",null,"Regional Impact Quantiative Score\n(Out of 70)","Division Methodology Preliminary Ranking","Regional Impact RPO Score (Out of 15)","Total Regional Score(Out of 100)","Division Needs Quantiative Score\n(Out of 50)","Division Needs RPO Score (Out of 25)",null,"Safety Score (15pts)","Cost Effectiveness Score (15pts)","Cost Effectiveness","Freight Volume Score                (10pts)","Transportation Plan Consistency Score (20pts)","Transportation Plan Consistency (Yes/No)","Corridor Continuity Score (20pts)","Corridor Continuity (Yes/No)","Public Support Score (20pts)","Public Support","Safety Score (20pts)","Cost Effectiveness (20pts)","Transportation Plan Consistency (15pts)","Multimodal Accomodations (10pts)","Multimodal (Yes/No)","Project Feasibility (15pts)","Project Feasibility (Significant/Minimal)","Public Support (10pts)","Public Support (Yes/No)","Airport Safety (5pts)","Airport Safety (Yes/No)","Transit Expansion (5pts)","Transit (Yes/No)","Congestion","[Travel Time] Benefit/Cost","Safety","Multimodal + [Freight & Military]","Economic Competitiveness","Accessibility / Connectivity","Lane Width","[Paved] Shoulder Width",null,null,null," MPO/RPO","First MPO/RPO %","Second MPO/RPO","Second MPO/RPO %","Third MPO/RPO","Third MPO/RPO %","First Division","First Division %","Second Division","Second Division %","Third Division","Third Division %","Divisin Methodology Preliminary Ranking","Division Methodology Preliminary Ranking","Preliminary Ranking","Preliminary Ranking","Division Engineer Local Points REGIONAL","Division Engineer Local Points DIVISION NEEDS","SPOT + Division Points","SPOT + Division + RPO              (Out of 100)","Comments","SPOT + Division Points","Comments","County","First County %","Second County","Second County %","Third County","Third County %","Fourth County","Fourth County %","Highest Division","Funding Region","All Divisions","All MPOs/RPOs","All Counties","Existing Length (Miles)","Project Length (Miles)","Existing Facility Type","Project Facility Type","Existing Lanes Per Direction","Project Lanes Per Direction","Existing Median Type","Project Median Type","Existing Speed Limit","Project Speed Limit","Truck %","Auto %","Existing Volume","Existing Capacity","Existing Volume / Capacity Ratio","Auto Volume","Truck Volume","Travel Time Savings Over 30 Years Autos (Hrs)","Travel Time Savings Over 30 Years Trucks (Hrs)","Travel Time Savings Over 30 Years Total (Hrs)","Travel Time Savings Over 30 Years Total ($)","Crash Density Points Segment","Crash Severity Points Segment","Critical Crash Rate Points Segment","Crash Frequency Points Intersection","Severity Index Points Intersection","Long Term Employment","Percent Change In Value Added","Non-Interstate STRAHNet Route","Direct Connection to Transportation Terminal","Existing Lane Width","DOT Design Standard Lane Width","Existing Roadway Has Curb & Gutter","Existing Paved Shoulder Width","DOT Design Paved Shoulder Width","Existing Cross Section","Project Cross Section","Existing Access Control","Project Access Control","County Tier","Upgrade Roadway Eligible","Census Average Commute Time","Construction Cost","Right-Of-Way Cost","Utilities Cost","Actual Project Cost","Other Funds","Cost to NCDOT","Cost Used in Benefit/Cost Analysis","Other Funds Source"]
["T130121","Dare","Albemarle RPO","Transit","Division Needs",null,null,null,null,"Expansion Vehicle-Due to expected increased demand for public transportation within the community we would like to have a 13-passenger LTV as part of our fleet in FY 2018. For the period FY2011-FY2014, we have seen an approximate increase of 15% each year for demand, riders, and trips. This trend is expected to continue as the elderly population in the region increases.",null,6655,null,null,null,null,null,null,4.03,9.75,null,{"$f":"IF(AU9<30,0,IF(AU9<50,5,IF(AU9<65,10,IF(AU9>66,15))))","v":5},0,{"$f":"(EI9/CZ9)/CO9","v":1.4999485992069509E-6},0," ","Yes",{"$f":"IF(AC9=\"Yes\",10,0)","v":0},"No",{"$f":"IF(AE9=\"Yes\",10,0)","v":0},"No",{"$f":"IF(AU9<30,0,IF(AU9<50,5,IF(AU9<65,10,IF(AU9<79,15,IF(AU9>80,20)))))","v":5},{"$f":"IF(X9<999,20,IF(X9<1499,15,IF(X9<1999,10,IF(X9<3999,5,IF(X9>4000,0)))))","v":20},{"$f":"IF(AA9=\"Yes\",15,0)","v":15},{"$f":"IF(AJ9=\"Yes\",10,0)","v":10},"Yes",{"$f":"IF(AL9=\"Minimal\",15,0)","v":15},"Minimal",{"$f":"IF(AN9=\"Yes\",10,0)","v":10},"Yes",{"$f":"IF(AP9=\"Yes\",5,0)","v":0},"No",{"$f":"IF(AR9=\"Yes\",5,0)","v":5},"Yes",null,null,31.2,null,null,null,null,null,null,null,null,"Albemarle RPO",null,null,null,null,null,null,null,null,null,null,null,null,{"$f":"SUM(AF9+AG9+AH9+AI9+AK9+AM9+AO9+AQ9)","v":80},null,null,null,100,{"$f":"S9+BU9*0.25","v":29.03},null,null,null,null,"Dare",null,null,null,null,null,null,null,null,null,null,null,null,null,248868,null,null,null,null,null,null,null,null,null,null,17828,null,null,null,null,null,null,null,null,null,null,null,null,null,null,null,null,null,null,null,null,null,null,null,null,null,null,null,null,null,null,null,null,66550,null,6655,null,"Fed:$53,240                        Local:$6,655"]
["T130109","Martin","Mid-East RPO","Transit","Division Needs",null,null,null,null,"Expansion Vehicle-Martin County  Transit provides curb to curb public transportation service in a demand-response system.   Many of the riders are elderly and/or disabled that depend on Martin County Transit as his/her's only means of transportation to services and resources.   Martin County Transit works closely with Social Services to provide transportation for these vulnerable adults. ",null,6010," ",null," ",null,null,null,3.19,null,null,5,0,0,0," ","Yes",{"$f":"IF(AC10=\"Yes\",10,0)","v":0},"No",{"$f":"IF(AE10=\"Yes\",10,0)","v":0},"No",5,20,15,10,"Yes",15,"Minimal",10,"Yes",0,"No",5,"Yes",null,null,31.2,null,null,null,null,null,null,null,null,"Mid-East RPO",null,null,null,null,null,null,null,null,null,null,null,null,80,null,null,null,null,null,null,null,null,null,"Martin",null,null,null,null,null,null,null,null,null,null,null,null,null,33392,null,null,null,null,null,null,null,null,null,null,2280,null,null,null,null,null,null,null,null,null,null,null,null,null,null,null,null,null,null,null,null,null,null,null,null,null,null,null,null,null,null,null,null,60100,null,6010,null,"Fed:$48,080 Local:$6,010"]
["T130017","Pasquotank","Albemarle RPO","Transit","Regional Impact",null,null,null,null,"Expansion Vehicle-ARHS-ICPTA’s covers a little over 1000 square miles across five counties.  Our agency wants to purchase an expansion vehicle to meet client demand. ",null,8205,null,null,5.35,{"$f":"(V11+W11+Y11+Z11+AB11+AD11)","v":60},3.15,{"$f":"O11+P11+Q11","v":68.5},5.01,9.75,null,5,{"$f":"IF(X11<499,15,IF(X11<999,10,IF(X11<1499,5,IF(X11>1500,0))))","v":15},{"$f":"(EI11/CZ11)/CO11","v":2.0337951039078898E-5},0,{"$f":"IF(AA11=\"Yes\",20,0)","v":20},"Yes",{"$f":"IF(AC11=\"Yes\",20,0)","v":0},"No",{"$f":"IF(AE11=\"Yes\",20,0)","v":20},"Yes",5,20,15,10,"Yes",15,"Minimal",10,"Yes",0,"No",5,"Yes",null,null,31.2,null,null,null,null,null,null,null,null,"Albemarle RPO",null,null,null,null,null,null,null,null,null,null,null,{"$f":"SUM(V11+W11+Y11+Z11+AB11+AD11)","v":60},80,null,null,null,null,null,null,null,{"$f":"O11+BT11*0.25","v":5.35},null,"Pasquotank",null,null,null,null,null,null,null,null,null,null,null,null,null,870586,null,null,null,null,null,null,null,null,null,null,98611,null,null,null,null,null,null,null,null,null,null,null,null,null,null,null,null,null,null,null,null,null,null,null,null,null,null,null,null,null,null,null,null,82050,null,1746000,null,"Fed:$65,640                            Local:$8,205"]
["T130018","Pasquotank","Albemarle RPO","Transit","Regional Impact",null,null,null,null,"Expansion Vehicle-ARHS-ICPTA’s covers a little over 1000 square miles across five counties.  Our agency wants to purchase an expansion vehicle to meet client demand. ",null,8205,null,null,4.8,{"$f":"SUM(V12+W12+Y12+Z12+AB12+AD12)","v":60},3.15,67.95,4.46,9.75,null,5,15,9.5574391910448089E-8,0,20,"Yes",0,"No",20,"Yes",5,20,15,10,"Yes",15,"Minimal",10,"Yes",0,"No",5,"Yes",null,null,31.2,null,null,null,null,null,null,null,null,"Albemarle RPO",null,null,null,null,null,null,null,null,null,null,null,60,80,null,null,null,null,null,null,null,4.8,null,"Pasquotank",null,null,null,null,null,null,null,null,null,null,null,null,null,870586,null,null,null,null,null,null,null,null,null,null,98611,null,null,null,null,null,null,null,null,null,null,null,null,null,null,null,null,null,null,null,null,null,null,null,null,null,null,null,null,null,null,null,null,82050,null,8205,null,"Fed:$65,640                            Local:$8,205"]
["T130019","Pasquotank","Albemarle RPO","Transit","Regional Impact",null,null,null,null,"Expansion Vehicle-ARHS-ICPTA’s covers a little over 1000 square miles across five counties.  Our agency wants to purchase an expansion vehicle to meet client demand. ",null,8205,null,null,4.8,{"$f":"SUM(V13+W13+Y13+Z13+AB13+AD13)","v":60},3.15,67.95,4.46,9.75,null,5,15,9.5574391910448089E-8,0,20,"Yes",0,"No",20,"Yes",5,20,15,10,"Yes",15,"Minimal",10,"Yes",0,"No",5,"Yes",null,null,31.2,null,null,null,null,"Fed:$65,640                            Local:$8,205",null,null,null,"Albemarle RPO",null,null,null,null,null,null,null,null,null,null,null,60,80,null,null,null,null,null,null,null,4.8,null,"Pasquotank",null,null,null,null,null,null,null,null,null,null,null,null,null,870586,null,null,null,null,null,null,null,null,null,null,98611,null,null,null,null,null,null,null,null,null,null,null,null,null,null,null,null,null,null,null,null,null,null,null,null,null,null,null,null,null,null,null,null,82050,null,8205,null,"Fed:$65,640                            Local:$8,205"]
["T130020","Pasquotank","Albemarle RPO","Transit","Regional Impact",null,null,null,null,"Expansion Vehicle-ARHS-ICPTA’s covers a little over 1000 square miles across five counties.  Our agency wants to purchase an expansion vehicle to meet client demand. ",null,8205,null,null,4.8,{"$f":"SUM(V14+W14+Y14+Z14+AB14+AD14)","v":60},3.15,67.95,4.46,9.75,null,5,15,9.5574391910448089E-8,0,20,"Yes",0,"No",20,"Yes",5,20,15,10,"Yes",15,"Minimal",10,"Yes",0,"No",5,"Yes",null,null,31.2,null,null,null,null,"Fed:$65,640                            Local:$8,205",null,null,null,"Albemarle RPO",null,null,null,null,null,null,null,null,null,null,null,60,80,null,null,null,null,null,null,null,4.8,null,"Pasquotank",null,null,null,null,null,null,null,null,null,null,null,null,null,870586,null,null,null,null,null,null,null,null,null,null,98611,null,null,null,null,null,null,null,null,null,null,null,null,null,null,null,null,null,null,null,null,null,null,null,null,null,null,null,null,null,null,null,null,82050,null,8205,null,"Fed:$65,640                            Local:$8,205"]
["T130021","Pasquotank","Albemarle RPO","Transit","Regional Impact",null,null,null,null,"Expansion Vehicle-ARHS-ICPTA’s covers a little over 1000 square miles across five counties.  Our agency wants to purchase an expansion vehicle to meet client demand. ",null,8205,null,null,4.8,{"$f":"SUM(V15+W15+Y15+Z15+AB15+AD15)","v":60},3.15,67.95,4.46,9.75,null,5,15,9.5574391910448089E-8,0,20,"Yes",0,"No",20,"Yes",5,20,15,10,"Yes",15,"Minimal",10,"Yes",0,"No",5,"Yes",null,null,31.2,null,null,null,null,"Fed:$65,640                            Local:$8,205",null,null,null,"Albemarle RPO",null,null,null,null,null,null,null,null,null,null,null,60,80,null,null,null,null,null,null,null,4.8,null,"Pasquotank",null,null,null,null,null,null,null,null,null,null,null,null,null,870586,null,null,null,null,null,null,null,null,null,null,98611,null,null,null,null,null,null,null,null,null,null,null,null,null,null,null,null,null,null,null,null,null,null,null,null,null,null,null,null,null,null,null,null,82050,null,8205,null,"Fed:$65,640                            Local:$8,205"]
["T130072","Bertie","Peanut Belt RPO","Transit","Regional Impact",null,null,null,null,"Expansion Vehicle-Purpose of expanding routes for employment, education, and/or medical purposes. Etc.  ",null,6783,null,null,2.97,{"$f":"SUM(V16+W16+Y16+Z16+AB16+AD16)","v":60},3.15,66.12,2.85,null,null,5,15,1.1956010382247026E-7,0,20,"Yes",0,"No",20,"Yes",5,20,15,10,"Yes",15,"Minimal",10,"Yes",0,"No",5,"Yes",null,null,31.2,null,null,null,null,null,null,null,null,"Peanut Belt RPO",null,null,null,null,null,null,null,null,null,null,null,60,80,null,null,null,null,null,null,null,2.97,null,"Bertie",null,null,null,null,null,null,null,null,null,null,null,null,null,1238603,null,null,null,null,null,null,null,null,null,null,45804,null,null,null,null,null,null,null,null,null,null,null,null,null,null,null,null,null,null,null,null,null,null,null,null,null,null,null,null,null,null,null,null,67830,null,6783,null,"Fed:$54,264              Local:$6,783"]
["H129676-A","Hertford","Peanut Belt RPO","Highway","Statewide Mobility","R-5311A","NC-11 ","SR 1213 (Old NC 11 Road)","","Upgrade At-Grade Intersecton to Interchange.","7 - Upgrade At-grade Intersection to Interchange or Grade Separation",9460000,15.194668034134692,null,13.574471535535771,{"$f":"(V17+W17+Y17+Z17+AB17+AD17)","v":70},null,{"$f":"O17+P17+Q17","v":83.574471535535764},8.9410226938807895,null,null,{"$f":"IF(AU17<30,0,IF(AU17<50,5,IF(AU17<65,10,IF(AU17>66,15))))","v":15},{"$f":"IF(X17<499,15,IF(X17<999,10,IF(X17<1499,5,IF(X17>1500,0))))","v":10},566.46164208284017,{"$f":"IF(DD17<500,0,IF(DD17<1000,5,IF(DD17>1000,10)))","v":10},{"$f":"IF(AA17=\"Yes\",15,0)","v":15},"Yes",{"$f":"IF(AC17=\"Yes\",10,0)","v":10},"Yes",{"$f":"IF(AE17=\"Yes\",10,0)","v":10},"Yes",15,{"$f":"IF(BM15<999,20,IF(BM15<1499,15,IF(BM15<1999,10,IF(BM15<3999,5,IF(BM15>4000,0)))))","v":20},15,{"$f":"IF(AJ17=\"Yes\",10,0)","v":10},"Yes",15,"Minimal",10,"Yes",{"$f":"IF(AP17=\"Yes\",10,0)","v":0},"No",{"$f":"IF(AR17=\"Yes\",10,0)","v":0},"No",19.501477044516125,3.2587498942917548,66.650000000000006,6.2469894638882204,4.5220205971468346,25.050239849999997,0,0,null,null,null,"Peanut Belt RPO",100,"","","","","01",100,"","","","",{"$f":"SUM(V17+W17+Y17+Z17+AB17+AD17)","v":70},{"$f":"SUM(AF17+AG17+AH17+AI17+AK17+AM17+AO17+AQ17)","v":85},null,null,100,100,{"$f":"S17+BU17*0.25","v":33.94102269388079},null,null,38.574471535535771,null,"Hertford",100,"","","","","","",1,"A","01, , ","Peanut Belt RPO, , ","Hertford, , , ",2,2,"Two Lane Highway","Multi-Lane Highway",1,1,"Undivided","Divided",49.999892227322199,55,14.962705749633502,85.0372942503665,8350.0799499999994,31000,0.26935741774193545,7100.6820572223551,1249.3978927776441,1121641.911162334,197358.08883766588,1319000,30827774,"","","",33.299999999999997,100,21,6.9440411942936698E-5,"No","No",12,12,"No",2,2,"2 Lane Undivided","","None","Full",1,"Yes",19.565219056081599,8900000,500000,60000,9460000,"",9460000,9460000,""]
["H129043","Dare","Albemarle RPO","Highway","Division Needs","R-5014","SR-1217 Collington Road","US 158","Dead End","Operational-Safety Improvements","16 - Modernize Roadway",4850000,null,null,null,null,null,null,23.32,9,null,"N/A",null,57.991491345712276,null,null,"Yes",null,null,null,null,15,{"$f":"IF(BM16<999,20,IF(BM16<1499,15,IF(BM16<1999,10,IF(BM16<3999,5,IF(BM16>4000,0)))))","v":20},15,10,"No",{"$f":"IF(AL18=\"Minimal\",15,0)","v":15},"Minimal",10,"Yes",{"$f":"IF(AP18=\"Yes\",10,0)","v":0},"No",{"$f":"IF(AR18=\"Yes\",10,0)","v":0},"No",41.974683544303801,0,66.21829770798,0,"N/A","N/A",25,100,null,null,null,"Albemarle RPO",100,"","","","","01",100,"","","","",null,{"$f":"SUM(AF18+AG18+AH18+AI18+AK18+AM18+AO18+AQ18)","v":85},null,null,null,100,{"$f":"S18+BU18*0.25","v":48.32},null,null,null,null,"Dare",100,"","","","","","",1,"A","01, , ","Albemarle RPO, , ","Dare, , , ",4.3454650700000004,4.3454650700000004,"Arterial","Arterial",1,1,"Undivided","Undivided",33,33,0,100,10000,15800,0.63291139240506333,10000,0,0,0,0,0,95.975087430000002,64.447475030000007,38.252198139999997,"","","","","No","No",11,12,"No",0,4,"2 Lane Undivided","","None","None",2,"No",25,4350000,500000,0,4850000,"",2520000,4850000,""]
["H141222","Perquimans","Albemarle RPO","Highway","Division Needs","","SR-1301 ","SR 1302","SR 1303","Widen and repave New Hope Road (Phase 2)","16 - Modernize Roadway",1114000,null,null,null,null,null,null,14.9,5.25,null,"N/A",null,469.54674256434129,null,null,"Yes",null,null,null,null,15,{"$f":"IF(X19<999,20,IF(X19<1499,15,IF(X19<1999,10,IF(X19<3999,5,IF(X19>4000,0)))))","v":20},15,10,"No",{"$f":"IF(AL19=\"Minimal\",15,0)","v":15},"Minimal",10,"Yes",{"$f":"IF(AP19=\"Yes\",10,0)","v":0},"No",{"$f":"IF(AR19=\"Yes\",10,0)","v":0},"No",4.6980645161290324,0,69.325207669245003,0,"N/A","N/A",75,0,null,null,null,"Albemarle RPO",100,"","","","","01",100,"","","","",null,{"$f":"SUM(AF19+AG19+AH19+AI19+AK19+AM19+AO19+AQ19)","v":85},null,null,null,100,{"$f":"S19+BU19*0.25","v":39.9},null,null,null,null,"Perquimans",100,"","","","","","",1,"A","01, , ","Albemarle RPO, , ","Perquimans, , , ",1.3068696,1.3068696,"Two Lane Highway","Two Lane Highway",1,1,"Undivided","Undivided",55,55,0,100,1100,15500,7.0967741935483872E-2,1100,0,0,0,0,0,75.594077170000006,94.347974910000005,38.054370570000003,"","","","","No","No",9,12,"No",0,0,"2 Lane Undivided","3A - 2 Lane with Two Way Left Turn Lane, and Paved Shoulders","None","None",2,"No",30,1114000,0,0,1114000,"",675000,1114000,""]
["H090289","Martin","Mid-East RPO","Highway","Division Needs","R-4705","SR-1142 ","NC 903","SR 1182","NC 903 to SR 1182.   Upgrade Facility.","16 - Modernize Roadway",11200000,null,null,null,null,null,null,10.09,null,null,"N/A",null,298.96243736795947,null,null,"Yes",null,null,null,null,10,20,15,{"$f":"IF(AJ20=\"Yes\",10,0)","v":10},"Yes",15,"Minimal",10,"Yes",{"$f":"IF(AP20=\"Yes\",10,0)","v":0},"No",{"$f":"IF(AR20=\"Yes\",10,0)","v":0},"No",16.672666819006448,0,59.268861974388003,0.78073851317326326,"N/A","N/A",25,0,null,null,null,"Mid-East RPO",100,"","","","","01",100,"","","","",null,{"$f":"SUM(AF20+AG20+AH20+AI20+AK20+AM20+AO20+AQ20)","v":80},null,null,null,100,{"$f":"S20+BU20*0.25","v":35.090000000000003},null,null,null,null,"Martin",100,"","","","","","",1,"A","01, , ","Mid-East RPO, , ","Martin, , , ",9.5967154299999997,9.5967154299999997,"Two Lane Highway","Two Lane Highway",1,1,"Undivided","Undivided",55,55,3.9999707795377004,96.000029220462295,3903.7210829999999,15500,0.25185297309677418,3747.5733803653475,156.14770263465266,0,0,0,0,87.040487170000006,47.05679026,43.727090930000003,"","","","","No","No",11,12,"No",0,0,"2 Lane Undivided","","None","None",1,"No",21,7200000,4000000,0,11200000,"",11200000,11200000,""]
["F130003","Dare","Albemarle RPO","Ferry","Division Needs",null,"Hatteras - South Dock (NC 12)",null,null,"Replacement Vessel – River Class Ferry (Baum-H)",null,12000000,null,null,null,null,null,null,36.700000000000003,6.75,null,null,null,89.223959053811043,null,null,"Yes",null,null,null,null,5,20,15,10,"Yes",{"$f":"IF(AL21=\"Minimal\",15,0)","v":15},"Minimal",10,"Yes",{"$f":"IF(AP21=\"Yes\",5,0)","v":0},"No",{"$f":"IF(AR21=\"Yes\",5,0)","v":0},"No",null,null,47,null,null,null,null,null,null,null,null,"Albemarle RPO",null,null,null,null,null,null,null,null,null,null,null,null,{"$f":"SUM(AF21+AG21+AH21+AI21++AK21+AM21+AO21+AQ21)","v":75},null,null,null,100,{"$f":"S21+BU21*0.25","v":61.7},null,null,null,null,"Dare",null,null,null,null,null,null,null,null,null,null,null,null,null,{"$f":"5*2","v":10},null,null,null,null,null,null,null,null,null,null,21687,null,null,null,null,null,null,null,null,null,null,null,null,null,null,null,null,null,null,null,null,null,null,null,null,null,null,null,null,null,null,null,null,12000000,null,19350000]
["T130063","Hyde","Albemarle RPO","Transit","Division Needs",null,null,null,null,"Facilities-Bus Shelter-This funding request is for 2 shelters and 20 benches to support the Ocracoke Park and Ride Project.  ",null,7600,null,null,null,null,null,null,31.19,12,null,0,0,2.8524159963489075E-7,0," ","Yes",{"$f":"IF(AC22=\"Yes\",10,0)","v":0},"No",{"$f":"IF(AE22=\"Yes\",10,0)","v":0},"No",0,20,15,10,"Yes",15,"Minimal",10,"Yes",0,"No",{"$f":"IF(AR22=\"Yes\",5,0)","v":5},"Yes",null,null,0,null,null,null,null,null,null,null,null,"Albemarle RPO",null,null,null,null,null,null,null,null,null,null,null,null,{"$f":"SUM(AF22+AG22+AH22+AI22+AK22+AM22+AO22+AQ22)","v":75},null,null,null,null,null,null,null,null,null,"Hyde",null,null,null,null,null,null,null,null,null,null,null,null,null,175290,null,null,null,null,null,null,null,null,null,null,152000,null,null,null,null,null,null,null,null,null,null,null,null,null,null,null,null,null,null,null,null,null,null,null,null,null,null,null,null,null,null,null,null,76000,null,7600,null,"Fed:$60,800                        Local:$7,600"]
["F130007","Dare","Albemarle RPO","Ferry","Division Needs",null,"Hatteras-South Dock",null,null,"Replacement Vessel-River Class Ferry( Chico)",null,12000000,null,null,null,null,null,null,29.6,7.5,null,null,null,4.6686955318854615,null,null,"Yes",null,null,null,null,5,20,15,10,"Yes",15,"Minimal",10,"Yes",0,"No",{"$f":"IF(AR23=\"Yes\",5,0)","v":0},"No",null,null,47,null,null,null,null,null,null,null,null,"Albemarle RPO",null,null,null,null,null,null,null,null,null,null,null,null,{"$f":"SUM(AF23+AG23+AH23+AI23++AK23+AM23+AO23+AQ23)","v":75},null,null,null,null,null,null,null,null,null,null,null,null,null,null,null,null,null,null,null,null,null,null,null,{"$f":"5*2","v":10},null,null,null,null,null,null,null,null,null,null,21687,null,null,null,null,null,null,null,null,null,null,null,null,null,null,null,null,null,null,null,null,null,null,null,null,null,null,null,null,null,null,null,null,12000000,null,1012500]
["F130008","Dare","Albemarle RPO","Ferry","Division Needs",null,"Hatteras-South Dock",null,null,"Replacement Vessel-River Class Ferry (Frisco)",null,12000000,null,null,null,null,null,null,28.3,7.5,null,null,null,1.8674782127541847,null,null,"Yes",null,null,null,null,5,20,15,10,"Yes",15,"Minimal",10,"Yes",0,"No",{"$f":"IF(AR24=\"Yes\",5,0)","v":0},"No",null,null,47,null,null,null,null,null,null,null,null,"Albemarle RPO",null,null,null,null,null,null,null,null,null,null,null,null,{"$f":"SUM(AF24+AG24+AH24+AI24++AK24+AM24+AO24+AQ24)","v":75},null,null,null,null,null,null,null,null,null,null,null,null,null,null,null,null,null,null,null,null,null,null,null,{"$f":"5*2","v":10},null,null,null,null,null,null,null,null,null,null,21687,null,null,null,null,null,null,null,null,null,null,null,null,null,null,null,null,null,null,null,null,null,null,null,null,null,null,null,null,null,null,null,null,12000000,null,405000]
["A130412","Hertford","Peanut Belt RPO","Aviation","Division Needs",null,"Tri-County",null,null,"Design\"North Parallel Taxiway and South Parallel Taxiway - Design\nNorth Parallel Taxiway and South Parallel Taxiway - Construction (includes Project Request Numbers: 2642/2643/3070/3071 )\"\n",null,1602288,null,null,null,null,null,null,25.95,null,null,"N/A",null,{"$f":"(EI25/CZ25)/CO25","v":52522.839394883056},null,null,"Yes",{"$f":"IF(AC25=\"Yes\",10,0)","v":0},null,{"$f":"IF(AE25=\"Yes\",10,0)","v":0},null,{"$f":"IF(AU25<30,0,IF(AU25<50,5,IF(AU25<65,10,IF(AU25<79,15,IF(AU25>80,20)))))","v":0},{"$f":"IF(BM23<999,20,IF(BM23<1499,15,IF(BM23<1999,10,IF(BM23<3999,5,IF(BM23>4000,0)))))","v":20},{"$f":"IF(AA25=\"Yes\",15,0)","v":15},{"$f":"IF(AJ25=\"Yes\",10,0)","v":10},"Yes",{"$f":"IF(AL25=\"Minimal\",15,0)","v":15},"Minimal",{"$f":"IF(AN25=\"Yes\",10,0)","v":10},"Yes",{"$f":"IF(AP25=\"Yes\",5,0)","v":5},"Yes",{"$f":"IF(AR25=\"Yes\",10,0)","v":0},"No",null,null,null,null,null,null,null,null,null,null,null,"Peanut Belt RPO",null,null,null,null,null,null,null,null,null,null,null,null,{"$f":"SUM(AF25+AG25+AH25+AI25+AK25+AM25+AO25+AQ25)","v":75},null,null,null,100,{"$f":"S25+BU25*0.25","v":50.95},{"$f":"BV25+T25","v":50.95},null,null,null,"Hertford",null,null,null,null,null,null,null,null,null,null,null,null,null,0.85,null,null,null,null,null,null,null,null,null,null,35.89,null,null,null,null,null,null,null,null,null,null,null,null,null,null,null,null,null,null,null,null,null,null,null,null,null,null,null,null,null,null,null,null,1780320,null,1602288]
["F130011","Hyde","Albemarle RPO","Ferry","Division Needs",null,"Swan Quarter-Ocracoke",null,null,"Replacement Vessel-Sound Class Ferry (Pamlico)",null,16000000,null,null,null,null,null,null,14.4,7.5,null,null,null,185.57179308745071,null,null,"Yes",null,null,null,null,5,{"$f":"IF(X26<999,20,IF(X26<1499,15,IF(X26<1999,10,IF(X26<3999,5,IF(X26>4000,0)))))","v":20},15,10,"Yes",15,"Minimal",10,"Yes",{"$f":"IF(AP26=\"Yes\",5,0)","v":0},"No",{"$f":"IF(AR26=\"Yes\",5,0)","v":0},"No",null,null,34,null,null,null,null,null,null,null,null,"Albemarle RPO",null,null,null,null,null,null,null,null,null,null,null,null,{"$f":"SUM(AF26+AG26+AH26+AI26++AK26+AM26+AO26+AQ26)","v":75},null,null,null,null,null,null,null,null,null,"Hyde",null,null,null,null,null,null,null,null,null,null,null,null,null,{"$f":"30*2","v":60},null,null,null,null,null,null,null,null,null,null,1437,null,null,null,null,null,null,null,null,null,null,null,null,null,null,null,null,null,null,null,null,null,null,null,null,null,null,null,null,null,null,null,null,16000000,null,16000000]
["B141355","Perquimans","Albemarle RPO","Bike & Ped","Division Needs",null,"Harvey Point Road","US-17","N. Commerce Drive","Construct 5' wide multi-use path along eastern side of Harvey Point Road","2. Construct multi-use trail / greenway / sidepath or on-road bike lane on local roadway",400000,null,null,null,null,null,null,13.463021372661501,9.75,null,"N/A",null,1441.3118527042577,null,null,"Yes",null,null,null,null,10,15,15,10,"Yes",15,"Minimal",10,"Yes",{"$f":"IF(AP27=\"Yes\",10,0)","v":0},"No",{"$f":"IF(AR27=\"Yes\",10,0)","v":0},"No",null,null,50,null,null,null,null,null,null,null,null,"Albemarle RPO",null,null,null,null,null,null,null,null,null,null,null,null,{"$f":"SUM(AF27+AG27+AH27+AI27+AK27+AM27+AO27)","v":75},null,null,null,null,null,null,null,null,null,"Perquimans County",null,null,null,null,null,null,null,null,null,null,null,null,null,0.66,null,null,null,null,null,null,null,null,null,null,158,null,null,null,null,null,null,null,null,null,null,null,null,null,null,null,null,null,null,null,null,null,null,null,null,null,null,null,null,null,380000,0,null,400000,0,150300]
["F130012","Currituck","Albemarle RPO","Ferry","Division Needs",null,"Currituck - Knotts Island",null,null,"Replacement Vessel-River Class Ferry (Hunt)",null,12000000,null,null,null,null,null,null,12.3,7.5,null,null,null,660.42927903137047,null,null,"Yes",null,null,null,null,5,20,15,10,"Yes",15,"Minimal",10,"Yes",{"$f":"IF(AP28=\"Yes\",5,0)","v":0},"No",{"$f":"IF(AR28=\"Yes\",5,0)","v":0},"No",null,null,46,null,null,null,null,null,null,null,null,"Albemarle RPO",null,null,null,null,null,null,null,null,null,null,null,null,{"$f":"SUM(AF28+AG28+AH28+AI28++AK28+AM28+AO28+AQ28)","v":75},null,null,null,null,null,null,null,null,null,null,null,null,null,null,null,null,null,null,null,null,null,null,null,{"$f":"5*2","v":10},null,null,null,null,null,null,null,null,null,null,1817,null,null,null,null,null,null,null,null,null,null,null,null,null,null,null,null,null,null,null,null,null,null,null,null,null,null,null,null,null,null,null,null,12000000,null,12000000]
["T130067","Hyde","Albemarle RPO","Transit","Division Needs",null,null,null,null,"Expansion Vehicle-This funding request is for 6 LTV and 3 Trams to support the Ocracoke Park and Ride Project.",null,85500,null,null,null,null,null,null,11.36,12,null,{"$f":"IF(AU29<30,0,IF(AU29<50,5,IF(AU29<65,10,IF(AU29>66,15))))","v":0},0,3.2089679958925209E-6,0," ","Yes",{"$f":"IF(AC29=\"Yes\",10,0)","v":0},"No",{"$f":"IF(AE29=\"Yes\",10,0)","v":0},"No",0,20,15,10,"Yes",15,"Minimal",10,"Yes",{"$f":"IF(AP29=\"Yes\",5,0)","v":0},"No",{"$f":"IF(AR29=\"Yes\",5,0)","v":5},"Yes",null,null,20.6,null,null,null,null,null,null,null,null,"Albemarle RPO",null,null,null,null,null,null,null,null,null,null,null,null,{"$f":"SUM(AF29+AG29+AH29+AI29+AK29+AM29+AO29+AQ29)","v":75},null,null,null,null,null,null,null,null,null,"Hyde",null,null,null,null,null,null,null,null,null,null,null,null,null,175290,null,null,null,null,null,null,null,null,null,null,152000,null,null,null,null,null,null,null,null,null,null,null,null,null,null,null,null,null,null,null,null,null,null,null,null,null,null,null,null,null,null,null,null,855000,null,85500,null,"Fed:$684,000   Local:$85,500"]
["F130013","Hyde","Albemarle RPO","Ferry","Division Needs",null,"Cedar Island-Ocracoke",null,null,"Replacement Vessel-Sound Class Ferry (Silver Lake)",null,16000000,null,null,null,null,null,null,16.3,7.5,null,null,null,263.20984404816738,null,null,"Yes",null,null,null,null,5,20,15,10,"Yes",15,"Minimal",10,"Yes",{"$f":"IF(AP30=\"Yes\",5,0)","v":0},"No",{"$f":"IF(AR30=\"Yes\",5,0)","v":0},"No",null,null,38.5,null,null,null,null,null,null,null,null,"Albemarle RPO",null,null,null,null,null,null,null,null,null,null,null,null,{"$f":"SUM(AF30+AG30+AH30+AI30++AK30+AM30+AO30+AQ30)","v":75},null,null,null,null,null,null,null,null,null,null,null,null,null,null,null,null,null,null,null,null,null,null,null,{"$f":"13*2","v":26},null,null,null,null,null,null,null,null,null,null,2338,null,null,null,null,null,null,null,null,null,null,null,null,null,null,null,null,null,null,null,null,null,null,null,null,null,null,null,null,null,null,null,null,16000000,null,16000000]
["F130014","Hyde","Albemarle RPO","Ferry","Division Needs",null,"Cedar Island-Ocracoke",null,null,"Replacement Vessel-Sound Class Ferry (Carteret)",null,16000000,null,null,null,null,null,null,15.3,7.5,null,null,null,263.20984404816738,null,null,"Yes",null,null,null,null,5,20,15,10,"Yes",15,"Minimal",10,"Yes",{"$f":"IF(AP31=\"Yes\",5,0)","v":0},"No",{"$f":"IF(AR31=\"Yes\",5,0)","v":0},"No",null,null,38.5,null,null,null,null,null,null,null,null,"Albemarle RPO",null,null,null,null,null,null,null,null,null,null,null,null,{"$f":"SUM(AF31+AG31+AH31+AI31++AK31+AM31+AO31+AQ31)","v":75},null,null,null,null,null,null,null,null,null,"Currituck",null,null,null,null,null,null,null,null,null,null,null,null,null,{"$f":"13*2","v":26},null,null,null,null,null,null,null,null,null,null,2338,null,null,null,null,null,null,null,null,null,null,null,null,null,null,null,null,null,null,null,null,null,null,null,null,null,null,null,null,null,null,null,null,16000000,null,16000000]
["A130413","Hertford","Peanut Belt RPO","Aviation","Division Needs",null,"Tri-County",null,null,"Corporate & T-hanger Taxiways-This project will provide access to the T-Hangars that are to be constructed. (includes Project Request Numbers: 2648 )",null,230400,null,null,null,null,null,null,7.47,null,null,"N/A",null,7552.4888138593415,null,null,"Yes",{"$f":"IF(AC32=\"Yes\",10,0)","v":0},null,{"$f":"IF(AE32=\"Yes\",10,0)","v":0},null,0,{"$f":"IF(BM30<999,20,IF(BM30<1499,15,IF(BM30<1999,10,IF(BM30<3999,5,IF(BM30>4000,0)))))","v":20},15,10,"Yes",15,"Minimal",10,"Yes",{"$f":"IF(AP32=\"Yes\",5,0)","v":5},"Yes",{"$f":"IF(AR32=\"Yes\",10,0)","v":0},"No",null,null,null,null,null,null,null,null,null,null,null,"Peanut Belt RPO",null,null,null,null,null,null,null,null,null,null,null,null,{"$f":"SUM(AF32+AG32+AH32+AI32+AK32+AM32+AO32+AQ32)","v":75},null,null,null,null,{"$f":"S32+BU32*0.25","v":7.47},{"$f":"BV32+T32","v":7.47},null,null,null,"Hertford",null,null,null,null,null,null,null,null,null,null,null,null,null,0.85,null,null,null,null,null,null,null,null,null,null,35.89,null,null,null,null,null,null,null,null,null,null,null,null,null,null,null,null,null,null,null,null,null,null,null,null,null,null,null,null,null,null,null,null,256000,null,230400]
["H141724","Bertie","Peanut Belt RPO","Highway","Statewide Mobility","","US-17 , US-13 ","US 64 at Williamston","US 13 North at Windsor","Upgrade roadway to Interstate","2 - Upgrade Arterial to Freeway/Expressway",296415000,13.963177203030861,null,18.190000000000001,{"$f":"(V33+W33+Y33+Z33+AB33+AD33)","v":55},null,{"$f":"O33+P33+Q33","v":73.19},14.61,null,null,{"$f":"IF(AU33<30,0,IF(AU33<50,5,IF(AU33<65,10,IF(AU33>66,15))))","v":10},{"$f":"IF(X33<499,15,IF(X33<999,10,IF(X33<1499,5,IF(X33>1500,0))))","v":0},1821.1995352104639,{"$f":"IF(DD33<500,0,IF(DD33<1000,5,IF(DD33>1000,10)))","v":10},{"$f":"IF(AA33=\"Yes\",15,0)","v":15},"Yes",{"$f":"IF(AC33=\"Yes\",10,0)","v":10},"Yes",{"$f":"IF(AE33=\"Yes\",10,0)","v":10},"Yes",10,{"$f":"IF(BM31<999,20,IF(BM31<1499,15,IF(BM31<1999,10,IF(BM31<3999,5,IF(BM31>4000,0)))))","v":20},15,10,"Yes",15,"Minimal",10,"Yes",{"$f":"IF(AP33=\"Yes\",10,0)","v":0},"No",0,"No",13.832167036632629,0.39403603056525477,56.903493981509996,10.770627201140798,18.508414444923371,35.755430809828404,0,75,null,null,null,"Peanut Belt RPO",89.61,"Mid-East RPO",10.39,"","","01",100,"","","","",{"$f":"SUM(V33+W33+Y33+Z33+AB33+AD33)","v":55},{"$f":"SUM(AF33+AG33+AH33+AI33+AK33+AM33+AO33+AQ33)","v":80},null,null,null,null,{"$f":"S33+BU33*0.25","v":14.61},null,"Delay Prioritization pending outcome of Future Interstate Designation; Exceeds cap of $15 million for Statewide & Regional Projects cascading to Division Needs",{"$f":"O33+BT33*0.25","v":18.190000000000001},null,"Bertie",89.61,"Martin",10.39,"","","","",1,"A","01, , ","Peanut Belt RPO, Mid-East RPO, ","Bertie, Martin, , ",14.46506022,14.46506022,"Multi-Lane Highway","Freeway",2,2,"Divided","Divided",54.750299643765302,70,12.233633194568,87.766366805432,11251.8102699428,72347.719571150898,0.15552404881092519,9875.3050737692665,1376.5051961735337,4433453.3141525285,617972.96167929168,5051426.2758318204,116798190,56.167965979999998,51.059687429999997,63.499901289999997,"","",79.840633949681404,2.9032765494878602E-4,"Yes","No",12,12,"No",1,4,"4 Lane with Median - Partial Control","4A - 4 Lane Divided (46' Depressed Median) with Paved Shoulders","None","Full",1,"Yes",21,226794000,62162000,7459000,296415000,"",296415000,296415000,""]
["H111228","Camden","Albemarle RPO","Highway","Division Needs","","SR-1227 ","NC 168","NC 343 in Camden County","Widen to 24 Feet with Paved Shoulders and Turn Lanes Where Necessary from\nthe Camden County Line to the Location of the Proposed NC 168 Bypass.","16 - Modernize Roadway",12540000,null,null,null,null,null,null,10.43,9.75,null,"N/A",null,7.9858468392354567,null,null,"Yes",null,null,null,null,5,{"$f":"IF(X34<999,20,IF(X34<1499,15,IF(X34<1999,10,IF(X34<3999,5,IF(X34>4000,0)))))","v":20},15,10,"No",{"$f":"IF(AL34=\"Minimal\",15,0)","v":15},"Minimal",10,"Yes",{"$f":"IF(AP34=\"Yes\",10,0)","v":0},"No",0,"No",9.3998067385422761,0,44.936317592166006,0,"N/A","N/A",50,0,null,null,null,"Albemarle RPO",100,"","","","","01",100,"","","","",null,{"$f":"SUM(AF34+AG34+AH34+AI34+AK34+AM34+AO34+AQ34)","v":75},null,null,null,100,{"$f":"S34+BU34*0.25","v":35.43},null,null,null,null,"Camden",55.7,"Currituck",44.3,"","","","",1,"A","01, , ","Albemarle RPO, , ","Camden, Currituck, , ",11.004277439999999,11.004277439999999,"Two Lane Highway","Two Lane Highway",1,1,"Undivided","Undivided",54,54,0,100,2201.904411,15508.10743,0.14198408290237127,2201.904411,0,0,0,0,0,69.443972479999999,39.267785250000003,26.110677290000002,"","","","","No","No",10,12,"No",0,0,"2 Lane Undivided","","None","None",1,"No",34,12540000,0,0,12540000,"",193500,12540000,""]
["H129113-A","Northampton","Peanut Belt RPO","Highway","Statewide Mobility","R-2582A","US-158 , NC-46 ","I-95/NC 46 in Roanoke Rapids","SR 1312 (St. John Church Road)","Widen to Multi-Lanes.","1 - Widen Existing Roadway",61600000,10.75557238499411,null,10.87,{"$f":"(V35+W35+Y35+Z35+AB35+AD35)","v":45},null,{"$f":"O35+P35+Q35","v":55.87},8.0399999999999991,null,null,{"$f":"IF(AU35<30,0,IF(AU35<50,5,IF(AU35<65,10,IF(AU35>66,15))))","v":5},{"$f":"IF(X35<499,15,IF(X35<999,10,IF(X35<1499,5,IF(X35>1500,0))))","v":0},2091.14740608183,{"$f":"IF(DD35<500,0,IF(DD35<1000,5,IF(DD35>1000,10)))","v":5},{"$f":"IF(AA35=\"Yes\",15,0)","v":15},"Yes",{"$f":"IF(AC35=\"Yes\",10,0)","v":10},"Yes",{"$f":"IF(AE35=\"Yes\",10,0)","v":10},"Yes",5,{"$f":"IF(BM33<999,20,IF(BM33<1499,15,IF(BM33<1999,10,IF(BM33<3999,5,IF(BM33>4000,0)))))","v":0},15,{"$f":"IF(AJ35=\"Yes\",10,0)","v":10},"Yes",15,"Minimal",10,"Yes",{"$f":"IF(AP35=\"Yes\",10,0)","v":0},"No",0,"No",16.653337707758549,1.1873089610389611,37.553088508914001,2.7725679898764266,10.935559354881701,15.814667089,25,0,null,null,null,"Peanut Belt RPO",100,"","","","","01",100,"","","","",{"$f":"SUM(V35+W35+Y35+Z35+AB35+AD35)","v":45},{"$f":"SUM(AF35+AG35+AH35+AI35+AK35+AM35+AO35+AQ35)","v":55},null,null,null,null,{"$f":"S35+BU35*0.25","v":8.0399999999999991},null,"Exceeds cap of $15 million for Statewide & Regional Projects cascading to Division Needs",{"$f":"O35+BT35*0.25","v":10.87},null,"Northampton",100,"","","","","","",1,"A","01, , ","Peanut Belt RPO, , ","Northampton, , , ",7.4799006700000001,7.4799006700000001,"Arterial","Multi-Lane Highway",1,2,"Undivided","Divided",50,50,14.080301894199701,85.919698105800293,3938.2223629999999,15671.3475,0.25130081270930915,3383.7087650247145,554.51359797528528,2698025.2618860388,442145.52707987302,3140170.7889659116,73138232,40.937157169999999,38.616381390000001,33.11699402,"","",50,1.6871118709763401E-4,"No","No",11,12,"No",1,0,"2 Lane Undivided","4A - 4 Lane Divided (46' Depressed Median) with Paved Shoulders","None","Partial",1,"Yes",22,54000000,7600000,0,61600000,"",61600000,61600000,""]
["B141365","Dare","Albemarle RPO","Bike & Ped","Division Needs",null,"Us 158 sidewalk","Bennett Street","Worthington Lane","Construct 6000' of sidewalk on west side of US 158","5. Construct Sidewalk",282000,null,null,null,null,null,null,15.295680447883793,9.75,null,"N/A",null,3163.9556096077831,null,null,"Yes",null,null,null,null,15,{"$f":"IF(X36<999,20,IF(X36<1499,15,IF(X36<1999,10,IF(X36<3999,5,IF(X36>4000,0)))))","v":5},15,{"$f":"IF(AJ36=\"Yes\",10,0)","v":10},"Yes",{"$f":"IF(AL36=\"Minimal\",15,0)","v":15},"Minimal",10,"Yes",{"$f":"IF(AP36=\"Yes\",10,0)","v":0},"No",0,"No",null,null,65,null,null,null,null,null,null,null,null,"Albemarle RPO",null,null,null,null,null,null,null,null,null,null,null,null,{"$f":"SUM(AF36+AG36+AH36+AI36+AK36+AM36+AO36)","v":70},null,null,null,null,null,null,null,null,null,"Dare County",null,null,null,null,null,null,null,null,null,null,null,null,null,1.56,null,null,null,null,null,null,null,null,null,null,{"$f":"1012*0.1","v":101.2},null,null,null,null,null,null,null,null,null,null,null,null,null,null,null,null,null,null,null,null,null,null,null,null,null,null,null,null,null,272000,0,null,282000,0,499500]
["A130011","Pasquotank","Albemarle RPO","Aviation","Division Needs",null,"Elizabeth City Coast Guard Air Station/Regional",null,null,"Hangers and Economic Development",null,150300,null,null,null,null,null,null,5.76,13.5,null,"N/A",null,1061.0615133292763,null,null,"Yes",{"$f":"IF(AC37=\"Yes\",10,0)","v":0},null,{"$f":"IF(AE37=\"Yes\",10,0)","v":0},null,0,{"$f":"IF(X37<999,20,IF(X37<1499,15,IF(X37<1999,10,IF(X37<3999,5,IF(X37>4000,0)))))","v":15},15,{"$f":"IF(AJ37=\"Yes\",10,0)","v":10},"Yes",{"$f":"IF(AL37=\"Minimal\",15,0)","v":15},"Minimal",10,"Yes",{"$f":"IF(AP37=\"Yes\",5,0)","v":5},"Yes",0,"No",null,null,null,null,null,null,null,null,null,null,null,"Albemarle RPO",null,null,null,null,null,null,null,null,null,null,null,null,{"$f":"SUM(AF37+AG37+AH37+AI37+AK37+AM37+AO37+AQ37)","v":70},null,null,null,null,{"$f":"S37+BU37*0.25","v":5.76},{"$f":"BV37+T37","v":19.259999999999998},null,null,null,"Pasquotank",null,null,null,null,null,null,null,null,null,null,null,null,null,0.86,null,null,null,null,null,null,null,null,null,null,164.71,null,null,null,null,null,null,null,null,null,null,null,null,null,null,null,null,null,null,null,null,null,null,null,null,null,null,null,null,null,null,null,null,167000,null,150300]
["H090139","Currituck","Albemarle RPO","Highway","Statewide Mobility","R-2574","US-158 ","East of NC 34 at Belcross in Camden County","NC 168 in Currituck County","Widen to Multi-Lanes.","1 - Widen Existing Roadway",124500000,12.917806507523943,null,15.32,{"$f":"(V38+W38+Y38+Z38+AB38+AD38)","v":60},5.85,{"$f":"O38+P38+Q38","v":81.169999999999987},11.88,9,null,{"$f":"IF(AU38<30,0,IF(AU38<50,5,IF(AU38<65,10,IF(AU38>66,15))))","v":5},{"$f":"IF(X38<499,15,IF(X38<999,10,IF(X38<1499,5,IF(X38>1500,0))))","v":0},1995.9908209645782,{"$f":"IF(DD38<500,0,IF(DD38<1000,5,IF(DD38>1000,10)))","v":5},{"$f":"IF(AA38=\"Yes\",20,0)","v":20},"Yes",{"$f":"IF(AC38=\"Yes\",10,0)","v":10},"Yes",{"$f":"IF(AE38=\"Yes\",20,0)","v":20},"Yes",5,{"$f":"IF(BM36<999,20,IF(BM36<1499,15,IF(BM36<1999,10,IF(BM36<3999,5,IF(BM36>4000,0)))))","v":20},15,10,"No",{"$f":"IF(AL38=\"Minimal\",15,0)","v":15},"Minimal",10,"Yes",{"$f":"IF(AP38=\"Yes\",10,0)","v":0},"No",0,"No",25.899192792202655,4.9311622489959836E-2,42.817742247555003,3.7513246389685184,1.0121603056695501,40.175551936000005,0,50,null,null,null,"Albemarle RPO",100,"","","","","01",100,"","","","",{"$f":"SUM(V38+W38+Y38+Z38+AB38+AD38)","v":60},75,null,null,100,null,11.88,null,"Exceeds cap of $15 million for Statewide & Regional Projects cascading to Division Needs",{"$f":"O38+BT38*0.25","v":40.32},null,"Currituck",81.819999999999993,"Camden",18.18,"","","","",1,"A","01, , ","Albemarle RPO, , ","Currituck, Camden, , ",10.2830142,10.2830142,"Two Lane Highway","Multi-Lane Highway",1,2,"Undivided","Divided",55,55,12.3687060697064,87.631293930293594,6065.8319760000004,15505.137360000001,0.39121433336337758,5315.5670482062969,750.26492779370369,232553.67338973124,32823.753964834919,265377.42735456617,6139297,47.387447479999999,46.640021480000001,34.438604390000002,"","",4,1.6243206113391E-5,"No","No",12,12,"No",0,2,"2 Lane Undivided","4A - 4 Lane Divided (46' Depressed Median) with Paved Shoulders","None","Partial",2,"Yes",32,82500000,40600000,1400000,124500000,"",124500000,124500000,""]
["H090201","Bertie","Peanut Belt RPO","Highway","Regional Impact","R-2900","NC-11 ","NC 903 in Martin County","US 13 Bypass North of Ahoskie in Hertford County","Widen to Multi-Lanes","1 - Widen Existing Roadway",264678000,null,null,9.6828556939639139,{"$f":"(V39+W39+Y39+Z39+AB39+AD39)","v":45},null,{"$f":"O39+P39+Q39","v":54.682855693963916},6.4527639498232601,null,null,{"$f":"IF(AU39<30,0,IF(AU39<50,5,IF(AU39<65,10,IF(AU39>66,15))))","v":5},{"$f":"IF(X39<499,15,IF(X39<999,10,IF(X39<1499,5,IF(X39>1500,0))))","v":0},1767.5616600315998,{"$f":"IF(DD39<500,0,IF(DD39<1000,5,IF(DD39>1000,10)))","v":5},{"$f":"IF(AA39=\"Yes\",15,0)","v":15},"Yes",{"$f":"IF(AC39=\"Yes\",10,0)","v":10},"Yes",{"$f":"IF(AE39=\"Yes\",10,0)","v":10},"Yes",5,{"$f":"IF(BM37<999,20,IF(BM37<1499,15,IF(BM37<1999,10,IF(BM37<3999,5,IF(BM37>4000,0)))))","v":20},15,{"$f":"IF(AJ39=\"Yes\",10,0)","v":10},"Yes",15,"Minimal",10,"Yes",0,"No",0,"No",22.004158280104082,7.4195384580509144E-2,42.449285833548004,4.9984943886064652,"N/A",19.458886990000003,0,0,null,null,null,"Peanut Belt RPO",91.83,"Mid-East RPO",8.17,"","","01",100,"","","","",{"$f":"SUM(V39+W39+Y39+Z39+AB39+AD39)","v":45},75,null,null,null,null,6.4527639498232601,null,"Exceeds cap of $15 million for Statewide & Regional Projects cascading to Division Needs",{"$f":"O39+BT39*0.25","v":9.6828556939639139},null,"Bertie",60.05,"Hertford",31.78,"Martin",8.17,"","",1,"A","01, , ","Peanut Belt RPO, Mid-East RPO, ","Bertie, Hertford, Martin, ",29.059377309999999,29.059377309999999,"Two Lane Highway","Multi-Lane Highway",1,2,"Undivided","Divided",54,55,19.400469355290102,80.599530644709901,5152.9623300000003,15503.09146,0.33238288913506808,4153.2634522787075,999.698877721293,665630.52880070708,160218.60887587239,825849.13767657941,19637886,52.985728870000003,37.521074390000003,36.8537903,"","","","","No","No",12,12,"No",2,2,"2 Lane Undivided","4A - 4 Lane Divided (46' Depressed Median) with Paved Shoulders","Limited","Partial",1,"Yes",22,224808000,35598000,4272000,264678000,"",264678000,264678000,""]
["H090400","Pasquotank","Albemarle RPO","Highway","Division Needs","U-3420","SR-1309 New Route - Main Street Extension","Proposed US 17 Bypass","US 17","Proposed US 17 Bypass to US 17 Bypass (Hughes Boulevard). Upgrade Roadway, Some New Location with interchange at the  Proposed US 17 Bypass.","6 - Widen Existing Roadway and Construct Part on New Location",37604000,null,null,null,null,null,null,7.4926218010578971,9.75,null,"N/A",null,570.59042489894205,null,null,"Yes",null,null,null,null,10,{"$f":"IF(X40<999,20,IF(X40<1499,15,IF(X40<1999,10,IF(X40<3999,5,IF(X40>4000,0)))))","v":20},15,{"$f":"IF(AJ40=\"Yes\",10,0)","v":0},"No",{"$f":"IF(AL40=\"Minimal\",15,0)","v":15},"Minimal",10,"Yes",0,"No",0,"No",21.23955152748097,0,53.686666483098001,2.2125776482960196,"N/A","N/A",0,0,null,null,null,"Albemarle RPO",100,"","","","","01",100,"","","","",null,70,null,null,null,null,7.4926218010578971,null,"Exceeds cap of $15 million for Statewide & Regional Projects cascading to Division Needs",null,null,"Pasquotank",100,"","","","","","",1,"A","01, , ","Albemarle RPO, , ","Pasquotank, , , ",8.1,4.4965362500000001,"Multi-Lane Highway","Arterial",2,2,"Divided","Divided",53,45,3.0192359281745,96.980764071825504,14656.54027,57189.055699999997,0.25628225699134949,14214.024740340796,442.51552965920388,0,0,0,0,45.39256322,70.290980619999999,45.39256322,"","","","","No","No",12,12,"No",4,4,"New Roadway","4B - 4 Lane Divided (23' Raised Median) with Paved Shoulders and Sidewalks","None","Partial",2,"No",23,32490000,4566000,548000,37604000,"",37604000,37604000,""]
["H141863","Bertie","Peanut Belt RPO","Highway","Statewide Mobility","","US-17-BYP-Windsor Bypass","US 13 North at Windsor","US 17A East of Windsor","Upgrade freeway to interstate standards","17 - Upgrade Freeway to Interstate Standards",18115000,5.280522319769938,null,13.48,{"$f":"(V41+W41+Y41+Z41+AB41+AD41)","v":60},null,{"$f":"O41+P41+Q41","v":73.48},12.32,null,null,{"$f":"IF(AU41<30,0,IF(AU41<50,5,IF(AU41<65,10,IF(AU41>66,15))))","v":0},{"$f":"IF(X41<499,15,IF(X41<999,10,IF(X41<1499,5,IF(X41>1500,0))))","v":15},377.5845547580675,{"$f":"IF(DD41<500,0,IF(DD41<1000,5,IF(DD41>1000,10)))","v":10},{"$f":"IF(AA41=\"Yes\",15,0)","v":15},"Yes",{"$f":"IF(AC41=\"Yes\",10,0)","v":10},"Yes",{"$f":"IF(AE41=\"Yes\",10,0)","v":10},"Yes",0,20,15,{"$f":"IF(AJ41=\"Yes\",10,0)","v":10},"Yes",15,"Minimal",10,"Yes",0,"No",0,"No",8.9789540080974994,0,14.225955942132,5.8043325764056979,3.3740078463481447E-2,17.24548809831855,0,100,null,null,null,"Peanut Belt RPO",100,"","","","","01",100,"","","","",{"$f":"SUM(V41+W41+Y41+Z41+AB41+AD41)","v":60},70,null,null,null,null,12.32,null,"Delay Prioritization pending outcome of Future Interstate Designation; Exceeds cap of $15 million for Statewide & Regional Projects cascading to Division Needs",{"$f":"O41+BT41*0.25","v":13.48},null,"Bertie",100,"","","","","","",1,"A","01, , ","Peanut Belt RPO, , ","Bertie, , , ",6.6215013200000001,6.6215013200000001,"Freeway","Freeway",2,2,"Divided","Divided",69.868031583409305,69.868031583409305,16.0219228784675,83.978077121532493,7245.4880983185503,71492.605187994195,0.10134597947950133,6084.6215830374103,1160.8665152811395,0,0,0,0,15.056317160000001,7.53506316,20.090755720000001,"","",0.15711071904780799,5.1769085022182097E-7,"No","No",12,12,"No",0,4,"4 Lane with Median - Full Control","","Full","Full",1,"No",25,18115000,0,0,18115000,"",18115000,18115000,""]
["H090149-C","Northampton","Peanut Belt RPO","Highway","Statewide Mobility","R-2584C","US-158 ","East of SR 1365","Murfreesboro Bypass","Widen to Multi-Lanes, Part on New  Location.","1 - Widen Existing Roadway",15500000,9.3681981442180433,null,8.4421943032112416,{"$f":"(V42+W42+Y42+Z42+AB42+AD42)","v":45},null,{"$f":"O42+P42+Q42","v":53.442194303211238},5.627067316119323,null,null,{"$f":"IF(AU42<30,0,IF(AU42<50,5,IF(AU42<65,10,IF(AU42>66,15))))","v":5},{"$f":"IF(X42<499,15,IF(X42<999,10,IF(X42<1499,5,IF(X42>1500,0))))","v":5},1024.9810988969052,{"$f":"IF(DD42<500,0,IF(DD42<1000,5,IF(DD42>1000,10)))","v":0},{"$f":"IF(AA42=\"Yes\",15,0)","v":15},"Yes",{"$f":"IF(AC42=\"Yes\",10,0)","v":10},"Yes",{"$f":"IF(AE42=\"Yes\",10,0)","v":10},"Yes",5,15,15,{"$f":"IF(AJ42=\"Yes\",10,0)","v":10},"Yes",15,"Minimal",10,"Yes",0,"No",0,"No",16.471282630658063,3.1866580645161291E-2,39.767523949889998,2.1687150311144747,6.7579796151811991E-2,23.569707588,0,0,null,null,null,"Peanut Belt RPO",100,"","","","","01",100,"","","","",{"$f":"SUM(V42+W42+Y42+Z42+AB42+AD42)","v":45},70,null,null,null,null,5.627067316119323,null,"Exceeds cap of $15 million for Statewide & Regional Projects cascading to Division Needs",{"$f":"O42+BT42*0.25","v":8.4421943032112416},null,"Northampton",100,"","","","","","",1,"A","01, , ","Peanut Belt RPO, , ","Northampton, , , ",3.9211613500000002,3.9211613500000002,"Two Lane Highway","Multi-Lane Highway",1,2,"Undivided","Divided",55,55,11.2468617618159,88.753138238184107,3856.5691959999999,15500,0.24881091587096774,3422.8261897771054,433.74300622289491,19034.061700427039,2412.010042237323,21446.07174266436,493932,45.618827529999997,32.736669169999999,40.959006600000002,"","",0,1.3515959230362399E-6,"No","No",12,12,"No",2,0,"2 Lane Undivided","4A - 4 Lane Divided (46' Depressed Median) with Paved Shoulders","None","Partial",1,"Yes",26,10800000,4700000,0,15500000,"",15500000,15500000,""]
["H141650","Northampton","Peanut Belt RPO","Highway","Regional Impact","","US-258 ","Halifax County Line","Rich Square Town Limits","Currently a 2-lane major thoroughfare, it is recommended to widen to 24 feet w/ paved shoulders where necessary from Halifax County line to Rich Square town limits. Provides continuity with Halifax County CTP recommendations, which were based on recommendations in the Edgecombe County CTP.\n","16 - Modernize Roadway",701000,null,null,6.001844019965354,{"$f":"(V43+W43+Y43+Z43+AB43+AD43)","v":50},null,{"$f":"O43+P43+Q43","v":56.001844019965354},4.0012293466435693,null,null,{"$f":"IF(AU43<30,0,IF(AU43<50,5,IF(AU43<65,10,IF(AU43>66,15))))","v":0},{"$f":"IF(X43<499,15,IF(X43<999,10,IF(X43<1499,5,IF(X43>1500,0))))","v":15},45.604565057177851,{"$f":"IF(DD43<500,0,IF(DD43<1000,5,IF(DD43>1000,10)))","v":0},{"$f":"IF(AA43=\"Yes\",15,0)","v":15},"Yes",{"$f":"IF(AC43=\"Yes\",10,0)","v":10},"Yes",{"$f":"IF(AE43=\"Yes\",10,0)","v":10},"Yes",0,20,15,{"$f":"IF(AJ43=\"Yes\",10,0)","v":10},"Yes",15,"Minimal",10,"Yes",0,"No",0,"No",11.153476270105694,0,28.858817196330001,1.999890922488379,"N/A",12.61146520254281,0,0,null,null,null,"Peanut Belt RPO",100,"","","","","01",100,"04","","","",{"$f":"SUM(V43+W43+Y43+Z43+AB43+AD43)","v":50},70,null,null,null,100,29.001229346643569,null,null,{"$f":"O43+BT43*0.25","v":6.001844019965354},null,"Northampton",100,"Halifax","","","","","",1,"A","01, 04, ","Peanut Belt RPO, , ","Northampton, Halifax, , ",5.88607046,5.88607046,"Two Lane Highway","Two Lane Highway",1,1,"Undivided","Undivided",55.000040093698097,55.000040093698097,15.316236421921801,84.683763578078199,2611.4652025428099,15500.011299133101,0.16848150315147617,2211.4870180451339,399.97818449767578,0,0,0,0,29.796681070000002,26.991747960000001,29.796681070000002,"","","","","No","No",12,12,"No",4,0,"2 Lane Undivided","3A - 2 Lane with Two Way Left Turn Lane, and Paved Shoulders","None","None",1,"No",25,701000,0,0,701000,"",701000,701000,""]
["H090099-B","Gates","Albemarle RPO","Highway","Statewide Mobility","R-2507B","US-13 ","US 158 Bypass in Tarheel","SR 1202 (Eure Road/Gates School Road)","Widen to Multi-Lanes.","1 - Widen Existing Roadway",26200000,11.662716525966273,null,12.49,{"$f":"(V44+W44+Y44+Z44+AB44+AD44)","v":65},3.6,{"$f":"O44+P44+Q44","v":81.089999999999989},9.16,5.25,null,{"$f":"IF(AU44<30,0,IF(AU44<50,5,IF(AU44<65,10,IF(AU44>66,15))))","v":10},{"$f":"IF(X44<499,15,IF(X44<999,10,IF(X44<1499,5,IF(X44>1500,0))))","v":0},1700.8127716901893,{"$f":"IF(DD44<500,0,IF(DD44<1000,5,IF(DD44>1000,10)))","v":5},{"$f":"IF(AA44=\"Yes\",20,0)","v":20},"Yes",{"$f":"IF(AC44=\"Yes\",10,0)","v":10},"Yes",{"$f":"IF(AE44=\"Yes\",20,0)","v":20},"Yes",10,10,15,10,"No",{"$f":"IF(AL44=\"Minimal\",15,0)","v":15},"Minimal",10,"Yes",0,"No",0,"No",15.80258064516129,1.9666755725190839E-2,50.766884000546995,9.1677418804838702,5.8055295488545502E-2,45.1,25,0,null,null,null,"Albemarle RPO",100,"","","","","01",100,"","","","",{"$f":"SUM(V44+W44+Y44+Z44+AB44+AD44)","v":65},70,null,null,100,null,9.16,null,"Exceeds cap of $15 million for Statewide & Regional Projects cascading to Division Needs",{"$f":"O44+BT44*0.25","v":37.49},null,"Gates",100,"","","","","","",1,"A","01, , ","Albemarle RPO, , ","Gates, , , ",4.1633513100000004,4.1633513100000004,"Two Lane Highway","Multi-Lane Highway",1,2,"Undivided","Divided",55,55,17.297297,82.702703,3700,15500,0.23870967741935484,3060.0000110000001,639.99998900000003,18067.430804417563,3778.8089786008504,21846.239783018413,515269,59.821943230000002,36.671154739999999,55.822785619999998,"","",0,1.16110590977091E-6,"Yes","No",11,12,"No",2,0,"2 Lane Undivided","4A - 4 Lane Divided (46' Depressed Median) with Paved Shoulders","None","Partial",1,"Yes",37,23200000,1800000,1200000,26200000,"",26200000,26200000,""]
["H141218","Perquimans","Albemarle RPO","Highway","Division Needs","","SR-1329","SR 1331","SR 1300","Widen and repave Woodville Road Phase 2","16 - Modernize Roadway",734000,null,null,null,null,null,null,8.27,5.25,null,"N/A",null,548.01863437169857,null,null,"Yes",null,null,null,null,0,20,15,10,"No",15,"Minimal",10,"Yes",0,"No",0,"No",7.6877419354838707,0,0,0,"N/A","N/A",75,0,null,null,null,"Albemarle RPO",100,"","","","","01",100,"","","","",null,70,null,null,null,100,33.269999999999996,null,null,null,null,"Perquimans",100,"","","","","","",1,"A","01, , ","Albemarle RPO, , ","Perquimans, , , ",0.74409473000000004,0.74409473000000004,"Two Lane Highway","Two Lane Highway",1,1,"Undivided","Undivided",55,55,0,100,1800,15500,0.11612903225806452,1800,0,0,0,0,0,0,0,0,"","","","","No","No",9,12,"No",0,0,"2 Lane Undivided","3A - 2 Lane with Two Way Left Turn Lane, and Paved Shoulders","None","None",2,"No",30,734000,0,0,734000,"",734000,734000,""]
["H090099-C","Gates","Albemarle RPO","Highway","Statewide Mobility","R-2507C","US-13 ","SR 1202 (Eure Road/Gates School Road)","Virginia State Line","Widen to Multi-Lanes.","1 - Widen Existing Roadway",31000000,12.467522810856204,null,10.977776395583573,{"$f":"(V46+W46+Y46+Z46+AB46+AD46)","v":65},3.15,{"$f":"O46+P46+Q46","v":79.127776395583581},7.3178708035073292,5.25,null,{"$f":"IF(AU46<30,0,IF(AU46<50,5,IF(AU46<65,10,IF(AU46>66,15))))","v":10},{"$f":"IF(X46<499,15,IF(X46<999,10,IF(X46<1499,5,IF(X46>1500,0))))","v":0},1720.1381017321557,{"$f":"IF(DD46<500,0,IF(DD46<1000,5,IF(DD46>1000,10)))","v":5},{"$f":"IF(AA46=\"Yes\",20,0)","v":20},"Yes",{"$f":"IF(AC46=\"Yes\",10,0)","v":10},"Yes",{"$f":"IF(AE46=\"Yes\",20,0)","v":20},"Yes",10,10,15,10,"No",15,"Minimal",10,"Yes",0,"No",0,"No",16.327877726309676,1.9403806451612902E-2,56.831426502311999,9.3663279759304228,6.9301056105317504E-2,45.468977557000002,0,0,null,null,null,"Albemarle RPO",100,"","","","","01",100,"","","","",{"$f":"SUM(V46+W46+Y46+Z46+AB46+AD46)","v":65},70,null,null,100,null,7.3178708035073292,null,"Exceeds cap of $15 million for Statewide & Regional Projects cascading to Division Needs",{"$f":"O46+BT46*0.25","v":35.977776395583575},null,"Gates",100,"","","","","","",1,"A","01, , ","Albemarle RPO, , ","Gates, , , ",4.71405809,4.71405809,"Two Lane Highway","Multi-Lane Highway",1,2,"Undivided","Divided",55,55,16.741916150222998,83.258083849776995,3822.9925189999999,15500,0.24664467864516129,3182.9503170397215,640.04220196027802,21279.268908809252,4278.9326794035505,25558.201588212803,601518,71.452794549999993,31.798630360000001,67.25990573,"","",0,1.38602112210635E-6,"Yes","No",12,12,"No",0,0,"2 Lane Undivided","4A - 4 Lane Divided (46' Depressed Median) with Paved Shoulders","None","Partial",1,"Yes",37,23800000,6000000,1200000,31000000,"",31000000,31000000,""]
["F130002","Hyde","Albemarle RPO","Ferry","Division Needs",null,"Statewide: Support Vessel",null,null,"Replacement Vessel-Tug (Dare)",null,1725000,null,null,null,null,null,null,25.9,6,null,null,null,0.4157119961235074,null,null,"Yes",null,null,null,null,5,20,15,{"$f":"IF(AJ47=\"Yes\",10,0)","v":0},"No",15,"Minimal",10,"Yes",{"$f":"IF(AP47=\"Yes\",5,0)","v":0},"No",{"$f":"IF(AR47=\"Yes\",5,0)","v":0},"No",null,null,39.43,null,null,null,null,null,null,null,null,"Albemarle RPO",null,null,null,null,null,null,null,null,null,null,null,null,{"$f":"SUM(AF47+AG47+AH47+AI47++AK47+AM47+AO47+AQ47)","v":65},null,null,null,null,null,null,null,null,null,"Hyde",null,null,null,null,null,null,null,null,null,null,null,null,null,{"$f":"9.5*2","v":19},null,null,null,null,null,null,null,null,null,null,60391,null,null,null,null,null,null,null,null,null,null,null,null,null,null,null,null,null,null,null,null,null,null,null,null,null,null,null,null,null,null,null,null,1725000,null,477000]
["F130004",null,"Albemarle RPO","Ferry","Division Needs",null,"Statewide: Support Vessel",null,null,"Replacement Vessel-Tug  (Buxton Jr.)",null,1725000,null,null,null,null,null,null,23.4,6,null,null,null,0.20079673775022244,null,null,"Yes",null,null,null,null,5,20,15,0,"No",15,"Minimal",10,"Yes",{"$f":"IF(AP48=\"Yes\",5,0)","v":0},"No",{"$f":"IF(AR48=\"Yes\",5,0)","v":0},"No",null,null,39.43,null,null,null,null,null,null,null,null,"Albemarle RPO",null,null,null,null,null,null,null,null,null,null,null,null,{"$f":"SUM(AF48+AG48+AH48+AI48++AK48+AM48+AO48+AQ48)","v":65},null,null,null,null,null,null,null,null,null,null,null,null,null,null,null,null,null,null,null,null,null,null,null,{"$f":"9.5*2","v":19},null,null,null,null,null,null,null,null,null,null,60391,null,null,null,null,null,null,null,null,null,null,null,null,null,null,null,null,null,null,null,null,null,null,null,null,null,null,null,null,null,null,null,null,1725000,null,230400]
["F130001","Hyde","Albemarle RPO","Ferry","Division Needs",null,"Statewide: Support Vessel",null,null,"Replacement Vessel-Tug(Albemarle)",null,5000000,null,null,null,null,null,null,19.3,6,null,null,null,1.0039836887511122,null,null,"Yes",null,null,null,null,5,20,15,0,"No",15,"Minimal",10,"Yes",{"$f":"IF(AP49=\"Yes\",5,0)","v":0},"No",{"$f":"IF(AR49=\"Yes\",5,0)","v":0},"No",null,null,39.43,null,null,null,null,null,null,null,null,"Albemarle RPO",null,null,null,null,null,null,null,null,null,null,null,null,{"$f":"SUM(AF49+AG49+AH49+AI49++AK49+AM49+AO49+AQ49)","v":65},null,null,null,null,null,null,null,null,null,"Hyde",null,null,null,null,null,null,null,null,null,null,null,null,null,{"$f":"9.5*2","v":19},null,null,null,null,null,null,null,null,null,null,60391,null,null,null,null,null,null,null,null,null,null,null,null,null,null,null,null,null,null,null,null,null,null,null,null,null,null,null,null,null,null,null,null,5000000,null,1152000]
["B141476","Dare","Albemarle RPO","Bike & Ped","Division Needs",null,"Kill Devil Hills Multi Use Path","Ocean Acres","Atlantic","Construct Multi-Use Path","2. Construct multi-use trail / greenway / sidepath or on-road bike lane on local roadway",356500,null,null,null,null,null,null,18.504548236546277,9.75,null,"N/A",null,7756.7101699088889,null,null,"Yes",null,null,null,null,15,0,15,10,"Yes",15,"Minimal",10,"Yes",{"$f":"IF(AP50=\"Yes\",10,0)","v":0},"No",{"$f":"IF(AR50=\"Yes\",10,0)","v":0},"No",null,null,75,null,null,null,null,null,null,null,null,"Albemarle RPO",null,null,null,null,null,null,null,null,null,null,null,null,{"$f":"SUM(AF50+AG50+AH50+AI50+AK50+AM50+AO50)","v":65},null,null,null,null,null,null,null,null,null,"Dare County",null,null,null,null,null,null,null,null,null,null,null,null,null,0.31,null,null,null,null,null,null,null,null,null,null,{"$f":"786*0.1","v":78.600000000000009},null,null,null,null,null,null,null,null,null,null,null,null,null,null,null,null,null,null,null,null,null,null,null,null,null,null,null,null,null,310000,0,null,356500,0,189000]
["F130005",null,"Albemarle RPO","Ferry","Division Needs",null,"Statewide: Support Vessel",null,null,"Replacement Vessel-Barge (NC-2 Fuel Barge)",null,200000,null,null,null,null,null,null,18.2,3,null,null,null,0.28609613318122518,null,null,"Yes",null,null,null,null,5,20,15,0,"No",15,"Minimal",10,"Yes",{"$f":"IF(AP51=\"Yes\",5,0)","v":0},"No",{"$f":"IF(AR51=\"Yes\",5,0)","v":0},"No",null,null,39.43,null,null,null,null,null,null,null,null,"Albemarle RPO",null,null,null,null,null,null,null,null,null,null,null,null,{"$f":"SUM(AF51+AG51+AH51+AI51++AK51+AM51+AO51+AQ51)","v":65},null,null,null,null,null,null,null,null,null,null,null,null,null,null,null,null,null,null,null,null,null,null,null,{"$f":"9.5*2","v":19},null,null,null,null,null,null,null,null,null,null,60391,null,null,null,null,null,null,null,null,null,null,null,null,null,null,null,null,null,null,null,null,null,null,null,null,null,null,null,null,null,null,null,null,200000,null,328275]
["B141349","Dare","Albemarle RPO","Bike & Ped","Division Needs",null,"NC 12","Gull Street","Jennettes Pier","Construct sidewalk on west side of NC 12 from Gull Street south to Jennets Pier","5. Construct Sidewalk",100000,null,null,null,null,null,null,15.642500000000002,6.75,null,"N/A",null,1461.0389610389611,null,null,"Yes",null,null,null,null,0,15,15,10,"Yes",15,"Minimal",10,"Yes",{"$f":"IF(AP52=\"Yes\",10,0)","v":0},"No",{"$f":"IF(AR52=\"Yes\",10,0)","v":0},"No",null,null,12.5,null,null,null,null,null,null,null,null,"Albemarle RPO",null,null,null,null,null,null,null,null,null,null,null,null,{"$f":"SUM(AF52+AG52+AH52+AI52+AK52+AM52+AO52)","v":65},null,null,null,null,null,null,null,null,null,"Dare County",null,null,null,null,null,null,null,null,null,null,null,null,null,0.3,null,null,null,null,null,null,null,null,null,null,308,null,null,null,null,null,null,null,null,null,null,null,null,null,null,null,null,null,null,null,null,null,null,null,null,null,null,null,null,null,90000,0,null,100000,0,135000]
["F130009","Hyde","Albemarle RPO","Ferry","Division Needs",null,"Statewide: Support Vessel",null,null,"Replacement Vessel-Barge (NC-1 Pipeline Barge)",null,185000,null,null,null,null,null,null,13.7,3,null,null,null,1.7255969650409739,null,null,"Yes",null,null,null,null,5,20,15,0,"No",15,"Minimal",10,"Yes",{"$f":"IF(AP53=\"Yes\",5,0)","v":0},"No",{"$f":"IF(AR53=\"Yes\",5,0)","v":0},"No",null,null,39.43,null,null,null,null,null,null,null,null,"Albemarle RPO",null,null,null,null,null,null,null,null,null,null,null,null,{"$f":"SUM(AF53+AG53+AH53+AI53++AK53+AM53+AO53+AQ53)","v":65},null,null,null,null,null,null,null,null,null,"Hyde",null,null,null,null,null,null,null,null,null,null,null,null,null,{"$f":"9.5*2","v":19},null,null,null,null,null,null,null,null,null,null,60391,null,null,null,null,null,null,null,null,null,null,null,null,null,null,null,null,null,null,null,null,null,null,null,null,null,null,null,null,null,null,null,null,185000,null,1980000]
["F130010","Hyde","Albemarle RPO","Ferry","Division Needs",null,"Statewide: Support Vessel",null,null,"Replacement Vessel-Barge (NC-3 Equipment Barge)",null,185000,null,null,null,null,null,null,13.7,3,null,null,null,0.5804280700592368,null,null,"Yes",null,null,null,null,5,20,15,0,"No",15,"Minimal",10,"Yes",{"$f":"IF(AP54=\"Yes\",5,0)","v":0},"No",{"$f":"IF(AR54=\"Yes\",5,0)","v":0},"No",null,null,39.43,null,null,null,null,null,null,null,null,"Albemarle RPO",null,null,null,null,null,null,null,null,null,null,null,null,{"$f":"SUM(AF54+AG54+AH54+AI54++AK54+AM54+AO54+AQ54)","v":65},null,null,null,null,null,null,null,null,null,"Hyde",null,null,null,null,null,null,null,null,null,null,null,null,null,{"$f":"9.5*2","v":19},null,null,null,null,null,null,null,null,null,null,60391,null,null,null,null,null,null,null,null,null,null,null,null,null,null,null,null,null,null,null,null,null,null,null,null,null,null,null,null,null,null,null,null,185000,null,666000]
["H090329","Northampton","Peanut Belt RPO","Highway","Regional Impact","U-2419","NC-48 ","Roanoke Avenue in Halifax County","NC 46 in Gaston in Northampton County","Roanoke Avenue in Halifax County to NC 46 in Gaston in Northampton County. Widen to Multi-Lanes.","1 - Widen Existing Roadway",30987000,null,null,20.72,{"$f":"(V55+W55+Y55+Z55+AB55+AD55)","v":40},null,{"$f":"O55+P55+Q55","v":60.72},17.12,null,null,{"$f":"IF(AU55<30,0,IF(AU55<50,5,IF(AU55<65,10,IF(AU55>66,15))))","v":0},{"$f":"IF(X55<499,15,IF(X55<999,10,IF(X55<1499,5,IF(X55>1500,0))))","v":0},1638.8925354054695,{"$f":"IF(DD55<500,0,IF(DD55<1000,5,IF(DD55>1000,10)))","v":5},{"$f":"IF(AA55=\"Yes\",15,0)","v":15},"Yes",{"$f":"IF(AC55=\"Yes\",10,0)","v":10},"Yes",{"$f":"IF(AE55=\"Yes\",10,0)","v":10},"Yes",0,{"$f":"IF(BM53<999,20,IF(BM53<1499,15,IF(BM53<1999,10,IF(BM53<3999,5,IF(BM53>4000,0)))))","v":20},15,10,"Yes",15,"Minimal",10,"Yes",{"$f":"IF(AP55=\"Yes\",10,0)","v":0},"No",{"$f":"IF(AR55=\"Yes\",10,0)","v":0},"No",46.280282747314516,0.8176696033820634,24.093813457691997,4.1616023981484593,"N/A",19.025870580000003,0,100,null,null,null,"Peanut Belt RPO",100,"","","","","01",79.88,"04",20.12,"","",{"$f":"SUM(V55+W55+Y55+Z55+AB55+AD55)","v":40},{"$f":"SUM(AF55+AG55+AH55+AI55+AK55+AM55+AO55+AQ55)","v":70},null,null,100,null,{"$f":"S55+BU55*0.25","v":17.12},null,"Exceeds cap of $15 million for Statewide & Regional Projects cascading to Division Needs",{"$f":"O55+BT55*0.25","v":45.72},null,"Northampton",79.88,"Halifax",20.12,"","","","",1,"A","01, 04, ","Peanut Belt RPO, , ","Northampton, Halifax, , ",1.71481062,1.71481062,"Arterial","Arterial",1,2,"Undivided","Divided",43,45,7.5487960210548,92.451203978945202,11025.870580000001,15800.17362,0.69783224192190874,10193.550100370308,832.32047962969182,1032268.9976535406,84286.496733129708,1116555.4943866702,25337128,16.88552645,55.403142789999997,0,"","","","","No","No",12,12,"No",0,4,"2 Lane Undivided","4C - 4 Lane Divided (23' Raised Median) with Curb & Gutter, Wide Outside Lanes, and Sidewalks","None","Partial",1,"No",24,29754000,1101000,132000,30987000,"",30987000,30987000,""]
["H090285","Perquimans","Albemarle RPO","Highway","Statewide Mobility","R-4458","US-17 ","SR 1300 (New Hope Road)","","Convert at-Grade intersection to An interchange","7 - Upgrade At-grade Intersection to Interchange or Grade Separation",12906000,11.908335891675366,null,12.64,{"$f":"(V56+W56+Y56+Z56+AB56+AD56)","v":65},4.95,{"$f":"O56+P56+Q56","v":82.59},9.24,7.5,null,{"$f":"IF(AU56<30,0,IF(AU56<50,5,IF(AU56<65,10,IF(AU56>66,15))))","v":10},{"$f":"IF(X56<499,15,IF(X56<999,10,IF(X56<1499,5,IF(X56>1500,0))))","v":15},407.68760462512967,{"$f":"IF(DD56<500,0,IF(DD56<1000,5,IF(DD56>1000,10)))","v":10},{"$f":"IF(AA56=\"Yes\",20,0)","v":20},"Yes",10,"Yes",{"$f":"IF(AE56=\"Yes\",20,0)","v":0},"no",10,{"$f":"IF(BM54<999,20,IF(BM54<1499,15,IF(BM54<1999,10,IF(BM54<3999,5,IF(BM54>4000,0)))))","v":20},15,0,"No",{"$f":"IF(AL56=\"Minimal\",15,0)","v":15},"Minimal",10,"Yes",{"$f":"IF(AP56=\"Yes\",10,0)","v":0},"No",0,"No",16.727256327764458,0.67404679993801331,50,7.7049196029202633,1.46961032780572,63.408788800000011,0,25,null,null,null,"Albemarle RPO",100,"","","","","01",100,"","","","",{"$f":"SUM(V56+W56+Y56+Z56+AB56+AD56)","v":65},70,null,null,null,null,9.24,null,"Delay Prioritization pending outcome of Future Interstate Designation; Need to coordinate this project with SPOT ID#H141929",{"$f":"O56+BT56*0.25","v":12.64},"County Does not support project","Perquimans",100,"","","","","","",1,"A","01, , ","Albemarle RPO, , ","Perquimans, , , ",2,2,"Multi-Lane Highway","Freeway",2,2,"Divided","Divided",55,55,9.7356275119906002,90.2643724880094,15828.2958,91352.771370000002,0.17326563346274099,14287.311879415947,1540.9839205840526,343004.6154544357,36995.38454556428,380000,8699248,"","","",0,100,6,2.3392206556114398E-5,"no","No",12,12,"No",3,4,"2 Lane Undivided","","None","Full",2,"Yes",30.6,10716000,2190000,0,12906000,"",12906000,12906000,""]
["H090284","Dare","Albemarle RPO","Highway","Statewide Mobility","R-4457","US-158 ","NC 12","","Improve intersection ","7 - Upgrade At-grade Intersection to Interchange or Grade Separation",23870000,25.088572426440816,null,23.24,{"$f":"(V57+W57+Y57+Z57+AB57+AD57)","v":55},6.3,{"$f":"O57+P57+Q57","v":84.539999999999992},17.98,9,null,{"$f":"IF(AU57<30,0,IF(AU57<50,5,IF(AU57<65,10,IF(AU57>66,15))))","v":10},{"$f":"IF(X57<499,15,IF(X57<999,10,IF(X57<1499,5,IF(X57>1500,0))))","v":5},{"$f":"(EI57/CZ57)/CO57","v":1254.6033770323088},{"$f":"IF(DD57<500,0,IF(DD57<1000,5,IF(DD57>1000,10)))","v":10},{"$f":"IF(AA57=\"Yes\",20,0)","v":20},"Yes",10,"Yes",{"$f":"IF(AE57=\"Yes\",20,0)","v":0},"No",{"$f":"IF(AU57<30,0,IF(AU57<50,5,IF(AU57<65,10,IF(AU57<79,15,IF(AU57>80,20)))))","v":10},{"$f":"IF(BM55<999,20,IF(BM55<1499,15,IF(BM55<1999,10,IF(BM55<3999,5,IF(BM55>4000,0)))))","v":20},{"$f":"IF(AA57=\"Yes\",15,0)","v":15},0,"No",15,"Minimal",{"$f":"IF(AN57=\"Yes\",10,0)","v":10},"Yes",{"$f":"IF(AP57=\"Yes\",10,0)","v":0},"No",0,"No",54.50533413736671,0.3082017176372015,50,17.576238950973607,1.2926387974492148,100,0,75,null,null,null,"Albemarle RPO",100,"","","","","01",100,"","","","",{"$f":"SUM(V57+W57+Y57+Z57+AB57+AD57)","v":55},70,null,null,null,null,17.98,null,null,{"$f":"O57+BT57*0.25","v":23.24},null,"Dare",100,"","","","","","",1,"A","01, , ","Albemarle RPO, , ","Dare, , , ",0.5,0.5,"Arterial","Arterial",2,2,"TWLTL","Divided",50.0000000000014,50.0000000000014,9.2380430429066998,90.761956957093304,38051.866329999997,58117.244420000003,0.6547431267561119,34536.618539805277,3515.2477901947218,292253.50140184048,29746.498598159575,322000.00000000006,7356775,"","","",66.7,33.299999999999997,5,2.0852775948984299E-5,"No","No",12,12,"No",1,4,"4 Lane with TWLTL (Five Lane)","","None","Partial",2,"Yes",18.899999992478101,19250000,4620000,0,23870000,"",23870000,23870000,""]
["A130008","Pasquotank","Albemarle RPO","Aviation","Division Needs",null,"Elizabeth City Coast Guard Air Station/Regional",null,null,"Land Acquisition-Apron Construction",null,1800000,null,null,null,null,null,null,8.59,13.5,null,"N/A",null,1588.4154391156831,null,null,"Yes",0,null,{"$f":"IF(AE58=\"Yes\",10,0)","v":0},null,0,{"$f":"IF(X58<999,20,IF(X58<1499,15,IF(X58<1999,10,IF(X58<3999,5,IF(X58>4000,0)))))","v":10},15,10,"Yes",15,"Minimal",10,"Yes",{"$f":"IF(AP58=\"Yes\",5,0)","v":5},"Yes",0,"No",null,null,null,null,null,null,null,null,null,null,null,"Albemarle RPO",null,null,null,null,null,null,null,null,null,null,null,null,65,null,null,null,null,8.59,{"$f":"BV58+T58","v":22.09},null,null,null,"Pasquotank",null,null,null,null,null,null,null,null,null,null,null,null,null,0.86,null,null,null,null,null,null,null,null,null,null,164.71,null,null,null,null,null,null,null,null,null,null,null,null,null,null,null,null,null,null,null,null,null,null,null,null,null,null,null,null,null,null,null,null,2000000,null,225000]
["A130007","Pasquotank","Albemarle RPO","Aviation","Division Needs",null,"Elizabeth City Coast Guard Air Station/Regional",null,null,"Permitting/mitigation/preliminary",null,247500,null,null,null,null,null,null,7.89,13.5,null,"N/A",null,1747.2569830272516,null,null,"Yes",0,null,{"$f":"IF(AE59=\"Yes\",10,0)","v":0},null,0,{"$f":"IF(X59<999,20,IF(X59<1499,15,IF(X59<1999,10,IF(X59<3999,5,IF(X59>4000,0)))))","v":10},15,10,"Yes",15,"Minimal",10,"Yes",{"$f":"IF(AP59=\"Yes\",5,0)","v":5},"Yes",0,"No",null,null,null,null,null,null,null,null,null,null,null,"Albemarle RPO",null,null,null,null,null,null,null,null,null,null,null,null,65,null,null,null,null,7.89,{"$f":"BV59+T59","v":21.39},null,null,null,"Pasquotank",null,null,null,null,null,null,null,null,null,null,null,null,null,0.86,null,null,null,null,null,null,null,null,null,null,164.71,null,null,null,null,null,null,null,null,null,null,null,null,null,null,null,null,null,null,null,null,null,null,null,null,null,null,null,null,null,null,null,null,275000,null,247500]
["A130036","Currituck","Albemarle RPO","Aviation","Division Needs",null,"Currituck County Regional",null,null,"Acquire Equipment Shelter",null,135000,null,null,null,null,null,null,5.56,15,null,"N/A",null,1895.2794905488729,null,null,"Yes",0,null,{"$f":"IF(AE60=\"Yes\",10,0)","v":0},null,0,{"$f":"IF(X60<999,20,IF(X60<1499,15,IF(X60<1999,10,IF(X60<3999,5,IF(X60>4000,0)))))","v":10},15,10,"Yes",15,"Minimal",10,"Yes",{"$f":"IF(AP60=\"Yes\",5,0)","v":5},"Yes",0,"No",null,null,null,null,null,null,null,null,null,null,null,"Albemarle RPO",null,null,null,null,null,null,null,null,null,null,null,null,65,null,null,null,null,5.56,{"$f":"BV60+T60","v":20.56},null,null,null,"Currituck",null,null,null,null,null,null,null,null,null,null,null,null,null,1.04,null,null,null,null,null,null,null,null,null,null,68.489999999999995,null,null,null,null,null,null,null,null,null,null,null,null,null,null,null,null,null,null,null,null,null,null,null,null,null,null,null,null,null,null,null,null,150000,null,135000]
["H090230","Dare","Albemarle RPO","Highway","Statewide Mobility","R-3419","US-158 ","US 64-NC 12","Eastern End of Currituck Sound Bridge","Add Additional Lanes.","1 - Widen Existing Roadway",85428000,33.826595565109983,null,22.42,{"$f":"(V61+W61+Y61+Z61+AB61+AD61)","v":90},6.3,{"$f":"O61+P61+Q61","v":118.72},15.67,6.75,null,{"$f":"IF(AU61<30,0,IF(AU61<50,5,IF(AU61<65,10,IF(AU61>66,15))))","v":15},{"$f":"IF(X61<499,15,IF(X61<999,10,IF(X61<1499,5,IF(X61>1500,0))))","v":15},183.5913006327666,{"$f":"IF(DD61<500,0,IF(DD61<1000,5,IF(DD61>1000,10)))","v":10},{"$f":"IF(AA61=\"Yes\",20,0)","v":20},"Yes",10,"Yes",{"$f":"IF(AE61=\"Yes\",20,0)","v":20},"Yes",15,{"$f":"IF(BM59<999,20,IF(BM59<1499,15,IF(BM59<1999,10,IF(BM59<3999,5,IF(BM59>4000,0)))))","v":20},15,10,"No",15,"Minimal",10,"Yes",{"$f":"IF(AP61=\"Yes\",10,0)","v":0},"No",0,"No",61.663206108983005,3.1984238540057124,66.848834021375993,12.296076997726795,52.240077745304099,17.929986580000001,0,25,null,null,null,"Albemarle RPO",100,"","","","","01",100,"","","","",{"$f":"SUM(V61+W61+Y61+Z61+AB61+AD61)","v":90},85,null,null,100,null,15.67,null,"Exceeds cap of $15 million for Statewide & Regional Projects cascading to Division Needs",{"$f":"O61+BT61*0.25","v":47.42},null,"Dare",100,"","","","","","",1,"A","01, , ","Albemarle RPO, , ","Dare, , , ",17.3012275,17.3012275,"Arterial","Arterial",2,3,"TWLTL","Divided",50,45,9.1437711105651012,90.856228889434902,26894.979869999999,31700.06882,0.8484202360163835,24435.76447045464,2459.2153995453591,10869853.540386515,1093942.0884352552,11963795.62882177,273234953,66.845883279999995,76.036630419999995,57.684045019999999,"","",200,8.4480155490608197E-4,"No","No",12,12,"No",3,4,"4 Lane with TWLTL (Five Lane)","6E - 6 Lane Divided (23' Raised Median) with Curb & Gutter, Wide Outside Lanes, and Sidewalks","None","Partial",2,"No",18,56202000,26095000,3131000,85428000,"",85428000,85428000,""]
["H141869","Chowan","Albemarle RPO","Highway","Statewide Mobility","","US-17-BYP-Edenton Bypass","South end of Chowan River Bridge","US 17 Business (North) in Edenton (Broad Street)","Upgrade freeway to interstate standards","17 - Upgrade Freeway to Interstate Standards",39943000,8.7484760417394707,null,13.199578131959568,75,4.95,93.149578131959572,10.466385421306379,7.5,null,5,10,527.48148407603003,10,{"$f":"IF(AA62=\"Yes\",20,0)","v":20},"Yes",10,"Yes",{"$f":"IF(AE62=\"Yes\",20,0)","v":20},"Yes",5,{"$f":"IF(X62<999,20,IF(X62<1499,15,IF(X62<1999,10,IF(X62<3999,5,IF(X62>4000,0)))))","v":20},15,{"$f":"IF(AJ62=\"Yes\",10,0)","v":0},"No",15,"Minimal",10,"Yes",0,"No",0,"No",10.143372066527785,0,44.520482146535997,5.8742929410305047,0.78557618921433359,18.241940617180788,25,25,null,null,null,"Albemarle RPO",90.31,"Peanut Belt RPO",9.69,"","","01",100,"","","","",75,65,null,null,100,null,10.466385421306379,null,"Delay Prioritization pending outcome of Future Interstate Designation; Exceeds cap of $15 million for Statewide & Regional Projects cascading to Division Needs",38.199578131959569,null,"Chowan",90.31,"Bertie",9.69,"","","","",1,"A","01, , ","Albemarle RPO, Peanut Belt RPO, ","Chowan, Bertie, , ",9.1876402099999996,9.1876402099999996,"Freeway","Freeway",2,2,"Divided","Divided",58.657857951946099,58.657857951946099,14.2546354405544,85.745364559445605,8241.9406171807896,72228.075098455607,0.11410993032759113,7067.0820289746889,1174.8585882061009,0,0,0,0,49.239147449999997,33.660043209999998,50.675613259999999,"","",3.5297729597742702,1.21817508245124E-5,"No","No",11,12,"No",3,4,"4 Lane with Median - Full Control","","Full","Full",1,"No",25,39943000,0,0,39943000,"",39943000,39943000,""]
["H111225","Currituck","Albemarle RPO","Highway","Statewide Mobility","","US-158 ","Proposed Mid Currituck Bridge","Dare County Line","Upgrade the Existing 5-Lane Boulevard to a 4-Lane Divided Boulevard fromtheproposed Mid-Currituck Bridge to the Dare County Line.","11 - Access Management",130843000,11.16234915458393,null,12.45,80,6.3,98.75,9.1300000000000008,9,null,5,15,484.12802715559553,10,{"$f":"IF(AA63=\"Yes\",20,0)","v":20},"Yes",10,"Yes",{"$f":"IF(AE63=\"Yes\",20,0)","v":20},"Yes",5,20,15,{"$f":"IF(AJ63=\"Yes\",10,0)","v":0},"No",15,"Minimal",10,"Yes",0,"No",0,"No",16.869019924360721,0,49.446054653357997,5.7851885596995665,0,19.311718553333336,0,25,null,null,null,"Albemarle RPO",100,"","","","","01",100,"","","","",80,65,null,null,0,null,9.1300000000000008,null,"Exceeds cap of $15 million for Statewide & Regional Projects cascading to Division Needs",12.45,null,"Currituck",100,"","","","","","",1,"A","01, , ","Albemarle RPO, , ","Currituck, , , ",19.349474180000001,19.349474180000001,"Multi-Lane Highway","Multi-Lane Highway",2,2,"TWLTL","Divided",55,55,8.2837391423356994,91.716260857664295,13967.57783,74282.529899999994,0.18803314653934533,12810.540118060086,1157.0377119399134,0,0,0,0,46.775181750000002,60.689393699999997,40.888423809999999,"","",0,0,"No","No",12,12,"No",3,4,"4 Lane with TWLTL (Five Lane)","4E - 4 Lane Divided (17'-6\"' Raised Median) with Paved Shoulders and Sidewalks","None","None",2,"No",25,125286000,4962000,595000,130843000,"",130843000,130843000,""]
["H111227","Currituck","Albemarle RPO","Highway","Statewide Mobility","","NC-168 ","Virginia Line","US 158","Upgrade the Existing 5-Lane Major Thoroughfare to a 4-Lane Divided Boulevardfrom the Virginia Line to US 158","11 - Access Management",122633000,9.259530084621499,null,10.46,70,6.3,86.76,7.81,9,null,5,10,512.62152970794932,5,{"$f":"IF(AA64=\"Yes\",20,0)","v":20},"Yes",10,"Yes",{"$f":"IF(AE64=\"Yes\",20,0)","v":20},"Yes",5,20,15,{"$f":"IF(AJ64=\"Yes\",10,0)","v":0},"No",15,"Minimal",10,"Yes",0,"No",0,"No",15.564629295984382,0,37.494202474773004,4.2036052417444214,0,36.707706353333336,0,25,null,null,null,"Albemarle RPO",100,"","","","","01",100,"","","","",70,65,null,null,null,null,7.81,null,"Exceeds cap of $15 million for Statewide & Regional Projects cascading to Division Needs",10.46,null,"Currituck",100,"","","","","","",1,"A","01, , ","Albemarle RPO, , ","Currituck, , , ",18.31536071,18.31536071,"Multi-Lane Highway","Multi-Lane Highway",2,2,"TWLTL","Divided",55,55,6.4366054177367005,93.5633945822633,13061.55953,75792.37487,0.17233342473307303,12220.838481651117,840.72104834888432,0,0,0,0,39.915379160000001,42.339522950000003,30.238954700000001,"","",0,0,"No","No",12,12,"No",3,4,"4 Lane with TWLTL (Five Lane)","4E - 4 Lane Divided (17'-6\"' Raised Median) with Paved Shoulders and Sidewalks","None","None",2,"No",34,120156000,2212000,265000,122633000,"",122633000,122633000,""]
["H090286","Perquimans","Albemarle RPO","Highway","Statewide Mobility","R-4459","US-17 ","SR 1336 (Harvey Point Road) and SR 1338 (Wayne Fork Road)","","Convert at-Grade intersection to An interchange","7 - Upgrade At-grade Intersection to Interchange or Grade Separation",17124000,11.326621906015168,null,10.49,60,4.95,75.44,7.79,7.5,null,5,15,485.15757135953902,10,{"$f":"IF(AA65=\"Yes\",20,0)","v":20},"Yes",10,"Yes",{"$f":"IF(AE65=\"Yes\",20,0)","v":0},"no",5,20,15,{"$f":"IF(AJ65=\"Yes\",10,0)","v":0},"No",15,"Minimal",10,"Yes",0,"No",0,"No",18.637613344626359,0.98769090165849105,33.299999999999997,9.1293282844147789,2.8316497524675701,58.660999040000007,0,25,null,null,null,"Albemarle RPO",100,"","","","","01",100,"","","","",60,65,null,null,null,null,7.79,null,"Exceeds cap of $15 million for Statewide & Regional Projects cascading to Division Needs",10.49,null,"Perquimans",100,"","","","","","",1,"A","01, , ","Albemarle RPO, , ","Perquimans, , , ",2,2,"Multi-Lane Highway","Freeway",2,2,"Divided","Divided",55,55,10.346093759894,89.653906240105997,17647.874640000002,91451.899420000002,0.19297439147710599,15822.008983117046,1825.8656568829558,660749.28898958117,76250.711010418774,737000,16913219,"","","",33.299999999999997,33.299999999999997,12,4.4632995049351403E-5,"No","No",12,12,"No",3,4,"2 Lane Undivided","","Limited","Full",2,"Yes",25.8,14934000,2190000,0,17124000,"",17124000,17124000,""]
["H090149-A","Northampton","Peanut Belt RPO","Highway","Statewide Mobility","R-2584A","US-158 ","SR 1333 (Mt. Caramel Road-Severn Road) East of Jackson","East of SR 1500","Widen to Multi-Lanes, Part on New  Location.","1 - Widen Existing Roadway",35400000,6.7665917857530138,null,6.1953666496314517,40,null,46.195366649631453,4.1302444330876344,null,null,0,5,1494.0486221150661,0,{"$f":"IF(AA66=\"Yes\",15,0)","v":15},"Yes",10,"Yes",{"$f":"IF(AE66=\"Yes\",10,0)","v":10},"Yes",0,15,15,10,"Yes",15,"Minimal",10,"Yes",0,"No",0,"No",11.375504147527343,0,29.926940183349,1.8062326157995514,0,19.990346666999997,0,0,null,null,null,"Peanut Belt RPO",100,"","","","","01",100,"","","","",40,65,null,null,null,null,4.1302444330876344,null,"Exceeds cap of $15 million for Statewide & Regional Projects cascading to Division Needs",6.1953666496314517,null,"Northampton",100,"","","","","","",1,"A","01, , ","Peanut Belt RPO, , ","Northampton, , , ",8.8959874899999996,8.8959874899999996,"Two Lane Highway","Multi-Lane Highway",1,2,"Undivided","Divided",55,55,13.563110771595898,86.436889228404098,2663.4488889999998,15500.00021,0.17183540986545573,2302.2023658400894,361.24652315991028,0,0,0,0,31.488997040000001,30.542237579999998,27.75856491,"","",0,0,"No","No",12,12,"No",2,0,"2 Lane Undivided","4A - 4 Lane Divided (46' Depressed Median) with Paved Shoulders","None","Partial",1,"Yes",26,31300000,4100000,0,35400000,"",35400000,35400000,""]
["B141773","Dare","Albemarle RPO","Bike & Ped","Division Needs",null,"NC 12 Duck","1174 Duck Road","Cook Drive","Construct Sidewalk on West side of NC 12","2. Construct multi-use trail / greenway / sidepath or on-road bike lane on local roadway",303600,null,null,null,null,null,null,20.72,13.5,null,"N/A",null,14426.229508196724,null,null,"Yes",null,null,null,null,10,0,15,{"$f":"IF(AJ67=\"Yes\",10,0)","v":10},"Yes",{"$f":"IF(AL67=\"Minimal\",15,0)","v":15},"Minimal",10,"Yes",0,"No",0,"No",null,null,62.5,null,null,null,null,null,null,null,null,"Albemarle RPO",null,null,null,null,null,null,null,null,null,null,null,null,{"$f":"SUM(AF67+AG67+AH67+AI67+AK67+AM67+AO67)","v":60},null,null,null,null,null,null,null,null,null,"Dare County",null,null,null,null,null,null,null,null,null,null,null,null,null,0.69,null,null,null,null,null,null,null,null,null,null,{"$f":"305*0.1","v":30.5},null,null,null,null,null,null,null,null,null,null,null,null,null,null,null,null,null,null,null,null,null,null,null,null,null,null,null,null,null,385000,0,null,442000,138400,303600]
["B141770","Dare","Albemarle RPO","Bike & Ped","Division Needs",null,"NC 12 Duck","Four Seasons Lane","Cook Drive","Connect share path and construct sidewalk","5. Construct Sidewalk",286000,null,null,null,null,null,null,19.84,13.5,null,"N/A",null,9712.7677237257158,null,null,"Yes",null,null,null,null,10,0,15,10,"Yes",15,"Minimal",10,"Yes",0,"No",0,"No",null,null,62.5,null,null,null,null,null,null,null,null,"Albemarle RPO",null,null,null,null,null,null,null,null,null,null,null,null,60,null,null,null,null,null,null,null,null,null,"Dare County",null,null,null,null,null,null,null,null,null,null,null,null,null,2.4700000000000002,null,null,null,null,null,null,null,null,null,null,{"$f":"317*0.1","v":31.700000000000003},null,null,null,null,null,null,null,null,null,null,null,null,null,null,null,null,null,null,null,null,null,null,null,null,null,null,null,null,null,365000,0,null,420000,134000,760500]
["B141788","Camden","Albemarle RPO","Bike & Ped","Division Needs",null,"SR 1216","US 17","End Pavement","Construct Sidewalks","5. Construct Sidewalk",200000,null,null,null,null,null,null,19.2234926866,8.25,null,"N/A",null,18705.574261129816,null,null,"Yes",null,null,null,null,10,0,15,10,"Yes",15,"Minimal",10,"Yes",0,"No",0,"No",null,null,50,null,null,null,null,null,null,null,null,"Albemarle RPO",null,null,null,null,null,null,null,null,null,null,null,null,60,null,null,null,null,null,null,null,null,null,"Camden County",null,null,null,null,null,null,null,null,null,null,null,null,null,0.33,null,null,null,null,null,null,null,null,null,null,{"$f":"324*0.1","v":32.4},null,null,null,null,null,null,null,null,null,null,null,null,null,null,null,null,null,null,null,null,null,null,null,null,null,null,null,null,null,170000,0,null,200000,0,200000]
["B141479","Dare","Albemarle RPO","Bike & Ped","Division Needs",null,"Kill Devil Hills Multi Use Path","Eighth Street","Ocean Acres","Construct Multi use path","2. Construct multi-use trail / greenway / sidepath or on-road bike lane on local roadway",414000,null,null,null,null,null,null,15.233988893053294,9.75,null,"N/A",null,16290.726817042605,null,null,"Yes",null,null,null,null,10,0,15,10,"Yes",15,"Minimal",10,"Yes",0,"No",0,"No",null,null,55,null,null,null,null,null,null,null,null,"Albemarle RPO",null,null,null,null,null,null,null,null,null,null,null,null,60,null,null,null,null,null,null,null,null,null,"Dare County",null,null,null,null,null,null,null,null,null,null,null,null,null,0.36,null,null,null,null,null,null,null,null,null,null,{"$f":"798*0.1","v":79.800000000000011},null,null,null,null,null,null,null,null,null,null,null,null,null,null,null,null,null,null,null,null,null,null,null,null,null,null,null,null,null,360000,0,null,414000,0,468000]
["B141368","Dare","Albemarle RPO","Bike & Ped","Division Needs",null,"US 158","Worthington Lane","Jejac Street","Construct approximately 8200' of sidewalk on the west side of US 158","5. Construct Sidewalk",405375,null,null,null,null,null,null,14.980262092711737,9.75,null,"N/A",null,2732.7935222672068,null,null,"Yes",null,null,null,null,5,5,15,10,"Yes",15,"Minimal",10,"Yes",0,"No",0,"No",null,null,42.5,null,null,null,null,null,null,null,null,"Albemarle RPO",null,null,null,null,null,null,null,null,null,null,null,null,60,null,null,null,null,null,null,null,null,null,"Dare County",null,null,null,null,null,null,null,null,null,null,null,null,null,3.12,null,null,null,null,null,null,null,null,null,null,{"$f":"950*0.1","v":95},null,null,null,null,null,null,null,null,null,null,null,null,null,null,null,null,null,null,null,null,null,null,null,null,null,null,null,null,null,385375,0,null,405375,0,810000]
["B141956","Camden","Albemarle RPO","Bike & Ped","Division Needs",null,"Dismal Swamp Trail","McPherson Road",null,"Construct a 10' wide trail running between US 17 and the historic Dismal Swamp. (Phase 1)","2. Construct multi-use trail / greenway / sidepath or on-road bike lane on local roadway",400000,null,null,null,null,null,null,14.580441313826976,7.5,null,"N/A",null,94562.647754137128,null,null,"Yes",null,null,null,null,10,0,15,10,"Yes",15,"Minimal",10,"Yes",0,"No",0,"No",null,null,50,null,null,null,null,null,null,null,null,"Albemarle RPO",null,null,null,null,null,null,null,null,null,null,null,null,60,null,null,null,null,null,null,null,null,null,"Camden County",null,null,null,null,null,null,null,null,null,null,null,null,null,0.47,null,null,null,null,null,null,null,null,null,null,{"$f":"90*0.1","v":9},null,null,null,null,null,null,null,null,null,null,null,null,null,null,null,null,null,null,null,null,null,null,null,null,null,null,null,null,null,380000,0,null,400000,0,400000]
["B141965","Camden","Albemarle RPO","Bike & Ped","Division Needs",null,"Dismal Swamp Trail",null,null,"Construct a 10' wide trail running between US 17 and the historic Dismal Swamp (Phase 2)","2. Construct multi-use trail / greenway / sidepath or on-road bike lane on local roadway",400000,null,null,null,null,null,null,14.551587373051026,7.5,null,"N/A",null,120809.42313500452,null,null,"Yes",null,null,null,null,10,0,15,10,"Yes",15,"Minimal",10,"Yes",0,"No",0,"No",null,null,50,null,null,null,null,null,null,null,null,"Albemarle RPO",null,null,null,null,null,null,null,null,null,null,null,null,60,null,null,null,null,null,null,null,null,null,"Camden County",null,null,null,null,null,null,null,null,null,null,null,null,null,0.43,null,null,null,null,null,null,null,null,null,null,{"$f":"77*0.1","v":7.7},null,null,null,null,null,null,null,null,null,null,null,null,null,null,null,null,null,null,null,null,null,null,null,null,null,null,null,null,null,380000,0,null,400000,0,400000]
["H090146","Pasquotank","Albemarle RPO","Highway","Statewide Mobility","R-2579","US-158 ","NC 32 in Sunbury in Gates County","US 17 at Morgan's County in Pasquotank County","Widen to Multi-Lanes.","1 - Widen Existing Roadway",116900000,10.169185073380103,null,9.8457510643364152,{"$f":"(V74+W74+Y74+Z74+AB74+AD74)","v":55},3.6,{"$f":"O74+P74+Q74","v":68.445751064336406},6.5632928241854991,5.25,null,{"$f":"IF(AU74<30,0,IF(AU74<50,5,IF(AU74<65,10,IF(AU74>66,15))))","v":5},{"$f":"IF(X74<499,15,IF(X74<999,10,IF(X74<1499,5,IF(X74>1500,0))))","v":0},1998.9636506206675,{"$f":"IF(DD74<500,0,IF(DD74<1000,5,IF(DD74>1000,10)))","v":0},{"$f":"IF(AA74=\"Yes\",20,0)","v":20},"Yes",{"$f":"IF(AC74=\"Yes\",10,0)","v":10},"Yes",{"$f":"IF(AE74=\"Yes\",20,0)","v":20},"Yes",5,10,15,10,"No",15,"Minimal",10,"Yes",0,"No",0,"No",16.037487030331597,1.6236561163387512E-2,49.579204650359998,1.8147225661842494,0.32203017658757549,44.018879968,0,0,null,null,null,"Albemarle RPO",100,"","","","","01",100,"","","","",{"$f":"SUM(V74+W74+Y74+Z74+AB74+AD74)","v":55},{"$f":"SUM(AF74+AG74+AH74+AI74+AK74+AM74+AO74+AQ74)","v":65},null,null,null,null,{"$f":"S74+BU74*0.25","v":6.5632928241854991},null,"Exceeds cap of $15 million for Statewide & Regional Projects cascading to Division Needs",{"$f":"O74+BT74*0.25","v":9.8457510643364152},null,"Pasquotank",50.79,"Gates",49.21,"","","","",1,"A","01, , ","Albemarle RPO, , ","Pasquotank, Gates, , ",15.565360119999999,15.565360119999999,"Two Lane Highway","Multi-Lane Highway",1,2,"Undivided","Divided",55,55,9.6602817719101992,90.339718228089794,3757.079988,15509.470209999999,0.24224425058552662,3394.1354747631499,362.9445132368499,74923.879907980401,8011.8225466282393,82935.702454608647,1898054,55.621653420000001,44.958995770000001,48.171840009999997,"","",1,5.4406035317515099E-6,"No","No",12,12,"No",1,0,"2 Lane Undivided","4A - 4 Lane Divided (46' Depressed Median) with Paved Shoulders","None","Partial",2,"Yes",37,91500000,20000000,5400000,116900000,"",116900000,116900000,""]
["B141867","Chowan","Albemarle RPO","Bike & Ped","Division Needs",null,";;",";;",";;","Connect path where existing sidewalk stops near Twiddy Ave. and extend towards Pembroke to the west side of town, connecting  residential subdivisions and over the US 17 bypass overpass, terminating at the new Chowan River fishing pier. (Phase 1)","2. Construct multi-use trail / greenway / sidepath or on-road bike lane on local roadway",400000,null,null,null,null,null,null,9.2594271087650011,3.75,null,"N/A",null,1871.3051080641271,null,null,"Yes",null,null,null,null,0,10,15,{"$f":"IF(AJ75=\"Yes\",10,0)","v":10},"Yes",15,"Minimal",10,"Yes",0,"No",0,"No",null,null,12.5,null,null,null,null,null,null,null,null,"Albemarle RPO",null,null,null,null,null,null,null,null,null,null,null,null,{"$f":"SUM(AF75+AG75+AH75+AI75+AK75+AM75+AO75)","v":60},null,null,null,null,null,null,null,null,null,"Chowan County",null,null,null,null,null,null,null,null,null,null,null,null,null,0.96,null,null,null,null,null,null,null,null,null,null,{"$f":"2226.61*0.1","v":222.66100000000003},null,null,null,null,null,null,null,null,null,null,null,null,null,null,null,null,null,null,null,null,null,null,null,null,null,null,null,null,null,380000,0,null,400000,0,400000]
["H129070-AA","Tyrrell","Albemarle RPO","Highway","Statewide Mobility","R-2545AA","US-64 ","East of Columbia","West of SR 1229 (Old US 64) at Alligator River","Widen to Multi-Lanes.","1 - Widen Existing Roadway",20780000,5.3659988106159062,null,2.4071891913157408,{"$f":"(V76+W76+Y76+Z76+AB76+AD76)","v":55},6.3,{"$f":"O76+P76+Q76","v":63.707189191315734},1.6040208211594833,9,null,{"$f":"IF(AU76<30,0,IF(AU76<50,5,IF(AU76<65,10,IF(AU76>66,15))))","v":0},{"$f":"IF(X76<499,15,IF(X76<999,10,IF(X76<1499,5,IF(X76>1500,0))))","v":5},1402.7886202635034,{"$f":"IF(DD76<500,0,IF(DD76<1000,5,IF(DD76>1000,10)))","v":0},{"$f":"IF(AA76=\"Yes\",20,0)","v":20},"Yes",{"$f":"IF(AC76=\"Yes\",10,0)","v":10},"Yes",{"$f":"IF(AE76=\"Yes\",20,0)","v":20},"Yes",0,15,15,10,"No",15,"Minimal",10,"Yes",0,"No",0,"No",16.017049020064515,2.3159191530317612E-2,0,1.8563572953123741,1.8266488807498149,31.250646215000003,0,0,null,null,null,"Albemarle RPO",100,"","","","","01",100,"","","","",{"$f":"SUM(V76+W76+Y76+Z76+AB76+AD76)","v":55},{"$f":"SUM(AF76+AG76+AH76+AI76+AK76+AM76+AO76+AQ76)","v":65},null,null,null,null,{"$f":"S76+BU76*0.25","v":1.6040208211594833},null,"Exceeds cap of $15 million for Statewide & Regional Projects cascading to Division Needs",{"$f":"O76+BT76*0.25","v":2.4071891913157408},null,"Tyrrell",100,"","","","","","",1,"A","01, , ","Albemarle RPO, , ","Tyrrell, , , ",3.95,3.95,"Two Lane Highway","Multi-Lane Highway",1,2,"Undivided","Divided",55,55,9.9000035722608004,90.0999964277392,3750.2154049999999,15500,0.24194938096774193,3378.9439459375253,371.27145906247483,18928.229631697483,2079.7952097663565,21008.024841463841,481248,0,0,0,"","",7,2.9532977614996302E-5,"No","No",12,12,"No",0,0,"2 Lane Undivided","4A - 4 Lane Divided (46' Depressed Median) with Paved Shoulders","None","Partial",1,"Yes",30,17800000,1730000,1250000,20780000,"",20780000,20780000,""]
["H129070-AB","Tyrrell","Albemarle RPO","Highway","Statewide Mobility","R-2545AB","US-64 ","West of SR 1229 (Old US 64) at Alligator River","West of Alligator River","Widen to Multi-Lanes.","1 - Widen Existing Roadway",44850000,5.2027678758907117,null,2.4071000419728881,{"$f":"(V77+W77+Y77+Z77+AB77+AD77)","v":55},6.3,{"$f":"O77+P77+Q77","v":63.707100041972886},1.6039762464880569,9,null,{"$f":"IF(AU77<30,0,IF(AU77<50,5,IF(AU77<65,10,IF(AU77>66,15))))","v":0},{"$f":"IF(X77<499,15,IF(X77<999,10,IF(X77<1499,5,IF(X77>1500,0))))","v":5},1430.3182031467043,{"$f":"IF(DD77<500,0,IF(DD77<1000,5,IF(DD77>1000,10)))","v":0},{"$f":"IF(AA77=\"Yes\",20,0)","v":20},"Yes",10,"Yes",{"$f":"IF(AE77=\"Yes\",20,0)","v":20},"Yes",0,15,15,10,"No",15,"Minimal",10,"Yes",0,"No",0,"No",16.017049020064515,2.2713444816053512E-2,0,1.8563572953123741,0.19567677364066899,31.250646215000003,0,0,null,null,null,"Albemarle RPO",100,"","","","","01",100,"","","","",{"$f":"SUM(V77+W77+Y77+Z77+AB77+AD77)","v":55},65,null,null,null,null,1.6039762464880569,null,"Exceeds cap of $15 million for Statewide & Regional Projects cascading to Division Needs",{"$f":"O77+BT77*0.25","v":2.4071000419728881},null,"Tyrrell",100,"","","","","","",1,"A","01, , ","Albemarle RPO, , ","Tyrrell, , , ",8.3612954199999994,8.3612954199999994,"Two Lane Highway","Multi-Lane Highway",1,2,"Undivided","Divided",55,55,9.9000035722608004,90.0999964277392,3750.2154049999999,15500,0.24194938096774193,3378.9439459375253,371.27145906247483,40066.96701980244,4402.4764966980465,44469.443516500483,1018698,0,0,0,"","",1,2.91353547281338E-6,"No","No",12,12,"No",0,0,"2 Lane Undivided","4A - 4 Lane Divided (46' Depressed Median) with Paved Shoulders","None","Partial",1,"Yes",30,41500000,1300000,2050000,44850000,"",44850000,44850000,""]
["H090376","Dare","Albemarle RPO","Highway","Regional Impact","U-2917","NC-12 ","Vicinity of SR 1206 in Kitty Hawk","","Roadway Improvements.","16 - Modernize Roadway",21318000,null,null,15.32,{"$f":"(V78+W78+Y78+Z78+AB78+AD78)","v":35},4.95,{"$f":"O78+P78+Q78","v":55.27},11.87,7.5,null,{"$f":"IF(AU78<30,0,IF(AU78<50,5,IF(AU78<65,10,IF(AU78>66,15))))","v":10},{"$f":"IF(X78<499,15,IF(X78<999,10,IF(X78<1499,5,IF(X78>1500,0))))","v":5},1416.5434087463095,{"$f":"IF(DD78<500,0,IF(DD78<1000,5,IF(DD78>1000,10)))","v":0},{"$f":"IF(AA78=\"Yes\",20,0)","v":20},"Yes",0,"No",{"$f":"IF(AE78=\"Yes\",20,0)","v":0},"No",10,{"$f":"IF(BM76<999,20,IF(BM76<1499,15,IF(BM76<1999,10,IF(BM76<3999,5,IF(BM76>4000,0)))))","v":0},15,10,"No",15,"Minimal",10,"Yes",0,"No",0,"No",15.607000817638772,0,53.139971694710994,0.88886058751024577,"N/A",2.4787958946666668,50,0,null,null,null,"Albemarle RPO",100,"","","","","01",100,"","","","",{"$f":"SUM(V78+W78+Y78+Z78+AB78+AD78)","v":35},60,null,null,null,null,11.87,null,"Exceeds cap of $15 million for Statewide & Regional Projects cascading to Division Needs",{"$f":"O78+BT78*0.25","v":15.32},null,"Dare",100,"","","","","","",1,"A","01, , ","Albemarle RPO, , ","Dare, , , ",4.04747843,4.04747843,"Arterial","Arterial",1,1,"Undivided","Undivided",35,35,4.7811417332246,95.218858266775399,3718.1938420000001,15800.000190000001,0.23532872134731284,3540.4217244979513,177.77211750204916,0,0,0,0,47.458223420000003,43.976591910000003,68.001043339999995,"","","","","No","No",10,12,"No",4,0,"2 Lane Undivided","","None","None",2,"No",19,21318000,0,0,21318000,"",21318000,21318000,""]
["A130009","Pasquotank","Albemarle RPO","Aviation","Division Needs",null,"Elizabeth City Coast Guard Air Station/Regional",null,null,"Install MALS/MALSF/MALSR",null,900000,null,null,null,null,null,null,12.05,13.5,null,"N/A",null,3176.8308782313661,null,null,"Yes",0,null,{"$f":"IF(AE79=\"Yes\",10,0)","v":0},null,0,{"$f":"IF(X79<999,20,IF(X79<1499,15,IF(X79<1999,10,IF(X79<3999,5,IF(X79>4000,0)))))","v":5},15,{"$f":"IF(AJ79=\"Yes\",10,0)","v":10},"Yes",15,"Minimal",10,"Yes",{"$f":"IF(AP79=\"Yes\",5,0)","v":5},"Yes",0,"No",null,null,null,null,null,null,null,null,null,null,null,"Albemarle RPO",null,null,null,null,null,null,null,null,null,null,null,null,60,null,null,null,null,12.05,{"$f":"BV79+T79","v":25.55},null,null,null,"Pasquotank",null,null,null,null,null,null,null,null,null,null,null,null,null,0.86,null,null,null,null,null,null,null,null,null,null,164.71,null,null,null,null,null,null,null,null,null,null,null,null,null,null,null,null,null,null,null,null,null,null,null,null,null,null,null,null,null,null,null,null,1000000,null,450000]
["A130010","Pasquotank","Albemarle RPO","Aviation","Division Needs",null,"Elizabeth City Coast Guard Air Station/Regional",null,null,"Acquire Equipment Shelter",null,490500,null,null,null,null,null,null,7.11,13.5,null,"N/A",null,3462.7456572721894,null,null,"Yes",0,null,{"$f":"IF(AE80=\"Yes\",10,0)","v":0},null,0,5,15,10,"Yes",15,"Minimal",10,"Yes",{"$f":"IF(AP80=\"Yes\",5,0)","v":5},"Yes",0,"No",null,null,null,null,null,null,null,null,null,null,null,"Albemarle RPO",null,null,null,null,null,null,null,null,null,null,null,null,60,null,null,null,null,7.11,{"$f":"BV80+T80","v":20.61},null,null,null,"Pasquotank",null,null,null,null,null,null,null,null,null,null,null,null,null,0.86,null,null,null,null,null,null,null,null,null,null,164.71,null,null,null,null,null,null,null,null,null,null,null,null,null,null,null,null,null,null,null,null,null,null,null,null,null,null,null,null,null,null,null,null,545000,null,490500]
["H141929","Perquimans","Albemarle RPO","Highway","Statewide Mobility","","US-17","US 17 Business (North) in Edenton (Broad Street)","SR 1100 / 1140 (Okisko Road)","Upgrade roadway to Interstate","2 - Upgrade Arterial to Freeway/Expressway",362296000,12.231591398447446,null,9.98,{"$f":"(V81+W81+Y81+Z81+AB81+AD81)","v":70},4.95,{"$f":"O81+P81+Q81","v":84.93},7.47,7.5,null,{"$f":"IF(AU81<30,0,IF(AU81<50,5,IF(AU81<65,10,IF(AU81>66,15))))","v":5},{"$f":"IF(X81<499,15,IF(X81<999,10,IF(X81<1499,5,IF(X81>1500,0))))","v":5},1471.2174057748716,{"$f":"IF(DD81<500,0,IF(DD81<1000,5,IF(DD81>1000,10)))","v":10},{"$f":"IF(AA81=\"Yes\",20,0)","v":20},"Yes",10,"Yes",{"$f":"IF(AE81=\"Yes\",20,0)","v":20},"Yes",5,15,15,0,"No",15,"Minimal",10,"Yes",{"$f":"IF(AP81=\"Yes\",10,0)","v":0},"No",0,"No",15.310184131456303,0.46260251838275884,33.909394688070002,6.3722125822879949,28.343734182311298,50.155493607634938,0,25,null,null,null,"Albemarle RPO",100,"","","","","01",100,"","","","",{"$f":"SUM(V81+W81+Y81+Z81+AB81+AD81)","v":70},60,null,null,100,null,7.47,null,"Delay Prioritization pending outcome of Future Interstate Designation; Exceeds cap of $15 million for Statewide & Regional Projects cascading to Division Needs",{"$f":"O81+BT81*0.25","v":34.980000000000004},null,"Perquimans",89.76,"Chowan",8.6,"Pasquotank",1.63,"","",1,"A","01, , ","Albemarle RPO, , ","Perquimans, Chowan, Pasquotank, ",19.226261770000001,19.226261770000001,"Multi-Lane Highway","Freeway",2,2,"Divided","Divided",55.267216771237202,70,9.9501222739189998,90.049877726081007,12808.310102863101,75440.184645582907,0.16978100150518441,11533.867586405504,1274.4425164575989,6586938.0592921842,727828.18539802916,7314766.2446902134,167599042,27.89512178,40.943156899999998,32.900079220000002,"","",116.79099750996799,4.5008368613625799E-4,"No","No",12,12,"No",3,4,"4 Lane with Median - Partial Control","4A - 4 Lane Divided (46' Depressed Median) with Paved Shoulders","None","None",2,"Yes",28,248047000,102008000,12241000,362296000,"",362296000,362296000,""]
["H141931","Camden","Albemarle RPO","Highway","Statewide Mobility","","US-17","US 17/158 north of Elizabeth City (North Road Street)","Virginia State LIne","Upgrade roadway to Interstate","2 - Upgrade Arterial to Freeway/Expressway",66692000,11.444817563368547,null,9.1,75,4.95,89.05,6.84,7.5,null,0,15,380.94657353193423,10,{"$f":"IF(AA82=\"Yes\",20,0)","v":20},"Yes",10,"Yes",{"$f":"IF(AE82=\"Yes\",20,0)","v":20},"Yes",0,20,15,0,"No",15,"Minimal",10,"Yes",0,"No",0,"No",16.058654438177065,1.8246393120614166,25.536049133033998,6.3980551436151325,22.466134962705745,64.340570639189394,0,25,null,null,null,"Albemarle RPO",100,"","","","","01",100,"","","","",75,60,null,null,null,null,6.84,null,"Delay Prioritization pending outcome of Future Interstate Designation; Exceeds cap of $15 million for Statewide & Regional Projects cascading to Division Needs",9.1,null,"Camden",73.67,"Pasquotank",26.33,"","","","",1,"A","01, , ","Albemarle RPO, , ","Camden, Pasquotank, , ",13.01933756,13.01933756,"Multi-Lane Highway","Freeway",2,2,"Divided","Divided",55,70,9.5160604457086997,90.483939554291297,13446.856879729799,75544.764459042606,0.17799852810475245,12167.245851006774,1279.6110287230265,4814002.4068682343,506281.42535790673,5320283.8322261414,121688845,16.545985770000001,37.384043830000003,22.68577938,"","",86.358414733329894,3.6296428452078499E-4,"No","No",12,12,"No",3,4,"4 Lane with Median - Limited Control","4A - 4 Lane Divided (46' Depressed Median) with Paved Shoulders","Limited","Limited",1,"Yes",32,54160000,11189000,1343000,66692000,"",66692000,66692000,""]
["H090124-B","Dare","Peanut Belt RPO","Highway","Statewide Mobility","R-2544B","US-64 ","West of SR 1102 (East Lake Road)","East of Dare County Landfill","Widen to Multi-Lanes.","1 - Widen Existing Roadway",26450000,7.7762964530412519,null,7.4354279530602927,60,6.3,73.735427953060295,4.9569519687068624,9,null,5,5,1021.2769561031048,0,{"$f":"IF(AA83=\"Yes\",20,0)","v":20},"Yes",10,"Yes",{"$f":"IF(AE83=\"Yes\",20,0)","v":20},"Yes",5,15,15,0,"No",15,"Minimal",10,"Yes",0,"No",0,"No",12.646326065699627,0,36.923193621368995,1.4503963559723212,0,15.895993893333333,0,0,null,null,null,"Albemarle RPO",100,"","","","","01",100,"","","","",60,60,null,null,null,null,4.9569519687068624,null,"Exceeds cap of $15 million for Statewide & Regional Projects cascading to Division Needs",7.4354279530602927,null,"Dare",100,"","","","","","",1,"A","01, , ","Albemarle RPO, , ","Dare, , , ",8.7466968000000005,8.7466968000000005,"Two Lane Highway","Multi-Lane Highway",1,2,"Undivided","Divided",55,55,9.796673270458701,90.203326729541303,2960.9977100000001,15499.99951,0.19103211636166045,2670.918438805536,290.07927119446424,0,0,0,0,44.270671739999997,26.617315269999999,39.892671919999998,"","",0,0,"No","No",12,12,"No",0,0,"2 Lane Undivided","4A - 4 Lane Divided (46' Depressed Median) with Paved Shoulders","None","Partial",2,"Yes",24,23300000,2100000,1050000,26450000,"",26450000,26450000,""]
["H141880","Pasquotank","Albemarle RPO","Highway","Statewide Mobility","","US-17-BYP-Elizabeth City Bypass","SR 1100 / 1140 (Okisko Road)","US 17/158 north of Elizabeth City (North Road Street)","Upgrade freeway to interstate standards","17 - Upgrade Freeway to Interstate Standards",16554000,7.4401437540013751,null,5.1586118755402079,75,6.3,86.4586118755402,3.4390745836934724,9,null,0,15,146.45742390673294,10,{"$f":"IF(AA84=\"Yes\",20,0)","v":20},"Yes",10,"Yes",{"$f":"IF(AE84=\"Yes\",20,0)","v":20},"Yes",0,20,15,0,"No",15,"Minimal",10,"Yes",0,"No",0,"No",13.968030206078721,0,20.422715630856001,5.5853239091258402,0.90398347266990298,13.553747511552267,0,0,null,null,null,"Albemarle RPO",100,"","","","","01",100,"","","","",75,60,null,null,null,null,3.4390745836934724,null,"Delay Prioritization pending outcome of Future Interstate Designation; Exceeds cap of $15 million for Statewide & Regional Projects cascading to Division Needs",5.1586118755402079,null,"Pasquotank",100,"","","","","","",1,"A","01, , ","Albemarle RPO, , ","Pasquotank, , , ",9.97557267,9.97557267,"Freeway","Freeway",2,2,"Divided","Divided",68.723659978444402,68.723659978444402,9.858813170697001,90.141186829302995,11330.621267328401,72048.855909959806,0.1572630283191227,10213.556485503232,1117.064781825168,0,0,0,0,23.95659736,8.3349116199999997,28.98276534,"","",3.7328922246088601,1.43467772287892E-5,"No","No",12,12,"No",4,4,"4 Lane with Median - Full Control","","Full","Full",2,"No",23,16554000,0,0,16554000,"",16554000,16554000,""]
["H090055","Bertie","Peanut Belt RPO","Highway","Statewide Mobility","R-2205","US-13 ","NC 42 at Powellsville. in Bertie County","US 13 Bypass North of Ahoskie in Hertford County","Construct Multi-Lanes with Bypass of Ahoskie on New Location.","1 - Widen Existing Roadway",49575000,16.451595973936445,null,15.16,45,null,60.16,10.94,null,null,10,0,4708.3774991272439,0,{"$f":"IF(AA85=\"Yes\",15,0)","v":15},"Yes",10,"Yes",{"$f":"IF(AE85=\"Yes\",10,0)","v":10},"Yes",10,{"$f":"IF(BM83<999,20,IF(BM83<1499,15,IF(BM83<1999,10,IF(BM83<3999,5,IF(BM83>4000,0)))))","v":0},15,10,"Yes",15,"Minimal",10,"Yes",0,"No",0,"No",27.533278106761291,2.989666162380232E-2,56.820126272447993,12.360755065048751,0.28479903166367554,27.339840362,25,0,null,null,null,"Peanut Belt RPO",100,"","","","","01",100,"","","","",45,60,null,null,null,null,10.94,null,"Exceeds cap of $15 million for Statewide & Regional Projects cascading to Division Needs",15.16,null,"Bertie",51.94,"Hertford",48.06,"","","","",1,"A","01, , ","Peanut Belt RPO, , ","Bertie, Hertford, , ",1.6332768900000001,1.6332768900000001,"Two Lane Highway","Multi-Lane Highway",1,2,"Undivided","Divided",50,50,6.0899926560569,93.910007343943107,6446.6134540000003,15500,0.41591054541935485,6054.0151680870249,392.59828591297605,61700.390330254988,4001.2234543961185,65701.613784651112,1482127,71.632139179999996,31.628654959999999,67.216632419999996,"","",1,4.6959806332735103E-6,"Yes","No",11,12,"No",3,2,"2 Lane Undivided","4A - 4 Lane Divided (46' Depressed Median) with Paved Shoulders","None","Limited",1,"Yes",24,46000000,3575000,0,49575000,"",49575000,49575000,""]
["H090098","Bertie","Peanut Belt RPO","Highway","Statewide Mobility","R-2506","US-13 ","US 13 Business North of Windsor","NC 42","Widen to Multi-Lanes.","1 - Widen Existing Roadway",99400000,11.136523875976859,null,12.4,45,null,57.4,9.1,null,null,10,0,1765.7073314003956,0,{"$f":"IF(AA86=\"Yes\",15,0)","v":15},"Yes",10,"Yes",{"$f":"IF(AE86=\"Yes\",10,0)","v":10},"Yes",10,{"$f":"IF(BM84<999,20,IF(BM84<1499,15,IF(BM84<1999,10,IF(BM84<3999,5,IF(BM84>4000,0)))))","v":0},15,10,"Yes",15,"Minimal",10,"Yes",0,"No",0,"No",14.914047600427818,6.1686539235412473E-2,50.994178142192993,7.1730424362549918,1.097773326075915,20.499871621,25,0,null,null,null,"Peanut Belt RPO",100,"","","","","01",100,"","","","",45,60,null,null,null,null,9.1,null,"Exceeds cap of $15 million for Statewide & Regional Projects cascading to Division Needs",12.4,null,"Bertie",100,"","","","","","",1,"A","01, , ","Peanut Belt RPO, , ","Bertie, , , ",16.084402399999998,16.084402399999998,"Two Lane Highway","Multi-Lane Highway",1,2,"Undivided","Divided",49,50,8.8125771032800007,91.187422896719994,3499.9572069999999,15539.176170000001,0.22523441196046365,3191.5207795513193,308.43642744868021,245144.62958747204,23691.38068680216,268836.01027427422,6131642,54.538307000000003,43.544452530000001,54.915074679999996,"","",4,1.7955466521518299E-5,"Yes","No",11,12,"No",0,0,"2 Lane Undivided","4A - 4 Lane Divided (46' Depressed Median) with Paved Shoulders","None","Partial",1,"Yes",25,61000000,35800000,2600000,99400000,"",99400000,99400000,""]
["H090182","Martin","Mid-East RPO","Highway","Regional Impact","R-2700","NC-11 ","US 64 Relocation North of Bethel","NC 903","Widen to Four Lanes with a Bypass of Oak City on New Location.","6 - Widen Existing Roadway and Construct Part on New Location",120488000,null,null,7.5066214316192408,45,null,52.506621431619237,5.0029548834901352,null,null,5,0,2117.0917484054085,5,{"$f":"IF(AA87=\"Yes\",15,0)","v":15},"Yes",10,"Yes",{"$f":"IF(AE87=\"Yes\",10,0)","v":10},"Yes",5,{"$f":"IF(X87<999,20,IF(X87<1499,15,IF(X87<1999,10,IF(X87<3999,5,IF(X87>4000,0)))))","v":5},15,10,"Yes",15,"Minimal",10,"Yes",0,"No",{"$f":"IF(AR87=\"Yes\",10,0)","v":0},"No",16.498670475081592,4.3782127680764893E-2,33.487096232138995,3.4346861968498441,"N/A",23.602926140999998,0,0,null,null,null,"Mid-East RPO",86.92,"Upper Coastal Plain RPO",13.08,"","","01",86.92,"04",13.08,"","",45,60,null,null,null,null,5.0029548834901352,null,"Exceeds cap of $15 million for Statewide & Regional Projects cascading to Division Needs",7.5066214316192408,null,"Martin",86.92,"Edgecombe",13.08,"","","","",1,"A","01, 04, ","Mid-East RPO, Upper Coastal Plain RPO, ","Martin, Edgecombe, , ",14.7,14.714917890000001,"Two Lane Highway","Multi-Lane Highway",1,2,"Undivided","Divided",54,55,17.761137949743897,82.238862050256103,3867.6420469999998,15520.633970000001,0.24919356093802653,3180.7048076300312,686.93723936996878,183602.25972227845,39652.60439546586,223254.86411774432,5275221,43.679475170000003,30.094417199999999,26.697443459999999,"","","","","No","No",12,12,"No",3,0,"New Roadway","4A - 4 Lane Divided (46' Depressed Median) with Paved Shoulders","None","Partial",1,"Yes",26,113088000,6607000,793000,120488000,"",120488000,120488000,""]
["H090399","Chowan","Albemarle RPO","Highway","Regional Impact","U-3419","NC-94 Soundside Road","NC 32","US 17 Bypass","NC 32  to US 17 Bypass. Two Lanes  on New Location.","5 - Construct Roadway on New Location",24738000,null,null,12.13,30,3.6,45.730000000000004,9.75,5.25,null,0,0,1818.1844987799473,0,{"$f":"IF(AA88=\"Yes\",20,0)","v":20},"Yes",10,"Yes",{"$f":"IF(AE88=\"Yes\",20,0)","v":0},"no",0,10,15,10,"No",{"$f":"IF(AL88=\"Minimal\",15,0)","v":15},"Minimal",10,"Yes",0,"No",0,"No",20.802069229215935,0,26.713074408734997,1.0562003183467636,"N/A",24.906870215000001,0,50,null,null,null,"Albemarle RPO",100,"","","","","01",100,"","","","",30,60,null,null,null,null,9.75,null,"Exceeds cap of $15 million for Statewide & Regional Projects cascading to Division Needs",12.13,null,"Chowan",100,"","","","","","",1,"A","01, , ","Albemarle RPO, , ","Chowan, , , ",3.7,2.77282246,"Two Lane Highway","Arterial",1,1,"Undivided","Undivided",46,45,4.3049857529063003,95.695014247093695,4906.8702149999999,15627.53831,0.31398868572026556,4695.6301513306471,211.24006366935274,0,0,0,0,29.14122888,21.864780190000001,29.14122888,"","","","","No","No",12,12,"No",0,2,"New Roadway","2B - 2 Lane Undivided with Paved Shoulders, 25-45 mph","None","None",1,"No",30,24510000,204000,24000,24738000,"",24738000,24738000,""]
["H112082","Dare","Albemarle RPO","Highway","Division Needs","","SR-1208 W. Kitty Hawk Road","SR 1210 (Bob Perry Road)","Ivy Lane","Modernize Roadway with Wide Shoulders For Bicyclists","16 - Modernize Roadway",2736000,null,null,null,null,null,null,9.57,6.75,null,"N/A",null,{"$f":"(EI89/CZ89)/CO89","v":2827.9496762997946},null,null,"Yes",null,null,null,null,{"$f":"IF(AU89<30,0,IF(AU89<50,5,IF(AU89<65,10,IF(AU89<79,15,IF(AU89>80,20)))))","v":5},5,{"$f":"IF(AA89=\"Yes\",15,0)","v":15},10,"No",15,"Minimal",{"$f":"IF(AN89=\"Yes\",10,0)","v":10},"Yes",0,"No",0,"No",3.8196962025316457,0,41.863874847167999,0,"N/A","N/A",50,0,null,null,null,"Albemarle RPO",100,"","","","","01",100,"","","","",null,60,null,null,null,100,34.57,null,null,null,null,"Dare",100,"","","","","","",1,"A","01, , ","Albemarle RPO, , ","Dare, , , ",1.06317076,1.06317076,"Arterial","Arterial",1,1,"Undivided","Undivided",35,35,0,100,910,15800,5.7594936708860761E-2,910,0,0,0,0,0,31.412820159999999,47.095682400000001,47.095682400000001,"","","","","No","No",9,11,"No",0,0,"2 Lane Undivided","","None","None",2,"No",18,2736000,0,0,2736000,"",2736000,2736000,""]
["H090868","Gates","Albemarle RPO","Highway","Regional Impact","","NC-32 ","Chowan County","Virginia State Line","Widen to Multi-Lanes from Chowan County to Virginia Border","1 - Widen Existing Roadway",164732000,null,null,8.6051018168922653,{"$f":"(V90+W90+Y90+Z90+AB90+AD90)","v":55},3.6,{"$f":"O90+P90+Q90","v":67.205101816892267},5.7367345445948441,5.25,null,{"$f":"IF(AU90<30,0,IF(AU90<50,5,IF(AU90<65,10,IF(AU90>66,15))))","v":5},{"$f":"IF(X90<499,15,IF(X90<999,10,IF(X90<1499,5,IF(X90>1500,0))))","v":0},3736.084845243709,{"$f":"IF(DD90<500,0,IF(DD90<1000,5,IF(DD90>1000,10)))","v":0},{"$f":"IF(AA90=\"Yes\",20,0)","v":20},"Yes",{"$f":"IF(AC90=\"Yes\",10,0)","v":10},"Yes",{"$f":"IF(AE90=\"Yes\",20,0)","v":20},"Yes",5,5,15,10,"No",15,"Minimal",10,"Yes",0,"No",0,"No",11.331138193748444,0,46.036207252199993,1.1899936567631844,"N/A",43.959183177,0,0,null,null,null,"Albemarle RPO",100,"","","","","01",100,"","","","",{"$f":"SUM(V90+W90+Y90+Z90+AB90+AD90)","v":55},60,null,null,null,null,5.7367345445948441,null,"Exceeds cap of $15 million for Statewide & Regional Projects cascading to Division Needs",{"$f":"O90+BT90*0.25","v":8.6051018168922653},null,"Gates",100,"","","","","","",1,"A","01, , ","Albemarle RPO, , ","Gates, , , ",16.61934853,16.61934853,"Two Lane Highway","Multi-Lane Highway",1,2,"Undivided","Divided",55,55,8.9707219720884996,91.029278027911502,2653.0610590000001,15500.00001,0.17116522950247406,2415.0623276473634,237.99873135263687,0,0,0,0,52.038928579999997,41.030888079999997,45.052617339999998,"","","","","No","No",12,12,"No",0,0,"2 Lane Undivided","4A - 4 Lane Divided (46' Depressed Median) with Paved Shoulders","None","Partial",1,"Yes",38,106020000,52421000,6291000,164732000,"",164732000,164732000,""]
["H090145","Gates","Albemarle RPO","Highway","Statewide Mobility","R-2578","US-158 ","US 13","NC 32 in Sunbury","Widen to Multi-Lanes.","1 - Widen Existing Roadway",110400000,8.2154544470739186,null,8.1873220710655996,{"$f":"(V91+W91+Y91+Z91+AB91+AD91)","v":55},4.95,{"$f":"O91+P91+Q91","v":68.137322071065597},5.4582147140437334,7.5,null,{"$f":"IF(AU91<30,0,IF(AU91<50,5,IF(AU91<65,10,IF(AU91>66,15))))","v":5},{"$f":"IF(X91<499,15,IF(X91<999,10,IF(X91<1499,5,IF(X91>1500,0))))","v":0},2636.408006233883,{"$f":"IF(DD91<500,0,IF(DD91<1000,5,IF(DD91>1000,10)))","v":0},{"$f":"IF(AA91=\"Yes\",20,0)","v":20},"Yes",10,"Yes",{"$f":"IF(AE91=\"Yes\",20,0)","v":20},"Yes",5,5,15,10,"No",15,"Minimal",10,"Yes",0,"No",0,"No",11.950545640279334,0,42.631601500157998,1.8356530248715976,0,48.394265506000004,0,0,null,null,null,"Albemarle RPO",100,"","","","","01",100,"","","","",{"$f":"SUM(V91+W91+Y91+Z91+AB91+AD91)","v":55},60,null,null,null,null,5.4582147140437334,null,"Exceeds cap of $15 million for Statewide & Regional Projects cascading to Division Needs",{"$f":"O91+BT91*0.25","v":8.1873220710655996},null,"Gates",100,"","","","","","",1,"A","01, , ","Albemarle RPO, , ","Gates, , , ",14.96563003,14.96563003,"Two Lane Highway","Multi-Lane Highway",1,2,"Undivided","Divided",55,55,13.120764575956201,86.879235424043799,2798.0885020000001,15500.00013,0.18052183732465557,2430.9578970256807,367.13060497431951,0,0,0,0,42.384867309999997,36.449745309999997,49.072982639999999,"","",0,0,"No","No",12,12,"No",0,0,"2 Lane Undivided","4A - 4 Lane Divided (46' Depressed Median) with Paved Shoulders","None","Partial",1,"Yes",40,65000000,35500000,9900000,110400000,"",110400000,110400000,""]
["A130016","Dare","Albemarle RPO","Aviation","Division Needs",null,"Dare County Regional",null,null,"Land Acquisition-Runway Approach",null,428000,null,null,null,null,null,null,38.049999999999997,9.75,null,"N/A",null,11239.259679418501,null,{"$f":"IF(AA92=\"Yes\",15,0)","v":15},"Yes",0,null,{"$f":"IF(AE92=\"Yes\",10,0)","v":0},null,0,0,15,{"$f":"IF(AJ92=\"Yes\",10,0)","v":10},"Yes",15,"Minimal",10,"Yes",{"$f":"IF(AP92=\"Yes\",5,0)","v":5},"Yes",0,"No",null,null,null,null,null,null,null,null,null,null,null,"Albemarle RPO",null,null,null,null,null,null,null,null,null,null,null,null,55,null,null,null,null,38.049999999999997,{"$f":"BV92+T92","v":47.8},null,null,null,"Dare",null,null,null,null,null,null,null,null,null,null,null,null,null,0.82,null,null,null,null,null,null,null,null,null,null,46.44,null,null,null,null,null,null,null,null,null,null,null,null,null,null,null,null,null,null,null,null,null,null,null,null,null,null,null,null,null,null,null,null,475555,null,428000]
["A130018","Dare","Albemarle RPO","Aviation","Division Needs",null,"Dare County Regional",null,null,"Land Acquisition-Runway Approach",null,454815,null,null,null,null,null,null,38.049999999999997,9.75,null,"N/A",null,11943.420306296088,null,{"$f":"IF(AA93=\"Yes\",15,0)","v":15},"Yes",0,null,{"$f":"IF(AE93=\"Yes\",10,0)","v":0},null,0,0,15,10,"Yes",15,"Minimal",10,"Yes",{"$f":"IF(AP93=\"Yes\",5,0)","v":5},"Yes",0,"No",null,null,null,null,null,null,null,null,null,null,null,"Albemarle RPO",null,null,null,null,null,null,null,null,null,null,null,null,55,null,null,null,null,38.049999999999997,{"$f":"BV93+T93","v":47.8},null,null,null,"Dare",null,null,null,null,null,null,null,null,null,null,null,null,null,0.82,null,null,null,null,null,null,null,null,null,null,46.44,null,null,null,null,null,null,null,null,null,null,null,null,null,null,null,null,null,null,null,null,null,null,null,null,null,null,null,null,null,null,null,null,505350,null,454815]
["A130019","Dare","Albemarle RPO","Aviation","Division Needs",null,"Dare County Regional",null,null,"Land Acquisition-Runway Approach",null,3325500,null,null,null,null,null,null,38.049999999999997,9.75,null,"N/A",null,87327.47211193043,null,{"$f":"IF(AA94=\"Yes\",15,0)","v":15},"Yes",0,null,{"$f":"IF(AE94=\"Yes\",10,0)","v":0},null,0,0,15,10,"Yes",15,"Minimal",10,"Yes",{"$f":"IF(AP94=\"Yes\",5,0)","v":5},"Yes",0,"No",null,null,null,null,null,null,null,null,null,null,null,"Albemarle RPO",null,null,null,null,null,null,null,null,null,null,null,null,55,null,null,null,null,38.049999999999997,{"$f":"BV94+T94","v":47.8},null,null,null,"Dare",null,null,null,null,null,null,null,null,null,null,null,null,null,0.82,null,null,null,null,null,null,null,null,null,null,46.44,null,null,null,null,null,null,null,null,null,null,null,null,null,null,null,null,null,null,null,null,null,null,null,null,null,null,null,null,null,null,null,null,3695000,null,3325500]
["A130028","Dare","Albemarle RPO","Aviation","Division Needs",null,"Dare County Regional",null,null,"Land Acquisition-Obstruction Removal",null,1152000,null,null,null,null,null,null,36.85,9.75,null,"N/A",null,30251.465305350732,null,{"$f":"IF(AA95=\"Yes\",15,0)","v":15},"Yes",0,null,{"$f":"IF(AE95=\"Yes\",10,0)","v":0},null,0,0,15,10,"Yes",15,"Minimal",10,"Yes",{"$f":"IF(AP95=\"Yes\",5,0)","v":5},"Yes",0,"No",null,null,null,null,null,null,null,null,null,null,null,"Albemarle RPO",null,null,null,null,null,null,null,null,null,null,null,null,55,null,null,null,null,36.85,{"$f":"BV95+T95","v":46.6},null,null,null,"Dare",null,null,null,null,null,null,null,null,null,null,null,null,null,0.82,null,null,null,null,null,null,null,null,null,null,46.44,null,null,null,null,null,null,null,null,null,null,null,null,null,null,null,null,null,null,null,null,null,null,null,null,null,null,null,null,null,null,null,null,1280000,null,1152000]
["A130029","Dare","Albemarle RPO","Aviation","Division Needs",null,"Dare County Regional",null,null,"Design",null,1620000,null,null,null,null,null,null,35.229999999999997,9.75,null,"N/A",null,42541.123085649466,null,{"$f":"IF(AA96=\"Yes\",15,0)","v":15},"Yes",0,null,{"$f":"IF(AE96=\"Yes\",10,0)","v":0},null,0,0,15,10,"Yes",15,"Minimal",10,"Yes",{"$f":"IF(AP96=\"Yes\",5,0)","v":5},"Yes",0,"No",null,null,null,null,null,null,null,null,null,null,null,"Albemarle RPO",null,null,null,null,null,null,null,null,null,null,null,null,55,null,null,null,null,35.229999999999997,{"$f":"BV96+T96","v":44.98},null,null,null,"Dare",null,null,null,null,null,null,null,null,null,null,null,null,null,0.82,null,null,null,null,null,null,null,null,null,null,46.44,null,null,null,null,null,null,null,null,null,null,null,null,null,null,null,null,null,null,null,null,null,null,null,null,null,null,null,null,null,null,null,null,1800000,null,1620000]
["B142220","Chowan","Albemarle RPO","Bike & Ped","Division Needs",null,"North Broad Street","Church Street","Water Street","North Broad Street Bike Path","2. Construct multi-use trail / greenway / sidepath or on-road bike lane on local roadway",400000,null,null,null,null,null,null,21.145250000000001,9.75,null,"N/A",null,4205.3913116615495,null,null,"Yes",null,null,null,null,5,0,15,10,"Yes",15,"Minimal",10,"Yes",{"$f":"IF(AP97=\"Yes\",10,0)","v":0},"No",0,"No",null,null,32.5,null,null,null,null,null,null,null,null,"Albemarle RPO",null,null,null,null,null,null,null,null,null,null,null,null,{"$f":"SUM(AF97+AG97+AH97+AI97+AK97+AM97+AO97)","v":55},null,null,null,null,null,null,null,null,null,"Chowan County",null,null,null,null,null,null,null,null,null,null,null,null,null,0.28000000000000003,null,null,null,null,null,null,null,null,null,null,{"$f":"3397*0.1","v":339.70000000000005},null,null,null,null,null,null,null,null,null,null,null,null,null,null,null,null,null,null,null,null,null,null,null,null,null,null,null,null,null,380000,0,null,400000,0,400000]
["B141529","Dare","Albemarle RPO","Bike & Ped","Division Needs",null,"US 158","Atlantic","Baum","Construct Sidewalk","5. Construct Sidewalk",345000,null,null,null,null,null,null,21.058673913043478,9.75,null,"N/A",null,5058.8550026752273,null,null,"Yes",null,null,null,null,5,0,15,10,"Yes",15,"Minimal",10,"Yes",{"$f":"IF(AP98=\"Yes\",10,0)","v":0},"No",0,"No",null,null,45,null,null,null,null,null,null,null,null,"Albemarle RPO",null,null,null,null,null,null,null,null,null,null,null,null,{"$f":"SUM(AF98+AG98+AH98+AI98+AK98+AM98+AO98)","v":55},null,null,null,null,null,null,null,null,null,"Dare County",null,null,null,null,null,null,null,null,null,null,null,null,null,0.89,null,null,null,null,null,null,null,null,null,null,{"$f":"1512*0.1","v":151.20000000000002},null,null,null,null,null,null,null,null,null,null,null,null,null,null,null,null,null,null,null,null,null,null,null,null,null,null,null,null,null,300000,0,null,345000,0,680760]
["B141937","Currituck","Albemarle RPO","Bike & Ped","Division Needs",null,"Currituck Multiuse","Albacore St","Driftwood Way","Construct Mult-use Path","2. Construct multi-use trail / greenway / sidepath or on-road bike lane on local roadway",460000,null,null,null,null,null,null,16.10631928977989,13.5,null,"N/A",null,158402.20385674931,null,null,"Yes",null,null,null,null,5,0,15,10,"Yes",15,"Minimal",10,"Yes",{"$f":"IF(AP99=\"Yes\",10,0)","v":0},"No",0,"No",null,null,45,null,null,null,null,null,null,null,null,"Albemarle RPO",null,null,null,null,null,null,null,null,null,null,null,null,{"$f":"SUM(AF99+AG99+AH99+AI99+AK99+AM99+AO99)","v":55},null,null,null,null,null,null,null,null,null,"Currituck County",null,null,null,null,null,null,null,null,null,null,null,null,null,0.66,null,null,null,null,null,null,null,null,null,null,{"$f":"44*0.1","v":4.4000000000000004},null,null,null,null,null,null,null,null,null,null,null,null,null,null,null,null,null,null,null,null,null,null,null,null,null,null,null,null,null,400000,0,null,460000,0,460000]
["A130006","Pasquotank","Albemarle RPO","Aviation","Division Needs",null,"Elizabeth City Coast Guard Air Station/Regional",null,null,"Permitting/mitigation/preliminary",null,3659719,null,null,null,null,null,null,27.7,13.5,null,"N/A",null,25836.240721888931,null,null,"Yes",{"$f":"IF(AC100=\"Yes\",10,0)","v":0},null,{"$f":"IF(AE100=\"Yes\",10,0)","v":0},null,0,0,15,10,"Yes",15,"Minimal",10,"Yes",{"$f":"IF(AP100=\"Yes\",5,0)","v":5},"Yes",0,"No",null,null,null,null,null,null,null,null,null,null,null,"Albemarle RPO",null,null,null,null,null,null,null,null,null,null,null,null,{"$f":"SUM(AF100+AG100+AH100+AI100+AK100+AM100+AO100+AQ100)","v":55},null,null,null,null,{"$f":"S100+BU100*0.25","v":27.7},{"$f":"BV100+T100","v":41.2},null,null,null,"Pasquotank",null,null,null,null,null,null,null,null,null,null,null,null,null,0.86,null,null,null,null,null,null,null,null,null,null,164.71,null,null,null,null,null,null,null,null,null,null,null,null,null,null,null,null,null,null,null,null,null,null,null,null,null,null,null,null,null,null,null,null,4066354,null,3659719]
["A130033","Currituck","Albemarle RPO","Aviation","Division Needs",null,"Currituck County Regional",null,null,"Design",null,1746000,null,null,null,null,null,null,25,13.5,null,"N/A",null,24512.281411098757,null,null,"Yes",{"$f":"IF(AC101=\"Yes\",10,0)","v":0},null,{"$f":"IF(AE101=\"Yes\",10,0)","v":0},null,0,0,15,10,"Yes",15,"Minimal",10,"Yes",{"$f":"IF(AP101=\"Yes\",5,0)","v":5},"Yes",0,"No",null,null,null,null,null,null,null,null,null,null,null,"Albemarle RPO",null,null,null,null,null,null,null,null,null,null,null,null,{"$f":"SUM(AF101+AG101+AH101+AI101+AK101+AM101+AO101+AQ101)","v":55},null,null,null,null,{"$f":"S101+BU101*0.25","v":25},{"$f":"BV101+T101","v":38.5},null,null,null,"Currituck",null,null,null,null,null,null,null,null,null,null,null,null,null,1.04,null,null,null,null,null,null,null,null,null,null,68.489999999999995,null,null,null,null,null,null,null,null,null,null,null,null,null,null,null,null,null,null,null,null,null,null,null,null,null,null,null,null,null,null,null,null,1940000,null,1746000]
["A130415","Hertford","Peanut Belt RPO","Aviation","Division Needs",null,"Tri-County",null,null,"Land Acquisition-Runway Approach",null,450000,null,null,null,null,null,null,35.35,null,null,"N/A",null,14750.954714569027,null,{"$f":"IF(AA102=\"Yes\",15,0)","v":15},"Yes",{"$f":"IF(AC102=\"Yes\",10,0)","v":0},null,{"$f":"IF(AE102=\"Yes\",10,0)","v":0},null,0,0,15,10,"Yes",15,"Minimal",10,"Yes",{"$f":"IF(AP102=\"Yes\",5,0)","v":5},"Yes",0,"No",null,null,null,null,null,null,null,null,null,null,null,"Peanut Belt RPO",null,null,null,null,null,null,null,null,null,null,null,null,{"$f":"SUM(AF102+AG102+AH102+AI102+AK102+AM102+AO102+AQ102)","v":55},null,null,null,null,{"$f":"S102+BU102*0.25","v":35.35},{"$f":"BV102+T102","v":35.35},null,null,null,"Hertford",null,null,null,null,null,null,null,null,null,null,null,null,null,0.85,null,null,null,null,null,null,null,null,null,null,35.89,null,null,null,null,null,null,null,null,null,null,null,null,null,null,null,null,null,null,null,null,null,null,null,null,null,null,null,null,null,null,null,null,500000,null,450000]
["B141941","Currituck","Albemarle RPO","Bike & Ped","Division Needs",null,"Currituck Multi use","Comrmonrant Ct.","Harris Teeter","Construct Multi use path","2. Construct multi-use trail / greenway / sidepath or on-road bike lane on local roadway",460000,null,null,null,null,null,null,14.62143146722117,13.5,null,"N/A",null,130718.95424836602,null,null,"Yes",null,null,null,null,5,0,15,10,"Yes",15,"Minimal",10,"Yes",{"$f":"IF(AP103=\"Yes\",10,0)","v":0},"No",0,"No",null,null,35,null,null,null,null,null,null,null,null,"Albemarle RPO",null,null,null,null,null,null,null,null,null,null,null,null,{"$f":"SUM(AF103+AG103+AH103+AI103+AK103+AM103+AO103)","v":55},null,null,null,null,null,null,null,null,null,"Currituck County",null,null,null,null,null,null,null,null,null,null,null,null,null,0.69,null,null,null,null,null,null,null,null,null,null,{"$f":"51*0.1","v":5.1000000000000005},null,null,null,null,null,null,null,null,null,null,null,null,null,null,null,null,null,null,null,null,null,null,null,null,null,null,null,null,null,400000,0,null,460000,0,460000]
["A130001",null,null,"Aviation","Division Needs",null,"Hyde County",null,null,"Design",null,622440,null,null,null,null,null,null,25.97,6.75,null,"N/A",null,63006.37716368054,null,null,"Yes",{"$f":"IF(AC104=\"Yes\",10,0)","v":0},null,{"$f":"IF(AE104=\"Yes\",10,0)","v":0},null,0,0,15,10,"Yes",15,"Minimal",10,"Yes",{"$f":"IF(AP104=\"Yes\",5,0)","v":5},"Yes",0,"No",null,null,null,null,null,null,null,null,null,null,null,"Albemarle RPO",null,null,null,null,null,null,null,null,null,null,null,null,{"$f":"SUM(AF104+AG104+AH104+AI104+AK104+AM104+AO104+AQ104)","v":55},null,null,null,null,{"$f":"S104+BU104*0.25","v":25.97},{"$f":"BV104+T104","v":32.72},null,null,null,"Hyde",null,null,null,null,null,null,null,null,null,null,null,null,null,0.89,null,null,null,null,null,null,null,null,null,null,11.1,null,null,null,null,null,null,null,null,null,null,null,null,null,null,null,null,null,null,null,null,null,null,null,null,null,null,null,null,null,null,null,null,691600,null,622440]
["B141958","Currituck","Albemarle RPO","Bike & Ped","Division Needs",null,"Currituck Multi use","Harris Teeter","Sandbucket","Construct Multi use trail","2. Construct multi-use trail / greenway / sidepath or on-road bike lane on local roadway",460000,null,null,null,null,null,null,14.378002237428664,13.5,null,"N/A",null,161857.84658691063,null,null,"Yes",null,null,null,null,5,0,15,10,"Yes",15,"Minimal",10,"Yes",{"$f":"IF(AP105=\"Yes\",10,0)","v":0},"No",0,"No",null,null,35,null,null,null,null,null,null,null,null,"Albemarle RPO",null,null,null,null,null,null,null,null,null,null,null,null,{"$f":"SUM(AF105+AG105+AH105+AI105+AK105+AM105+AO105)","v":55},null,null,null,null,null,null,null,null,null,"Currituck County",null,null,null,null,null,null,null,null,null,null,null,null,null,0.57999999999999996,null,null,null,null,null,null,null,null,null,null,{"$f":"49*0.1","v":4.9000000000000004},null,null,null,null,null,null,null,null,null,null,null,null,null,null,null,null,null,null,null,null,null,null,null,null,null,null,null,null,null,400000,0,null,460000,0,460000]
["A130042","Washington","Albemarle RPO","Aviation","Division Needs",null,"Plymouth Municipal Airport",null,null,"Design",null,477000,null,null,null,null,null,null,26.37,6,null,"N/A",null,12610.773883801105,null,null,"Yes",{"$f":"IF(AC106=\"Yes\",10,0)","v":0},null,{"$f":"IF(AE106=\"Yes\",10,0)","v":0},null,0,0,15,10,"Yes",15,"Minimal",10,"Yes",{"$f":"IF(AP106=\"Yes\",5,0)","v":5},"Yes",0,"No",null,null,null,null,null,null,null,null,null,null,null,"Albemarle RPO",null,null,null,null,null,null,null,null,null,null,null,null,{"$f":"SUM(AF106+AG106+AH106+AI106+AK106+AM106+AO106+AQ106)","v":55},null,null,null,null,{"$f":"S106+BU106*0.25","v":26.37},{"$f":"BV106+T106","v":32.370000000000005},null,null,null,"Washington",null,null,null,null,null,null,null,null,null,null,null,null,null,1.04,null,null,null,null,null,null,null,null,null,null,36.369999999999997,null,null,null,null,null,null,null,null,null,null,null,null,null,null,null,null,null,null,null,null,null,null,null,null,null,null,null,null,null,null,null,null,530000,null,477000]
["B141764","Dare","Albemarle RPO","Bike & Ped","Division Needs",null,"Nags Head Multi Use Path","Grouse Street","Forbes Street","Construct Multi use path","2. Construct multi-use trail / greenway / sidepath or on-road bike lane on local roadway",335000,null,null,null,null,null,null,13.578235911783022,6.75,null,"N/A",null,41823.814655172406,null,null,"Yes",null,null,null,null,5,0,15,10,"Yes",15,"Minimal",10,"Yes",{"$f":"IF(AP107=\"Yes\",10,0)","v":0},"No",0,"No",null,null,35,null,null,null,null,null,null,null,null,"Albemarle RPO",null,null,null,null,null,null,null,null,null,null,null,null,{"$f":"SUM(AF107+AG107+AH107+AI107+AK107+AM107+AO107)","v":55},null,null,null,null,null,null,null,null,null,"Dare County",null,null,null,null,null,null,null,null,null,null,null,null,null,0.32,null,null,null,null,null,null,null,null,null,null,{"$f":"232*0.1","v":23.200000000000003},null,null,null,null,null,null,null,null,null,null,null,null,null,null,null,null,null,null,null,null,null,null,null,null,null,null,null,null,null,290000,0,null,335000,0,310500]
["B141531","Camden","Albemarle RPO","Bike & Ped","Division Needs",null,"US 158","Atlantic","Eighth","Construct Sidewalk","5. Construct Sidewalk",410100,null,null,null,null,null,null,13.560226164350158,9.75,null,"N/A",null,5436.1832356162604,null,null,"Yes",null,null,null,null,5,0,15,10,"Yes",15,"Minimal",10,"Yes",{"$f":"IF(AP108=\"Yes\",10,0)","v":0},"No",0,"No",null,null,45,null,null,null,null,null,null,null,null,"Albemarle RPO",null,null,null,null,null,null,null,null,null,null,null,null,{"$f":"SUM(AF108+AG108+AH108+AI108+AK108+AM108+AO108)","v":55},null,null,null,null,null,null,null,null,null,"Dare County",null,null,null,null,null,null,null,null,null,null,null,null,null,0.68,null,null,null,null,null,null,null,null,null,null,{"$f":"1826*0.1","v":182.60000000000002},null,null,null,null,null,null,null,null,null,null,null,null,null,null,null,null,null,null,null,null,null,null,null,null,null,null,null,null,null,355100,0,null,410100,0,675000]
["B141346","Tyrrell","Albemarle RPO","Bike & Ped","Division Needs",null,"US 64","Etheridge Road","Ludington Drive","Apply brick pavers or brick stamping on the north side of the Scuppernong River bridge, paint the existing guardrail and erect an entry sign to the existing pedestrian promenade leading to Veterans Park","7. Construct Streetscape Improvements",160000,null,null,null,null,null,null,12.590571576383752,9.75,null,"N/A",null,3803.5049627791564,null,null,"Yes",null,null,null,null,0,5,15,10,"Yes",15,"Minimal",10,"Yes",{"$f":"IF(AP109=\"Yes\",10,0)","v":0},"No",0,"No",null,null,12.5,null,null,null,null,null,null,null,null,"Albemarle RPO",null,null,null,null,null,null,null,null,null,null,null,null,{"$f":"SUM(AF109+AG109+AH109+AI109+AK109+AM109+AO109)","v":55},null,null,null,100,null,null,null,null,null,"Tyrrell County",null,null,null,null,null,null,null,null,null,null,null,null,null,0.32,null,null,null,null,null,null,null,null,null,null,403,null,null,null,null,null,null,null,null,null,null,null,null,null,null,null,null,null,null,null,null,null,null,null,null,null,null,null,null,null,155000,0,null,160000,0,490500]
["A130031","Currituck","Albemarle RPO","Aviation","Division Needs",null,"Currituck County Regional",null,null,"Land Acquisition-Runway Approach",null,19350000,null,null,null,null,null,null,15.64,15,null,"N/A",null,271656.7269786718,null,null,"Yes",{"$f":"IF(AC110=\"Yes\",10,0)","v":0},null,{"$f":"IF(AE110=\"Yes\",10,0)","v":0},null,0,0,15,10,"Yes",15,"Minimal",10,"Yes",{"$f":"IF(AP110=\"Yes\",5,0)","v":5},"Yes",0,"No",null,null,null,null,null,null,null,null,null,null,null,"Albemarle RPO",null,null,null,null,null,null,null,null,null,null,null,null,{"$f":"SUM(AF110+AG110+AH110+AI110+AK110+AM110+AO110+AQ110)","v":55},null,null,null,null,{"$f":"S110+BU110*0.25","v":15.64},{"$f":"BV110+T110","v":30.64},null,null,null,"Currituck",null,null,null,null,null,null,null,null,null,null,null,null,null,1.04,null,null,null,null,null,null,null,null,null,null,68.489999999999995,null,null,null,null,null,null,null,null,null,null,null,null,null,null,null,null,null,null,null,null,null,null,null,null,null,null,null,null,null,null,null,null,21500000,null,19350000]
["A130032","Currituck","Albemarle RPO","Aviation","Division Needs",null,"Currituck County Regional",null,null,"Clearing/grading/Drainage/paving/marking/lighting/signage",null,2520000,null,null,null,null,null,null,26.33,0,null,"N/A",null,35378.55049024563,null,null,"Yes",{"$f":"IF(AC111=\"Yes\",10,0)","v":0},null,{"$f":"IF(AE111=\"Yes\",10,0)","v":0},null,0,0,15,10,"Yes",15,"Minimal",10,"Yes",{"$f":"IF(AP111=\"Yes\",5,0)","v":5},"Yes",0,"No",null,null,null,null,null,null,null,null,null,null,null,"Albemarle RPO",null,null,null,null,null,null,null,null,null,null,null,null,{"$f":"SUM(AF111+AG111+AH111+AI111+AK111+AM111+AO111+AQ111)","v":55},null,null,null,null,{"$f":"S111+BU111*0.25","v":26.33},{"$f":"BV111+T111","v":26.33},null,null,null,"Currituck",null,null,null,null,null,null,null,null,null,null,null,null,null,1.04,null,null,null,null,null,null,null,null,null,null,68.489999999999995,null,null,null,null,null,null,null,null,null,null,null,null,null,null,null,null,null,null,null,null,null,null,null,null,null,null,null,null,null,null,null,null,2800000,null,2520000]
["B141363","Dare","Albemarle RPO","Bike & Ped","Division Needs",null,"US 158","Cypress Knee Lane","Bennett Street","Construct 6000' of sidewalk on west side of US 158","5. Construct Sidewalk",282000,null,null,null,null,null,null,10.244104110930639,9.75,null,"N/A",null,9170.2063106796122,null,null,"Yes",null,null,null,null,5,0,15,10,"Yes",15,"Minimal",10,"Yes",{"$f":"IF(AP112=\"Yes\",10,0)","v":0},"No",0,"No",null,null,35,null,null,null,null,null,null,null,null,"Albemarle RPO",null,null,null,null,null,null,null,null,null,null,null,null,{"$f":"SUM(AF112+AG112+AH112+AI112+AK112+AM112+AO112)","v":55},null,null,null,null,null,null,null,null,null,"Dare County",null,null,null,null,null,null,null,null,null,null,null,null,null,2.06,null,null,null,null,null,null,null,null,null,null,{"$f":"960*0.1","v":96},null,null,null,null,null,null,null,null,null,null,null,null,null,null,null,null,null,null,null,null,null,null,null,null,null,null,null,null,null,272000,0,null,282000,0,1813500]
["A130030","Dare","Albemarle RPO","Aviation","Division Needs",null,"Dare County Regional",null,null,"Runway Overlay",null,3060000,null,null,null,null,null,null,15.85,9.75,null,"N/A",null,80355.454717337881,null,null,"Yes",{"$f":"IF(AC113=\"Yes\",10,0)","v":0},null,{"$f":"IF(AE113=\"Yes\",10,0)","v":0},null,0,0,15,10,"Yes",15,"Minimal",10,"Yes",{"$f":"IF(AP113=\"Yes\",5,0)","v":5},"Yes",0,"No",null,null,null,null,null,null,null,null,null,null,null,"Albemarle RPO",null,null,null,null,null,null,null,null,null,null,null,null,{"$f":"SUM(AF113+AG113+AH113+AI113+AK113+AM113+AO113+AQ113)","v":55},null,null,null,null,{"$f":"S113+BU113*0.25","v":15.85},{"$f":"BV113+T113","v":25.6},null,null,null,"Dare",null,null,null,null,null,null,null,null,null,null,null,null,null,0.82,null,null,null,null,null,null,null,null,null,null,46.44,null,null,null,null,null,null,null,null,null,null,null,null,null,null,null,null,null,null,null,null,null,null,null,null,null,null,null,null,null,null,null,null,3400000,null,3060000]
["A130035","Currituck","Albemarle RPO","Aviation","Division Needs",null,"Currituck County Regional",null,null,"Install MALS/MALSF/MALSR",null,450000,null,null,null,null,null,null,10.42,13.5,null,"N/A",null,6317.5983018295765,null,null,"Yes",{"$f":"IF(AC114=\"Yes\",10,0)","v":0},null,{"$f":"IF(AE114=\"Yes\",10,0)","v":0},null,0,0,15,10,"Yes",15,"Minimal",10,"Yes",{"$f":"IF(AP114=\"Yes\",5,0)","v":5},"Yes",0,"No",null,null,null,null,null,null,null,null,null,null,null,"Albemarle RPO",null,null,null,null,null,null,null,null,null,null,null,null,{"$f":"SUM(AF114+AG114+AH114+AI114+AK114+AM114+AO114+AQ114)","v":55},null,null,null,null,{"$f":"S114+BU114*0.25","v":10.42},{"$f":"BV114+T114","v":23.92},null,null,null,"Currituck",null,null,null,null,null,null,null,null,null,null,null,null,null,1.04,null,null,null,null,null,null,null,null,null,null,68.489999999999995,null,null,null,null,null,null,null,null,null,null,null,null,null,null,null,null,null,null,null,null,null,null,null,null,null,null,null,null,null,null,null,null,500000,null,450000]
["A130041","Currituck","Albemarle RPO","Aviation","Division Needs",null,"Currituck County Regional",null,null,"Runway Overlay",null,3105000,null,null,null,null,null,null,8.17,13.5,null,"N/A",null,43591.428282624081,null,null,"Yes",{"$f":"IF(AC115=\"Yes\",10,0)","v":0},null,{"$f":"IF(AE115=\"Yes\",10,0)","v":0},null,0,0,15,10,"Yes",15,"Minimal",10,"Yes",{"$f":"IF(AP115=\"Yes\",5,0)","v":5},"Yes",0,"No",null,null,null,null,null,null,null,null,null,null,null,"Albemarle RPO",null,null,null,null,null,null,null,null,null,null,null,null,{"$f":"SUM(AF115+AG115+AH115+AI115+AK115+AM115+AO115+AQ115)","v":55},null,null,null,null,{"$f":"S115+BU115*0.25","v":8.17},{"$f":"BV115+T115","v":21.67},null,null,null,"Currituck",null,null,null,null,null,null,null,null,null,null,null,null,null,1.04,null,null,null,null,null,null,null,null,null,null,68.489999999999995,null,null,null,null,null,null,null,null,null,null,null,null,null,null,null,null,null,null,null,null,null,null,null,null,null,null,null,null,null,null,null,null,3450000,null,3105000]
["A130040","Currituck","Albemarle RPO","Aviation","Division Needs",null,"Currituck County Regional",null,null,"Environmental Assessment",null,2475000,null,null,null,null,null,null,7.86,13.5,null,"N/A",null,34746.790660062674,null,null,"Yes",{"$f":"IF(AC116=\"Yes\",10,0)","v":0},null,{"$f":"IF(AE116=\"Yes\",10,0)","v":0},null,0,0,15,10,"Yes",15,"Minimal",10,"Yes",{"$f":"IF(AP116=\"Yes\",5,0)","v":5},"Yes",0,"No",null,null,null,null,null,null,null,null,null,null,null,"Albemarle RPO",null,null,null,null,null,null,null,null,null,null,null,null,{"$f":"SUM(AF116+AG116+AH116+AI116+AK116+AM116+AO116+AQ116)","v":55},null,null,null,null,{"$f":"S116+BU116*0.25","v":7.86},{"$f":"BV116+T116","v":21.36},null,null,null,"Currituck",null,null,null,null,null,null,null,null,null,null,null,null,null,1.04,null,null,null,null,null,null,null,null,null,null,68.489999999999995,null,null,null,null,null,null,null,null,null,null,null,null,null,null,null,null,null,null,null,null,null,null,null,null,null,null,null,null,null,null,null,null,2750000,null,2475000]
["A130005","Hyde","Albemarle RPO","Aviation","Division Needs",null,"Hyde County",null,null,"Design",null,328275,null,null,null,null,null,null,14.08,6.75,null,"N/A",null,33229.577892499241,null,null,"Yes",{"$f":"IF(AC117=\"Yes\",10,0)","v":0},null,{"$f":"IF(AE117=\"Yes\",10,0)","v":0},null,0,0,15,10,"Yes",15,"Minimal",10,"Yes",{"$f":"IF(AP117=\"Yes\",5,0)","v":5},"Yes",0,"No",null,null,null,null,null,null,null,null,null,null,null,"Albemarle RPO",null,null,null,null,null,null,null,null,null,null,null,null,{"$f":"SUM(AF117+AG117+AH117+AI117+AK117+AM117+AO117+AQ117)","v":55},null,null,null,null,{"$f":"S117+BU117*0.25","v":14.08},{"$f":"BV117+T117","v":20.83},null,null,null,"Hyde",null,null,null,null,null,null,null,null,null,null,null,null,null,0.89,null,null,null,null,null,null,null,null,null,null,11.1,null,null,null,null,null,null,null,null,null,null,null,null,null,null,null,null,null,null,null,null,null,null,null,null,null,null,null,null,null,null,null,null,364750,null,328275]
["B141353","Pasquotank","Albemarle RPO","Bike & Ped","Division Needs",null,"River Road","Weeksville Road - NC-344  ","Ehringhaus Street","Construct multi-use path and pedestrian crosswalks to connect Middle School and subdivisions","2. Construct multi-use trail / greenway / sidepath or on-road bike lane on local roadway",420000,null,null,null,null,null,null,8.4542459855749996,8.25,null,"N/A",null,2004.7520047520045,null,null,"Yes",null,null,null,null,0,5,15,10,"Yes",15,"Minimal",10,"Yes",{"$f":"IF(AP118=\"Yes\",10,0)","v":0},"No",0,"No",null,null,12.5,null,null,null,null,null,null,null,null,"Albemarle RPO",null,null,null,null,null,null,null,null,null,null,null,null,{"$f":"SUM(AF118+AG118+AH118+AI118+AK118+AM118+AO118)","v":55},null,null,null,null,null,null,null,null,null,"Pasquotank County",null,null,null,null,null,null,null,null,null,null,null,null,null,1.1200000000000001,null,null,null,null,null,null,null,null,null,null,481,null,null,null,null,null,null,null,null,null,null,null,null,null,null,null,null,null,null,null,null,null,null,null,null,null,null,null,null,null,400000,300000,null,720000,0,1080000]
["A130046","Washington","Albemarle RPO","Aviation","Division Needs",null,"Plymouth Municipal Airport",null,null,"Land Acquisition-Obstruction Removal",null,315000,null,null,null,null,null,null,14.65,6,null,"N/A",null,9755.5043252046289,null,null,"Yes",{"$f":"IF(AC119=\"Yes\",10,0)","v":0},null,{"$f":"IF(AE119=\"Yes\",10,0)","v":0},null,0,{"$f":"IF(X119<999,20,IF(X119<1499,15,IF(X119<1999,10,IF(X119<3999,5,IF(X119>4000,0)))))","v":0},15,10,"Yes",15,"Minimal",10,"Yes",{"$f":"IF(AP119=\"Yes\",5,0)","v":5},"Yes",{"$f":"IF(AR119=\"Yes\",10,0)","v":0},"No",null,null,null,null,null,null,null,null,null,null,null,"Albemarle RPO",null,null,null,null,null,null,null,null,null,null,null,null,{"$f":"SUM(AF119+AG119+AH119+AI119+AK119+AM119+AO119+AQ119)","v":55},null,null,null,null,{"$f":"S119+BU119*0.25","v":14.65},{"$f":"BV119+T119","v":20.65},null,null,null,"Washington",null,null,null,null,null,null,null,null,null,null,null,null,null,1.04,null,null,null,null,null,null,null,null,null,null,36.369999999999997,null,null,null,null,null,null,null,null,null,null,null,null,null,null,null,null,null,null,null,null,null,null,null,null,null,null,null,null,null,null,null,null,350000,null,369000]
["A130037","Currituck","Albemarle RPO","Aviation","Division Needs",null,"Currituck County Regional",null,null,"Hangers and Economic Development",null,1080000,null,null,null,null,null,null,5.56,15,null,"N/A",null,15162.235924390983,null,null,"Yes",0,null,0,null,0,0,15,10,"Yes",{"$f":"IF(AL120=\"Minimal\",15,0)","v":15},"Minimal",10,"Yes",5,"Yes",0,"No",null,null,null,null,null,null,null,null,null,null,null,"Albemarle RPO",null,null,null,null,null,null,null,null,null,null,null,null,55,null,null,null,null,5.56,20.56,null,null,null,"Currituck",null,null,null,null,null,null,null,null,null,null,null,null,null,1.04,null,null,null,null,null,null,null,null,null,null,68.489999999999995,null,null,null,null,null,null,null,null,null,null,null,null,null,null,null,null,null,null,null,null,null,null,null,null,null,null,null,null,null,null,null,null,1125000,null,1080000]
["A130034","Currituck","Albemarle RPO","Aviation","Division Needs",null,"Currituck County Regional",null,null,"Corporate & T-hanger Taxiways",null,2547000,null,null,null,null,null,null,4.26,15,null,"N/A",null,{"$f":"(EI121/CZ121)/CO121","v":35757.606388355402},null,null,"Yes",0,null,0,null,{"$f":"IF(AU121<30,0,IF(AU121<50,5,IF(AU121<65,10,IF(AU121<79,15,IF(AU121>80,20)))))","v":0},0,{"$f":"IF(AA121=\"Yes\",15,0)","v":15},10,"Yes",15,"Minimal",{"$f":"IF(AN121=\"Yes\",10,0)","v":10},"Yes",5,"Yes",0,"No",null,null,null,null,null,null,null,null,null,null,null,"Albemarle RPO",null,null,null,null,null,null,null,null,null,null,null,null,55,null,null,null,null,4.26,19.259999999999998,null,null,null,"Currituck",null,null,null,null,null,null,null,null,null,null,null,null,null,1.04,null,null,null,null,null,null,null,null,null,null,68.489999999999995,null,null,null,null,null,null,null,null,null,null,null,null,null,null,null,null,null,null,null,null,null,null,null,null,null,null,null,null,null,null,null,null,2830000,null,2547000]
["A130038","Currituck","Albemarle RPO","Aviation","Division Needs",null,"Currituck County Regional",null,null,"Hangers and Economic Development",null,1012500,null,null,null,null,null,null,5.56,13.5,null,"N/A",null,14214.596179116548,null,null,"Yes",0,null,0,null,0,0,15,10,"Yes",15,"Minimal",10,"Yes",5,"Yes",0,"No",null,null,null,null,null,null,null,null,null,null,null,"Albemarle RPO",null,null,null,null,null,null,null,null,null,null,null,null,55,null,null,null,null,5.56,19.059999999999999,null,null,null,"Currituck",null,null,null,null,null,null,null,null,null,null,null,null,null,1.04,null,null,null,null,null,null,null,null,null,null,68.489999999999995,null,null,null,null,null,null,null,null,null,null,null,null,null,null,null,null,null,null,null,null,null,null,null,null,null,null,null,null,null,null,null,null,1125000,null,1012500]
["A130039","Currituck","Albemarle RPO","Aviation","Division Needs",null,"Currituck County Regional",null,null,"Hangers and Economic Development",null,1813500,null,null,null,null,null,null,5.56,13.5,null,"N/A",null,25459.921156373195,null,null,"Yes",0,null,0,null,0,0,15,10,"Yes",15,"Minimal",10,"Yes",5,"Yes",0,"No",null,null,null,null,null,null,null,null,null,null,null,"Albemarle RPO",null,null,null,null,null,null,null,null,null,null,null,null,55,null,null,null,null,5.56,19.059999999999999,null,null,null,"Currituck",null,null,null,null,null,null,null,null,null,null,null,null,null,1.04,null,null,null,null,null,null,null,null,null,null,68.489999999999995,null,null,null,null,null,null,null,null,null,null,null,null,null,null,null,null,null,null,null,null,null,null,null,null,null,null,null,null,null,null,null,null,2015000,null,1813500]
["A130024","Dare","Albemarle RPO","Aviation","Division Needs",null,"Dare County Regional",null,null,"Construct/expand or repair",null,499500,null,null,null,null,null,null,9.1300000000000008,9.75,null,"N/A",null,13116.846284741918,null,null,"Yes",0,null,0,null,0,0,15,{"$f":"IF(AJ124=\"Yes\",10,0)","v":10},"Yes",15,"Minimal",10,"Yes",5,"Yes",0,"No",null,null,null,null,null,null,null,null,null,null,null,"Albemarle RPO",null,null,null,null,null,null,null,null,null,null,null,null,55,null,null,null,null,9.1300000000000008,18.880000000000003,null,null,null,"Dare",null,null,null,null,null,null,null,null,null,null,null,null,null,0.82,null,null,null,null,null,null,null,null,null,null,46.44,null,null,null,null,null,null,null,null,null,null,null,null,null,null,null,null,null,null,null,null,null,null,null,null,null,null,null,null,null,null,null,null,555000,null,499500]
["A130020","Dare","Albemarle RPO","Aviation","Division Needs",null,"Dare County Regional",null,null,"Design",null,810000,null,null,null,null,null,null,8.7799999999999994,9.75,null,"N/A",null,21270.561542824733,null,null,"Yes",0,null,0,null,0,0,15,10,"Yes",15,"Minimal",10,"Yes",5,"Yes",0,"No",null,null,null,null,null,null,null,null,null,null,null,"Albemarle RPO",null,null,null,null,null,null,null,null,null,null,null,null,55,null,null,null,null,8.7799999999999994,18.53,null,null,null,"Dare",null,null,null,null,null,null,null,null,null,null,null,null,null,0.82,null,null,null,null,null,null,null,null,null,null,46.44,null,null,null,null,null,null,null,null,null,null,null,null,null,null,null,null,null,null,null,null,null,null,null,null,null,null,null,null,null,null,null,null,900000,null,810000]
["A130021","Dare","Albemarle RPO","Aviation","Division Needs",null,"Dare County Regional",null,null,"Clearing/grading/Drainage/paving/marking/lighting/signage",null,189000,null,null,null,null,null,null,8.74,9.75,null,"N/A",null,4963.1310266591045,null,null,"Yes",0,null,0,null,0,0,15,10,"Yes",15,"Minimal",10,"Yes",5,"Yes",0,"No",null,null,null,null,null,null,null,null,null,null,null,"Albemarle RPO",null,null,null,null,null,null,null,null,null,null,null,null,55,null,null,null,null,8.74,18.490000000000002,null,null,null,"Dare",null,null,null,null,null,null,null,null,null,null,null,null,null,0.82,null,null,null,null,null,null,null,null,null,null,46.44,null,null,null,null,null,null,null,null,null,null,null,null,null,null,null,null,null,null,null,null,null,null,null,null,null,null,null,null,null,null,null,null,210000,null,189000]
["A130023","Dare","Albemarle RPO","Aviation","Division Needs",null,"Dare County Regional",null,null,"Install Taxiway edge lighting",null,405000,null,null,null,null,null,null,8.1999999999999993,9.75,null,"N/A",null,10635.280771412366,null,null,"Yes",0,null,0,null,0,0,15,10,"Yes",15,"Minimal",10,"Yes",5,"Yes",0,"No",null,null,null,null,null,null,null,null,null,null,null,"Albemarle RPO",null,null,null,null,null,null,null,null,null,null,null,null,55,null,null,null,null,8.1999999999999993,17.95,null,null,null,"Dare",null,null,null,null,null,null,null,null,null,null,null,null,null,0.82,null,null,null,null,null,null,null,null,null,null,46.44,null,null,null,null,null,null,null,null,null,null,null,null,null,null,null,null,null,null,null,null,null,null,null,null,null,null,null,null,null,null,null,null,450000,null,405000]
["A130017","Dare","Albemarle RPO","Aviation","Division Needs",null,"Dare County Regional",null,null,"Land Acquisition - Runway Approach",null,1980000,null,null,null,null,null,null,8.0500000000000007,9.75,null,"N/A",null,51994.705993571573,null,null,"Yes",0,null,0,null,0,0,15,10,"Yes",15,"Minimal",10,"Yes",5,"Yes",0,"No",null,null,null,null,null,null,null,null,null,null,null,"Albemarle RPO",null,null,null,null,null,null,null,null,null,null,null,null,55,null,null,null,null,8.0500000000000007,17.8,null,null,null,"Dare",null,null,null,null,null,null,null,null,null,null,null,null,null,0.82,null,null,null,null,null,null,null,null,null,null,46.44,null,null,null,null,null,null,null,null,null,null,null,null,null,null,null,null,null,null,null,null,null,null,null,null,null,null,null,null,null,null,null,null,2200000,null,1980000]
["A130022","Dare","Albemarle RPO","Aviation","Division Needs",null,"Dare County Regional",null,null,"Upgrade Existing Terminal Bldg.",null,675000,null,null,null,null,null,null,7.97,9.75,null,"N/A",null,17725.467952353945,null,null,"Yes",0,null,0,null,0,0,15,10,"Yes",15,"Minimal",10,"Yes",5,"Yes",0,"No",null,null,null,null,null,null,null,null,null,null,null,"Albemarle RPO",null,null,null,null,null,null,null,null,null,null,null,null,55,null,null,null,null,7.97,17.72,null,null,null,"Dare",null,null,null,null,null,null,null,null,null,null,null,null,null,0.82,null,null,null,null,null,null,null,null,null,null,46.44,null,null,null,null,null,null,null,null,null,null,null,null,null,null,null,null,null,null,null,null,null,null,null,null,null,null,null,null,null,null,null,null,750000,null,675000]
["A130027","Dare","Albemarle RPO","Aviation","Division Needs",null,"Dare County Regional",null,null,"Relocate TVOR",null,382500,null,null,null,null,null,null,7.87,9.75,null,"N/A",null,10044.431839667235,null,null,"Yes",0,null,0,null,0,0,15,10,"Yes",15,"Minimal",10,"Yes",5,"Yes",0,"No",null,null,null,null,null,null,null,null,null,null,null,"Albemarle RPO",null,null,null,null,null,null,null,null,null,null,null,null,55,null,null,null,null,7.87,17.62,null,null,null,"Dare",null,null,null,null,null,null,null,null,null,null,null,null,null,0.82,null,null,null,null,null,null,null,null,null,null,46.44,null,null,null,null,null,null,null,null,null,null,null,null,null,null,null,null,null,null,null,null,null,null,null,null,null,null,null,null,null,null,null,null,425000,null,382500]
["A130015","Chowan","Albemarle RPO","Aviation","Division Needs",null,"Northeastern Regional",null,null,"Reconstruct/Rehabilitate/Overlay",null,801000,null,null,null,null,null,null,9.06,8.25,null,"N/A",null,18316.777344821909,null,null,"Yes",0,null,0,null,0,0,15,10,"Yes",15,"Minimal",10,"Yes",5,"Yes",0,"No",null,null,null,null,null,null,null,null,null,null,null,"Albemarle RPO",null,null,null,null,null,null,null,null,null,null,null,null,55,null,null,null,null,9.06,17.310000000000002,null,null,null,"Chowan",null,null,null,null,null,null,null,null,null,null,null,null,null,1.1399999999999999,null,null,null,null,null,null,null,null,null,null,38.36,null,null,null,null,null,null,null,null,null,null,null,null,null,null,null,null,null,null,null,null,null,null,null,null,null,null,null,null,null,null,null,null,890000,null,801000]
["A130376","Martin","Mid-East RPO","Aviation","Division Needs",null,"Martin County ",null,null,"Land Acquisition",null,459000,null,null,null,null,null,null,10.199999999999999,7,null,"N/A",null,39185.555128697662,null,null,"Yes",0,null,0,null,0,0,15,10,"Yes",15,"Minimal",10,"Yes",5,"Yes",0,"No",null,null,null,null,null,null,null,null,null,null,null,"Mid-East RPO",null,null,null,null,null,null,null,null,null,null,null,null,55,null,null,null,null,10.199999999999999,17.2,null,null,null,"Martin",null,null,null,null,null,null,null,null,null,null,null,null,null,0.95,null,null,null,null,null,null,null,null,null,null,12.33,null,null,null,null,null,null,null,null,null,null,null,null,null,null,null,null,null,null,null,null,null,null,null,null,null,null,null,null,null,null,null,null,510000,null,459000]
["A130043","Washington","Albemarle RPO","Aviation","Division Needs",null,"Plymouth Municipal Airport",null,null,"Design",null,666000,null,null,null,null,null,null,11.07,6,null,"N/A",null,17607.495611344937,null,null,"Yes",0,null,0,null,0,0,15,10,"Yes",15,"Minimal",10,"Yes",5,"Yes",0,"No",null,null,null,null,null,null,null,null,null,null,null,"Albemarle RPO",null,null,null,null,null,null,null,null,null,null,null,null,55,null,null,null,null,11.07,17.07,null,null,null,"Washington",null,null,null,null,null,null,null,null,null,null,null,null,null,1.04,null,null,null,null,null,null,null,null,null,null,36.369999999999997,null,null,null,null,null,null,null,null,null,null,null,null,null,null,null,null,null,null,null,null,null,null,null,null,null,null,null,null,null,null,null,null,740000,null,666000]
["A130026","Dare","Albemarle RPO","Aviation","Division Needs",null,"Dare County Regional",null,null,"Hangers and Economic Development",null,270000,null,null,null,null,null,null,6.97,9.75,null,"N/A",null,7090.1871809415779,null,null,"Yes",0,null,0,null,0,0,15,10,"Yes",15,"Minimal",10,"Yes",5,"Yes",0,"No",null,null,null,null,null,null,null,null,null,null,null,"Albemarle RPO",null,null,null,null,null,null,null,null,null,null,null,null,55,null,null,null,null,6.97,16.72,null,null,null,"Dare",null,null,null,null,null,null,null,null,null,null,null,null,null,0.82,null,null,null,null,null,null,null,null,null,null,46.44,null,null,null,null,null,null,null,null,null,null,null,null,null,null,null,null,null,null,null,null,null,null,null,null,null,null,null,null,null,null,null,null,300000,null,270000]
["A130012","Chowan","Albemarle RPO","Aviation","Division Needs",null,"Northeastern Regional",null,null,"Design",null,420368,null,null,null,null,null,null,8.0399999999999991,8.25,null,"N/A",null,9612.7179262023674,null,null,"Yes",0,null,0,null,0,0,15,10,"Yes",15,"Minimal",10,"Yes",5,"Yes",0,"No",null,null,null,null,null,null,null,null,null,null,null,"Albemarle RPO",null,null,null,null,null,null,null,null,null,null,null,null,55,null,null,null,null,8.0399999999999991,16.29,null,null,null,"Chowan",null,null,null,null,null,null,null,null,null,null,null,null,null,1.1399999999999999,null,null,null,null,null,null,null,null,null,null,38.36,null,null,null,null,null,null,null,null,null,null,null,null,null,null,null,null,null,null,null,null,null,null,null,null,null,null,null,null,null,null,null,null,467075,null,420368]
["A130025","Dare","Albemarle RPO","Aviation","Division Needs",null,"Dare County Regional",null,null,"Hangers and Economic Development",null,468000,null,null,null,null,null,null,5.56,9.75,null,"N/A",null,12289.657780298734,null,null,"Yes",0,null,0,null,0,0,15,10,"Yes",15,"Minimal",10,"Yes",5,"Yes",0,"No",null,null,null,null,null,null,null,null,null,null,null,"Albemarle RPO",null,null,null,null,null,null,null,null,null,null,null,null,55,null,null,null,null,5.56,15.309999999999999,null,null,null,"Dare",null,null,null,null,null,null,null,null,null,null,null,null,null,0.82,null,null,null,null,null,null,null,null,null,null,46.44,null,null,null,null,null,null,null,null,null,null,null,null,null,null,null,null,null,null,null,null,null,null,null,null,null,null,null,null,null,null,null,null,520000,null,468000]
["A130013","Chowan","Albemarle RPO","Aviation","Division Needs",null,"Northeastern Regional",null,null,"Design",null,680760,null,null,null,null,null,null,6.68,8.25,null,"N/A",null,15567.202678228419,null,null,"Yes",0,null,0,null,0,0,15,10,"Yes",15,"Minimal",10,"Yes",5,"Yes",0,"No",null,null,null,null,null,null,null,null,null,null,null,"Albemarle RPO",null,null,null,null,null,null,null,null,null,null,null,null,55,null,null,null,null,6.68,14.93,null,null,null,"Chowan",null,null,null,null,null,null,null,null,null,null,null,null,null,1.1399999999999999,null,null,null,null,null,null,null,null,null,null,38.36,null,null,null,null,null,null,null,null,null,null,null,null,null,null,null,null,null,null,null,null,null,null,null,null,null,null,null,null,null,null,null,null,756400,null,680760]
["A130002","Hyde","Albemarle RPO","Aviation","Division Needs",null,"Hyde County",null,null,"Upgrade Existing Terminal Bldg.",null,675000,null,null,null,null,null,null,7.95,6.75,null,"N/A",null,68326.753720012144,null,null,"Yes",0,null,0,null,0,0,15,10,"Yes",15,"Minimal",10,"Yes",5,"Yes",0,"No",null,null,null,null,null,null,null,null,null,null,null,"Albemarle RPO",null,null,null,null,null,null,null,null,null,null,null,null,55,null,null,null,null,7.95,14.7,null,null,null,"Hyde",null,null,null,null,null,null,null,null,null,null,null,null,null,0.89,null,null,null,null,null,null,null,null,null,null,11.1,null,null,null,null,null,null,null,null,null,null,null,null,null,null,null,null,null,null,null,null,null,null,null,null,null,null,null,null,null,null,null,null,750000,null,675000]
["A130416","Hertford","Peanut Belt RPO","Aviation","Division Needs",null,"Tri-County",null,null,"Design",null,559913,null,null,null,null,null,null,14.48,null,null,"N/A",null,18353.891793552193,null,null,"Yes",0,null,0,null,0,0,15,10,"Yes",15,"Minimal",10,"Yes",5,"Yes",0,"No",null,null,null,null,null,null,null,null,null,null,null,"Peanut Belt RPO",null,null,null,null,null,null,null,null,null,null,null,null,55,null,null,null,null,14.48,14.48,null,null,null,"Hertford",null,null,null,null,null,null,null,null,null,null,null,null,null,0.85,null,null,null,null,null,null,null,null,null,null,35.89,null,null,null,null,null,null,null,null,null,null,null,null,null,null,null,null,null,null,null,null,null,null,null,null,null,null,null,null,null,null,null,null,622125,null,559913]
["A130373","Martin","Mid-East RPO","Aviation","Division Needs",null,"Martin County ",null,null,"Design",null,369000,null,null,null,null,null,null,6.54,7,null,"N/A",null,31502.112946600078,null,null,"Yes",0,null,0,null,0,0,15,10,"Yes",15,"Minimal",10,"Yes",5,"Yes",0,"No",null,null,null,null,null,null,null,null,null,null,null,"Mid-East RPO",null,null,null,null,null,null,null,null,null,null,null,null,55,null,null,null,null,6.54,13.54,null,null,null,"Martin",null,null,null,null,null,null,null,null,null,null,null,null,null,0.95,null,null,null,null,null,null,null,null,null,null,12.33,null,null,null,null,null,null,null,null,null,null,null,null,null,null,null,null,null,null,null,null,null,null,null,null,null,null,null,null,null,null,null,null,410000,null,369000]
["A130014","Chowan","Albemarle RPO","Aviation","Division Needs",null,"Northeastern Regional",null,null,"Hangers and Economic Development",null,1048500,null,null,null,null,null,null,4.0599999999999996,8.25,null,"N/A",null,23976.455737884862,null,null,"Yes",0,null,0,null,0,0,15,10,"Yes",15,"Minimal",10,"Yes",5,"Yes",0,"No",null,null,null,null,null,null,null,null,null,null,null,"Albemarle RPO",null,null,null,null,null,null,null,null,null,null,null,null,55,null,null,null,null,4.0599999999999996,12.309999999999999,null,null,null,"Chowan",null,null,null,null,null,null,null,null,null,null,null,null,null,1.1399999999999999,null,null,null,null,null,null,null,null,null,null,38.36,null,null,null,null,null,null,null,null,null,null,null,null,null,null,null,null,null,null,null,null,null,null,null,null,null,null,null,null,null,null,null,null,1165000,null,1048500]
["A130047","Washington","Albemarle RPO","Aviation","Division Needs",null,"Plymouth Municipal Airport",null,null,"AWOS Installation",null,193500,null,null,null,null,null,null,6.1,6,null,"N/A",null,5102.4724519362962,null,null,"Yes",0,null,0,null,0,0,15,10,"Yes",15,"Minimal",10,"Yes",5,"Yes",0,"No",null,null,null,null,null,null,null,null,null,null,null,"Albemarle RPO",null,null,null,null,null,null,null,null,null,null,null,null,55,null,null,null,null,6.1,12.1,null,null,null,"Washington",null,null,null,null,null,null,null,null,null,null,null,null,null,1.04,null,null,null,null,null,null,null,null,null,null,36.369999999999997,null,null,null,null,null,null,null,null,null,null,null,null,null,null,null,null,null,null,null,null,null,null,null,null,null,null,null,null,null,null,null,null,215000,null,193000]
["A130375","Martin","Mid-East RPO","Aviation","Division Needs",null,"Martin County ",null,null,"Hangers and Economic Development",null,535500," ",null," ",null,null,null,3.5,7,null,"N/A",null,45716.4809834806,null,null,"Yes",0,null,0,null,0,0,15,10,"Yes",15,"Minimal",10,"Yes",5,"Yes",0,"No",null,null,null,null,null,null,null,null,null,null,null,"Mid-East RPO",null,null,null,null,null,null,null,null,null,null,null,null,55,null,null,null,null,3.5,10.5,null,null,null,"Martin",null,null,null,null,null,null,null,null,null,null,null,null,null,0.95,null,null,null,null,null,null,null,null,null,null,12.33,null,null,null,null,null,null,null,null,null,null,null,null,null,null,null,null,null,null,null,null,null,null,null,null,null,null,null,null,null,null,null,null,595000,null,535500]
["A130374","Martin","Mid-East RPO","Aviation","Division Needs",null,"Martin County ",null,null,"Hangers and Economic Development",null,211500," ",null," ",null,null,null,3.16,7,null,"N/A",null,18056.08912792931,null,null,"Yes",0,null,0,null,0,0,15,10,"Yes",15,"Minimal",10,"Yes",5,"Yes",0,"No",null,null,null,null,null,null,null,null,null,null,null,"Mid-East RPO",null,null,null,null,null,null,null,null,null,null,null,null,55,null,null,null,null,3.16,10.16,null,null,null,"Martin",null,null,null,null,null,null,null,null,null,null,null,null,null,0.95,null,null,null,null,null,null,null,null,null,null,12.33,null,null,null,null,null,null,null,null,null,null,null,null,null,null,null,null,null,null,null,null,null,null,null,null,null,null,null,null,null,null,null,null,235000,null,211500]
["A130003","Hyde","Albemarle RPO","Aviation","Division Needs",null,"Hyde County",null,null,"Hangers and Economic Development",null,990000," ",null," ",null,null,null,3.16,6.75,null,"N/A",null,100212.57212268448,null,null,"Yes",0,null,0,null,0,0,15,10,"Yes",15,"Minimal",10,"Yes",5,"Yes",0,"No",null,null,null,null,null,null,null,null,null,null,null,"Albemarle RPO",null,null,null,null,null,null,null,null,null,null,null,null,55,null,null,null,null,3.16,9.91,null,null,null,"Hyde",null,null,null,null,null,null,null,null,null,null,null,null,null,0.89,null,null,null,null,null,null,null,null,null,null,11.1,null,null,null,null,null,null,null,null,null,null,null,null,null,null,null,null,null,null,null,null,null,null,null,null,null,null,null,null,null,null,null,null,1100000,null,990000]
["A130004","Hyde","Albemarle RPO","Aviation","Division Needs",null,"Hyde County",null,null,"other",null,2070000," ",null," ",null,null,null,3.16,6.75,null,"N/A",null,209535.37807470391,null,null,"Yes",0,null,0,null,0,0,15,10,"Yes",15,"Minimal",10,"Yes",5,"Yes",0,"No",null,null,null,null,null,null,null,null,null,null,null,"Albemarle RPO",null,null,null,null,null,null,null,null,null,null,null,null,55,null,null,null,null,3.16,9.91,null,null,null,"Hyde",null,null,null,null,null,null,null,null,null,null,null,null,null,0.89,null,null,null,null,null,null,null,null,null,null,11.1,null,null,null,null,null,null,null,null,null,null,null,null,null,null,null,null,null,null,null,null,null,null,null,null,null,null,null,null,null,null,null,null,2300000,null,2070000]
["A130044","Washington","Albemarle RPO","Aviation","Division Needs",null,"Plymouth Municipal Airport",null,null,"Hangers and Economic Development",null,310500,null,null,null,null,null,null,3.56,6,null,"N/A",null,8208.8999809648703,null,null,"Yes",0,null,0,null,0,0,15,10,"Yes",15,"Minimal",10,"Yes",5,"Yes",0,"No",null,null,null,null,null,null,null,null,null,null,null,"Albemarle RPO",null,null,null,null,null,null,null,null,null,null,null,null,55,null,null,null,null,3.56,9.56,null,null,null,"Washington",null,null,null,null,null,null,null,null,null,null,null,null,null,1.04,null,null,null,null,null,null,null,null,null,null,36.369999999999997,null,null,null,null,null,null,null,null,null,null,null,null,null,null,null,null,null,null,null,null,null,null,null,null,null,null,null,null,null,null,null,null,345000,null,310500]
["A130045","Washington","Albemarle RPO","Aviation","Division Needs",null,"Plymouth Municipal Airport",null,null,"Hangers and Economic Development",null,760500," ",null," ",null,null,null,3.56,6,null,"N/A",null,5115.6912924853541,null,null,"Yes",0,null,0,null,0,0,15,10,"Yes",15,"Minimal",10,"Yes",5,"Yes",0,"No",null,null,null,null,null,null,null,null,null,null,null,"Albemarle RPO",null,null,null,null,null,null,null,null,null,null,null,null,55,null,null,null,null,3.56,9.56,null,null,null,"Washington",null,null,null,null,null,null,null,null,null,null,null,null,null,1.04,null,null,null,null,null,null,null,null,null,null,36.369999999999997,null,null,null,null,null,null,null,null,null,null,null,null,null,null,null,null,null,null,null,null,null,null,null,null,null,null,null,null,null,null,null,null,845000,null,193500]
["A130414","Hertford","Peanut Belt RPO","Aviation","Division Needs",null,"Tri-County",null,null,"Upgrade Existing Terminal Bldg.",null,225000,null,null,null,null,null,null,6.66,null,null,"N/A",null,7375.4773572845133,null,null,"Yes",0,null,0,null,0,0,15,10,"Yes",15,"Minimal",10,"Yes",5,"Yes",0,"No",null,null,null,null,null,null,null,null,null,null,null,"Peanut Belt RPO",null,null,null,null,null,null,null,null,null,null,null,null,55,null,null,null,null,6.66,6.66,null,null,null,"Hertford",null,null,null,null,null,null,null,null,null,null,null,null,null,0.85,null,null,null,null,null,null,null,null,null,null,35.89,null,null,null,null,null,null,null,null,null,null,null,null,null,null,null,null,null,null,null,null,null,null,null,null,null,null,null,null,null,null,null,null,250000,null,225000]
["H129108","Martin","Mid-East RPO","Highway","Regional Impact","R-3826","NC-125 NC 125","SR 1182 (East of College Road)","NC 125 Northwest of Williamston","Construct Two Lanes, Part on New Location","5 - Construct Roadway on New Location",13455000,null,null,16.96,{"$f":"(V150+W150+Y150+Z150+AB150+AD150)","v":50},null,{"$f":"O150+P150+Q150","v":66.960000000000008},13.65,null,null,{"$f":"IF(AU150<30,0,IF(AU150<50,5,IF(AU150<65,10,IF(AU150>66,15))))","v":5},{"$f":"IF(X150<499,15,IF(X150<999,10,IF(X150<1499,5,IF(X150>1500,0))))","v":10},{"$f":"(EI150/CZ150)/CO150","v":807.05092750951746},{"$f":"IF(DD150<500,0,IF(DD150<1000,5,IF(DD150>1000,10)))","v":0},{"$f":"IF(AA150=\"Yes\",15,0)","v":15},"Yes",{"$f":"IF(AC150=\"Yes\",10,0)","v":10},"Yes",{"$f":"IF(AE150=\"Yes\",10,0)","v":10},"Yes",{"$f":"IF(AU150<30,0,IF(AU150<50,5,IF(AU150<65,10,IF(AU150<79,15,IF(AU150>80,20)))))","v":5},{"$f":"IF(BM148<999,20,IF(BM148<1499,15,IF(BM148<1999,10,IF(BM148<3999,5,IF(BM148>4000,0)))))","v":20},{"$f":"IF(AA150=\"Yes\",15,0)","v":15},{"$f":"IF(AJ150=\"Yes\",10,0)","v":10},"Yes",15,"Minimal",{"$f":"IF(AN150=\"Yes\",10,0)","v":10},"Yes",{"$f":"IF(AP150=\"Yes\",10,0)","v":0},"No",{"$f":"IF(AR150=\"Yes\",10,0)","v":0},"No",22.757972274033232,4.6692109996283913,34.092816780692999,2.0332975245396128,"N/A",11.222159958999999,25,50,null,null,null,"Mid-East RPO",100,"","","","","01",100,"","","","",{"$f":"SUM(V150+W150+Y150+Z150+AB150+AD150)","v":50},{"$f":"SUM(AF150+AG150+AH150+AI150+AK150+AM150+AO150+AQ150)","v":75},null,null,100,100,{"$f":"S150+BU150*0.25","v":38.65},null,null,{"$f":"O150+BT150*0.25","v":41.96},null,"Martin",100,"","","","","","",1,"A","01, , ","Mid-East RPO, , ","Martin, , , ",3.6,2.3084244100000002,"Arterial","Arterial",1,1,"Undivided","Undivided",42,40,5.6307186107274996,94.369281389272501,7222.1599589999996,21809.21213,0.33115180484055384,6815.5004540920772,406.65950490792255,2633056.1127941757,157106.18793675935,2790162.3007309353,62824234,27.046175269999999,38.234234950000001,37.008268989999998,"","","","","No","No",11,12,"No",0,2,"New Roadway","2B - 2 Lane Undivided with Paved Shoulders, 25-45 mph","None","None",1,"No",22,10800000,2400000,255000,13455000,"",13455000,13455000,""]
["H141741","Bertie","Peanut Belt RPO","Highway","Regional Impact","","NC-45 ","Hertford County Line","Washington County Line","Currently a 2- lane major thoroughfare with high truck percentage, this project recommends road be widened to 24 feet with paved shoulders and turn lanes where necessary through Bertie County, with safety and mobility the primary purpose.\n","1 - Widen Existing Roadway",130375000,null,null,9.07,{"$f":"(V151+W151+Y151+Z151+AB151+AD151)","v":45},null,{"$f":"O151+P151+Q151","v":54.07},6.88,null,null,{"$f":"IF(AU151<30,0,IF(AU151<50,5,IF(AU151<65,10,IF(AU151>66,15))))","v":5},{"$f":"IF(X151<499,15,IF(X151<999,10,IF(X151<1499,5,IF(X151>1500,0))))","v":0},2103.5491872249895,{"$f":"IF(DD151<500,0,IF(DD151<1000,5,IF(DD151>1000,10)))","v":5},{"$f":"IF(AA151=\"Yes\",15,0)","v":15},"Yes",10,"Yes",10,"Yes",5,{"$f":"IF(BM149<999,20,IF(BM149<1499,15,IF(BM149<1999,10,IF(BM149<3999,5,IF(BM149>4000,0)))))","v":20},15,10,"Yes",15,"Minimal",10,"Yes",0,"No",0,"No",10.66617998102131,1.6161204218600192E-2,33.133862619032996,2.6845429695994789,"N/A",16.497368424559369,25,0,null,null,null,"Peanut Belt RPO",100,"Albemarle RPO","","","","01",100,"","","","",{"$f":"SUM(V151+W151+Y151+Z151+AB151+AD151)","v":45},75,null,null,null,null,6.88,null,"Exceeds cap of $15 million for Statewide & Regional Projects cascading to Division Needs",{"$f":"O151+BT151*0.25","v":9.07},null,"Bertie",100,"Washington","","","","","",1,"A","01, , ","Peanut Belt RPO, Albemarle RPO, ","Bertie, Washington, , ",24.817557310000002,24.817557310000002,"Two Lane Highway","Two Lane Highway",1,1,"Undivided","TWLTL",55,55,21.498974225824398,78.501025774175602,2497.3684245593699,15500,0.16112054351995936,1960.4598306394741,536.90859391989579,68999.968866657597,18896.932079771112,87896.900946428708,2107017,34.606511580000003,28.184745840000001,36.620271590000002,"","","","","No","No",11,12,"No",0,0,"2 Lane Undivided","3A - 2 Lane with Two Way Left Turn Lane, and Paved Shoulders","None","None",1,"No",27,108729000,19327000,2319000,130375000,"",130375000,130375000,""]
["H141680","Northampton","Peanut Belt RPO","Highway","Regional Impact","","NC-46 ","Virginia State Line","NC 48 in Gaston","Currently a 2-lane major thoroughfare from the Virginia State Line to NC 48 (TIP#U-2419), this project recommends to upgrade the existing facility to 24 feet w/ paved shoulders; while modifying sharp horizontal curves. This would provide safer maneuvering in a 12-foot lane; while tying in bike lane recommendations.\n","16 - Modernize Roadway",8587000,null,null,12.09,{"$f":"(V152+W152+Y152+Z152+AB152+AD152)","v":55},null,{"$f":"O152+P152+Q152","v":67.09},8.89,null,null,{"$f":"IF(AU152<30,0,IF(AU152<50,5,IF(AU152<65,10,IF(AU152>66,15))))","v":5},{"$f":"IF(X152<499,15,IF(X152<999,10,IF(X152<1499,5,IF(X152>1500,0))))","v":15},226.17036161740458,{"$f":"IF(DD152<500,0,IF(DD152<1000,5,IF(DD152>1000,10)))","v":0},{"$f":"IF(AA152=\"Yes\",15,0)","v":15},"Yes",10,"Yes",10,"Yes",5,{"$f":"IF(BM150<999,20,IF(BM150<1499,15,IF(BM150<1999,10,IF(BM150<3999,5,IF(BM150>4000,0)))))","v":0},15,10,"Yes",15,"Minimal",10,"Yes",0,"No",0,"No",15.582930485979688,0,48.359228950130998,1.1083439460534406,"N/A",17.64857133735174,25,0,null,null,null,"Peanut Belt RPO",100,"","","","","01",100,"","","","",{"$f":"SUM(V152+W152+Y152+Z152+AB152+AD152)","v":55},55,null,null,100,100,33.89,null,null,{"$f":"O152+BT152*0.25","v":37.090000000000003},null,"Northampton",100,"","","","","","",1,"A","01, , ","Peanut Belt RPO, , ","Northampton, , , ",10.4059785999999,10.4059785999999,"Two Lane Highway","Two Lane Highway",1,1,"Undivided","Undivided",55,55,6.0754955492136,93.924504450786401,3648.5713373517401,15500,0.23539169918398323,3426.9025481410522,221.66878921068809,0,0,0,0,52.554759300000001,46.363860670000001,46.173576099999998,"","","","","No","No",11,12,"No",2,0,"2 Lane Undivided","3A - 2 Lane with Two Way Left Turn Lane, and Paved Shoulders","None","None",1,"No",27,8587000,0,0,8587000,"",8587000,8587000,""]
["H129676-B","Hertford","Peanut Belt RPO","Highway","Statewide Mobility","R-5311B","US-13 , NC-11 ","NC 11/NC 561 Near Ahoskie","US 158/NC 45 Near Winton","Widen to Multi-Lanes.","1 - Widen Existing Roadway",78190000,14.294078398139709,null,10.371087217043794,{"$f":"(V153+W153+Y153+Z153+AB153+AD153)","v":45},null,{"$f":"O153+P153+Q153","v":55.371087217043794},6.9127386775858319,null,null,{"$f":"IF(AU153<30,0,IF(AU153<50,5,IF(AU153<65,10,IF(AU153>66,15))))","v":5},{"$f":"IF(X153<499,15,IF(X153<999,10,IF(X153<1499,5,IF(X153>1500,0))))","v":0},1789.7333075371355,{"$f":"IF(DD153<500,0,IF(DD153<1000,5,IF(DD153>1000,10)))","v":5},{"$f":"IF(AA153=\"Yes\",15,0)","v":15},"Yes",10,"Yes",10,"Yes",5,{"$f":"IF(BM151<999,20,IF(BM151<1499,15,IF(BM151<1999,10,IF(BM151<3999,5,IF(BM151>4000,0)))))","v":0},15,10,"Yes",15,"Minimal",10,"Yes",0,"No",0,"No",24.001832373834379,3.9584013300933626E-2,45.085970388722998,12.62287902978008,0.48480637170798752,24.870691912999998,0,0,null,null,null,"Peanut Belt RPO",100,"","","","","01",100,"","","","",{"$f":"SUM(V153+W153+Y153+Z153+AB153+AD153)","v":45},55,null,null,null,null,6.9127386775858319,null,"Exceeds cap of $15 million for Statewide & Regional Projects cascading to Division Needs",{"$f":"O153+BT153*0.25","v":10.371087217043794},null,"Hertford",100,"","","","","","",1,"A","01, , ","Peanut Belt RPO, , ","Hertford, , , ",7.7687519099999998,7.7687519099999998,"Two Lane Highway","Multi-Lane Highway",1,2,"Undivided","Divided",51,51,12.658791545258499,87.341208454741505,5623.5639709999996,15511.563459999999,0.36254011309057299,4911.6887304968486,711.87524050315096,116717.64369008195,16916.462999159405,133634.10668924137,3095074,59.757713440000003,36.965768650000001,38.547956220000003,"","",2.1084775792553301,7.5876498549044201E-6,"Yes","No",12,12,"No",4,2,"2 Lane Undivided","4A - 4 Lane Divided (46' Depressed Median) with Paved Shoulders","None","Partial",1,"Yes",24,73100000,4425000,665000,78190000,"",78190000,78190000,""]
["H141224","Currituck","Albemarle RPO","Highway","Division Needs","","Ponderosa Drive","US 17","NC 168","Upgrade Ponderosa Drive to provide direct connection between US 17 and NC 168 to alleviate existing traffic","6 - Widen Existing Roadway and Construct Part on New Location",46069000,null,null,null,null,null,null,11.1,7.5,null,"N/A",null,1967.3398086522786,null,null,"Yes",null,null,null,null,5,{"$f":"IF(X154<999,20,IF(X154<1499,15,IF(X154<1999,10,IF(X154<3999,5,IF(X154>4000,0)))))","v":10},15,0,"No",{"$f":"IF(AL154=\"Minimal\",15,0)","v":15},"Minimal",10,"Yes",0,"No",0,"No",9.7560748992085635,1.3002594152249887,49.966063520603996,0,"N/A","N/A",50,0,null,null,null,"Albemarle RPO",100,"","","","","01",100,"","","","",null,55,null,null,null,null,11.1,null,"Exceeds cap of $15 million for Statewide & Regional Projects cascading to Division Needs",null,null,"Currituck",63.5,"Camden",36.5,"","","","",1,"A","01, , ","Albemarle RPO, , ","Currituck, Camden, , ",17.899999999999999,10.223092530000001,"Two Lane Highway","Two Lane Highway",1,1,"Undivided","Undivided",53.1532929418469,55,0,100,2290.5886992880501,15547.2645412783,0.1473306569915557,2290.5886992880501,0,2722802.3267137692,0,2722802.3267137692,59901651,78.457510429999999,43.696003040000001,27.75966841,"","","","","No","No",10,12,"No",0,0,"New Roadway","2A - 2 Lane Undivided with Paved Shoulders, 55 mph","None","None",1,"No",34,44934000,1013000,122000,46069000,"",46069000,46069000,""]
["H090505","Chowan","Albemarle RPO","Highway","Division Needs","U-5001","- New Route - Western Connector (Luke Street)","Albania Stree","Virginia Street","Albania Street to Virginia Street.  Construct Multi-Lanes, Some New Location.","5 - Construct Roadway on New Location",9681000," ",null," ",null,null,null,3.3389965257502841,4.5,null,"N/A",null,1484.2014063804211,null,null,"Yes",null,null,null,null,0,{"$f":"IF(X155<999,20,IF(X155<1499,15,IF(X155<1999,10,IF(X155<3999,5,IF(X155>4000,0)))))","v":15},15,{"$f":"IF(AJ155=\"Yes\",10,0)","v":0},"No",{"$f":"IF(AL155=\"Minimal\",15,0)","v":15},"Minimal",10,"Yes",0,"No",0,"No",21.672837154252885,1.44483162896395,10.272296474286,1.0195217718000875,"N/A","N/A",0,0,null,null,null,"Albemarle RPO",100,"","","","","01",100,"","","","",null,55,null,null,null,null,3.3389965257502841,null,"Minimal Local Support",null,null,"Chowan",100,"","","","","","",1,"A","01, , ","Albemarle RPO, , ","Chowan, , , ",1.5,1.11961556,"Arterial","Arterial",1,2,"Undivided","Divided",38,35,3.5000000000003002,96.499999999999702,5825.8386959999998,18071.619050000001,0.32237502793088146,5621.9343416399824,203.90435436001749,604716.87205310084,21932.736292083333,626649.60834518413,13987415,7.8258291699999996,15.168313080000001,7.8258291699999996,"","","","","No","No",12,12,"Yes",0,2,"New Roadway","4C - 4 Lane Divided (23' Raised Median) with Curb & Gutter, Wide Outside Lanes, and Sidewalks","None","Partial",1,"No",24,5928000,3351000,402000,9681000,"",9681000,9681000,""]
["H090102","Martin","Mid-East RPO","Highway","Statewide Mobility","R-2511","US-17 ","Washington Bypass North of NC 171","Multi-Lanes South of Williamston","Widen to Multi-Lanes.","1 - Widen Existing Roadway",72100000,13.736271562618974,null,13.18,{"$f":"(V156+W156+Y156+Z156+AB156+AD156)","v":50},null,{"$f":"O156+P156+Q156","v":63.18},9.6199999999999992,null,null,{"$f":"IF(AU156<30,0,IF(AU156<50,5,IF(AU156<65,10,IF(AU156>66,15))))","v":5},{"$f":"IF(X156<499,15,IF(X156<999,10,IF(X156<1499,5,IF(X156>1500,0))))","v":5},1431.1007695384499,{"$f":"IF(DD156<500,0,IF(DD156<1000,5,IF(DD156>1000,10)))","v":5},{"$f":"IF(AA156=\"Yes\",15,0)","v":15},"Yes",{"$f":"IF(AC156=\"Yes\",10,0)","v":10},"Yes",{"$f":"IF(AE156=\"Yes\",10,0)","v":10},"Yes",5,{"$f":"IF(BM154<999,20,IF(BM154<1499,15,IF(BM154<1999,10,IF(BM154<3999,5,IF(BM154>4000,0)))))","v":0},15,10,"Yes",15,"Minimal",10,"Yes",0,"No",0,"No",21.525655987638711,4.5849292649098476E-2,49.622986325087993,11.243927572853604,0.53735831453110849,17.119984946000002,0,25,null,null,null,"Mid-East RPO",100,"","","","","01",61.75,"02",38.25,"","",{"$f":"SUM(V156+W156+Y156+Z156+AB156+AD156)","v":50},55,null,null,100,null,9.6199999999999992,null,"Exceeds cap of $15 million for Statewide & Regional Projects cascading to Division Needs",{"$f":"O156+BT156*0.25","v":38.18},null,"Martin",61.75,"Beaufort",38.25,"","","","",1,"A","01, 02, ","Mid-East RPO, , ","Martin, Beaufort, , ",9.9962002000000005,9.9962002000000005,"Two Lane Highway","Multi-Lane Highway",1,2,"Undivided","Divided",55,55,12.3607401176475,87.639259882352505,5039.9949820000002,15500,0.32516096658064519,4417.0143003325056,622.98068166749499,125234.98255004203,17663.283270730833,142898.26582077285,3305734,70.895399049999995,20.985946729999998,57.002501580000001,"","",2,8.7471662906221696E-6,"Yes","No",12,12,"No",1,2,"2 Lane Undivided","4A - 4 Lane Divided (46' Depressed Median) with Paved Shoulders","None","Partial",1,"Yes",21,51700000,16000000,4400000,72100000,"",72100000,72100000,""]
["H141684","Northampton","Peanut Belt RPO","Highway","Regional Impact","","NC-305 ","Seaboard Town Limits","Hertford County Line","Currently a 2-lane major thoroughfare from Seaboard to Hertford County, NC 305 is recommended to be upgrade from its existing facility to 24 feet w/ paved shoulders. This would provides improved mobility between Jackson and Rich Square, while tying in with bike lane recommendations.  \n","16 - Modernize Roadway",340000,null,null,8.93,55,null,63.93,6.78,null,null,5,15,6.4567141369090955,0,{"$f":"IF(AA157=\"Yes\",15,0)","v":15},"Yes",10,"Yes",{"$f":"IF(AE157=\"Yes\",10,0)","v":10},"Yes",5,{"$f":"IF(BM155<999,20,IF(BM155<1499,15,IF(BM155<1999,10,IF(BM155<3999,5,IF(BM155>4000,0)))))","v":0},15,10,"Yes",15,"Minimal",10,"Yes",0,"No",0,"No",9.1026580263264592,0,33.738719173995001,1.2485128352237644,"N/A",12.13739033746937,25,0,null,null,null,"Peanut Belt RPO",100,"","","","","01",100,"","","","",55,55,null,null,null,100,31.78,null,null,8.93,"Estimated costs too low.","Northampton",100,"","","","","","",1,"A","01, , ","Peanut Belt RPO, , ","Northampton, , , ",24.636755659999899,24.636755659999899,"Two Lane Highway","Two Lane Highway",1,1,"Undivided","Undivided",51.703662517699499,51.703662517699499,11.682590805589401,88.317409194410601,2137.39033746937,15548.988304589,0.13746169818897852,1887.6877704246172,249.7025670447529,0,0,0,0,34.662762260000001,27.896578810000001,38.666939079999999,"","","","","No","No",11,12,"No",0,0,"2 Lane Undivided","3A - 2 Lane with Two Way Left Turn Lane, and Paved Shoulders","None","None",1,"No",25,340000,0,0,340000,"",340000,340000,""]
["H090149-B","Northampton","Peanut Belt RPO","Highway","Statewide Mobility","R-2584B","US-158 ","East of SR 1500","East of SR 1365","Widen to Multi-Lanes, Part on New  Location.","6 - Widen Existing Roadway and Construct Part on New Location",54800000,7.9305558958701106,null,8.2200000000000006,40,null,48.22,6.31,null,null,0,0,3336.37631613444,5,{"$f":"IF(AA158=\"Yes\",15,0)","v":15},"Yes",10,"Yes",{"$f":"IF(AE158=\"Yes\",10,0)","v":10},"Yes",0,{"$f":"IF(X158<999,20,IF(X158<1499,15,IF(X158<1999,10,IF(X158<3999,5,IF(X158>4000,0)))))","v":5},15,10,"Yes",15,"Minimal",10,"Yes",0,"No",0,"No",17.825798295498515,5.7991313868613135E-2,20.262297100979996,2.6959465148098603,0,24.612863031,0,25,null,null,null,"Peanut Belt RPO",100,"","","","","01",100,"","","","",40,55,null,null,null,null,6.31,null,"Exceeds cap of $15 million for Statewide & Regional Projects cascading to Division Needs",8.2200000000000006,null,"Northampton",100,"","","","","","",1,"A","01, , ","Peanut Belt RPO, , ","Northampton, , , ",3.5,3.9067273600000001,"Two Lane Highway","Multi-Lane Highway",1,2,"Undivided","Divided",47,55,12.824748075914599,87.175251924085401,4204.2876770000003,15625.369189999999,0.26906805374497528,3665.0983740380284,539.18930296197209,119535.72994085884,17585.445280927532,137121.17522178637,3177924,28.277875479999999,8.9871338000000005,23.527961319999999,"","",0,0,"No","No",12,12,"No",1,2,"New Roadway","4A - 4 Lane Divided (46' Depressed Median) with Paved Shoulders","None","Partial",1,"Yes",26,47600000,7200000,0,54800000,"",54800000,54800000,""]
["H141662","Northampton","Peanut Belt RPO","Highway","Regional Impact","","NC-35 ","Hertford County Line ","Virginia State Line","Currently 2-lane major thoroughfare from the Hertford County line to the Virginia State Line, NC 35 in Northampton County is a major truck route with high truck percentage. It is recommended to upgrade the existing facility to 24 feet w/ paved shoulders and turn lanes at all major intersections; while also modifying curves in some sections. This will improve overall connectivity in Severn, Conway, Woodland.\n","1 - Widen Existing Roadway",69277000,null,null,8.16,40,null,48.16,6.27,null,null,5,0,1957.443714235656,0,{"$f":"IF(AA159=\"Yes\",15,0)","v":15},"Yes",10,"Yes",{"$f":"IF(AE159=\"Yes\",10,0)","v":10},"Yes",5,{"$f":"IF(BM157<999,20,IF(BM157<1499,15,IF(BM157<1999,10,IF(BM157<3999,5,IF(BM157>4000,0)))))","v":0},15,10,"Yes",15,"Minimal",10,"Yes",0,"No",0,"No",7.3733627816354605,0.12733198608484778,30.197608283831997,1.1098492973746994,"N/A",13.732099667873541,25,0,null,null,null,"Peanut Belt RPO",100,"","","","","01",100,"","","","",40,55,null,null,null,null,6.27,null,"Exceeds cap of $15 million for Statewide & Regional Projects cascading to Division Needs",8.16,null,"Northampton",100,"","","","","","",1,"A","01, , ","Peanut Belt RPO, , ","Northampton, , , ",20.43275423,20.43275423,"Two Lane Highway","Two Lane Highway",1,1,"Undivided","TWLTL",51.123057912261999,55,12.8150743050166,87.184925694983406,1732.0996678735401,15556.563670646099,0.11134204857476741,1510.1298083986001,221.96985947493988,331852.88318075956,48778.149690389968,380631.03287114954,8821178,28.494854069999999,27.026539769999999,35.080491199999997,"","","","","No","No",10,11,"No",0,0,"2 Lane Undivided","3A - 2 Lane with Two Way Left Turn Lane, and Paved Shoulders","None","None",1,"No",26,60103000,8191000,983000,69277000,"",69277000,69277000,""]
["H129112-B","Northampton","Peanut Belt RPO","Highway","Statewide Mobility","R-2582B","US-158 , NC-46 ","SR 1312 (St. John Church Road)","SR 1333 (Lynch Road) East of Jackson","Widen to Multi-Lanes with Bypass of Jackson, Part on New Location.","1 - Widen Existing Roadway",66800000,8.5075034871344801,null,6.6843160297359381,40,null,46.684316029735939,4.4558793576483104,null,null,0,0,3315.5475518357507,5,{"$f":"IF(AA160=\"Yes\",15,0)","v":15},"Yes",10,"Yes",{"$f":"IF(AE160=\"Yes\",10,0)","v":10},"Yes",0,{"$f":"IF(X160<999,20,IF(X160<1499,15,IF(X160<1999,10,IF(X160<3999,5,IF(X160>4000,0)))))","v":5},15,10,"Yes",15,"Minimal",10,"Yes",0,"No",0,"No",17.447583609263642,9.9398652694610776E-3,27.10127010195,2.7582020050072966,8.4790335780915993E-2,16.255478221000004,0,0,null,null,null,"Peanut Belt RPO",100,"","","","","01",100,"","","","",40,55,null,null,null,null,4.4558793576483104,null,"Exceeds cap of $15 million for Statewide & Regional Projects cascading to Division Needs",6.6843160297359381,null,"Northampton",100,"","","","","","",1,"A","01, , ","Peanut Belt RPO, , ","Northampton, , , ",4.9318765100000004,4.9318765100000004,"Two Lane Highway","Multi-Lane Highway",1,2,"Undivided","Divided",55,55,13.503522042645699,86.496477957354301,4085.1594070000001,15500.00043,0.26355866410772738,3533.5190059985407,551.64040100145928,24714.483489075938,3858.3371305809887,28572.820619656926,663983,37.272482830000001,20.230309649999999,23.80914902,"","",0,1.6958067156183199E-6,"No","No",12,12,"No",2,2,"2 Lane Undivided","4A - 4 Lane Divided (46' Depressed Median) with Paved Shoulders","None","Partial",1,"Yes",22,61400000,5400000,0,66800000,"",66800000,66800000,""]
["H090869","Camden","Albemarle RPO","Highway","Regional Impact","","NC-343 ","US 158","SR 1119 in Shiloh","Upgrade Roadway with Wider Shoulders and New Culvert(S).","16 - Modernize Roadway",17898000,null,null,14.28,35,4.95,54.230000000000004,11.19,6.75,null,5,10,902.06866756128704,0,{"$f":"IF(AA161=\"Yes\",20,0)","v":20},"Yes",0,"No",{"$f":"IF(AE161=\"Yes\",20,0)","v":0},"No",5,{"$f":"IF(BM159<999,20,IF(BM159<1499,15,IF(BM159<1999,10,IF(BM159<3999,5,IF(BM159>4000,0)))))","v":0},15,10,"No",{"$f":"IF(AL161=\"Minimal\",15,0)","v":15},"Minimal",10,"Yes",0,"No",0,"No",12.434121680232257,0,49.452596115812995,0.63988824624267526,"N/A",26.911312477999999,50,0,null,null,null,"Albemarle RPO",100,"","","","","01",100,"","","","",35,55,null,null,null,null,11.19,null,"Exceeds cap of $15 million for Statewide & Regional Projects cascading to Division Needs",14.28,null,"Camden",100,"","","","","","",1,"A","01, , ","Albemarle RPO, , ","Camden, , , ",6.8151604299999997,6.8151604299999997,"Two Lane Highway","Two Lane Highway",1,1,"Undivided","Undivided",55,55,4.3958747202722996,95.604125279727697,2911.3124779999998,15500,0.18782661148387095,2783.334828751465,127.97764924853506,0,0,0,0,55.740450629999998,49.081060229999999,43.551114750000004,"","","","","No","No",10,12,"No",0,0,"2 Lane Undivided","","None","None",1,"No",32,17898000,0,0,17898000,"",17898000,17898000,""]
["B141344","Tyrrell","Albemarle RPO","Bike & Ped","Division Needs",null,"Fonsoe Street","US 64/Scuppernong Drive","Main Street","Construct a pedestrian sidewalk on one side of Fonsoe Street to connect US 64/Scuppernong Drive to Main Street","5. Construct Sidewalk",100000,null,null,null,null,null,null,18.819570064834998,9.75,null,"N/A",null,20040.485829959514,null,null,"Yes",null,null,null,null,0,{"$f":"IF(X162<999,20,IF(X162<1499,15,IF(X162<1999,10,IF(X162<3999,5,IF(X162>4000,0)))))","v":0},15,{"$f":"IF(AJ162=\"Yes\",10,0)","v":10},"Yes",15,"Minimal",10,"Yes",0,"No",0,"No",null,null,22.5,null,null,null,null,null,null,null,null,"Albemarle RPO",null,null,null,null,null,null,null,null,null,null,null,null,{"$f":"SUM(AF162+AG162+AH162+AI162+AK162+AM162+AO162)","v":50},null,null,null,null,null,null,null,null,null,"Tyrrell County",null,null,null,null,null,null,null,null,null,null,null,null,null,0.25,null,null,null,null,null,null,null,null,null,null,494,null,null,null,null,null,null,null,null,null,null,null,null,null,null,null,null,null,null,null,null,null,null,null,null,null,null,null,null,null,85000,0,null,100000,0,2475000]
["B141340","Tyrrell","Albemarle RPO","Bike & Ped","Division Needs",null,"Main Street","Broad Street","Road Street","Construct 305 feet of pedestrian sidewalk on the north side of Main Street in front of Columbia Middle School.","5. Construct Sidewalk",100000,null,null,null,null,null,null,17.717965136690001,9.75,null,"N/A",null,6121.9440192433849,null,null,"Yes",null,null,null,null,0,0,15,10,"Yes",15,"Minimal",10,"Yes",0,"No",0,"No",null,null,12.5,null,null,null,null,null,null,null,null,"Albemarle RPO",null,null,null,null,null,null,null,null,null,null,null,null,50,null,null,null,null,null,null,null,null,null,"Tyrrell County",null,null,null,null,null,null,null,null,null,null,null,null,null,0.17,null,null,null,null,null,null,null,null,null,null,538,null,null,null,null,null,null,null,null,null,null,null,null,null,null,null,null,null,null,null,null,null,null,null,null,null,null,null,null,null,80000,0,null,100000,0,559913]
["B141755","Camden","Albemarle RPO","Bike & Ped","Division Needs",null,"Main St.","US 17","SR 1243-Mullen Drive","Widen existing pavement","2. Construct multi-use trail / greenway / sidepath or on-road bike lane on local roadway",345000,null,null,null,null,null,null,13.997229630050075,8.25,null,"N/A",null,76968.816067653272,null,null,"Yes",null,null,null,null,0,0,15,10,"Yes",15,"Minimal",10,"Yes",0,"No",0,"No",null,null,25,null,null,null,null,null,null,null,null,"Albemarle RPO",null,null,null,null,null,null,null,null,null,null,null,null,50,null,null,null,null,null,null,null,null,null,"Camden County",null,null,null,null,null,null,null,null,null,null,null,null,null,1.056,null,null,null,null,null,null,null,null,null,null,{"$f":"129*0.1","v":12.9},null,null,null,null,null,null,null,null,null,null,null,null,null,null,null,null,null,null,null,null,null,null,null,null,null,null,null,null,null,300000,0,null,345000,0,1048500]
["B141780","Dare","Albemarle RPO","Bike & Ped","Division Needs",null,"Colington Road Path",".3 miles west Baum St","Bridge","Construct Multi use path","2. Construct multi-use trail / greenway / sidepath or on-road bike lane on local roadway",410000,null,null,null,null,null,null,13.321441426829745,9.75,null,"N/A",null,14204.545454545452,null,null,"Yes",null,null,null,null,0,0,15,10,"Yes",15,"Minimal",10,"Yes",0,"No",0,"No",null,null,12.5,null,null,null,null,null,null,null,null,"Albemarle RPO",null,null,null,null,null,null,null,null,null,null,null,null,50,null,null,null,null,null,null,null,null,null,"Dare County",null,null,null,null,null,null,null,null,null,null,null,null,null,0.32,null,null,null,null,null,null,null,null,null,null,{"$f":"902*0.1","v":90.2},null,null,null,null,null,null,null,null,null,null,null,null,null,null,null,null,null,null,null,null,null,null,null,null,null,null,null,null,null,310000,0,null,410000,0,410000]
["B141940","Currituck","Albemarle RPO","Bike & Ped","Division Needs",null,"Currituck Multi-Use","Ocean Sands(K)","Seabird Way","Construct Multi-use path","2. Construct multi-use trail / greenway / sidepath or on-road bike lane on local roadway",460000,null,null,null,null,null,null,13.102509516759566,13.5,null,"N/A",null,22616.647819460151,null,null,"Yes",null,null,null,null,0,0,15,10,"Yes",15,"Minimal",10,"Yes",0,"No",0,"No",null,null,25,null,null,null,null,null,null,null,null,"Albemarle RPO",null,null,null,null,null,null,null,null,null,null,null,null,50,null,null,null,null,null,null,null,null,null,"Currituck County",null,null,null,null,null,null,null,null,null,null,null,null,null,4.7300000000000004,null,null,null,null,null,null,null,null,null,null,{"$f":"43*0.1","v":4.3},null,null,null,null,null,null,null,null,null,null,null,null,null,null,null,null,null,null,null,null,null,null,null,null,null,null,null,null,null,400000,0,null,460000,0,460000]
["B141963","Currituck","Albemarle RPO","Bike & Ped","Division Needs",null,"Corolla multi-use path","Ocean Sands Section A","Yaupon Lane/Old Stoney Road","Oceans Sands section A (.1 mile south of Ocean Way) to Yaupon Lane/Old stoney Road","2. Construct multi-use trail / greenway / sidepath or on-road bike lane on local roadway",400000,null,null,null,null,null,null,12.852200094756203,13.5,null,"N/A",null,126984.126984127,null,null,"Yes",null,null,null,null,0,0,15,10,"Yes",15,"Minimal",10,"Yes",0,"No",0,"No",null,null,25,null,null,null,null,null,null,null,null,"Albemarle RPO",null,null,null,null,null,null,null,null,null,null,null,null,50,null,null,null,null,null,null,null,null,null,"Currituck County",null,null,null,null,null,null,null,null,null,null,null,null,null,0.7,null,null,null,null,null,null,null,null,null,null,{"$f":"45*0.1","v":4.5},null,null,null,null,null,null,null,null,null,null,null,null,null,null,null,null,null,null,null,null,null,null,null,null,null,null,null,null,null,380000,0,null,400000,0,400000]
["B141961","Currituck","Albemarle RPO","Bike & Ped","Division Needs",null,"Corolla multi-use path","Ocean Sands section c","Ocean Sands section A","Ocean Sands Section C, .5 miles south of Sandhill Ln. to .1 miles south of Ocean Way.","2. Construct multi-use trail / greenway / sidepath or on-road bike lane on local roadway",420000,null,null,null,null,null,null,12.73396082381764,13.5,null,"N/A",null,190217.39130434778,null,null,"Yes",null,null,null,null,0,0,15,10,"Yes",15,"Minimal",10,"Yes",0,"No",0,"No",null,null,25,null,null,null,null,null,null,null,null,"Albemarle RPO",null,null,null,null,null,null,null,null,null,null,null,null,50,null,null,null,null,null,null,null,null,null,"Currituck County",null,null,null,null,null,null,null,null,null,null,null,null,null,0.46,null,null,null,null,null,null,null,null,null,null,{"$f":"48*0.1","v":4.8000000000000007},null,null,null,null,null,null,null,null,null,null,null,null,null,null,null,null,null,null,null,null,null,null,null,null,null,null,null,null,null,400000,380000,null,800000,0,420000]
["B141774","Dare","Albemarle RPO","Bike & Ped","Division Needs",null,"NC 12 Duck","Cook Drive","Ships Watch Drive","Construct Sidewalk and extend share use path","5. Construct Sidewalk",290800,null,null,null,null,null,null,12.669319420463816,13.5,null,"N/A",null,7133.0455259026676,null,null,"Yes",null,null,null,null,0,0,15,10,"Yes",15,"Minimal",10,"Yes",0,"No",0,"No",null,null,25,null,null,null,null,null,null,null,null,"Albemarle RPO",null,null,null,null,null,null,null,null,null,null,null,null,50,null,null,null,null,null,null,null,null,null,"Dare County",null,null,null,null,null,null,null,null,null,null,null,null,null,2.08,null,null,null,null,null,null,null,null,null,null,{"$f":"196*0.1","v":19.600000000000001},null,null,null,null,null,null,null,null,null,null,null,null,null,null,null,null,null,null,null,null,null,null,null,null,null,null,null,null,null,370000,0,null,426000,135200,290800]
["B141362","Dare","Albemarle RPO","Bike & Ped","Division Needs",null,"US 158","Gulfstream Road","Gull Street","Construct sidewalk from Gulfstream Road to Gull Street","2. Construct multi-use trail / greenway / sidepath or on-road bike lane on local roadway",415000,null,null,null,null,null,null,11.799247349397591,9.75,null,"N/A",null,312132.35294117645,null,null,"Yes",null,null,null,null,0,0,15,10,"Yes",15,"Minimal",10,"Yes",0,"No",0,"No",null,null,25,null,null,null,null,null,null,null,null,"Albemarle RPO",null,null,null,null,null,null,null,null,null,null,null,null,50,null,null,null,null,null,null,null,null,null,"Dare County",null,null,null,null,null,null,null,null,null,null,null,null,null,0.48,null,null,null,null,null,null,null,null,null,null,{"$f":"170*0.1","v":17},null,null,null,null,null,null,null,null,null,null,null,null,null,null,null,null,null,null,null,null,null,null,null,null,null,null,null,null,null,400000,0,null,415000,0,2547000]
["B141791","Camden","Albemarle RPO","Bike & Ped","Division Needs",null,"SR 1215","US 17","US 17","Construct Sidewalk on roads south side of US 17","5. Construct Sidewalk",370000,null,null,null,null,null,null,11.62296046708027,8.25,null,"N/A",null,14192.558496355963,null,null,"Yes",null,null,null,null,0,0,15,10,"Yes",15,"Minimal",10,"Yes",0,"No",0,"No",null,null,5,null,null,null,null,null,null,null,null,"Albemarle RPO",null,null,null,null,null,null,null,null,null,null,null,null,50,null,null,null,null,null,null,null,null,null,"Camden County",null,null,null,null,null,null,null,null,null,null,null,null,null,0.79,null,null,null,null,null,null,null,null,null,null,{"$f":"330*0.1","v":33},null,null,null,null,null,null,null,null,null,null,null,null,null,null,null,null,null,null,null,null,null,null,null,null,null,null,null,null,null,320000,0,null,370000,0,370000]
["B141762","Dare","Albemarle RPO","Bike & Ped","Division Needs",null,"Nags Head Multi use Path","Gull Street","Grouse St.","Construct Multi use Path","2. Construct multi-use trail / greenway / sidepath or on-road bike lane on local roadway",437000,null,null,null,null,null,null,11.368879191733225,9.75,null,"N/A",null,340460.52631578944,null,null,"Yes",null,null,null,null,0,0,15,10,"Yes",15,"Minimal",10,"Yes",0,"No",0,"No",null,null,25,null,null,null,null,null,null,null,null,"Albemarle RPO",null,null,null,null,null,null,null,null,null,null,null,null,50,null,null,null,null,null,null,null,null,null,"Dare County",null,null,null,null,null,null,null,null,null,null,null,null,null,0.32,null,null,null,null,null,null,null,null,null,null,{"$f":"190*0.1","v":19},null,null,null,null,null,null,null,null,null,null,null,null,null,null,null,null,null,null,null,null,null,null,null,null,null,null,null,null,null,380000,0,null,437000,0,2070000]
["B141776","Dare","Albemarle RPO","Bike & Ped","Division Needs",null,"Colington Road","SR 1452",".3 miles west","Construct Multi use path","2. Construct multi-use trail / greenway / sidepath or on-road bike lane on local roadway",400000,null,null,null,null,null,null,10.899780568313751,9.75,null,"N/A",null,16479.215589337946,null,null,"Yes",null,null,null,null,0,0,15,10,"Yes",15,"Minimal",10,"Yes",0,"No",0,"No",null,null,12.5,null,null,null,null,null,null,null,null,"Albemarle RPO",null,null,null,null,null,null,null,null,null,null,null,null,50,null,null,null,null,null,null,null,null,null,"Dare County",null,null,null,null,null,null,null,null,null,null,null,null,null,0.27,null,null,null,null,null,null,null,null,null,null,{"$f":"899*0.1","v":89.9},null,null,null,null,null,null,null,null,null,null,null,null,null,null,null,null,null,null,null,null,null,null,null,null,null,null,null,null,null,300000,0,null,400000,0,400000]
["B141954","Dare","Albemarle RPO","Bike & Ped","Division Needs",null,"NC 12-Hatteras-II","SR 1237",".8 miles south","Construct curb & gutter /Sidewalk","5. Construct Sidewalk",370000,null,null,null,null,null,null,10.804722947171893,9.75,null,"N/A",null,11725.186969197615,null,null,"Yes",null,null,null,null,0,0,15,10,"Yes",15,"Minimal",10,"Yes",0,"No",0,"No",null,null,5,null,null,null,null,null,null,null,null,"Albemarle RPO",null,null,null,null,null,null,null,null,null,null,null,null,50,null,null,null,null,null,null,null,null,null,"Dare County",null,null,null,null,null,null,null,null,null,null,null,null,null,0.49,null,null,null,null,null,null,null,null,null,null,{"$f":"644*0.1","v":64.400000000000006},null,null,null,null,null,null,null,null,null,null,null,null,null,null,null,null,null,null,null,null,null,null,null,null,null,null,null,null,null,320000,145000,null,515000,0,370000]
["B141947","Dare","Albemarle RPO","Bike & Ped","Division Needs",null,"NC 12-Hatteras","Bridge","SR 1237","Construct curb & gutter and sidewalk","5. Construct Sidewalk",406000,null,null,null,null,null,null,10.502334790371034,9.75,null,"N/A",null,8369.4083694083693,null,null,"Yes",null,null,null,null,0,0,15,10,"Yes",15,"Minimal",10,"Yes",0,"No",0,"No",null,null,5,null,null,null,null,null,null,null,null,"Albemarle RPO",null,null,null,null,null,null,null,null,null,null,null,null,50,null,null,null,null,null,null,null,null,null,"Dare County",null,null,null,null,null,null,null,null,null,null,null,null,null,0.77,null,null,null,null,null,null,null,null,null,null,{"$f":"630*0.1","v":63},null,null,null,null,null,null,null,null,null,null,null,null,null,null,null,null,null,null,null,null,null,null,null,null,null,null,null,null,null,356000,162000,null,568000,0,406000]
["B141860","Dare","Albemarle RPO","Bike & Ped","Division Needs",null,"Twiford Street","Twiford Street","The Woods Road","Connect existing The Woods Road and Twiford Street multi-use paths","2. Construct multi-use trail / greenway / sidepath or on-road bike lane on local roadway",162000,null,null,null,null,null,null,10.153627313669816,7.5,null,"N/A",null,35495.179666958808,null,null,"Yes",null,null,null,null,0,0,15,10,"Yes",15,"Minimal",10,"Yes",0,"No",0,"No",null,null,12.5,null,null,null,null,null,null,null,null,"Albemarle RPO",null,null,null,null,null,null,null,null,null,null,null,null,50,null,null,null,null,null,null,null,null,null,"Dare County",null,null,null,null,null,null,null,null,null,null,null,null,null,7.0000000000000007E-2,null,null,null,null,null,null,null,null,null,null,{"$f":"652*0.1","v":65.2},null,null,null,null,null,null,null,null,null,null,null,null,null,null,null,null,null,null,null,null,null,null,null,null,null,null,null,null,null,152000,0,null,162000,0,162000]
["B141955","Chowan","Albemarle RPO","Bike & Ped","Division Needs",null,"Edenton Multi-use path","Twiddy Avenue","Chowan River fising pier","Connect path where existing sidewalk stops near Twiddy Ave. and extend towards Pembroke to the west side of town, connecting  residential subdivisions and over the US 17 bypass overpass, terminating at the new Chowan River fishing pier. (Phase 2)","2. Construct multi-use trail / greenway / sidepath or on-road bike lane on local roadway",400000,null,null,null,null,null,null,5.4141769778944999,3.75,null,"N/A",null,38986.354775828462,null,null,"Yes",null,null,null,null,0,0,15,10,"Yes",15,"Minimal",10,"Yes",0,"No",0,"No",null,null,12.5,null,null,null,null,null,null,null,null,"Albemarle RPO",null,null,null,null,null,null,null,null,null,null,null,null,50,null,null,null,null,null,null,null,null,null,"Chowan County",null,null,null,null,null,null,null,null,null,null,null,null,null,0.15,null,null,null,null,null,null,null,null,null,null,{"$f":"684*0.1","v":68.400000000000006},null,null,null,null,null,null,null,null,null,null,null,null,null,null,null,null,null,null,null,null,null,null,null,null,null,null,null,null,null,380000,0,null,400000,0,400000]
["H129070-B","Dare","Albemarle RPO","Highway","Statewide Mobility","R-2545B","US-64 ","West of Alligator River","East of SR 1153 (Old Ferry Landing Road)","Widen to Multi-Lanes and construct new multi-lane bridge","1 - Widen Existing Roadway",209520000,8.7940938845902572,null,10.91,{"$f":"(V178+W178+Y178+Z178+AB178+AD178)","v":55},6.3,{"$f":"O178+P178+Q178","v":72.209999999999994},8.11,9,null,{"$f":"IF(AU178<30,0,IF(AU178<50,5,IF(AU178<65,10,IF(AU178>66,15))))","v":5},{"$f":"IF(X178<499,15,IF(X178<999,10,IF(X178<1499,5,IF(X178>1500,0))))","v":0},29096.895469661078,{"$f":"IF(DD178<500,0,IF(DD178<1000,5,IF(DD178>1000,10)))","v":0},{"$f":"IF(AA178=\"Yes\",20,0)","v":20},"Yes",{"$f":"IF(AC178=\"Yes\",10,0)","v":10},"Yes",{"$f":"IF(AE178=\"Yes\",20,0)","v":20},"Yes",5,0,15,10,"No",15,"Minimal",10,"Yes",0,"No",0,"No",14.270585729083869,1.1163993890798015E-3,41.794293499331999,1.6490928707611838,3.3353219629360747E-2,16.910134090666666,25,0,null,null,null,"Albemarle RPO",100,"","","","","01",100,"","","","",{"$f":"SUM(V178+W178+Y178+Z178+AB178+AD178)","v":55},{"$f":"SUM(AF178+AG178+AH178+AI178+AK178+AM178+AO178+AQ178)","v":55},null,null,null,null,{"$f":"S178+BU178*0.25","v":8.11},null,"Exceeds cap of $15 million for Statewide & Regional Projects cascading to Division Needs",{"$f":"O178+BT178*0.25","v":10.91},null,"Dare",100,"","","","","","",1,"A","01, , ","Albemarle RPO, , ","Dare, , , ",2.1550796399999999,2.1550796399999999,"Two Lane Highway","Multi-Lane Highway",1,2,"Undivided","Divided",55,55,9.8709647777421008,90.129035222257897,3341.3002839999999,15500,0.21556776025806451,3011.4817098477629,329.81857415223675,9203.9757762141344,1008.0227806517644,10211.998556865899,233908,51.108556550000003,38.599637540000003,35.687225949999998,"","",0,6.6706439258721495E-7,"No","No",12,12,"No",0,0,"2 Lane Undivided","4A - 4 Lane Divided (46' Depressed Median) with Paved Shoulders","None","Partial",2,"Yes",24,208200000,1220000,100000,209520000,"",209520000,209520000,""]
["H090124-A","Dare","Albemarle RPO","Highway","Statewide Mobility","R-2544A","US-64 ","East of SR 1153 (Old Ferry Landing Road)","West of SR 1102 (East Lake Road)","Widen to Multi-Lanes.","1 - Widen Existing Roadway",15800000,6.9067768278857349,null,6.2094234301841915,{"$f":"(V179+W179+Y179+Z179+AB179+AD179)","v":50},6.3,{"$f":"O179+P179+Q179","v":62.509423430184185},4.1396156201227949,9,null,{"$f":"IF(AU179<30,0,IF(AU179<50,5,IF(AU179<65,10,IF(AU179>66,15))))","v":0},{"$f":"IF(X179<499,15,IF(X179<999,10,IF(X179<1499,5,IF(X179>1500,0))))","v":0},2473.1357746167182,{"$f":"IF(DD179<500,0,IF(DD179<1000,5,IF(DD179>1000,10)))","v":0},{"$f":"IF(AA179=\"Yes\",20,0)","v":20},"Yes",{"$f":"IF(AC179=\"Yes\",10,0)","v":10},"Yes",{"$f":"IF(AE179=\"Yes\",20,0)","v":20},"Yes",0,5,15,10,"No",15,"Minimal",10,"Yes",0,"No",0,"No",12.385806333013942,0,29.010349868214,1.4499997058007565,0,15.733332549333333,0,0,null,null,null,"Albemarle RPO",100,"","","","","01",100,"","","","",{"$f":"SUM(V179+W179+Y179+Z179+AB179+AD179)","v":50},55,null,null,null,null,4.1396156201227949,null,"Exceeds cap of $15 million for Statewide & Regional Projects cascading to Division Needs",{"$f":"O179+BT179*0.25","v":6.2094234301841915},null,"Dare",100,"","","","","","",1,"A","01, , ","Albemarle RPO, , ","Dare, , , ",2.2029831400000002,2.2029831400000002,"Two Lane Highway","Multi-Lane Highway",1,2,"Undivided","Divided",55,55,9.9999989848327004,90.0000010151673,2899.9997060000001,15499.99843,0.18709677417689907,2609.9997648398489,289.99994116015131,0,0,0,0,46.148892490000001,0,40.890861090000001,"","",0,0,"No","No",12,12,"No",0,0,"2 Lane Undivided","4A - 4 Lane Divided (46' Depressed Median) with Paved Shoulders","None","Partial",2,"Yes",24,14700000,1030000,70000,15800000,"",15800000,15800000,""]
["H129208","Northampton","Peanut Belt RPO","Highway","Statewide Mobility","","I-95 ","Halifax/Northampton County Line","Virginia State Line","Widen Roadway to 6 Lanes.","1 - Widen Existing Roadway",301845000,28.416150288621655,null,16.180642213015471,{"$f":"(V180+W180+Y180+Z180+AB180+AD180)","v":60},null,{"$f":"O180+P180+Q180","v":76.180642213015474},10.783881430066547,null,null,{"$f":"IF(AU180<30,0,IF(AU180<50,5,IF(AU180<65,10,IF(AU180>66,15))))","v":10},{"$f":"IF(X180<499,15,IF(X180<999,10,IF(X180<1499,5,IF(X180>1500,0))))","v":5},1106.3946563455881,{"$f":"IF(DD180<500,0,IF(DD180<1000,5,IF(DD180>1000,10)))","v":10},{"$f":"IF(AA180=\"Yes\",15,0)","v":15},"Yes",{"$f":"IF(AC180=\"Yes\",10,0)","v":10},"Yes",{"$f":"IF(AE180=\"Yes\",10,0)","v":10},"Yes",10,{"$f":"IF(BM178<999,20,IF(BM178<1499,15,IF(BM178<1999,10,IF(BM178<3999,5,IF(BM178>4000,0)))))","v":0},15,0,"Yes",15,"Minimal",10,"Yes",0,"No",0,"No",47.900877747680426,9.640135831304146E-2,59.841535194671998,38.259352094788944,3.8094261839862646,40.362556689999998,0,0,null,null,null,"Peanut Belt RPO",100,"","","","","01",100,"","","04","",{"$f":"SUM(V180+W180+Y180+Z180+AB180+AD180)","v":60},50,null,null,null,null,10.783881430066547,null,"Exceeds cap of $15 million for Statewide & Regional Projects cascading to Division Needs",{"$f":"O180+BT180*0.25","v":16.180642213015471},null,"Northampton",100,"","","Halifax","","","",1,"A","01, , 04","Peanut Belt RPO, , ","Northampton, , Halifax, ",7.5027332400000004,7.5027332400000004,"Freeway","Freeway",2,3,"Divided","Divided",70,70,21.0432684483435,78.956731551656503,36362.556689999998,65408.408710000003,0.55593091786134041,28710.68627104221,7651.8704189577884,960106.99302050809,255884.31532331507,1215991.3083438231,29098268,57.640053430000002,53.200470930000002,68.702035480000006,"","",19,5.7188523679725298E-5,"No","No",12,12,"No",11,10,"4 Lane with Median - Full Control","6A - 6 Lane Divided (46' Depressed Median) with Paved Shoulders","Full","Full",1,"No",22,300960000,790000,95000,301845000,"",301845000,301845000,""]
["H141739","Bertie","Peanut Belt RPO","Highway","Statewide Mobility","","US-17 ","US 17A East of Windsor","South end of Chowan River Bridge","Upgrade roadway to Interstate","2 - Upgrade Arterial to Freeway/Expressway",120801000,5.0079009635828404,null,4.04,{"$f":"(V181+W181+Y181+Z181+AB181+AD181)","v":45},null,{"$f":"O181+P181+Q181","v":49.04},3.52,null,null,{"$f":"IF(AU181<30,0,IF(AU181<50,5,IF(AU181<65,10,IF(AU181>66,15))))","v":0},{"$f":"IF(X181<499,15,IF(X181<999,10,IF(X181<1499,5,IF(X181>1500,0))))","v":0},1916.4046364329799,{"$f":"IF(DD181<500,0,IF(DD181<1000,5,IF(DD181>1000,10)))","v":10},{"$f":"IF(AA181=\"Yes\",15,0)","v":15},"Yes",{"$f":"IF(AC181=\"Yes\",10,0)","v":10},"Yes",{"$f":"IF(AE181=\"Yes\",10,0)","v":10},"Yes",0,{"$f":"IF(X181<999,20,IF(X181<1499,15,IF(X181<1999,10,IF(X181<3999,5,IF(X181>4000,0)))))","v":10},15,0,"Yes",15,"Minimal",10,"Yes",0,"No",0,"No",9.7962399411793832,0.37251017789587837,0,6.6047609105597012,6.3632374574832147,42.364117748521622,0,25,null,null,null,"Peanut Belt RPO",100,"","","","","01",100,"","","","",{"$f":"SUM(V181+W181+Y181+Z181+AB181+AD181)","v":45},50,null,null,null,null,3.52,null,"Exceeds cap of $15 million for Statewide & Regional Projects cascading to Division Needs",{"$f":"O181+BT181*0.25","v":4.04},null,"Bertie",100,"","","","","","",1,"A","01, , ","Peanut Belt RPO, , ","Bertie, , , ",7.7616468999999997,7.7616468999999997,"Multi-Lane Highway","Freeway",2,2,"Divided","Divided",55.000291984953797,70,16.265134601790702,83.734865398209294,8121.3725828405404,74420.488354429806,0.10912818180071945,6800.4204007285998,1320.9521821119401,1603998.7142052867,311569.79668598284,1915568.5108912694,44999602,0,0,0,"","",29.776517950539802,9.7488231199124501E-5,"No","No",12,12,"No",3,4,"4 Lane with Median - Partial Control","4A - 4 Lane Divided (46' Depressed Median) with Paved Shoulders","None","Full",1,"Yes",29,94540000,23447000,2814000,120801000,"",120801000,120801000,""]
["H141220","Perquimans","Albemarle RPO","Highway","Division Needs","","SR-1200 ","NC 37","SR 1213","Widen and repave Perry's Bridge Road","16 - Modernize Roadway",1487000,null,null,null,null,null,null,7.89,4.5,null,"N/A",null,9466.3921313637402,null,null,"Yes",null,null,null,null,0,{"$f":"IF(X182<999,20,IF(X182<1499,15,IF(X182<1999,10,IF(X182<3999,5,IF(X182>4000,0)))))","v":0},15,10,"No",{"$f":"IF(AL182=\"Minimal\",15,0)","v":15},"Minimal",10,"Yes",0,"No",0,"No",0.38438709677419353,0,3.5375503362540002,0,"N/A","N/A",75,0,null,null,null,"Albemarle RPO",100,"","","","","01",100,"","","","",null,50,null,null,null,null,7.89,null,"Project Not Competitive",null,null,"Perquimans",100,"","","","","","",1,"A","01, , ","Albemarle RPO, , ","Perquimans, , , ",1.7453557799999999,1.7453557799999999,"Two Lane Highway","Two Lane Highway",1,1,"Undivided","Undivided",55,55,0,100,90,15500,5.8064516129032262E-3,90,0,0,0,0,0,7.0511415900000003,0,3.5625707900000001,"","","","","No","No",9,12,"No",0,0,"2 Lane Undivided","3A - 2 Lane with Two Way Left Turn Lane, and Paved Shoulders","None","None",2,"No",30,1487000,0,0,1487000,"",1487000,1487000,""]
["H090305","Washington","Albemarle RPO","Highway","Division Needs","R-4909","- New Route","SR 1126 (Newland Road)","SR 1125 (Millpond Road)","Construct Two Lane Facility on New Location.","5 - Construct Roadway on New Location",3830000," ",null," ",null,null,null,1.7543918552372901,6,null,"N/A",null,5466.922175852761,null,null,"Yes",null,null,null,null,0,{"$f":"IF(X183<999,20,IF(X183<1499,15,IF(X183<1999,10,IF(X183<3999,5,IF(X183>4000,0)))))","v":0},15,10,"No",{"$f":"IF(AL183=\"Minimal\",15,0)","v":15},"Minimal",10,"Yes",0,"No",{"$f":"IF(AR183=\"Yes\",10,0)","v":0},"No",2.661746009269887,1.3004642297650131,13.581708313338,0,"N/A","N/A",0,0,null,null,null,"Albemarle RPO",100,"","","","","01",100,"","","","",null,50,null,null,null,null,1.7543918552372901,null,"Project Not Competitive",null,null,"Washington",100,"","","","","","",1,"A","01, , ","Albemarle RPO, , ","Washington, , , ",3.2,1.11833022,"Two Lane Highway","Two Lane Highway",1,1,"Undivided","Undivided",48,55,0,100,626.44914619999997,15588.69995,4.0186105846498121E-2,626.44914619999997,0,226398.99803106303,0,226398.99803106303,4980778,11.35602182,15.8078866,13.585291440000001,"","","","","No","No",11,11,"No",0,0,"New Roadway","2A - 2 Lane Undivided with Paved Shoulders, 55 mph","None","None",1,"No",32,3762000,61000,7000,3830000,"",3830000,3830000,""]
["H129515","Currituck","Albemarle RPO","Highway","Statewide Mobility","R-2576","- New Location Mid-Currituck Bridge","Coinjock","Corolla","Construct New Bridge Over Currituck Sound","5 - Construct Roadway on New Location",173304000,23.342830564038344,null,15.726629282408148,{"$f":"(V184+W184+Y184+Z184+AB184+AD184)","v":60},6.3,{"$f":"O184+P184+Q184","v":82.026629282408138},11.853563286896481,9,null,{"$f":"IF(AU184<30,0,IF(AU184<50,5,IF(AU184<65,10,IF(AU184>66,15))))","v":5},{"$f":"IF(X184<499,15,IF(X184<999,10,IF(X184<1499,5,IF(X184>1500,0))))","v":0},2285.8539293439476,{"$f":"IF(DD184<500,0,IF(DD184<1000,5,IF(DD184>1000,10)))","v":5},{"$f":"IF(AA184=\"Yes\",20,0)","v":20},"Yes",{"$f":"IF(AC184=\"Yes\",10,0)","v":10},"Yes",{"$f":"IF(AE184=\"Yes\",20,0)","v":20},"Yes",5,{"$f":"IF(BM182<999,20,IF(BM182<1499,15,IF(BM182<1999,10,IF(BM182<3999,5,IF(BM182>4000,0)))))","v":0},15,{"$f":"IF(AJ184=\"Yes\",10,0)","v":0},"No",{"$f":"IF(AL184=\"Minimal\",15,0)","v":15},"Minimal",10,"Yes",0,"No",0,"No",18.793795397608299,8.9256870412685227,40.816150430087994,4.7268539468324926,100,15.360235206666667,25,25,null,null,null,"Albemarle RPO",100,"","","","","01",100,"","","","",{"$f":"SUM(V184+W184+Y184+Z184+AB184+AD184)","v":60},45,null,null,null,null,11.853563286896481,null,"Exceeds cap of $15 million for Statewide & Regional Projects cascading to Division Needs",{"$f":"O184+BT184*0.25","v":15.726629282408148},null,"Currituck",100,"","","","","","",1,"A","01, , ","Albemarle RPO, , ","Currituck, , , ",43.4,6.8671598999999999,"Multi-Lane Highway","Two Lane Highway",2,1,"Undivided","Undivided",48,55,8.5628675608103002,91.437132439189696,11040.35281,46072.965450000003,0.23962757122680498,10094.982020633501,945.37078936649846,62075426.132216401,5813214.3755113408,67888640.507727742,1546857267,39.093044159999998,53.593429299999997,29.774223899999999,"","",2016,5.7389172778583896E-3,"No","No",11,12,"No",3,4,"New Roadway","2A - 2 Lane Undivided with Paved Shoulders, 55 mph","None","None",2,"No",24,383281000,25592000,1947000,410820000,237516000,173304000,173304000,"Toll Revenue less Roadway Maintenance and Financing"]
["H090442","Dare","Albemarle RPO","Highway","Statewide Mobility","U-3815","US-64 ","US 64 Business/NC 345","","US 64-US 64 Bypass-NC 345.  Improve intersection.","10 - Improve Intersection",1550000,26.823169613838097,null,21.9385617456722,{"$f":"(V185+W185+Y185+Z185+AB185+AD185)","v":60},5.85,{"$f":"O185+P185+Q185","v":87.788561745672197},13.654173443351365,9,null,{"$f":"IF(AU185<30,0,IF(AU185<50,5,IF(AU185<65,10,IF(AU185>66,15))))","v":15},{"$f":"IF(X185<499,15,IF(X185<999,10,IF(X185<1499,5,IF(X185>1500,0))))","v":15},139.0264115479155,{"$f":"IF(DD185<500,0,IF(DD185<1000,5,IF(DD185>1000,10)))","v":10},{"$f":"IF(AA185=\"Yes\",20,0)","v":20},"Yes",{"$f":"IF(AC185=\"Yes\",10,0)","v":0},"No",{"$f":"IF(AE185=\"Yes\",20,0)","v":0},"No",20,{"$f":"IF(BM183<999,20,IF(BM183<1499,15,IF(BM183<1999,10,IF(BM183<3999,5,IF(BM183>4000,0)))))","v":0},15,{"$f":"IF(AJ185=\"Yes\",10,0)","v":0},"No",{"$f":"IF(AL185=\"Minimal\",15,0)","v":0},"Significant",{"$f":"AQ185","v":0},"No",0,"No",0,"No",24.045702820610419,29.146031612903226,83.35,8.2540013041944356,8.7984902294512004,14.865280946666667,0,0,null,null,null,"Albemarle RPO",100,"","","","","01",100,"","","","",{"$f":"SUM(V185+W185+Y185+Z185+AB185+AD185)","v":60},35,null,null,null,null,13.654173443351365,null,"Minimal Local Support",{"$f":"O185+BT185*0.25","v":21.9385617456722},null,"Dare",100,"","","","","","",1,"A","01, , ","Albemarle RPO, , ","Dare, , , ",0.5,0.5,"Multi-Lane Highway","Multi-Lane Highway",2,2,"Undivided","Undivided",52.507045460133803,55,7.4033818208643005,92.596618179135703,22297.921419999999,88445.592550000001,0.25210890421017368,20647.121159161114,1650.800260838887,1844524.6341283831,147475.36587161687,1992000,45176349,"","","",66.7,100,33,1.4296980458902399E-4,"No","No",12,12,"No",4,4,"2 Lane Undivided","","Limited","Partial",2,"No",14.753019576345601,1250000,300000,0,1550000,"",1550000,1550000,""]
[null,null,null,null,null,null,null,null,null,null,null,null,null,null,null,null,null,null,null,null,null,null,null,null,null,null," ",null,null,null,null,null,null,0,null,null,null,null,null," "]

{"sheet":"Division Needs-Bike and Ped","index":4,"n_rows":186,"n_cols":141,"rows_kept":186,"cut":false,"hidden":false,"merged":[[1,4,1,45],[5,0,5,4],[5,6,5,40],[5,72,5,77],[6,21,6,30],[6,31,6,43]]}
[]
[null,null,null,null," "]
[]
[null,null,null,null,null,null,null,null,null,"Projects in blue are fully funded for construction and not eligible for local input point assignment ",null,"*Projects over $200M may be subject to the corridor cap",null,null,null,null,null,null,null,null,null,null,null,null,null,null,null,null,null,null,null,null,null,null,null,null,null,null,null,null,null,null,null,null,null,null,null,null,null,null,null,null,null,null,null,null,null,null,null,null,null,null,null,null,null,null,null,null,null,null,null,null,null,null,null,null,null,null,null,null,null,null,null,null,null,null,null,null,null,null,null,null,null,null,null,null,null,null,null,null,null,null,null,null,null,null,null,null,null,null,null,null,null,null,null,null,null,null,null,null,null,null,null,null,null,null,null,null,null,null,null,null,null,null,null,null,null,null,"*Projects over $200M may be subject to the corridor cap"]
[]
["DRAFT",null,null,null,null,null,"Division One Division Needs Point Assignment-Bike and Pedestrian",null,null,null,null,null,null,null,null,null,null,null,null,null,null,null,null,null,null,null,null,null,null,null,null,null,null,null,null,null,null,null,null,null,null,null,null,null,null,null,null,null,null,null,null,null,null,null,null,null,null,null,null,null,null,null,null,null,null,null,null,null,null,null,null,null,"DRAFT"]
[null,null,null,null,null,null,null,null,null,null,null,null,null,null,null,null,null,null,null,null,null,"Regional Criteria",null,null,null,null,null,null,null,null,null,"Division Needs"]
["SPOT ID","County","RPO","MODE","Project Category","TIP","Route","From / Cross Street","To","Description","Specific Improvement Type","Cost to NCDOT","Statewide Mobility Quantiative Score\n(Out of 100)",null,"Regional Impact Quantiative Score\n(Out of 70)","Division Methodology Preliminary Ranking","Regional Impact RPO Score (Out of 15)","Total Regional Score(Out of 100)","Division Needs Quantiative Score\n(Out of 50)","Division Needs RPO Score (Out of 25)",null,"Safety Score (15pts)","Cost Effectiveness Score (15pts)","Cost Effectiveness","Freight Volume Score                (10pts)","Transportation Plan Consistency Score (20pts)","Transportation Plan Consistency (Yes/No)","Corridor Continuity Score (20pts)","Corridor Continuity (Yes/No)","Public Support Score (20pts)","Public Support","Safety Score (20pts)","Cost Effectiveness (20pts)","Transportation Plan Consistency (15pts)","Multimodal Accomodations (10pts)","Multimodal (Yes/No)","Project Feasibility (15pts)","Project Feasibility (Significant/Minimal)","Public Support (10pts)","Public Support (Yes/No)","Airport Safety (5pts)","Airport Safety (Yes/No)","Transit Expansion (5pts)","Transit (Yes/No)","Congestion","[Travel Time] Benefit/Cost","Safety","Multimodal + [Freight & Military]","Economic Competitiveness","Accessibility / Connectivity","Lane Width","[Paved] Shoulder Width",null,null,null," MPO/RPO","First MPO/RPO %","Second MPO/RPO","Second MPO/RPO %","Third MPO/RPO","Third MPO/RPO %","First Division","First Division %","Second Division","Second Division %","Third Division","Third Division %","Divisin Methodology Preliminary Ranking","Division Methodology Preliminary Ranking","Preliminary Ranking","Preliminary Ranking","Division Engineer Local Points REGIONAL","Division Engineer Local Points DIVISION NEEDS","SPOT + Division Points","SPOT + Division + RPO                          ( Out of 100)","Comments","SPOT + Division Points","Comments","County","First County %","Second County","Second County %","Third County","Third County %","Fourth County","Fourth County %","Highest Division","Funding Region","All Divisions","All MPOs/RPOs","All Counties","Existing Length (Miles)","Project Length (Miles)","Existing Facility Type","Project Facility Type","Existing Lanes Per Direction","Project Lanes Per Direction","Existing Median Type","Project Median Type","Existing Speed Limit","Project Speed Limit","Truck %","Auto %","Existing Volume","Existing Capacity","Existing Volume / Capacity Ratio","Auto Volume","Truck Volume","Travel Time Savings Over 30 Years Autos (Hrs)","Travel Time Savings Over 30 Years Trucks (Hrs)","Travel Time Savings Over 30 Years Total (Hrs)","Travel Time Savings Over 30 Years Total ($)","Crash Density Points Segment","Crash Severity Points Segment","Critical Crash Rate Points Segment","Crash Frequency Points Intersection","Severity Index Points Intersection","Long Term Employment","Percent Change In Value Added","Non-Interstate STRAHNet Route","Direct Connection to Transportation Terminal","Existing Lane Width","DOT Design Standard Lane Width","Existing Roadway Has Curb & Gutter","Existing Paved Shoulder Width","DOT Design Paved Shoulder Width","Existing Cross Section","Project Cross Section","Existing Access Control","Project Access Control","County Tier","Upgrade Roadway Eligible","Census Average Commute Time","Construction Cost","Right-Of-Way Cost","Utilities Cost","Actual Project Cost","Other Funds","Cost to NCDOT","Cost Used in Benefit/Cost Analysis","Other Funds Source"]
["T130121","Dare","Albemarle RPO","Transit","Division Needs",null,null,null,null,"Expansion Vehicle-Due to expected increased demand for public transportation within the community we would like to have a 13-passenger LTV as part of our fleet in FY 2018. For the period FY2011-FY2014, we have seen an approximate increase of 15% each year for demand, riders, and trips. This trend is expected to continue as the elderly population in the region increases.",null,6655,null,null,null,null,null,null,4.03,9.75,null,{"$f":"IF(AU9<30,0,IF(AU9<50,5,IF(AU9<65,10,IF(AU9>66,15))))","v":5},0,{"$f":"(EI9/CZ9)/CO9","v":1.4999485992069509E-6},0," ","Yes",{"$f":"IF(AC9=\"Yes\",10,0)","v":0},"No",{"$f":"IF(AE9=\"Yes\",10,0)","v":0},"No",{"$f":"IF(AU9<30,0,IF(AU9<50,5,IF(AU9<65,10,IF(AU9<79,15,IF(AU9>80,20)))))","v":5},{"$f":"IF(X9<999,20,IF(X9<1499,15,IF(X9<1999,10,IF(X9<3999,5,IF(X9>4000,0)))))","v":20},{"$f":"IF(AA9=\"Yes\",15,0)","v":15},{"$f":"IF(AJ9=\"Yes\",10,0)","v":10},"Yes",{"$f":"IF(AL9=\"Minimal\",15,0)","v":15},"Minimal",{"$f":"IF(AN9=\"Yes\",10,0)","v":10},"Yes",{"$f":"IF(AP9=\"Yes\",5,0)","v":0},"No",{"$f":"IF(AR9=\"Yes\",5,0)","v":5},"Yes",null,null,31.2,null,null,null,null,null,null,null,null,"Albemarle RPO",null,null,null,null,null,null,null,null,null,null,null,null,{"$f":"SUM(AF9+AG9+AH9+AI9+AK9+AM9+AO9+AQ9)","v":80},null,null,null,100,{"$f":"S9+BU9*0.25","v":29.03},null,null,null,null,"Dare",null,null,null,null,null,null,null,null,null,null,null,null,null,248868,null,null,null,null,null,null,null,null,null,null,17828,null,null,null,null,null,null,null,null,null,null,null,null,null,null,null,null,null,null,null,null,null,null,null,null,null,null,null,null,null,null,null,null,66550,null,6655,null,"Fed:$53,240                        Local:$6,655"]
["T130109","Martin","Mid-East RPO","Transit","Division Needs",null,null,null,null,"Expansion Vehicle-Martin County  Transit provides curb to curb public transportation service in a demand-response system.   Many of the riders are elderly and/or disabled that depend on Martin County Transit as his/her's only means of transportation to services and resources.   Martin County Transit works closely with Social Services to provide transportation for these vulnerable adults. ",null,6010," ",null," ",null,null,null,3.19,null,null,5,0,0,0," ","Yes",{"$f":"IF(AC10=\"Yes\",10,0)","v":0},"No",{"$f":"IF(AE10=\"Yes\",10,0)","v":0},"No",5,20,15,10,"Yes",15,"Minimal",10,"Yes",0,"No",5,"Yes",null,null,31.2,null,null,null,null,null,null,null,null,"Mid-East RPO",null,null,null,null,null,null,null,null,null,null,null,null,80,null,null,null,null,null,null,null,null,null,"Martin",null,null,null,null,null,null,null,null,null,null,null,null,null,33392,null,null,null,null,null,null,null,null,null,null,2280,null,null,null,null,null,null,null,null,null,null,null,null,null,null,null,null,null,null,null,null,null,null,null,null,null,null,null,null,null,null,null,null,60100,null,6010,null,"Fed:$48,080 Local:$6,010"]
["T130017","Pasquotank","Albemarle RPO","Transit","Regional Impact",null,null,null,null,"Expansion Vehicle-ARHS-ICPTA’s covers a little over 1000 square miles across five counties.  Our agency wants to purchase an expansion vehicle to meet client demand. ",null,8205,null,null,5.35,{"$f":"(V11+W11+Y11+Z11+AB11+AD11)","v":60},3.15,{"$f":"O11+P11+Q11","v":68.5},5.01,9.75,null,5,{"$f":"IF(X11<499,15,IF(X11<999,10,IF(X11<1499,5,IF(X11>1500,0))))","v":15},{"$f":"(EI11/CZ11)/CO11","v":2.0337951039078898E-5},0,{"$f":"IF(AA11=\"Yes\",20,0)","v":20},"Yes",{"$f":"IF(AC11=\"Yes\",20,0)","v":0},"No",{"$f":"IF(AE11=\"Yes\",20,0)","v":20},"Yes",5,20,15,10,"Yes",15,"Minimal",10,"Yes",0,"No",5,"Yes",null,null,31.2,null,null,null,null,null,null,null,null,"Albemarle RPO",null,null,null,null,null,null,null,null,null,null,null,{"$f":"SUM(V11+W11+Y11+Z11+AB11+AD11)","v":60},80,null,null,null,null,null,null,null,{"$f":"O11+BT11*0.25","v":5.35},null,"Pasquotank",null,null,null,null,null,null,null,null,null,null,null,null,null,870586,null,null,null,null,null,null,null,null,null,null,98611,null,null,null,null,null,null,null,null,null,null,null,null,null,null,null,null,null,null,null,null,null,null,null,null,null,null,null,null,null,null,null,null,82050,null,1746000,null,"Fed:$65,640                            Local:$8,205"]
["T130018","Pasquotank","Albemarle RPO","Transit","Regional Impact",null,null,null,null,"Expansion Vehicle-ARHS-ICPTA’s covers a little over 1000 square miles across five counties.  Our agency wants to purchase an expansion vehicle to meet client demand. ",null,8205,null,null,4.8,{"$f":"SUM(V12+W12+Y12+Z12+AB12+AD12)","v":60},3.15,67.95,4.46,9.75,null,5,15,9.5574391910448089E-8,0,20,"Yes",0,"No",20,"Yes",5,20,15,10,"Yes",15,"Minimal",10,"Yes",0,"No",5,"Yes",null,null,31.2,null,null,null,null,null,null,null,null,"Albemarle RPO",null,null,null,null,null,null,null,null,null,null,null,60,80,null,null,null,null,null,null,null,4.8,null,"Pasquotank",null,null,null,null,null,null,null,null,null,null,null,null,null,870586,null,null,null,null,null,null,null,null,null,null,98611,null,null,null,null,null,null,null,null,null,null,null,null,null,null,null,null,null,null,null,null,null,null,null,null,null,null,null,null,null,null,null,null,82050,null,8205,null,"Fed:$65,640                            Local:$8,205"]
["T130019","Pasquotank","Albemarle RPO","Transit","Regional Impact",null,null,null,null,"Expansion Vehicle-ARHS-ICPTA’s covers a little over 1000 square miles across five counties.  Our agency wants to purchase an expansion vehicle to meet client demand. ",null,8205,null,null,4.8,{"$f":"SUM(V13+W13+Y13+Z13+AB13+AD13)","v":60},3.15,67.95,4.46,9.75,null,5,15,9.5574391910448089E-8,0,20,"Yes",0,"No",20,"Yes",5,20,15,10,"Yes",15,"Minimal",10,"Yes",0,"No",5,"Yes",null,null,31.2,null,null,null,null,"Fed:$65,640                            Local:$8,205",null,null,null,"Albemarle RPO",null,null,null,null,null,null,null,null,null,null,null,60,80,null,null,null,null,null,null,null,4.8,null,"Pasquotank",null,null,null,null,null,null,null,null,null,null,null,null,null,870586,null,null,null,null,null,null,null,null,null,null,98611,null,null,null,null,null,null,null,null,null,null,null,null,null,null,null,null,null,null,null,null,null,null,null,null,null,null,null,null,null,null,null,null,82050,null,8205,null,"Fed:$65,640                            Local:$8,205"]
["T130020","Pasquotank","Albemarle RPO","Transit","Regional Impact",null,null,null,null,"Expansion Vehicle-ARHS-ICPTA’s covers a little over 1000 square miles across five counties.  Our agency wants to purchase an expansion vehicle to meet client demand. ",null,8205,null,null,4.8,{"$f":"SUM(V14+W14+Y14+Z14+AB14+AD14)","v":60},3.15,67.95,4.46,9.75,null,5,15,9.5574391910448089E-8,0,20,"Yes",0,"No",20,"Yes",5,20,15,10,"Yes",15,"Minimal",10,"Yes",0,"No",5,"Yes",null,null,31.2,null,null,null,null,"Fed:$65,640                            Local:$8,205",null,null,null,"Albemarle RPO",null,null,null,null,null,null,null,null,null,null,null,60,80,null,null,null,null,null,null,null,4.8,null,"Pasquotank",null,null,null,null,null,null,null,null,null,null,null,null,null,870586,null,null,null,null,null,null,null,null,null,null,98611,null,null,null,null,null,null,null,null,null,null,null,null,null,null,null,null,null,null,null,null,null,null,null,null,null,null,null,null,null,null,null,null,82050,null,8205,null,"Fed:$65,640                            Local:$8,205"]
["T130021","Pasquotank","Albemarle RPO","Transit","Regional Impact",null,null,null,null,"Expansion Vehicle-ARHS-ICPTA’s covers a little over 1000 square miles across five counties.  Our agency wants to purchase an expansion vehicle to meet client demand. ",null,8205,null,null,4.8,{"$f":"SUM(V15+W15+Y15+Z15+AB15+AD15)","v":60},3.15,67.95,4.46,9.75,null,5,15,9.5574391910448089E-8,0,20,"Yes",0,"No",20,"Yes",5,20,15,10,"Yes",15,"Minimal",10,"Yes",0,"No",5,"Yes",null,null,31.2,null,null,null,null,"Fed:$65,640                            Local:$8,205",null,null,null,"Albemarle RPO",null,null,null,null,null,null,null,null,null,null,null,60,80,null,null,null,null,null,null,null,4.8,null,"Pasquotank",null,null,null,null,null,null,null,null,null,null,null,null,null,870586,null,null,null,null,null,null,null,null,null,null,98611,null,null,null,null,null,null,null,null,null,null,null,null,null,null,null,null,null,null,null,null,null,null,null,null,null,null,null,null,null,null,null,null,82050,null,8205,null,"Fed:$65,640                            Local:$8,205"]
["T130072","Bertie","Peanut Belt RPO","Transit","Regional Impact",null,null,null,null,"Expansion Vehicle-Purpose of expanding routes for employment, education, and/or medical purposes. Etc.  ",null,6783,null,null,2.97,{"$f":"SUM(V16+W16+Y16+Z16+AB16+AD16)","v":60},3.15,66.12,2.85,null,null,5,15,1.1956010382247026E-7,0,20,"Yes",0,"No",20,"Yes",5,20,15,10,"Yes",15,"Minimal",10,"Yes",0,"No",5,"Yes",null,null,31.2,null,null,null,null,null,null,null,null,"Peanut Belt RPO",null,null,null,null,null,null,null,null,null,null,null,60,80,null,null,null,null,null,null,null,2.97,null,"Bertie",null,null,null,null,null,null,null,null,null,null,null,null,null,1238603,null,null,null,null,null,null,null,null,null,null,45804,null,null,null,null,null,null,null,null,null,null,null,null,null,null,null,null,null,null,null,null,null,null,null,null,null,null,null,null,null,null,null,null,67830,null,6783,null,"Fed:$54,264              Local:$6,783"]
["H129676-A","Hertford","Peanut Belt RPO","Highway","Statewide Mobility","R-5311A","NC-11 ","SR 1213 (Old NC 11 Road)","","Upgrade At-Grade Intersecton to Interchange.","7 - Upgrade At-grade Intersection to Interchange or Grade Separation",9460000,15.194668034134692,null,13.574471535535771,{"$f":"(V17+W17+Y17+Z17+AB17+AD17)","v":70},null,{"$f":"O17+P17+Q17","v":83.574471535535764},8.9410226938807895,null,null,{"$f":"IF(AU17<30,0,IF(AU17<50,5,IF(AU17<65,10,IF(AU17>66,15))))","v":15},{"$f":"IF(X17<499,15,IF(X17<999,10,IF(X17<1499,5,IF(X17>1500,0))))","v":10},566.46164208284017,{"$f":"IF(DD17<500,0,IF(DD17<1000,5,IF(DD17>1000,10)))","v":10},{"$f":"IF(AA17=\"Yes\",15,0)","v":15},"Yes",{"$f":"IF(AC17=\"Yes\",10,0)","v":10},"Yes",{"$f":"IF(AE17=\"Yes\",10,0)","v":10},"Yes",15,{"$f":"IF(BM15<999,20,IF(BM15<1499,15,IF(BM15<1999,10,IF(BM15<3999,5,IF(BM15>4000,0)))))","v":20},15,{"$f":"IF(AJ17=\"Yes\",10,0)","v":10},"Yes",15,"Minimal",10,"Yes",{"$f":"IF(AP17=\"Yes\",10,0)","v":0},"No",{"$f":"IF(AR17=\"Yes\",10,0)","v":0},"No",19.501477044516125,3.2587498942917548,66.650000000000006,6.2469894638882204,4.5220205971468346,25.050239849999997,0,0,null,null,null,"Peanut Belt RPO",100,"","","","","01",100,"","","","",{"$f":"SUM(V17+W17+Y17+Z17+AB17+AD17)","v":70},{"$f":"SUM(AF17+AG17+AH17+AI17+AK17+AM17+AO17+AQ17)","v":85},null,null,100,100,{"$f":"S17+BU17*0.25","v":33.94102269388079},null,null,38.574471535535771,null,"Hertford",100,"","","","","","",1,"A","01, , ","Peanut Belt RPO, , ","Hertford, , , ",2,2,"Two Lane Highway","Multi-Lane Highway",1,1,"Undivided","Divided",49.999892227322199,55,14.962705749633502,85.0372942503665,8350.0799499999994,31000,0.26935741774193545,7100.6820572223551,1249.3978927776441,1121641.911162334,197358.08883766588,1319000,30827774,"","","",33.299999999999997,100,21,6.9440411942936698E-5,"No","No",12,12,"No",2,2,"2 Lane Undivided","","None","Full",1,"Yes",19.565219056081599,8900000,500000,60000,9460000,"",9460000,9460000,""]
["H129043","Dare","Albemarle RPO","Highway","Division Needs","R-5014","SR-1217 Collington Road","US 158","Dead End","Operational-Safety Improvements","16 - Modernize Roadway",4850000,null,null,null,null,null,null,23.32,9,null,"N/A",null,57.991491345712276,null,null,"Yes",null,null,null,null,15,{"$f":"IF(BM16<999,20,IF(BM16<1499,15,IF(BM16<1999,10,IF(BM16<3999,5,IF(BM16>4000,0)))))","v":20},15,10,"No",{"$f":"IF(AL18=\"Minimal\",15,0)","v":15},"Minimal",10,"Yes",{"$f":"IF(AP18=\"Yes\",10,0)","v":0},"No",{"$f":"IF(AR18=\"Yes\",10,0)","v":0},"No",41.974683544303801,0,66.21829770798,0,"N/A","N/A",25,100,null,null,null,"Albemarle RPO",100,"","","","","01",100,"","","","",null,{"$f":"SUM(AF18+AG18+AH18+AI18+AK18+AM18+AO18+AQ18)","v":85},null,null,null,100,{"$f":"S18+BU18*0.25","v":48.32},null,null,null,null,"Dare",100,"","","","","","",1,"A","01, , ","Albemarle RPO, , ","Dare, , , ",4.3454650700000004,4.3454650700000004,"Arterial","Arterial",1,1,"Undivided","Undivided",33,33,0,100,10000,15800,0.63291139240506333,10000,0,0,0,0,0,95.975087430000002,64.447475030000007,38.252198139999997,"","","","","No","No",11,12,"No",0,4,"2 Lane Undivided","","None","None",2,"No",25,4350000,500000,0,4850000,"",2520000,4850000,""]
["H141222","Perquimans","Albemarle RPO","Highway","Division Needs","","SR-1301 ","SR 1302","SR 1303","Widen and repave New Hope Road (Phase 2)","16 - Modernize Roadway",1114000,null,null,null,null,null,null,14.9,5.25,null,"N/A",null,469.54674256434129,null,null,"Yes",null,null,null,null,15,{"$f":"IF(X19<999,20,IF(X19<1499,15,IF(X19<1999,10,IF(X19<3999,5,IF(X19>4000,0)))))","v":20},15,10,"No",{"$f":"IF(AL19=\"Minimal\",15,0)","v":15},"Minimal",10,"Yes",{"$f":"IF(AP19=\"Yes\",10,0)","v":0},"No",{"$f":"IF(AR19=\"Yes\",10,0)","v":0},"No",4.6980645161290324,0,69.325207669245003,0,"N/A","N/A",75,0,null,null,null,"Albemarle RPO",100,"","","","","01",100,"","","","",null,{"$f":"SUM(AF19+AG19+AH19+AI19+AK19+AM19+AO19+AQ19)","v":85},null,null,null,100,{"$f":"S19+BU19*0.25","v":39.9},null,null,null,null,"Perquimans",100,"","","","","","",1,"A","01, , ","Albemarle RPO, , ","Perquimans, , , ",1.3068696,1.3068696,"Two Lane Highway","Two Lane Highway",1,1,"Undivided","Undivided",55,55,0,100,1100,15500,7.0967741935483872E-2,1100,0,0,0,0,0,75.594077170000006,94.347974910000005,38.054370570000003,"","","","","No","No",9,12,"No",0,0,"2 Lane Undivided","3A - 2 Lane with Two Way Left Turn Lane, and Paved Shoulders","None","None",2,"No",30,1114000,0,0,1114000,"",675000,1114000,""]
["H090289","Martin","Mid-East RPO","Highway","Division Needs","R-4705","SR-1142 ","NC 903","SR 1182","NC 903 to SR 1182.   Upgrade Facility.","16 - Modernize Roadway",11200000,null,null,null,null,null,null,10.09,null,null,"N/A",null,298.96243736795947,null,null,"Yes",null,null,null,null,10,20,15,{"$f":"IF(AJ20=\"Yes\",10,0)","v":10},"Yes",15,"Minimal",10,"Yes",{"$f":"IF(AP20=\"Yes\",10,0)","v":0},"No",{"$f":"IF(AR20=\"Yes\",10,0)","v":0},"No",16.672666819006448,0,59.268861974388003,0.78073851317326326,"N/A","N/A",25,0,null,null,null,"Mid-East RPO",100,"","","","","01",100,"","","","",null,{"$f":"SUM(AF20+AG20+AH20+AI20+AK20+AM20+AO20+AQ20)","v":80},null,null,null,100,{"$f":"S20+BU20*0.25","v":35.090000000000003},null,null,null,null,"Martin",100,"","","","","","",1,"A","01, , ","Mid-East RPO, , ","Martin, , , ",9.5967154299999997,9.5967154299999997,"Two Lane Highway","Two Lane Highway",1,1,"Undivided","Undivided",55,55,3.9999707795377004,96.000029220462295,3903.7210829999999,15500,0.25185297309677418,3747.5733803653475,156.14770263465266,0,0,0,0,87.040487170000006,47.05679026,43.727090930000003,"","","","","No","No",11,12,"No",0,0,"2 Lane Undivided","","None","None",1,"No",21,7200000,4000000,0,11200000,"",11200000,11200000,""]
["F130003","Dare","Albemarle RPO","Ferry","Division Needs",null,"Hatteras - South Dock (NC 12)",null,null,"Replacement Vessel – River Class Ferry (Baum-H)",null,12000000,null,null,null,null,null,null,36.700000000000003,6.75,null,null,null,89.223959053811043,null,null,"Yes",null,null,null,null,5,20,15,10,"Yes",{"$f":"IF(AL21=\"Minimal\",15,0)","v":15},"Minimal",10,"Yes",{"$f":"IF(AP21=\"Yes\",5,0)","v":0},"No",{"$f":"IF(AR21=\"Yes\",5,0)","v":0},"No",null,null,47,null,null,null,null,null,null,null,null,"Albemarle RPO",null,null,null,null,null,null,null,null,null,null,null,null,{"$f":"SUM(AF21+AG21+AH21+AI21++AK21+AM21+AO21+AQ21)","v":75},null,null,null,100,{"$f":"S21+BU21*0.25","v":61.7},null,null,null,null,"Dare",null,null,null,null,null,null,null,null,null,null,null,null,null,{"$f":"5*2","v":10},null,null,null,null,null,null,null,null,null,null,21687,null,null,null,null,null,null,null,null,null,null,null,null,null,null,null,null,null,null,null,null,null,null,null,null,null,null,null,null,null,null,null,null,12000000,null,19350000]
["T130063","Hyde","Albemarle RPO","Transit","Division Needs",null,null,null,null,"Facilities-Bus Shelter-This funding request is for 2 shelters and 20 benches to support the Ocracoke Park and Ride Project.  ",null,7600,null,null,null,null,null,null,31.19,12,null,0,0,2.8524159963489075E-7,0," ","Yes",{"$f":"IF(AC22=\"Yes\",10,0)","v":0},"No",{"$f":"IF(AE22=\"Yes\",10,0)","v":0},"No",0,20,15,10,"Yes",15,"Minimal",10,"Yes",0,"No",{"$f":"IF(AR22=\"Yes\",5,0)","v":5},"Yes",null,null,0,null,null,null,null,null,null,null,null,"Albemarle RPO",null,null,null,null,null,null,null,null,null,null,null,null,{"$f":"SUM(AF22+AG22+AH22+AI22+AK22+AM22+AO22+AQ22)","v":75},null,null,null,null,null,null,null,null,null,"Hyde",null,null,null,null,null,null,null,null,null,null,null,null,null,175290,null,null,null,null,null,null,null,null,null,null,152000,null,null,null,null,null,null,null,null,null,null,null,null,null,null,null,null,null,null,null,null,null,null,null,null,null,null,null,null,null,null,null,null,76000,null,7600,null,"Fed:$60,800                        Local:$7,600"]
["F130007","Dare","Albemarle RPO","Ferry","Division Needs",null,"Hatteras-South Dock",null,null,"Replacement Vessel-River Class Ferry( Chico)",null,12000000,null,null,null,null,null,null,29.6,7.5,null,null,null,4.6686955318854615,null,null,"Yes",null,null,null,null,5,20,15,10,"Yes",15,"Minimal",10,"Yes",0,"No",{"$f":"IF(AR23=\"Yes\",5,0)","v":0},"No",null,null,47,null,null,null,null,null,null,null,null,"Albemarle RPO",null,null,null,null,null,null,null,null,null,null,null,null,{"$f":"SUM(AF23+AG23+AH23+AI23++AK23+AM23+AO23+AQ23)","v":75},null,null,null,null,null,null,null,null,null,null,null,null,null,null,null,null,null,null,null,null,null,null,null,{"$f":"5*2","v":10},null,null,null,null,null,null,null,null,null,null,21687,null,null,null,null,null,null,null,null,null,null,null,null,null,null,null,null,null,null,null,null,null,null,null,null,null,null,null,null,null,null,null,null,12000000,null,1012500]
["F130008","Dare","Albemarle RPO","Ferry","Division Needs",null,"Hatteras-South Dock",null,null,"Replacement Vessel-River Class Ferry (Frisco)",null,12000000,null,null,null,null,null,null,28.3,7.5,null,null,null,1.8674782127541847,null,null,"Yes",null,null,null,null,5,20,15,10,"Yes",15,"Minimal",10,"Yes",0,"No",{"$f":"IF(AR24=\"Yes\",5,0)","v":0},"No",null,null,47,null,null,null,null,null,null,null,null,"Albemarle RPO",null,null,null,null,null,null,null,null,null,null,null,null,{"$f":"SUM(AF24+AG24+AH24+AI24++AK24+AM24+AO24+AQ24)","v":75},null,null,null,null,null,null,null,null,null,null,null,null,null,null,null,null,null,null,null,null,null,null,null,{"$f":"5*2","v":10},null,null,null,null,null,null,null,null,null,null,21687,null,null,null,null,null,null,null,null,null,null,null,null,null,null,null,null,null,null,null,null,null,null,null,null,null,null,null,null,null,null,null,null,12000000,null,405000]
["A130412","Hertford","Peanut Belt RPO","Aviation","Division Needs",null,"Tri-County",null,null,"Design",null,1602288,null,null,null,null,null,null,25.95,null,null,"N/A",null,{"$f":"(EI25/CZ25)/CO25","v":52522.839394883056},null,null,"Yes",{"$f":"IF(AC25=\"Yes\",10,0)","v":0},null,{"$f":"IF(AE25=\"Yes\",10,0)","v":0},null,{"$f":"IF(AU25<30,0,IF(AU25<50,5,IF(AU25<65,10,IF(AU25<79,15,IF(AU25>80,20)))))","v":0},{"$f":"IF(BM23<999,20,IF(BM23<1499,15,IF(BM23<1999,10,IF(BM23<3999,5,IF(BM23>4000,0)))))","v":20},{"$f":"IF(AA25=\"Yes\",15,0)","v":15},{"$f":"IF(AJ25=\"Yes\",10,0)","v":10},"Yes",{"$f":"IF(AL25=\"Minimal\",15,0)","v":15},"Minimal",{"$f":"IF(AN25=\"Yes\",10,0)","v":10},"Yes",{"$f":"IF(AP25=\"Yes\",5,0)","v":5},"Yes",{"$f":"IF(AR25=\"Yes\",10,0)","v":0},"No",null,null,null,null,null,null,null,null,null,null,null,"Peanut Belt RPO",null,null,null,null,null,null,null,null,null,null,null,null,{"$f":"SUM(AF25+AG25+AH25+AI25+AK25+AM25+AO25+AQ25)","v":75},null,null,null,100,null,null,null,null,null,"Hertford",null,null,null,null,null,null,null,null,null,null,null,null,null,0.85,null,null,null,null,null,null,null,null,null,null,35.89,null,null,null,null,null,null,null,null,null,null,null,null,null,null,null,null,null,null,null,null,null,null,null,null,null,null,null,null,null,null,null,null,1780320,null,1602288]
["F130011","Hyde","Albemarle RPO","Ferry","Division Needs",null,"Swan Quarter-Ocracoke",null,null,"Replacement Vessel-Sound Class Ferry (Pamlico)",null,16000000,null,null,null,null,null,null,14.4,7.5,null,null,null,185.57179308745071,null,null,"Yes",null,null,null,null,5,{"$f":"IF(X26<999,20,IF(X26<1499,15,IF(X26<1999,10,IF(X26<3999,5,IF(X26>4000,0)))))","v":20},15,10,"Yes",15,"Minimal",10,"Yes",{"$f":"IF(AP26=\"Yes\",5,0)","v":0},"No",{"$f":"IF(AR26=\"Yes\",5,0)","v":0},"No",null,null,34,null,null,null,null,null,null,null,null,"Albemarle RPO",null,null,null,null,null,null,null,null,null,null,null,null,{"$f":"SUM(AF26+AG26+AH26+AI26++AK26+AM26+AO26+AQ26)","v":75},null,null,null,null,null,null,null,null,null,"Hyde",null,null,null,null,null,null,null,null,null,null,null,null,null,{"$f":"30*2","v":60},null,null,null,null,null,null,null,null,null,null,1437,null,null,null,null,null,null,null,null,null,null,null,null,null,null,null,null,null,null,null,null,null,null,null,null,null,null,null,null,null,null,null,null,16000000,null,16000000]
["B141355","Perquimans","Albemarle RPO","Bike & Ped","Division Needs",null,"Harvey Point Road","US-17","N. Commerce Drive","Construct 5' wide multi-use path along eastern side of Harvey Point Road","2. Construct multi-use trail / greenway / sidepath or on-road bike lane on local roadway",400000,null,null,null,null,null,null,13.463021372661501,9.75,null,"N/A",null,1441.3118527042577,null,null,"Yes",null,null,null,null,10,15,15,10,"Yes",15,"Minimal",10,"Yes",{"$f":"IF(AP27=\"Yes\",10,0)","v":0},"No",{"$f":"IF(AR27=\"Yes\",10,0)","v":0},"No",null,null,50,null,null,null,null,null,null,null,null,"Albemarle RPO",null,null,null,null,null,null,null,null,null,null,null,null,{"$f":"SUM(AF27+AG27+AH27+AI27+AK27+AM27+AO27)","v":75},null,null,null,25,{"$f":"S27+BU27*0.25","v":19.713021372661501},{"$f":"BV27+T27","v":29.463021372661501},null,null,null,"Perquimans County",null,null,null,null,null,null,null,null,null,null,null,null,null,0.66,null,null,null,null,null,null,null,null,null,null,158,null,null,null,null,null,null,null,null,null,null,null,null,null,null,null,null,null,null,null,null,null,null,null,null,null,null,null,null,null,380000,0,null,400000,0,150300]
["F130012","Currituck","Albemarle RPO","Ferry","Division Needs",null,"Currituck - Knotts Island",null,null,"Replacement Vessel-River Class Ferry (Hunt)",null,12000000,null,null,null,null,null,null,12.3,7.5,null,null,null,660.42927903137047,null,null,"Yes",null,null,null,null,5,20,15,10,"Yes",15,"Minimal",10,"Yes",{"$f":"IF(AP28=\"Yes\",5,0)","v":0},"No",{"$f":"IF(AR28=\"Yes\",5,0)","v":0},"No",null,null,46,null,null,null,null,null,null,null,null,"Albemarle RPO",null,null,null,null,null,null,null,null,null,null,null,null,{"$f":"SUM(AF28+AG28+AH28+AI28++AK28+AM28+AO28+AQ28)","v":75},null,null,null,null,null,null,null,null,null,null,null,null,null,null,null,null,null,null,null,null,null,null,null,{"$f":"5*2","v":10},null,null,null,null,null,null,null,null,null,null,1817,null,null,null,null,null,null,null,null,null,null,null,null,null,null,null,null,null,null,null,null,null,null,null,null,null,null,null,null,null,null,null,null,12000000,null,12000000]
["T130067","Hyde","Albemarle RPO","Transit","Division Needs",null,null,null,null,"Expansion Vehicle-This funding request is for 6 LTV and 3 Trams to support the Ocracoke Park and Ride Project.",null,85500,null,null,null,null,null,null,11.36,12,null,{"$f":"IF(AU29<30,0,IF(AU29<50,5,IF(AU29<65,10,IF(AU29>66,15))))","v":0},0,3.2089679958925209E-6,0," ","Yes",{"$f":"IF(AC29=\"Yes\",10,0)","v":0},"No",{"$f":"IF(AE29=\"Yes\",10,0)","v":0},"No",0,20,15,10,"Yes",15,"Minimal",10,"Yes",{"$f":"IF(AP29=\"Yes\",5,0)","v":0},"No",{"$f":"IF(AR29=\"Yes\",5,0)","v":5},"Yes",null,null,20.6,null,null,null,null,null,null,null,null,"Albemarle RPO",null,null,null,null,null,null,null,null,null,null,null,null,{"$f":"SUM(AF29+AG29+AH29+AI29+AK29+AM29+AO29+AQ29)","v":75},null,null,null,null,null,null,null,null,null,"Hyde",null,null,null,null,null,null,null,null,null,null,null,null,null,175290,null,null,null,null,null,null,null,null,null,null,152000,null,null,null,null,null,null,null,null,null,null,null,null,null,null,null,null,null,null,null,null,null,null,null,null,null,null,null,null,null,null,null,null,855000,null,85500,null,"Fed:$684,000   Local:$85,500"]
["F130013","Hyde","Albemarle RPO","Ferry","Division Needs",null,"Cedar Island-Ocracoke",null,null,"Replacement Vessel-Sound Class Ferry (Silver Lake)",null,16000000,null,null,null,null,null,null,16.3,7.5,null,null,null,263.20984404816738,null,null,"Yes",null,null,null,null,5,20,15,10,"Yes",15,"Minimal",10,"Yes",{"$f":"IF(AP30=\"Yes\",5,0)","v":0},"No",{"$f":"IF(AR30=\"Yes\",5,0)","v":0},"No",null,null,38.5,null,null,null,null,null,null,null,null,"Albemarle RPO",null,null,null,null,null,null,null,null,null,null,null,null,{"$f":"SUM(AF30+AG30+AH30+AI30++AK30+AM30+AO30+AQ30)","v":75},null,null,null,null,null,null,null,null,null,null,null,null,null,null,null,null,null,null,null,null,null,null,null,{"$f":"13*2","v":26},null,null,null,null,null,null,null,null,null,null,2338,null,null,null,null,null,null,null,null,null,null,null,null,null,null,null,null,null,null,null,null,null,null,null,null,null,null,null,null,null,null,null,null,16000000,null,16000000]
["F130014","Hyde","Albemarle RPO","Ferry","Division Needs",null,"Cedar Island-Ocracoke",null,null,"Replacement Vessel-Sound Class Ferry (Carteret)",null,16000000,null,null,null,null,null,null,15.3,7.5,null,null,null,263.20984404816738,null,null,"Yes",null,null,null,null,5,20,15,10,"Yes",15,"Minimal",10,"Yes",{"$f":"IF(AP31=\"Yes\",5,0)","v":0},"No",{"$f":"IF(AR31=\"Yes\",5,0)","v":0},"No",null,null,38.5,null,null,null,null,null,null,null,null,"Albemarle RPO",null,null,null,null,null,null,null,null,null,null,null,null,{"$f":"SUM(AF31+AG31+AH31+AI31++AK31+AM31+AO31+AQ31)","v":75},null,null,null,null,null,null,null,null,null,"Currituck",null,null,null,null,null,null,null,null,null,null,null,null,null,{"$f":"13*2","v":26},null,null,null,null,null,null,null,null,null,null,2338,null,null,null,null,null,null,null,null,null,null,null,null,null,null,null,null,null,null,null,null,null,null,null,null,null,null,null,null,null,null,null,null,16000000,null,16000000]
["A130413","Hertford","Peanut Belt RPO","Aviation","Division Needs",null,"Tri-County",null,null,"Corporate & T-hanger Taxiways",null,230400,null,null,null,null,null,null,7.47,null,null,"N/A",null,7552.4888138593415,null,null,"Yes",{"$f":"IF(AC32=\"Yes\",10,0)","v":0},null,{"$f":"IF(AE32=\"Yes\",10,0)","v":0},null,0,{"$f":"IF(BM30<999,20,IF(BM30<1499,15,IF(BM30<1999,10,IF(BM30<3999,5,IF(BM30>4000,0)))))","v":20},15,10,"Yes",15,"Minimal",10,"Yes",{"$f":"IF(AP32=\"Yes\",5,0)","v":5},"Yes",{"$f":"IF(AR32=\"Yes\",10,0)","v":0},"No",null,null,null,null,null,null,null,null,null,null,null,"Peanut Belt RPO",null,null,null,null,null,null,null,null,null,null,null,null,{"$f":"SUM(AF32+AG32+AH32+AI32+AK32+AM32+AO32+AQ32)","v":75},null,null,null,null,null,null,null,null,null,"Hertford",null,null,null,null,null,null,null,null,null,null,null,null,null,0.85,null,null,null,null,null,null,null,null,null,null,35.89,null,null,null,null,null,null,null,null,null,null,null,null,null,null,null,null,null,null,null,null,null,null,null,null,null,null,null,null,null,null,null,null,256000,null,230400]
["H141724","Bertie","Peanut Belt RPO","Highway","Statewide Mobility","","US-17 , US-13 ","US 64 at Williamston","US 13 North at Windsor","Upgrade roadway to Interstate","2 - Upgrade Arterial to Freeway/Expressway",296415000,13.963177203030861,null,18.190000000000001,{"$f":"(V33+W33+Y33+Z33+AB33+AD33)","v":55},null,{"$f":"O33+P33+Q33","v":73.19},14.61,null,null,{"$f":"IF(AU33<30,0,IF(AU33<50,5,IF(AU33<65,10,IF(AU33>66,15))))","v":10},{"$f":"IF(X33<499,15,IF(X33<999,10,IF(X33<1499,5,IF(X33>1500,0))))","v":0},1821.1995352104639,{"$f":"IF(DD33<500,0,IF(DD33<1000,5,IF(DD33>1000,10)))","v":10},{"$f":"IF(AA33=\"Yes\",15,0)","v":15},"Yes",{"$f":"IF(AC33=\"Yes\",10,0)","v":10},"Yes",{"$f":"IF(AE33=\"Yes\",10,0)","v":10},"Yes",10,{"$f":"IF(BM31<999,20,IF(BM31<1499,15,IF(BM31<1999,10,IF(BM31<3999,5,IF(BM31>4000,0)))))","v":20},15,10,"Yes",15,"Minimal",10,"Yes",{"$f":"IF(AP33=\"Yes\",10,0)","v":0},"No",0,"No",13.832167036632629,0.39403603056525477,56.903493981509996,10.770627201140798,18.508414444923371,35.755430809828404,0,75,null,null,null,"Peanut Belt RPO",89.61,"Mid-East RPO",10.39,"","","01",100,"","","","",{"$f":"SUM(V33+W33+Y33+Z33+AB33+AD33)","v":55},{"$f":"SUM(AF33+AG33+AH33+AI33+AK33+AM33+AO33+AQ33)","v":80},null,null,null,null,{"$f":"S33+BU33*0.25","v":14.61},null,"Delay Prioritization pending outcome of Future Interstate Designation; Exceeds cap of $15 million for Statewide & Regional Projects cascading to Division Needs",{"$f":"O33+BT33*0.25","v":18.190000000000001},null,"Bertie",89.61,"Martin",10.39,"","","","",1,"A","01, , ","Peanut Belt RPO, Mid-East RPO, ","Bertie, Martin, , ",14.46506022,14.46506022,"Multi-Lane Highway","Freeway",2,2,"Divided","Divided",54.750299643765302,70,12.233633194568,87.766366805432,11251.8102699428,72347.719571150898,0.15552404881092519,9875.3050737692665,1376.5051961735337,4433453.3141525285,617972.96167929168,5051426.2758318204,116798190,56.167965979999998,51.059687429999997,63.499901289999997,"","",79.840633949681404,2.9032765494878602E-4,"Yes","No",12,12,"No",1,4,"4 Lane with Median - Partial Control","4A - 4 Lane Divided (46' Depressed Median) with Paved Shoulders","None","Full",1,"Yes",21,226794000,62162000,7459000,296415000,"",296415000,296415000,""]
["H111228","Camden","Albemarle RPO","Highway","Division Needs","","SR-1227 ","NC 168","NC 343 in Camden County","Widen to 24 Feet with Paved Shoulders and Turn Lanes Where Necessary from\nthe Camden County Line to the Location of the Proposed NC 168 Bypass.","16 - Modernize Roadway",12540000,null,null,null,null,null,null,10.43,9.75,null,"N/A",null,7.9858468392354567,null,null,"Yes",null,null,null,null,5,{"$f":"IF(X34<999,20,IF(X34<1499,15,IF(X34<1999,10,IF(X34<3999,5,IF(X34>4000,0)))))","v":20},15,10,"No",{"$f":"IF(AL34=\"Minimal\",15,0)","v":15},"Minimal",10,"Yes",{"$f":"IF(AP34=\"Yes\",10,0)","v":0},"No",0,"No",9.3998067385422761,0,44.936317592166006,0,"N/A","N/A",50,0,null,null,null,"Albemarle RPO",100,"","","","","01",100,"","","","",null,{"$f":"SUM(AF34+AG34+AH34+AI34+AK34+AM34+AO34+AQ34)","v":75},null,null,null,100,{"$f":"S34+BU34*0.25","v":35.43},null,null,null,null,"Camden",55.7,"Currituck",44.3,"","","","",1,"A","01, , ","Albemarle RPO, , ","Camden, Currituck, , ",11.004277439999999,11.004277439999999,"Two Lane Highway","Two Lane Highway",1,1,"Undivided","Undivided",54,54,0,100,2201.904411,15508.10743,0.14198408290237127,2201.904411,0,0,0,0,0,69.443972479999999,39.267785250000003,26.110677290000002,"","","","","No","No",10,12,"No",0,0,"2 Lane Undivided","","None","None",1,"No",34,12540000,0,0,12540000,"",193500,12540000,""]
["H129113-A","Northampton","Peanut Belt RPO","Highway","Statewide Mobility","R-2582A","US-158 , NC-46 ","I-95/NC 46 in Roanoke Rapids","SR 1312 (St. John Church Road)","Widen to Multi-Lanes.","1 - Widen Existing Roadway",61600000,10.75557238499411,null,10.87,{"$f":"(V35+W35+Y35+Z35+AB35+AD35)","v":45},null,{"$f":"O35+P35+Q35","v":55.87},8.0399999999999991,null,null,{"$f":"IF(AU35<30,0,IF(AU35<50,5,IF(AU35<65,10,IF(AU35>66,15))))","v":5},{"$f":"IF(X35<499,15,IF(X35<999,10,IF(X35<1499,5,IF(X35>1500,0))))","v":0},2091.14740608183,{"$f":"IF(DD35<500,0,IF(DD35<1000,5,IF(DD35>1000,10)))","v":5},{"$f":"IF(AA35=\"Yes\",15,0)","v":15},"Yes",{"$f":"IF(AC35=\"Yes\",10,0)","v":10},"Yes",{"$f":"IF(AE35=\"Yes\",10,0)","v":10},"Yes",5,{"$f":"IF(BM33<999,20,IF(BM33<1499,15,IF(BM33<1999,10,IF(BM33<3999,5,IF(BM33>4000,0)))))","v":0},15,{"$f":"IF(AJ35=\"Yes\",10,0)","v":10},"Yes",15,"Minimal",10,"Yes",{"$f":"IF(AP35=\"Yes\",10,0)","v":0},"No",0,"No",16.653337707758549,1.1873089610389611,37.553088508914001,2.7725679898764266,10.935559354881701,15.814667089,25,0,null,null,null,"Peanut Belt RPO",100,"","","","","01",100,"","","","",{"$f":"SUM(V35+W35+Y35+Z35+AB35+AD35)","v":45},{"$f":"SUM(AF35+AG35+AH35+AI35+AK35+AM35+AO35+AQ35)","v":55},null,null,null,null,{"$f":"S35+BU35*0.25","v":8.0399999999999991},null,"Exceeds cap of $15 million for Statewide & Regional Projects cascading to Division Needs",{"$f":"O35+BT35*0.25","v":10.87},null,"Northampton",100,"","","","","","",1,"A","01, , ","Peanut Belt RPO, , ","Northampton, , , ",7.4799006700000001,7.4799006700000001,"Arterial","Multi-Lane Highway",1,2,"Undivided","Divided",50,50,14.080301894199701,85.919698105800293,3938.2223629999999,15671.3475,0.25130081270930915,3383.7087650247145,554.51359797528528,2698025.2618860388,442145.52707987302,3140170.7889659116,73138232,40.937157169999999,38.616381390000001,33.11699402,"","",50,1.6871118709763401E-4,"No","No",11,12,"No",1,0,"2 Lane Undivided","4A - 4 Lane Divided (46' Depressed Median) with Paved Shoulders","None","Partial",1,"Yes",22,54000000,7600000,0,61600000,"",61600000,61600000,""]
["B141365","Dare","Albemarle RPO","Bike & Ped","Division Needs",null,"Us 158 sidewalk","Bennett Street","Worthington Lane","Construct 6000' of sidewalk on west side of US 158","5. Construct Sidewalk",282000,null,null,null,null,null,null,15.295680447883793,9.75,null,"N/A",null,3163.9556096077831,null,null,"Yes",null,null,null,null,15,{"$f":"IF(X36<999,20,IF(X36<1499,15,IF(X36<1999,10,IF(X36<3999,5,IF(X36>4000,0)))))","v":5},15,{"$f":"IF(AJ36=\"Yes\",10,0)","v":10},"Yes",{"$f":"IF(AL36=\"Minimal\",15,0)","v":15},"Minimal",10,"Yes",{"$f":"IF(AP36=\"Yes\",10,0)","v":0},"No",0,"No",null,null,65,null,null,null,null,null,null,null,null,"Albemarle RPO",null,null,null,null,null,null,null,null,null,null,null,null,{"$f":"SUM(AF36+AG36+AH36+AI36+AK36+AM36+AO36)","v":70},null,null,null,25,{"$f":"S36+BU36*0.25","v":21.545680447883793},{"$f":"BV36+T36","v":31.295680447883793},null,null,null,"Dare County",null,null,null,null,null,null,null,null,null,null,null,null,null,1.56,null,null,null,null,null,null,null,null,null,null,{"$f":"1012*0.1","v":101.2},null,null,null,null,null,null,null,null,null,null,null,null,null,null,null,null,null,null,null,null,null,null,null,null,null,null,null,null,null,272000,0,null,282000,0,499500]
["A130011","Pasquotank","Albemarle RPO","Aviation","Division Needs",null,"Elizabeth City Coast Guard Air Station/Regional",null,null,"Hangers and Economic Development",null,150300,null,null,null,null,null,null,5.76,13.5,null,"N/A",null,1061.0615133292763,null,null,"Yes",{"$f":"IF(AC37=\"Yes\",10,0)","v":0},null,{"$f":"IF(AE37=\"Yes\",10,0)","v":0},null,0,{"$f":"IF(X37<999,20,IF(X37<1499,15,IF(X37<1999,10,IF(X37<3999,5,IF(X37>4000,0)))))","v":15},15,{"$f":"IF(AJ37=\"Yes\",10,0)","v":10},"Yes",{"$f":"IF(AL37=\"Minimal\",15,0)","v":15},"Minimal",10,"Yes",{"$f":"IF(AP37=\"Yes\",5,0)","v":5},"Yes",0,"No",null,null,null,null,null,null,null,null,null,null,null,"Albemarle RPO",null,null,null,null,null,null,null,null,null,null,null,null,{"$f":"SUM(AF37+AG37+AH37+AI37+AK37+AM37+AO37+AQ37)","v":70},null,null,null,null,null,null,null,null,null,"Pasquotank",null,null,null,null,null,null,null,null,null,null,null,null,null,0.86,null,null,null,null,null,null,null,null,null,null,164.71,null,null,null,null,null,null,null,null,null,null,null,null,null,null,null,null,null,null,null,null,null,null,null,null,null,null,null,null,null,null,null,null,167000,null,150300]
["H090139","Currituck","Albemarle RPO","Highway","Statewide Mobility","R-2574","US-158 ","East of NC 34 at Belcross in Camden County","NC 168 in Currituck County","Widen to Multi-Lanes.","1 - Widen Existing Roadway",124500000,12.917806507523943,null,15.32,{"$f":"(V38+W38+Y38+Z38+AB38+AD38)","v":60},5.85,{"$f":"O38+P38+Q38","v":81.169999999999987},11.88,9,null,{"$f":"IF(AU38<30,0,IF(AU38<50,5,IF(AU38<65,10,IF(AU38>66,15))))","v":5},{"$f":"IF(X38<499,15,IF(X38<999,10,IF(X38<1499,5,IF(X38>1500,0))))","v":0},1995.9908209645782,{"$f":"IF(DD38<500,0,IF(DD38<1000,5,IF(DD38>1000,10)))","v":5},{"$f":"IF(AA38=\"Yes\",20,0)","v":20},"Yes",{"$f":"IF(AC38=\"Yes\",10,0)","v":10},"Yes",{"$f":"IF(AE38=\"Yes\",20,0)","v":20},"Yes",5,{"$f":"IF(BM36<999,20,IF(BM36<1499,15,IF(BM36<1999,10,IF(BM36<3999,5,IF(BM36>4000,0)))))","v":20},15,10,"No",{"$f":"IF(AL38=\"Minimal\",15,0)","v":15},"Minimal",10,"Yes",{"$f":"IF(AP38=\"Yes\",10,0)","v":0},"No",0,"No",25.899192792202655,4.9311622489959836E-2,42.817742247555003,3.7513246389685184,1.0121603056695501,40.175551936000005,0,50,null,null,null,"Albemarle RPO",100,"","","","","01",100,"","","","",{"$f":"SUM(V38+W38+Y38+Z38+AB38+AD38)","v":60},75,null,null,100,null,{"$f":"S38+BU38*0.25","v":11.88},null,"Exceeds cap of $15 million for Statewide & Regional Projects cascading to Division Needs",{"$f":"O38+BT38*0.25","v":40.32},null,"Currituck",81.819999999999993,"Camden",18.18,"","","","",1,"A","01, , ","Albemarle RPO, , ","Currituck, Camden, , ",10.2830142,10.2830142,"Two Lane Highway","Multi-Lane Highway",1,2,"Undivided","Divided",55,55,12.3687060697064,87.631293930293594,6065.8319760000004,15505.137360000001,0.39121433336337758,5315.5670482062969,750.26492779370369,232553.67338973124,32823.753964834919,265377.42735456617,6139297,47.387447479999999,46.640021480000001,34.438604390000002,"","",4,1.6243206113391E-5,"No","No",12,12,"No",0,2,"2 Lane Undivided","4A - 4 Lane Divided (46' Depressed Median) with Paved Shoulders","None","Partial",2,"Yes",32,82500000,40600000,1400000,124500000,"",124500000,124500000,""]
["H090201","Bertie","Peanut Belt RPO","Highway","Regional Impact","R-2900","NC-11 ","NC 903 in Martin County","US 13 Bypass North of Ahoskie in Hertford County","Widen to Multi-Lanes","1 - Widen Existing Roadway",264678000,null,null,9.6828556939639139,{"$f":"(V39+W39+Y39+Z39+AB39+AD39)","v":45},null,{"$f":"O39+P39+Q39","v":54.682855693963916},6.4527639498232601,null,null,{"$f":"IF(AU39<30,0,IF(AU39<50,5,IF(AU39<65,10,IF(AU39>66,15))))","v":5},{"$f":"IF(X39<499,15,IF(X39<999,10,IF(X39<1499,5,IF(X39>1500,0))))","v":0},1767.5616600315998,{"$f":"IF(DD39<500,0,IF(DD39<1000,5,IF(DD39>1000,10)))","v":5},{"$f":"IF(AA39=\"Yes\",15,0)","v":15},"Yes",{"$f":"IF(AC39=\"Yes\",10,0)","v":10},"Yes",{"$f":"IF(AE39=\"Yes\",10,0)","v":10},"Yes",5,{"$f":"IF(BM37<999,20,IF(BM37<1499,15,IF(BM37<1999,10,IF(BM37<3999,5,IF(BM37>4000,0)))))","v":20},15,{"$f":"IF(AJ39=\"Yes\",10,0)","v":10},"Yes",15,"Minimal",10,"Yes",0,"No",0,"No",22.004158280104082,7.4195384580509144E-2,42.449285833548004,4.9984943886064652,"N/A",19.458886990000003,0,0,null,null,null,"Peanut Belt RPO",91.83,"Mid-East RPO",8.17,"","","01",100,"","","","",{"$f":"SUM(V39+W39+Y39+Z39+AB39+AD39)","v":45},75,null,null,null,null,6.4527639498232601,null,"Exceeds cap of $15 million for Statewide & Regional Projects cascading to Division Needs",{"$f":"O39+BT39*0.25","v":9.6828556939639139},null,"Bertie",60.05,"Hertford",31.78,"Martin",8.17,"","",1,"A","01, , ","Peanut Belt RPO, Mid-East RPO, ","Bertie, Hertford, Martin, ",29.059377309999999,29.059377309999999,"Two Lane Highway","Multi-Lane Highway",1,2,"Undivided","Divided",54,55,19.400469355290102,80.599530644709901,5152.9623300000003,15503.09146,0.33238288913506808,4153.2634522787075,999.698877721293,665630.52880070708,160218.60887587239,825849.13767657941,19637886,52.985728870000003,37.521074390000003,36.8537903,"","","","","No","No",12,12,"No",2,2,"2 Lane Undivided","4A - 4 Lane Divided (46' Depressed Median) with Paved Shoulders","Limited","Partial",1,"Yes",22,224808000,35598000,4272000,264678000,"",264678000,264678000,""]
["H090400","Pasquotank","Albemarle RPO","Highway","Division Needs","U-3420","SR-1309 New Route - Main Street Extension","Proposed US 17 Bypass","US 17","Proposed US 17 Bypass to US 17 Bypass (Hughes Boulevard). Upgrade Roadway, Some New Location with interchange at the  Proposed US 17 Bypass.","6 - Widen Existing Roadway and Construct Part on New Location",37604000,null,null,null,null,null,null,7.4926218010578971,9.75,null,"N/A",null,570.59042489894205,null,null,"Yes",null,null,null,null,10,{"$f":"IF(X40<999,20,IF(X40<1499,15,IF(X40<1999,10,IF(X40<3999,5,IF(X40>4000,0)))))","v":20},15,{"$f":"IF(AJ40=\"Yes\",10,0)","v":0},"No",{"$f":"IF(AL40=\"Minimal\",15,0)","v":15},"Minimal",10,"Yes",0,"No",0,"No",21.23955152748097,0,53.686666483098001,2.2125776482960196,"N/A","N/A",0,0,null,null,null,"Albemarle RPO",100,"","","","","01",100,"","","","",null,70,null,null,null,null,7.4926218010578971,null,"Exceeds cap of $15 million for Statewide & Regional Projects cascading to Division Needs",null,null,"Pasquotank",100,"","","","","","",1,"A","01, , ","Albemarle RPO, , ","Pasquotank, , , ",8.1,4.4965362500000001,"Multi-Lane Highway","Arterial",2,2,"Divided","Divided",53,45,3.0192359281745,96.980764071825504,14656.54027,57189.055699999997,0.25628225699134949,14214.024740340796,442.51552965920388,0,0,0,0,45.39256322,70.290980619999999,45.39256322,"","","","","No","No",12,12,"No",4,4,"New Roadway","4B - 4 Lane Divided (23' Raised Median) with Paved Shoulders and Sidewalks","None","Partial",2,"No",23,32490000,4566000,548000,37604000,"",37604000,37604000,""]
["H141863","Bertie","Peanut Belt RPO","Highway","Statewide Mobility","","US-17-BYP-Windsor Bypass","US 13 North at Windsor","US 17A East of Windsor","Upgrade freeway to interstate standards","17 - Upgrade Freeway to Interstate Standards",18115000,5.280522319769938,null,13.48,{"$f":"(V41+W41+Y41+Z41+AB41+AD41)","v":60},null,{"$f":"O41+P41+Q41","v":73.48},12.32,null,null,{"$f":"IF(AU41<30,0,IF(AU41<50,5,IF(AU41<65,10,IF(AU41>66,15))))","v":0},{"$f":"IF(X41<499,15,IF(X41<999,10,IF(X41<1499,5,IF(X41>1500,0))))","v":15},377.5845547580675,{"$f":"IF(DD41<500,0,IF(DD41<1000,5,IF(DD41>1000,10)))","v":10},{"$f":"IF(AA41=\"Yes\",15,0)","v":15},"Yes",{"$f":"IF(AC41=\"Yes\",10,0)","v":10},"Yes",{"$f":"IF(AE41=\"Yes\",10,0)","v":10},"Yes",0,20,15,{"$f":"IF(AJ41=\"Yes\",10,0)","v":10},"Yes",15,"Minimal",10,"Yes",0,"No",0,"No",8.9789540080974994,0,14.225955942132,5.8043325764056979,3.3740078463481447E-2,17.24548809831855,0,100,null,null,null,"Peanut Belt RPO",100,"","","","","01",100,"","","","",{"$f":"SUM(V41+W41+Y41+Z41+AB41+AD41)","v":60},70,null,null,null,null,12.32,null,"Delay Prioritization pending outcome of Future Interstate Designation; Exceeds cap of $15 million for Statewide & Regional Projects cascading to Division Needs",{"$f":"O41+BT41*0.25","v":13.48},null,"Bertie",100,"","","","","","",1,"A","01, , ","Peanut Belt RPO, , ","Bertie, , , ",6.6215013200000001,6.6215013200000001,"Freeway","Freeway",2,2,"Divided","Divided",69.868031583409305,69.868031583409305,16.0219228784675,83.978077121532493,7245.4880983185503,71492.605187994195,0.10134597947950133,6084.6215830374103,1160.8665152811395,0,0,0,0,15.056317160000001,7.53506316,20.090755720000001,"","",0.15711071904780799,5.1769085022182097E-7,"No","No",12,12,"No",0,4,"4 Lane with Median - Full Control","","Full","Full",1,"No",25,18115000,0,0,18115000,"",18115000,18115000,""]
["H090149-C","Northampton","Peanut Belt RPO","Highway","Statewide Mobility","R-2584C","US-158 ","East of SR 1365","Murfreesboro Bypass","Widen to Multi-Lanes, Part on New  Location.","1 - Widen Existing Roadway",15500000,9.3681981442180433,null,8.4421943032112416,{"$f":"(V42+W42+Y42+Z42+AB42+AD42)","v":45},null,{"$f":"O42+P42+Q42","v":53.442194303211238},5.627067316119323,null,null,{"$f":"IF(AU42<30,0,IF(AU42<50,5,IF(AU42<65,10,IF(AU42>66,15))))","v":5},{"$f":"IF(X42<499,15,IF(X42<999,10,IF(X42<1499,5,IF(X42>1500,0))))","v":5},1024.9810988969052,{"$f":"IF(DD42<500,0,IF(DD42<1000,5,IF(DD42>1000,10)))","v":0},{"$f":"IF(AA42=\"Yes\",15,0)","v":15},"Yes",{"$f":"IF(AC42=\"Yes\",10,0)","v":10},"Yes",{"$f":"IF(AE42=\"Yes\",10,0)","v":10},"Yes",5,15,15,{"$f":"IF(AJ42=\"Yes\",10,0)","v":10},"Yes",15,"Minimal",10,"Yes",0,"No",0,"No",16.471282630658063,3.1866580645161291E-2,39.767523949889998,2.1687150311144747,6.7579796151811991E-2,23.569707588,0,0,null,null,null,"Peanut Belt RPO",100,"","","","","01",100,"","","","",{"$f":"SUM(V42+W42+Y42+Z42+AB42+AD42)","v":45},70,null,null,null,null,5.627067316119323,null,"Exceeds cap of $15 million for Statewide & Regional Projects cascading to Division Needs",{"$f":"O42+BT42*0.25","v":8.4421943032112416},null,"Northampton",100,"","","","","","",1,"A","01, , ","Peanut Belt RPO, , ","Northampton, , , ",3.9211613500000002,3.9211613500000002,"Two Lane Highway","Multi-Lane Highway",1,2,"Undivided","Divided",55,55,11.2468617618159,88.753138238184107,3856.5691959999999,15500,0.24881091587096774,3422.8261897771054,433.74300622289491,19034.061700427039,2412.010042237323,21446.07174266436,493932,45.618827529999997,32.736669169999999,40.959006600000002,"","",0,1.3515959230362399E-6,"No","No",12,12,"No",2,0,"2 Lane Undivided","4A - 4 Lane Divided (46' Depressed Median) with Paved Shoulders","None","Partial",1,"Yes",26,10800000,4700000,0,15500000,"",15500000,15500000,""]
["H141650","Northampton","Peanut Belt RPO","Highway","Regional Impact","","US-258 ","Halifax County Line","Rich Square Town Limits","Currently a 2-lane major thoroughfare, it is recommended to widen to 24 feet w/ paved shoulders where necessary from Halifax County line to Rich Square town limits. Provides continuity with Halifax County CTP recommendations, which were based on recommendations in the Edgecombe County CTP.\n","16 - Modernize Roadway",701000,null,null,6.001844019965354,{"$f":"(V43+W43+Y43+Z43+AB43+AD43)","v":50},null,{"$f":"O43+P43+Q43","v":56.001844019965354},4.0012293466435693,null,null,{"$f":"IF(AU43<30,0,IF(AU43<50,5,IF(AU43<65,10,IF(AU43>66,15))))","v":0},{"$f":"IF(X43<499,15,IF(X43<999,10,IF(X43<1499,5,IF(X43>1500,0))))","v":15},45.604565057177851,{"$f":"IF(DD43<500,0,IF(DD43<1000,5,IF(DD43>1000,10)))","v":0},{"$f":"IF(AA43=\"Yes\",15,0)","v":15},"Yes",{"$f":"IF(AC43=\"Yes\",10,0)","v":10},"Yes",{"$f":"IF(AE43=\"Yes\",10,0)","v":10},"Yes",0,20,15,{"$f":"IF(AJ43=\"Yes\",10,0)","v":10},"Yes",15,"Minimal",10,"Yes",0,"No",0,"No",11.153476270105694,0,28.858817196330001,1.999890922488379,"N/A",12.61146520254281,0,0,null,null,null,"Peanut Belt RPO",100,"","","","","01",100,"04","","","",{"$f":"SUM(V43+W43+Y43+Z43+AB43+AD43)","v":50},70,null,null,null,100,29.001229346643569,null,null,{"$f":"O43+BT43*0.25","v":6.001844019965354},null,"Northampton",100,"Halifax","","","","","",1,"A","01, 04, ","Peanut Belt RPO, , ","Northampton, Halifax, , ",5.88607046,5.88607046,"Two Lane Highway","Two Lane Highway",1,1,"Undivided","Undivided",55.000040093698097,55.000040093698097,15.316236421921801,84.683763578078199,2611.4652025428099,15500.011299133101,0.16848150315147617,2211.4870180451339,399.97818449767578,0,0,0,0,29.796681070000002,26.991747960000001,29.796681070000002,"","","","","No","No",12,12,"No",4,0,"2 Lane Undivided","3A - 2 Lane with Two Way Left Turn Lane, and Paved Shoulders","None","None",1,"No",25,701000,0,0,701000,"",701000,701000,""]
["H090099-B","Gates","Albemarle RPO","Highway","Statewide Mobility","R-2507B","US-13 ","US 158 Bypass in Tarheel","SR 1202 (Eure Road/Gates School Road)","Widen to Multi-Lanes.","1 - Widen Existing Roadway",26200000,11.662716525966273,null,12.49,{"$f":"(V44+W44+Y44+Z44+AB44+AD44)","v":65},3.6,{"$f":"O44+P44+Q44","v":81.089999999999989},9.16,5.25,null,{"$f":"IF(AU44<30,0,IF(AU44<50,5,IF(AU44<65,10,IF(AU44>66,15))))","v":10},{"$f":"IF(X44<499,15,IF(X44<999,10,IF(X44<1499,5,IF(X44>1500,0))))","v":0},1700.8127716901893,{"$f":"IF(DD44<500,0,IF(DD44<1000,5,IF(DD44>1000,10)))","v":5},{"$f":"IF(AA44=\"Yes\",20,0)","v":20},"Yes",{"$f":"IF(AC44=\"Yes\",10,0)","v":10},"Yes",{"$f":"IF(AE44=\"Yes\",20,0)","v":20},"Yes",10,10,15,10,"No",{"$f":"IF(AL44=\"Minimal\",15,0)","v":15},"Minimal",10,"Yes",0,"No",0,"No",15.80258064516129,1.9666755725190839E-2,50.766884000546995,9.1677418804838702,5.8055295488545502E-2,45.1,25,0,null,null,null,"Albemarle RPO",100,"","","","","01",100,"","","","",{"$f":"SUM(V44+W44+Y44+Z44+AB44+AD44)","v":65},70,null,null,100,null,9.16,null,"Exceeds cap of $15 million for Statewide & Regional Projects cascading to Division Needs",{"$f":"O44+BT44*0.25","v":37.49},null,"Gates",100,"","","","","","",1,"A","01, , ","Albemarle RPO, , ","Gates, , , ",4.1633513100000004,4.1633513100000004,"Two Lane Highway","Multi-Lane Highway",1,2,"Undivided","Divided",55,55,17.297297,82.702703,3700,15500,0.23870967741935484,3060.0000110000001,639.99998900000003,18067.430804417563,3778.8089786008504,21846.239783018413,515269,59.821943230000002,36.671154739999999,55.822785619999998,"","",0,1.16110590977091E-6,"Yes","No",11,12,"No",2,0,"2 Lane Undivided","4A - 4 Lane Divided (46' Depressed Median) with Paved Shoulders","None","Partial",1,"Yes",37,23200000,1800000,1200000,26200000,"",26200000,26200000,""]
["H141218","Perquimans","Albemarle RPO","Highway","Division Needs","","SR-1329","SR 1331","SR 1300","Widen and repave Woodville Road Phase 2","16 - Modernize Roadway",734000,null,null,null,null,null,null,8.27,5.25,null,"N/A",null,548.01863437169857,null,null,"Yes",null,null,null,null,0,20,15,10,"No",15,"Minimal",10,"Yes",0,"No",0,"No",7.6877419354838707,0,0,0,"N/A","N/A",75,0,null,null,null,"Albemarle RPO",100,"","","","","01",100,"","","","",null,70,null,null,null,100,33.269999999999996,null,null,null,null,"Perquimans",100,"","","","","","",1,"A","01, , ","Albemarle RPO, , ","Perquimans, , , ",0.74409473000000004,0.74409473000000004,"Two Lane Highway","Two Lane Highway",1,1,"Undivided","Undivided",55,55,0,100,1800,15500,0.11612903225806452,1800,0,0,0,0,0,0,0,0,"","","","","No","No",9,12,"No",0,0,"2 Lane Undivided","3A - 2 Lane with Two Way Left Turn Lane, and Paved Shoulders","None","None",2,"No",30,734000,0,0,734000,"",734000,734000,""]
["H090099-C","Gates","Albemarle RPO","Highway","Statewide Mobility","R-2507C","US-13 ","SR 1202 (Eure Road/Gates School Road)","Virginia State Line","Widen to Multi-Lanes.","1 - Widen Existing Roadway",31000000,12.467522810856204,null,10.977776395583573,{"$f":"(V46+W46+Y46+Z46+AB46+AD46)","v":65},3.15,{"$f":"O46+P46+Q46","v":79.127776395583581},7.3178708035073292,5.25,null,{"$f":"IF(AU46<30,0,IF(AU46<50,5,IF(AU46<65,10,IF(AU46>66,15))))","v":10},{"$f":"IF(X46<499,15,IF(X46<999,10,IF(X46<1499,5,IF(X46>1500,0))))","v":0},1720.1381017321557,{"$f":"IF(DD46<500,0,IF(DD46<1000,5,IF(DD46>1000,10)))","v":5},{"$f":"IF(AA46=\"Yes\",20,0)","v":20},"Yes",{"$f":"IF(AC46=\"Yes\",10,0)","v":10},"Yes",{"$f":"IF(AE46=\"Yes\",20,0)","v":20},"Yes",10,10,15,10,"No",15,"Minimal",10,"Yes",0,"No",0,"No",16.327877726309676,1.9403806451612902E-2,56.831426502311999,9.3663279759304228,6.9301056105317504E-2,45.468977557000002,0,0,null,null,null,"Albemarle RPO",100,"","","","","01",100,"","","","",{"$f":"SUM(V46+W46+Y46+Z46+AB46+AD46)","v":65},70,null,null,100,null,7.3178708035073292,null,"Exceeds cap of $15 million for Statewide & Regional Projects cascading to Division Needs",{"$f":"O46+BT46*0.25","v":35.977776395583575},null,"Gates",100,"","","","","","",1,"A","01, , ","Albemarle RPO, , ","Gates, , , ",4.71405809,4.71405809,"Two Lane Highway","Multi-Lane Highway",1,2,"Undivided","Divided",55,55,16.741916150222998,83.258083849776995,3822.9925189999999,15500,0.24664467864516129,3182.9503170397215,640.04220196027802,21279.268908809252,4278.9326794035505,25558.201588212803,601518,71.452794549999993,31.798630360000001,67.25990573,"","",0,1.38602112210635E-6,"Yes","No",12,12,"No",0,0,"2 Lane Undivided","4A - 4 Lane Divided (46' Depressed Median) with Paved Shoulders","None","Partial",1,"Yes",37,23800000,6000000,1200000,31000000,"",31000000,31000000,""]
["F130002","Hyde","Albemarle RPO","Ferry","Division Needs",null,"Statewide: Support Vessel",null,null,"Replacement Vessel-Tug (Dare)",null,1725000,null,null,null,null,null,null,25.9,6,null,null,null,0.4157119961235074,null,null,"Yes",null,null,null,null,5,20,15,{"$f":"IF(AJ47=\"Yes\",10,0)","v":0},"No",15,"Minimal",10,"Yes",{"$f":"IF(AP47=\"Yes\",5,0)","v":0},"No",{"$f":"IF(AR47=\"Yes\",5,0)","v":0},"No",null,null,39.43,null,null,null,null,null,null,null,null,"Albemarle RPO",null,null,null,null,null,null,null,null,null,null,null,null,{"$f":"SUM(AF47+AG47+AH47+AI47++AK47+AM47+AO47+AQ47)","v":65},null,null,null,null,null,null,null,null,null,"Hyde",null,null,null,null,null,null,null,null,null,null,null,null,null,{"$f":"9.5*2","v":19},null,null,null,null,null,null,null,null,null,null,60391,null,null,null,null,null,null,null,null,null,null,null,null,null,null,null,null,null,null,null,null,null,null,null,null,null,null,null,null,null,null,null,null,1725000,null,477000]
["F130004",null,"Albemarle RPO","Ferry","Division Needs",null,"Statewide: Support Vessel",null,null,"Replacement Vessel-Tug  (Buxton Jr.)",null,1725000,null,null,null,null,null,null,23.4,6,null,null,null,0.20079673775022244,null,null,"Yes",null,null,null,null,5,20,15,0,"No",15,"Minimal",10,"Yes",{"$f":"IF(AP48=\"Yes\",5,0)","v":0},"No",{"$f":"IF(AR48=\"Yes\",5,0)","v":0},"No",null,null,39.43,null,null,null,null,null,null,null,null,"Albemarle RPO",null,null,null,null,null,null,null,null,null,null,null,null,{"$f":"SUM(AF48+AG48+AH48+AI48++AK48+AM48+AO48+AQ48)","v":65},null,null,null,null,null,null,null,null,null,null,null,null,null,null,null,null,null,null,null,null,null,null,null,{"$f":"9.5*2","v":19},null,null,null,null,null,null,null,null,null,null,60391,null,null,null,null,null,null,null,null,null,null,null,null,null,null,null,null,null,null,null,null,null,null,null,null,null,null,null,null,null,null,null,null,1725000,null,230400]
["F130001","Hyde","Albemarle RPO","Ferry","Division Needs",null,"Statewide: Support Vessel",null,null,"Replacement Vessel-Tug(Albemarle)",null,5000000,null,null,null,null,null,null,19.3,6,null,null,null,1.0039836887511122,null,null,"Yes",null,null,null,null,5,20,15,0,"No",15,"Minimal",10,"Yes",{"$f":"IF(AP49=\"Yes\",5,0)","v":0},"No",{"$f":"IF(AR49=\"Yes\",5,0)","v":0},"No",null,null,39.43,null,null,null,null,null,null,null,null,"Albemarle RPO",null,null,null,null,null,null,null,null,null,null,null,null,{"$f":"SUM(AF49+AG49+AH49+AI49++AK49+AM49+AO49+AQ49)","v":65},null,null,null,null,null,null,null,null,null,"Hyde",null,null,null,null,null,null,null,null,null,null,null,null,null,{"$f":"9.5*2","v":19},null,null,null,null,null,null,null,null,null,null,60391,null,null,null,null,null,null,null,null,null,null,null,null,null,null,null,null,null,null,null,null,null,null,null,null,null,null,null,null,null,null,null,null,5000000,null,1152000]
["B141476","Dare","Albemarle RPO","Bike & Ped","Division Needs",null,"Kill Devil Hills Multi Use Path","Ocean Acres","Atlantic","Construct Multi-Use Path","2. Construct multi-use trail / greenway / sidepath or on-road bike lane on local roadway",356500,null,null,null,null,null,null,18.504548236546277,9.75,null,"N/A",null,7756.7101699088889,null,null,"Yes",null,null,null,null,15,0,15,10,"Yes",15,"Minimal",10,"Yes",{"$f":"IF(AP50=\"Yes\",10,0)","v":0},"No",{"$f":"IF(AR50=\"Yes\",10,0)","v":0},"No",null,null,75,null,null,null,null,null,null,null,null,"Albemarle RPO",null,null,null,null,null,null,null,null,null,null,null,null,{"$f":"SUM(AF50+AG50+AH50+AI50+AK50+AM50+AO50)","v":65},null,null,null,25,{"$f":"S50+BU50*0.25","v":24.754548236546277},{"$f":"BV50+T50","v":34.504548236546277},null,null,null,"Dare County",null,null,null,null,null,null,null,null,null,null,null,null,null,0.31,null,null,null,null,null,null,null,null,null,null,{"$f":"786*0.1","v":78.600000000000009},null,null,null,null,null,null,null,null,null,null,null,null,null,null,null,null,null,null,null,null,null,null,null,null,null,null,null,null,null,310000,0,null,356500,0,189000]
["F130005",null,"Albemarle RPO","Ferry","Division Needs",null,"Statewide: Support Vessel",null,null,"Replacement Vessel-Barge (NC-2 Fuel Barge)",null,200000,null,null,null,null,null,null,18.2,3,null,null,null,0.28609613318122518,null,null,"Yes",null,null,null,null,5,20,15,0,"No",15,"Minimal",10,"Yes",{"$f":"IF(AP51=\"Yes\",5,0)","v":0},"No",{"$f":"IF(AR51=\"Yes\",5,0)","v":0},"No",null,null,39.43,null,null,null,null,null,null,null,null,"Albemarle RPO",null,null,null,null,null,null,null,null,null,null,null,null,{"$f":"SUM(AF51+AG51+AH51+AI51++AK51+AM51+AO51+AQ51)","v":65},null,null,null,null,null,null,null,null,null,null,null,null,null,null,null,null,null,null,null,null,null,null,null,{"$f":"9.5*2","v":19},null,null,null,null,null,null,null,null,null,null,60391,null,null,null,null,null,null,null,null,null,null,null,null,null,null,null,null,null,null,null,null,null,null,null,null,null,null,null,null,null,null,null,null,200000,null,328275]
["B141349","Dare","Albemarle RPO","Bike & Ped","Division Needs",null,"NC 12","Gull Street","Jennettes Pier","Construct sidewalk on west side of NC 12 from Gull Street south to Jennets Pier","5. Construct Sidewalk",100000,null,null,null,null,null,null,15.642500000000002,6.75,null,"N/A",null,1461.0389610389611,null,null,"Yes",null,null,null,null,0,15,15,10,"Yes",15,"Minimal",10,"Yes",{"$f":"IF(AP52=\"Yes\",10,0)","v":0},"No",{"$f":"IF(AR52=\"Yes\",10,0)","v":0},"No",null,null,12.5,null,null,null,null,null,null,null,null,"Albemarle RPO",null,null,null,null,null,null,null,null,null,null,null,null,{"$f":"SUM(AF52+AG52+AH52+AI52+AK52+AM52+AO52)","v":65},null,null,null,25,{"$f":"S52+BU52*0.25","v":21.892500000000002},{"$f":"BV52+T52","v":28.642500000000002},null,null,null,"Dare County",null,null,null,null,null,null,null,null,null,null,null,null,null,0.3,null,null,null,null,null,null,null,null,null,null,308,null,null,null,null,null,null,null,null,null,null,null,null,null,null,null,null,null,null,null,null,null,null,null,null,null,null,null,null,null,90000,0,null,100000,0,135000]
["F130009","Hyde","Albemarle RPO","Ferry","Division Needs",null,"Statewide: Support Vessel",null,null,"Replacement Vessel-Barge (NC-1 Pipeline Barge)",null,185000,null,null,null,null,null,null,13.7,3,null,null,null,1.7255969650409739,null,null,"Yes",null,null,null,null,5,20,15,0,"No",15,"Minimal",10,"Yes",{"$f":"IF(AP53=\"Yes\",5,0)","v":0},"No",{"$f":"IF(AR53=\"Yes\",5,0)","v":0},"No",null,null,39.43,null,null,null,null,null,null,null,null,"Albemarle RPO",null,null,null,null,null,null,null,null,null,null,null,null,{"$f":"SUM(AF53+AG53+AH53+AI53++AK53+AM53+AO53+AQ53)","v":65},null,null,null,null,null,null,null,null,null,"Hyde",null,null,null,null,null,null,null,null,null,null,null,null,null,{"$f":"9.5*2","v":19},null,null,null,null,null,null,null,null,null,null,60391,null,null,null,null,null,null,null,null,null,null,null,null,null,null,null,null,null,null,null,null,null,null,null,null,null,null,null,null,null,null,null,null,185000,null,1980000]
["F130010","Hyde","Albemarle RPO","Ferry","Division Needs",null,"Statewide: Support Vessel",null,null,"Replacement Vessel-Barge (NC-3 Equipment Barge)",null,185000,null,null,null,null,null,null,13.7,3,null,null,null,0.5804280700592368,null,null,"Yes",null,null,null,null,5,20,15,0,"No",15,"Minimal",10,"Yes",{"$f":"IF(AP54=\"Yes\",5,0)","v":0},"No",{"$f":"IF(AR54=\"Yes\",5,0)","v":0},"No",null,null,39.43,null,null,null,null,null,null,null,null,"Albemarle RPO",null,null,null,null,null,null,null,null,null,null,null,null,{"$f":"SUM(AF54+AG54+AH54+AI54++AK54+AM54+AO54+AQ54)","v":65},null,null,null,null,null,null,null,null,null,"Hyde",null,null,null,null,null,null,null,null,null,null,null,null,null,{"$f":"9.5*2","v":19},null,null,null,null,null,null,null,null,null,null,60391,null,null,null,null,null,null,null,null,null,null,null,null,null,null,null,null,null,null,null,null,null,null,null,null,null,null,null,null,null,null,null,null,185000,null,666000]
["H090329","Northampton","Peanut Belt RPO","Highway","Regional Impact","U-2419","NC-48 ","Roanoke Avenue in Halifax County","NC 46 in Gaston in Northampton County","Roanoke Avenue in Halifax County to NC 46 in Gaston in Northampton County. Widen to Multi-Lanes.","1 - Widen Existing Roadway",30987000,null,null,20.72,{"$f":"(V55+W55+Y55+Z55+AB55+AD55)","v":40},null,{"$f":"O55+P55+Q55","v":60.72},17.12,null,null,{"$f":"IF(AU55<30,0,IF(AU55<50,5,IF(AU55<65,10,IF(AU55>66,15))))","v":0},{"$f":"IF(X55<499,15,IF(X55<999,10,IF(X55<1499,5,IF(X55>1500,0))))","v":0},1638.8925354054695,{"$f":"IF(DD55<500,0,IF(DD55<1000,5,IF(DD55>1000,10)))","v":5},{"$f":"IF(AA55=\"Yes\",15,0)","v":15},"Yes",{"$f":"IF(AC55=\"Yes\",10,0)","v":10},"Yes",{"$f":"IF(AE55=\"Yes\",10,0)","v":10},"Yes",0,{"$f":"IF(BM53<999,20,IF(BM53<1499,15,IF(BM53<1999,10,IF(BM53<3999,5,IF(BM53>4000,0)))))","v":20},15,10,"Yes",15,"Minimal",10,"Yes",{"$f":"IF(AP55=\"Yes\",10,0)","v":0},"No",{"$f":"IF(AR55=\"Yes\",10,0)","v":0},"No",46.280282747314516,0.8176696033820634,24.093813457691997,4.1616023981484593,"N/A",19.025870580000003,0,100,null,null,null,"Peanut Belt RPO",100,"","","","","01",79.88,"04",20.12,"","",{"$f":"SUM(V55+W55+Y55+Z55+AB55+AD55)","v":40},{"$f":"SUM(AF55+AG55+AH55+AI55+AK55+AM55+AO55+AQ55)","v":70},null,null,100,null,{"$f":"S55+BU55*0.25","v":17.12},null,"Exceeds cap of $15 million for Statewide & Regional Projects cascading to Division Needs",{"$f":"O55+BT55*0.25","v":45.72},null,"Northampton",79.88,"Halifax",20.12,"","","","",1,"A","01, 04, ","Peanut Belt RPO, , ","Northampton, Halifax, , ",1.71481062,1.71481062,"Arterial","Arterial",1,2,"Undivided","Divided",43,45,7.5487960210548,92.451203978945202,11025.870580000001,15800.17362,0.69783224192190874,10193.550100370308,832.32047962969182,1032268.9976535406,84286.496733129708,1116555.4943866702,25337128,16.88552645,55.403142789999997,0,"","","","","No","No",12,12,"No",0,4,"2 Lane Undivided","4C - 4 Lane Divided (23' Raised Median) with Curb & Gutter, Wide Outside Lanes, and Sidewalks","None","Partial",1,"No",24,29754000,1101000,132000,30987000,"",30987000,30987000,""]
["H090285","Perquimans","Albemarle RPO","Highway","Statewide Mobility","R-4458","US-17 ","SR 1300 (New Hope Road)","","Convert at-Grade intersection to An interchange","7 - Upgrade At-grade Intersection to Interchange or Grade Separation",12906000,11.908335891675366,null,12.64,{"$f":"(V56+W56+Y56+Z56+AB56+AD56)","v":65},4.95,{"$f":"O56+P56+Q56","v":82.59},9.24,7.5,null,{"$f":"IF(AU56<30,0,IF(AU56<50,5,IF(AU56<65,10,IF(AU56>66,15))))","v":10},{"$f":"IF(X56<499,15,IF(X56<999,10,IF(X56<1499,5,IF(X56>1500,0))))","v":15},407.68760462512967,{"$f":"IF(DD56<500,0,IF(DD56<1000,5,IF(DD56>1000,10)))","v":10},{"$f":"IF(AA56=\"Yes\",20,0)","v":20},"Yes",10,"Yes",{"$f":"IF(AE56=\"Yes\",20,0)","v":0},"no",10,{"$f":"IF(BM54<999,20,IF(BM54<1499,15,IF(BM54<1999,10,IF(BM54<3999,5,IF(BM54>4000,0)))))","v":20},15,0,"No",{"$f":"IF(AL56=\"Minimal\",15,0)","v":15},"Minimal",10,"Yes",{"$f":"IF(AP56=\"Yes\",10,0)","v":0},"No",0,"No",16.727256327764458,0.67404679993801331,50,7.7049196029202633,1.46961032780572,63.408788800000011,0,25,null,null,null,"Albemarle RPO",100,"","","","","01",100,"","","","",{"$f":"SUM(V56+W56+Y56+Z56+AB56+AD56)","v":65},70,null,null,null,null,{"$f":"S56+BU56*0.25","v":9.24},null,"Delay Prioritization pending outcome of Future Interstate Designation; Need to coordinate this project with SPOT ID#H141929",{"$f":"O56+BT56*0.25","v":12.64},"County Does not support project","Perquimans",100,"","","","","","",1,"A","01, , ","Albemarle RPO, , ","Perquimans, , , ",2,2,"Multi-Lane Highway","Freeway",2,2,"Divided","Divided",55,55,9.7356275119906002,90.2643724880094,15828.2958,91352.771370000002,0.17326563346274099,14287.311879415947,1540.9839205840526,343004.6154544357,36995.38454556428,380000,8699248,"","","",0,100,6,2.3392206556114398E-5,"no","No",12,12,"No",3,4,"2 Lane Undivided","","None","Full",2,"Yes",30.6,10716000,2190000,0,12906000,"",12906000,12906000,""]
["H090284","Dare","Albemarle RPO","Highway","Statewide Mobility","R-4457","US-158 ","NC 12","","Improve intersection ","7 - Upgrade At-grade Intersection to Interchange or Grade Separation",23870000,25.088572426440816,null,23.24,{"$f":"(V57+W57+Y57+Z57+AB57+AD57)","v":55},6.3,{"$f":"O57+P57+Q57","v":84.539999999999992},17.98,9,null,{"$f":"IF(AU57<30,0,IF(AU57<50,5,IF(AU57<65,10,IF(AU57>66,15))))","v":10},{"$f":"IF(X57<499,15,IF(X57<999,10,IF(X57<1499,5,IF(X57>1500,0))))","v":5},{"$f":"(EI57/CZ57)/CO57","v":1254.6033770323088},{"$f":"IF(DD57<500,0,IF(DD57<1000,5,IF(DD57>1000,10)))","v":10},{"$f":"IF(AA57=\"Yes\",20,0)","v":20},"Yes",10,"Yes",{"$f":"IF(AE57=\"Yes\",20,0)","v":0},"No",{"$f":"IF(AU57<30,0,IF(AU57<50,5,IF(AU57<65,10,IF(AU57<79,15,IF(AU57>80,20)))))","v":10},{"$f":"IF(BM55<999,20,IF(BM55<1499,15,IF(BM55<1999,10,IF(BM55<3999,5,IF(BM55>4000,0)))))","v":20},{"$f":"IF(AA57=\"Yes\",15,0)","v":15},0,"No",15,"Minimal",{"$f":"IF(AN57=\"Yes\",10,0)","v":10},"Yes",{"$f":"IF(AP57=\"Yes\",10,0)","v":0},"No",0,"No",54.50533413736671,0.3082017176372015,50,17.576238950973607,1.2926387974492148,100,0,75,null,null,null,"Albemarle RPO",100,"","","","","01",100,"","","","",{"$f":"SUM(V57+W57+Y57+Z57+AB57+AD57)","v":55},70,null,null,null,null,{"$f":"S57+BU57*0.25","v":17.98},null,null,{"$f":"O57+BT57*0.25","v":23.24},null,"Dare",100,"","","","","","",1,"A","01, , ","Albemarle RPO, , ","Dare, , , ",0.5,0.5,"Arterial","Arterial",2,2,"TWLTL","Divided",50.0000000000014,50.0000000000014,9.2380430429066998,90.761956957093304,38051.866329999997,58117.244420000003,0.6547431267561119,34536.618539805277,3515.2477901947218,292253.50140184048,29746.498598159575,322000.00000000006,7356775,"","","",66.7,33.299999999999997,5,2.0852775948984299E-5,"No","No",12,12,"No",1,4,"4 Lane with TWLTL (Five Lane)","","None","Partial",2,"Yes",18.899999992478101,19250000,4620000,0,23870000,"",23870000,23870000,""]
["A130008","Pasquotank","Albemarle RPO","Aviation","Division Needs",null,"Elizabeth City Coast Guard Air Station/Regional",null,null,"Land Acquisition-Apron Construction",null,1800000,null,null,null,null,null,null,8.59,13.5,null,"N/A",null,1588.4154391156831,null,null,"Yes",0,null,{"$f":"IF(AE58=\"Yes\",10,0)","v":0},null,0,{"$f":"IF(X58<999,20,IF(X58<1499,15,IF(X58<1999,10,IF(X58<3999,5,IF(X58>4000,0)))))","v":10},15,10,"Yes",15,"Minimal",10,"Yes",{"$f":"IF(AP58=\"Yes\",5,0)","v":5},"Yes",0,"No",null,null,null,null,null,null,null,null,null,null,null,"Albemarle RPO",null,null,null,null,null,null,null,null,null,null,null,null,65,null,null,null,null,null,null,null,null,null,"Pasquotank",null,null,null,null,null,null,null,null,null,null,null,null,null,0.86,null,null,null,null,null,null,null,null,null,null,164.71,null,null,null,null,null,null,null,null,null,null,null,null,null,null,null,null,null,null,null,null,null,null,null,null,null,null,null,null,null,null,null,null,2000000,null,225000]
["A130007","Pasquotank","Albemarle RPO","Aviation","Division Needs",null,"Elizabeth City Coast Guard Air Station/Regional",null,null,"Permitting/mitigation/preliminary",null,247500,null,null,null,null,null,null,7.89,13.5,null,"N/A",null,1747.2569830272516,null,null,"Yes",0,null,{"$f":"IF(AE59=\"Yes\",10,0)","v":0},null,0,{"$f":"IF(X59<999,20,IF(X59<1499,15,IF(X59<1999,10,IF(X59<3999,5,IF(X59>4000,0)))))","v":10},15,10,"Yes",15,"Minimal",10,"Yes",{"$f":"IF(AP59=\"Yes\",5,0)","v":5},"Yes",0,"No",null,null,null,null,null,null,null,null,null,null,null,"Albemarle RPO",null,null,null,null,null,null,null,null,null,null,null,null,65,null,null,null,null,null,null,null,null,null,"Pasquotank",null,null,null,null,null,null,null,null,null,null,null,null,null,0.86,null,null,null,null,null,null,null,null,null,null,164.71,null,null,null,null,null,null,null,null,null,null,null,null,null,null,null,null,null,null,null,null,null,null,null,null,null,null,null,null,null,null,null,null,275000,null,247500]
["A130036","Currituck","Albemarle RPO","Aviation","Division Needs",null,"Currituck County Regional",null,null,"Acquire Equipment Shelter",null,135000,null,null,null,null,null,null,5.56,15,null,"N/A",null,1895.2794905488729,null,null,"Yes",0,null,{"$f":"IF(AE60=\"Yes\",10,0)","v":0},null,0,{"$f":"IF(X60<999,20,IF(X60<1499,15,IF(X60<1999,10,IF(X60<3999,5,IF(X60>4000,0)))))","v":10},15,10,"Yes",15,"Minimal",10,"Yes",{"$f":"IF(AP60=\"Yes\",5,0)","v":5},"Yes",0,"No",null,null,null,null,null,null,null,null,null,null,null,"Albemarle RPO",null,null,null,null,null,null,null,null,null,null,null,null,65,null,null,null,null,null,null,null,null,null,"Currituck",null,null,null,null,null,null,null,null,null,null,null,null,null,1.04,null,null,null,null,null,null,null,null,null,null,68.489999999999995,null,null,null,null,null,null,null,null,null,null,null,null,null,null,null,null,null,null,null,null,null,null,null,null,null,null,null,null,null,null,null,null,150000,null,135000]
["H090230","Dare","Albemarle RPO","Highway","Statewide Mobility","R-3419","US-158 ","US 64-NC 12","Eastern End of Currituck Sound Bridge","Add Additional Lanes.","1 - Widen Existing Roadway",85428000,33.826595565109983,null,22.42,{"$f":"(V61+W61+Y61+Z61+AB61+AD61)","v":90},6.3,{"$f":"O61+P61+Q61","v":118.72},15.67,6.75,null,{"$f":"IF(AU61<30,0,IF(AU61<50,5,IF(AU61<65,10,IF(AU61>66,15))))","v":15},{"$f":"IF(X61<499,15,IF(X61<999,10,IF(X61<1499,5,IF(X61>1500,0))))","v":15},183.5913006327666,{"$f":"IF(DD61<500,0,IF(DD61<1000,5,IF(DD61>1000,10)))","v":10},{"$f":"IF(AA61=\"Yes\",20,0)","v":20},"Yes",10,"Yes",{"$f":"IF(AE61=\"Yes\",20,0)","v":20},"Yes",15,{"$f":"IF(BM59<999,20,IF(BM59<1499,15,IF(BM59<1999,10,IF(BM59<3999,5,IF(BM59>4000,0)))))","v":20},15,10,"No",15,"Minimal",10,"Yes",{"$f":"IF(AP61=\"Yes\",10,0)","v":0},"No",0,"No",61.663206108983005,3.1984238540057124,66.848834021375993,12.296076997726795,52.240077745304099,17.929986580000001,0,25,null,null,null,"Albemarle RPO",100,"","","","","01",100,"","","","",{"$f":"SUM(V61+W61+Y61+Z61+AB61+AD61)","v":90},85,null,null,100,null,{"$f":"S61+BU61*0.25","v":15.67},null,"Exceeds cap of $15 million for Statewide & Regional Projects cascading to Division Needs",{"$f":"O61+BT61*0.25","v":47.42},null,"Dare",100,"","","","","","",1,"A","01, , ","Albemarle RPO, , ","Dare, , , ",17.3012275,17.3012275,"Arterial","Arterial",2,3,"TWLTL","Divided",50,45,9.1437711105651012,90.856228889434902,26894.979869999999,31700.06882,0.8484202360163835,24435.76447045464,2459.2153995453591,10869853.540386515,1093942.0884352552,11963795.62882177,273234953,66.845883279999995,76.036630419999995,57.684045019999999,"","",200,8.4480155490608197E-4,"No","No",12,12,"No",3,4,"4 Lane with TWLTL (Five Lane)","6E - 6 Lane Divided (23' Raised Median) with Curb & Gutter, Wide Outside Lanes, and Sidewalks","None","Partial",2,"No",18,56202000,26095000,3131000,85428000,"",85428000,85428000,""]
["H141869","Chowan","Albemarle RPO","Highway","Statewide Mobility","","US-17-BYP-Edenton Bypass","South end of Chowan River Bridge","US 17 Business (North) in Edenton (Broad Street)","Upgrade freeway to interstate standards","17 - Upgrade Freeway to Interstate Standards",39943000,8.7484760417394707,null,13.199578131959568,75,4.95,93.149578131959572,10.466385421306379,7.5,null,5,10,527.48148407603003,10,{"$f":"IF(AA62=\"Yes\",20,0)","v":20},"Yes",10,"Yes",{"$f":"IF(AE62=\"Yes\",20,0)","v":20},"Yes",5,{"$f":"IF(X62<999,20,IF(X62<1499,15,IF(X62<1999,10,IF(X62<3999,5,IF(X62>4000,0)))))","v":20},15,{"$f":"IF(AJ62=\"Yes\",10,0)","v":0},"No",15,"Minimal",10,"Yes",0,"No",0,"No",10.143372066527785,0,44.520482146535997,5.8742929410305047,0.78557618921433359,18.241940617180788,25,25,null,null,null,"Albemarle RPO",90.31,"Peanut Belt RPO",9.69,"","","01",100,"","","","",75,65,null,null,100,null,10.466385421306379,null,"Delay Prioritization pending outcome of Future Interstate Designation; Exceeds cap of $15 million for Statewide & Regional Projects cascading to Division Needs",38.199578131959569,null,"Chowan",90.31,"Bertie",9.69,"","","","",1,"A","01, , ","Albemarle RPO, Peanut Belt RPO, ","Chowan, Bertie, , ",9.1876402099999996,9.1876402099999996,"Freeway","Freeway",2,2,"Divided","Divided",58.657857951946099,58.657857951946099,14.2546354405544,85.745364559445605,8241.9406171807896,72228.075098455607,0.11410993032759113,7067.0820289746889,1174.8585882061009,0,0,0,0,49.239147449999997,33.660043209999998,50.675613259999999,"","",3.5297729597742702,1.21817508245124E-5,"No","No",11,12,"No",3,4,"4 Lane with Median - Full Control","","Full","Full",1,"No",25,39943000,0,0,39943000,"",39943000,39943000,""]
["H111225","Currituck","Albemarle RPO","Highway","Statewide Mobility","","US-158 ","Proposed Mid Currituck Bridge","Dare County Line","Upgrade the Existing 5-Lane Boulevard to a 4-Lane Divided Boulevard fromtheproposed Mid-Currituck Bridge to the Dare County Line.","11 - Access Management",130843000,11.16234915458393,null,12.45,80,6.3,98.75,9.1300000000000008,9,null,5,15,484.12802715559553,10,{"$f":"IF(AA63=\"Yes\",20,0)","v":20},"Yes",10,"Yes",{"$f":"IF(AE63=\"Yes\",20,0)","v":20},"Yes",5,20,15,{"$f":"IF(AJ63=\"Yes\",10,0)","v":0},"No",15,"Minimal",10,"Yes",0,"No",0,"No",16.869019924360721,0,49.446054653357997,5.7851885596995665,0,19.311718553333336,0,25,null,null,null,"Albemarle RPO",100,"","","","","01",100,"","","","",80,65,null,null,0,null,9.1300000000000008,null,"Exceeds cap of $15 million for Statewide & Regional Projects cascading to Division Needs",12.45,null,"Currituck",100,"","","","","","",1,"A","01, , ","Albemarle RPO, , ","Currituck, , , ",19.349474180000001,19.349474180000001,"Multi-Lane Highway","Multi-Lane Highway",2,2,"TWLTL","Divided",55,55,8.2837391423356994,91.716260857664295,13967.57783,74282.529899999994,0.18803314653934533,12810.540118060086,1157.0377119399134,0,0,0,0,46.775181750000002,60.689393699999997,40.888423809999999,"","",0,0,"No","No",12,12,"No",3,4,"4 Lane with TWLTL (Five Lane)","4E - 4 Lane Divided (17'-6\"' Raised Median) with Paved Shoulders and Sidewalks","None","None",2,"No",25,125286000,4962000,595000,130843000,"",130843000,130843000,""]
["H111227","Currituck","Albemarle RPO","Highway","Statewide Mobility","","NC-168 ","Virginia Line","US 158","Upgrade the Existing 5-Lane Major Thoroughfare to a 4-Lane Divided Boulevardfrom the Virginia Line to US 158","11 - Access Management",122633000,9.259530084621499,null,10.46,70,6.3,86.76,7.81,9,null,5,10,512.62152970794932,5,{"$f":"IF(AA64=\"Yes\",20,0)","v":20},"Yes",10,"Yes",{"$f":"IF(AE64=\"Yes\",20,0)","v":20},"Yes",5,20,15,{"$f":"IF(AJ64=\"Yes\",10,0)","v":0},"No",15,"Minimal",10,"Yes",0,"No",0,"No",15.564629295984382,0,37.494202474773004,4.2036052417444214,0,36.707706353333336,0,25,null,null,null,"Albemarle RPO",100,"","","","","01",100,"","","","",70,65,null,null,null,null,7.81,null,"Exceeds cap of $15 million for Statewide & Regional Projects cascading to Division Needs",10.46,null,"Currituck",100,"","","","","","",1,"A","01, , ","Albemarle RPO, , ","Currituck, , , ",18.31536071,18.31536071,"Multi-Lane Highway","Multi-Lane Highway",2,2,"TWLTL","Divided",55,55,6.4366054177367005,93.5633945822633,13061.55953,75792.37487,0.17233342473307303,12220.838481651117,840.72104834888432,0,0,0,0,39.915379160000001,42.339522950000003,30.238954700000001,"","",0,0,"No","No",12,12,"No",3,4,"4 Lane with TWLTL (Five Lane)","4E - 4 Lane Divided (17'-6\"' Raised Median) with Paved Shoulders and Sidewalks","None","None",2,"No",34,120156000,2212000,265000,122633000,"",122633000,122633000,""]
["H090286","Perquimans","Albemarle RPO","Highway","Statewide Mobility","R-4459","US-17 ","SR 1336 (Harvey Point Road) and SR 1338 (Wayne Fork Road)","","Convert at-Grade intersection to An interchange","7 - Upgrade At-grade Intersection to Interchange or Grade Separation",17124000,11.326621906015168,null,10.49,60,4.95,75.44,7.79,7.5,null,5,15,485.15757135953902,10,{"$f":"IF(AA65=\"Yes\",20,0)","v":20},"Yes",10,"Yes",{"$f":"IF(AE65=\"Yes\",20,0)","v":0},"no",5,20,15,{"$f":"IF(AJ65=\"Yes\",10,0)","v":0},"No",15,"Minimal",10,"Yes",0,"No",0,"No",18.637613344626359,0.98769090165849105,33.299999999999997,9.1293282844147789,2.8316497524675701,58.660999040000007,0,25,null,null,null,"Albemarle RPO",100,"","","","","01",100,"","","","",60,65,null,null,null,null,7.79,null,"Exceeds cap of $15 million for Statewide & Regional Projects cascading to Division Needs",10.49,null,"Perquimans",100,"","","","","","",1,"A","01, , ","Albemarle RPO, , ","Perquimans, , , ",2,2,"Multi-Lane Highway","Freeway",2,2,"Divided","Divided",55,55,10.346093759894,89.653906240105997,17647.874640000002,91451.899420000002,0.19297439147710599,15822.008983117046,1825.8656568829558,660749.28898958117,76250.711010418774,737000,16913219,"","","",33.299999999999997,33.299999999999997,12,4.4632995049351403E-5,"No","No",12,12,"No",3,4,"2 Lane Undivided","","Limited","Full",2,"Yes",25.8,14934000,2190000,0,17124000,"",17124000,17124000,""]
["H090149-A","Northampton","Peanut Belt RPO","Highway","Statewide Mobility","R-2584A","US-158 ","SR 1333 (Mt. Caramel Road-Severn Road) East of Jackson","East of SR 1500","Widen to Multi-Lanes, Part on New  Location.","1 - Widen Existing Roadway",35400000,6.7665917857530138,null,6.1953666496314517,40,null,46.195366649631453,4.1302444330876344,null,null,0,5,1494.0486221150661,0,{"$f":"IF(AA66=\"Yes\",15,0)","v":15},"Yes",10,"Yes",{"$f":"IF(AE66=\"Yes\",10,0)","v":10},"Yes",0,15,15,10,"Yes",15,"Minimal",10,"Yes",0,"No",0,"No",11.375504147527343,0,29.926940183349,1.8062326157995514,0,19.990346666999997,0,0,null,null,null,"Peanut Belt RPO",100,"","","","","01",100,"","","","",40,65,null,null,null,null,4.1302444330876344,null,"Exceeds cap of $15 million for Statewide & Regional Projects cascading to Division Needs",6.1953666496314517,null,"Northampton",100,"","","","","","",1,"A","01, , ","Peanut Belt RPO, , ","Northampton, , , ",8.8959874899999996,8.8959874899999996,"Two Lane Highway","Multi-Lane Highway",1,2,"Undivided","Divided",55,55,13.563110771595898,86.436889228404098,2663.4488889999998,15500.00021,0.17183540986545573,2302.2023658400894,361.24652315991028,0,0,0,0,31.488997040000001,30.542237579999998,27.75856491,"","",0,0,"No","No",12,12,"No",2,0,"2 Lane Undivided","4A - 4 Lane Divided (46' Depressed Median) with Paved Shoulders","None","Partial",1,"Yes",26,31300000,4100000,0,35400000,"",35400000,35400000,""]
["B141773","Dare","Albemarle RPO","Bike & Ped","Division Needs",null,"NC 12 Duck","1174 Duck Road","Cook Drive","Construct Sidewalk on West side of NC 12","2. Construct multi-use trail / greenway / sidepath or on-road bike lane on local roadway",303600,null,null,null,null,null,null,20.72,13.5,null,"N/A",null,14426.229508196724,null,null,"Yes",null,null,null,null,10,0,15,{"$f":"IF(AJ67=\"Yes\",10,0)","v":10},"Yes",{"$f":"IF(AL67=\"Minimal\",15,0)","v":15},"Minimal",10,"Yes",0,"No",0,"No",null,null,62.5,null,null,null,null,null,null,null,null,"Albemarle RPO",null,null,null,null,null,null,null,null,null,null,null,null,{"$f":"SUM(AF67+AG67+AH67+AI67+AK67+AM67+AO67)","v":60},null,null,null,null,20.72,{"$f":"BV67+T67","v":34.22},null,null,null,"Dare County",null,null,null,null,null,null,null,null,null,null,null,null,null,0.69,null,null,null,null,null,null,null,null,null,null,{"$f":"305*0.1","v":30.5},null,null,null,null,null,null,null,null,null,null,null,null,null,null,null,null,null,null,null,null,null,null,null,null,null,null,null,null,null,385000,0,null,442000,138400,303600]
["B141770","Dare","Albemarle RPO","Bike & Ped","Division Needs",null,"NC 12 Duck","Four Seasons Lane","Cook Drive","Connect share path and construct sidewalk","5. Construct Sidewalk",286000,null,null,null,null,null,null,19.84,13.5,null,"N/A",null,9712.7677237257158,null,null,"Yes",null,null,null,null,10,0,15,10,"Yes",15,"Minimal",10,"Yes",0,"No",0,"No",null,null,62.5,null,null,null,null,null,null,null,null,"Albemarle RPO",null,null,null,null,null,null,null,null,null,null,null,null,60,null,null,null,null,19.84,33.340000000000003,null,null,null,"Dare County",null,null,null,null,null,null,null,null,null,null,null,null,null,2.4700000000000002,null,null,null,null,null,null,null,null,null,null,{"$f":"317*0.1","v":31.700000000000003},null,null,null,null,null,null,null,null,null,null,null,null,null,null,null,null,null,null,null,null,null,null,null,null,null,null,null,null,null,365000,0,null,420000,134000,760500]
["B141788","Camden","Albemarle RPO","Bike & Ped","Division Needs",null,"SR 1216","US 17","End Pavement","Construct Sidewalks","5. Construct Sidewalk",200000,null,null,null,null,null,null,19.2234926866,8.25,null,"N/A",null,18705.574261129816,null,null,"Yes",null,null,null,null,10,0,15,10,"Yes",15,"Minimal",10,"Yes",0,"No",0,"No",null,null,50,null,null,null,null,null,null,null,null,"Albemarle RPO",null,null,null,null,null,null,null,null,null,null,null,null,60,null,null,null,null,19.2234926866,27.4734926866,null,null,null,"Camden County",null,null,null,null,null,null,null,null,null,null,null,null,null,0.33,null,null,null,null,null,null,null,null,null,null,{"$f":"324*0.1","v":32.4},null,null,null,null,null,null,null,null,null,null,null,null,null,null,null,null,null,null,null,null,null,null,null,null,null,null,null,null,null,170000,0,null,200000,0,200000]
["B141479","Dare","Albemarle RPO","Bike & Ped","Division Needs",null,"Kill Devil Hills Multi Use Path","Eighth Street","Ocean Acres","Construct Multi use path","2. Construct multi-use trail / greenway / sidepath or on-road bike lane on local roadway",414000,null,null,null,null,null,null,15.233988893053294,9.75,null,"N/A",null,16290.726817042605,null,null,"Yes",null,null,null,null,10,0,15,10,"Yes",15,"Minimal",10,"Yes",0,"No",0,"No",null,null,55,null,null,null,null,null,null,null,null,"Albemarle RPO",null,null,null,null,null,null,null,null,null,null,null,null,60,null,null,null,null,15.233988893053294,24.983988893053294,null,null,null,"Dare County",null,null,null,null,null,null,null,null,null,null,null,null,null,0.36,null,null,null,null,null,null,null,null,null,null,{"$f":"798*0.1","v":79.800000000000011},null,null,null,null,null,null,null,null,null,null,null,null,null,null,null,null,null,null,null,null,null,null,null,null,null,null,null,null,null,360000,0,null,414000,0,468000]
["B141368","Dare","Albemarle RPO","Bike & Ped","Division Needs",null,"US 158","Worthington Lane","Jejac Street","Construct approximately 8200' of sidewalk on the west side of US 158","5. Construct Sidewalk",405375,null,null,null,null,null,null,14.980262092711737,9.75,null,"N/A",null,2732.7935222672068,null,null,"Yes",null,null,null,null,5,5,15,10,"Yes",15,"Minimal",10,"Yes",0,"No",0,"No",null,null,42.5,null,null,null,null,null,null,null,null,"Albemarle RPO",null,null,null,null,null,null,null,null,null,null,null,null,60,null,null,null,null,14.980262092711737,24.730262092711737,null,null,null,"Dare County",null,null,null,null,null,null,null,null,null,null,null,null,null,3.12,null,null,null,null,null,null,null,null,null,null,{"$f":"950*0.1","v":95},null,null,null,null,null,null,null,null,null,null,null,null,null,null,null,null,null,null,null,null,null,null,null,null,null,null,null,null,null,385375,0,null,405375,0,810000]
["B141956","Camden","Albemarle RPO","Bike & Ped","Division Needs",null,"Dismal Swamp Trail","McPherson Road",null,"Construct a 10' wide trail running between US 17 and the historic Dismal Swamp. (Phase 1)","2. Construct multi-use trail / greenway / sidepath or on-road bike lane on local roadway",400000,null,null,null,null,null,null,14.580441313826976,7.5,null,"N/A",null,94562.647754137128,null,null,"Yes",null,null,null,null,10,0,15,10,"Yes",15,"Minimal",10,"Yes",0,"No",0,"No",null,null,50,null,null,null,null,null,null,null,null,"Albemarle RPO",null,null,null,null,null,null,null,null,null,null,null,null,60,null,null,null,null,14.580441313826976,22.080441313826974,null,null,null,"Camden County",null,null,null,null,null,null,null,null,null,null,null,null,null,0.47,null,null,null,null,null,null,null,null,null,null,{"$f":"90*0.1","v":9},null,null,null,null,null,null,null,null,null,null,null,null,null,null,null,null,null,null,null,null,null,null,null,null,null,null,null,null,null,380000,0,null,400000,0,400000]
["B141965","Camden","Albemarle RPO","Bike & Ped","Division Needs",null,"Dismal Swamp Trail",null,null,"Construct a 10' wide trail running between US 17 and the historic Dismal Swamp (Phase 2)","2. Construct multi-use trail / greenway / sidepath or on-road bike lane on local roadway",400000,null,null,null,null,null,null,14.551587373051026,7.5,null,"N/A",null,120809.42313500452,null,null,"Yes",null,null,null,null,10,0,15,10,"Yes",15,"Minimal",10,"Yes",0,"No",0,"No",null,null,50,null,null,null,null,null,null,null,null,"Albemarle RPO",null,null,null,null,null,null,null,null,null,null,null,null,60,null,null,null,null,14.551587373051026,22.051587373051028,null,null,null,"Camden County",null,null,null,null,null,null,null,null,null,null,null,null,null,0.43,null,null,null,null,null,null,null,null,null,null,{"$f":"77*0.1","v":7.7},null,null,null,null,null,null,null,null,null,null,null,null,null,null,null,null,null,null,null,null,null,null,null,null,null,null,null,null,null,380000,0,null,400000,0,400000]
["H090146","Pasquotank","Albemarle RPO","Highway","Statewide Mobility","R-2579","US-158 ","NC 32 in Sunbury in Gates County","US 17 at Morgan's County in Pasquotank County","Widen to Multi-Lanes.","1 - Widen Existing Roadway",116900000,10.169185073380103,null,9.8457510643364152,{"$f":"(V74+W74+Y74+Z74+AB74+AD74)","v":55},3.6,{"$f":"O74+P74+Q74","v":68.445751064336406},6.5632928241854991,5.25,null,{"$f":"IF(AU74<30,0,IF(AU74<50,5,IF(AU74<65,10,IF(AU74>66,15))))","v":5},{"$f":"IF(X74<499,15,IF(X74<999,10,IF(X74<1499,5,IF(X74>1500,0))))","v":0},1998.9636506206675,{"$f":"IF(DD74<500,0,IF(DD74<1000,5,IF(DD74>1000,10)))","v":0},{"$f":"IF(AA74=\"Yes\",20,0)","v":20},"Yes",{"$f":"IF(AC74=\"Yes\",10,0)","v":10},"Yes",{"$f":"IF(AE74=\"Yes\",20,0)","v":20},"Yes",5,10,15,10,"No",15,"Minimal",10,"Yes",0,"No",0,"No",16.037487030331597,1.6236561163387512E-2,49.579204650359998,1.8147225661842494,0.32203017658757549,44.018879968,0,0,null,null,null,"Albemarle RPO",100,"","","","","01",100,"","","","",{"$f":"SUM(V74+W74+Y74+Z74+AB74+AD74)","v":55},{"$f":"SUM(AF74+AG74+AH74+AI74+AK74+AM74+AO74+AQ74)","v":65},null,null,null,null,6.5632928241854991,null,"Exceeds cap of $15 million for Statewide & Regional Projects cascading to Division Needs",{"$f":"O74+BT74*0.25","v":9.8457510643364152},null,"Pasquotank",50.79,"Gates",49.21,"","","","",1,"A","01, , ","Albemarle RPO, , ","Pasquotank, Gates, , ",15.565360119999999,15.565360119999999,"Two Lane Highway","Multi-Lane Highway",1,2,"Undivided","Divided",55,55,9.6602817719101992,90.339718228089794,3757.079988,15509.470209999999,0.24224425058552662,3394.1354747631499,362.9445132368499,74923.879907980401,8011.8225466282393,82935.702454608647,1898054,55.621653420000001,44.958995770000001,48.171840009999997,"","",1,5.4406035317515099E-6,"No","No",12,12,"No",1,0,"2 Lane Undivided","4A - 4 Lane Divided (46' Depressed Median) with Paved Shoulders","None","Partial",2,"Yes",37,91500000,20000000,5400000,116900000,"",116900000,116900000,""]
["B141867","Chowan","Albemarle RPO","Bike & Ped","Division Needs",null,";;",";;",";;","Connect path where existing sidewalk stops near Twiddy Ave. and extend towards Pembroke to the west side of town, connecting  residential subdivisions and over the US 17 bypass overpass, terminating at the new Chowan River fishing pier. (Phase 1)","2. Construct multi-use trail / greenway / sidepath or on-road bike lane on local roadway",400000,null,null,null,null,null,null,9.2594271087650011,3.75,null,"N/A",null,1871.3051080641271,null,null,"Yes",null,null,null,null,0,10,15,{"$f":"IF(AJ75=\"Yes\",10,0)","v":10},"Yes",15,"Minimal",10,"Yes",0,"No",0,"No",null,null,12.5,null,null,null,null,null,null,null,null,"Albemarle RPO",null,null,null,null,null,null,null,null,null,null,null,null,{"$f":"SUM(AF75+AG75+AH75+AI75+AK75+AM75+AO75)","v":60},null,null,null,null,9.2594271087650011,{"$f":"BV75+T75","v":13.009427108765001},null,null,null,"Chowan County",null,null,null,null,null,null,null,null,null,null,null,null,null,0.96,null,null,null,null,null,null,null,null,null,null,{"$f":"2226.61*0.1","v":222.66100000000003},null,null,null,null,null,null,null,null,null,null,null,null,null,null,null,null,null,null,null,null,null,null,null,null,null,null,null,null,null,380000,0,null,400000,0,400000]
["H129070-AA","Tyrrell","Albemarle RPO","Highway","Statewide Mobility","R-2545AA","US-64 ","East of Columbia","West of SR 1229 (Old US 64) at Alligator River","Widen to Multi-Lanes.","1 - Widen Existing Roadway",20780000,5.3659988106159062,null,2.4071891913157408,{"$f":"(V76+W76+Y76+Z76+AB76+AD76)","v":55},6.3,{"$f":"O76+P76+Q76","v":63.707189191315734},1.6040208211594833,9,null,{"$f":"IF(AU76<30,0,IF(AU76<50,5,IF(AU76<65,10,IF(AU76>66,15))))","v":0},{"$f":"IF(X76<499,15,IF(X76<999,10,IF(X76<1499,5,IF(X76>1500,0))))","v":5},1402.7886202635034,{"$f":"IF(DD76<500,0,IF(DD76<1000,5,IF(DD76>1000,10)))","v":0},{"$f":"IF(AA76=\"Yes\",20,0)","v":20},"Yes",{"$f":"IF(AC76=\"Yes\",10,0)","v":10},"Yes",{"$f":"IF(AE76=\"Yes\",20,0)","v":20},"Yes",0,15,15,10,"No",15,"Minimal",10,"Yes",0,"No",0,"No",16.017049020064515,2.3159191530317612E-2,0,1.8563572953123741,1.8266488807498149,31.250646215000003,0,0,null,null,null,"Albemarle RPO",100,"","","","","01",100,"","","","",{"$f":"SUM(V76+W76+Y76+Z76+AB76+AD76)","v":55},{"$f":"SUM(AF76+AG76+AH76+AI76+AK76+AM76+AO76+AQ76)","v":65},null,null,null,null,1.6040208211594833,null,"Exceeds cap of $15 million for Statewide & Regional Projects cascading to Division Needs",{"$f":"O76+BT76*0.25","v":2.4071891913157408},null,"Tyrrell",100,"","","","","","",1,"A","01, , ","Albemarle RPO, , ","Tyrrell, , , ",3.95,3.95,"Two Lane Highway","Multi-Lane Highway",1,2,"Undivided","Divided",55,55,9.9000035722608004,90.0999964277392,3750.2154049999999,15500,0.24194938096774193,3378.9439459375253,371.27145906247483,18928.229631697483,2079.7952097663565,21008.024841463841,481248,0,0,0,"","",7,2.9532977614996302E-5,"No","No",12,12,"No",0,0,"2 Lane Undivided","4A - 4 Lane Divided (46' Depressed Median) with Paved Shoulders","None","Partial",1,"Yes",30,17800000,1730000,1250000,20780000,"",20780000,20780000,""]
["H129070-AB","Tyrrell","Albemarle RPO","Highway","Statewide Mobility","R-2545AB","US-64 ","West of SR 1229 (Old US 64) at Alligator River","West of Alligator River","Widen to Multi-Lanes.","1 - Widen Existing Roadway",44850000,5.2027678758907117,null,2.4071000419728881,{"$f":"(V77+W77+Y77+Z77+AB77+AD77)","v":55},6.3,{"$f":"O77+P77+Q77","v":63.707100041972886},1.6039762464880569,9,null,{"$f":"IF(AU77<30,0,IF(AU77<50,5,IF(AU77<65,10,IF(AU77>66,15))))","v":0},{"$f":"IF(X77<499,15,IF(X77<999,10,IF(X77<1499,5,IF(X77>1500,0))))","v":5},1430.3182031467043,{"$f":"IF(DD77<500,0,IF(DD77<1000,5,IF(DD77>1000,10)))","v":0},{"$f":"IF(AA77=\"Yes\",20,0)","v":20},"Yes",10,"Yes",{"$f":"IF(AE77=\"Yes\",20,0)","v":20},"Yes",0,15,15,10,"No",15,"Minimal",10,"Yes",0,"No",0,"No",16.017049020064515,2.2713444816053512E-2,0,1.8563572953123741,0.19567677364066899,31.250646215000003,0,0,null,null,null,"Albemarle RPO",100,"","","","","01",100,"","","","",{"$f":"SUM(V77+W77+Y77+Z77+AB77+AD77)","v":55},65,null,null,null,null,1.6039762464880569,null,"Exceeds cap of $15 million for Statewide & Regional Projects cascading to Division Needs",{"$f":"O77+BT77*0.25","v":2.4071000419728881},null,"Tyrrell",100,"","","","","","",1,"A","01, , ","Albemarle RPO, , ","Tyrrell, , , ",8.3612954199999994,8.3612954199999994,"Two Lane Highway","Multi-Lane Highway",1,2,"Undivided","Divided",55,55,9.9000035722608004,90.0999964277392,3750.2154049999999,15500,0.24194938096774193,3378.9439459375253,371.27145906247483,40066.96701980244,4402.4764966980465,44469.443516500483,1018698,0,0,0,"","",1,2.91353547281338E-6,"No","No",12,12,"No",0,0,"2 Lane Undivided","4A - 4 Lane Divided (46' Depressed Median) with Paved Shoulders","None","Partial",1,"Yes",30,41500000,1300000,2050000,44850000,"",44850000,44850000,""]
["H090376","Dare","Albemarle RPO","Highway","Regional Impact","U-2917","NC-12 ","Vicinity of SR 1206 in Kitty Hawk","","Roadway Improvements.","16 - Modernize Roadway",21318000,null,null,15.32,{"$f":"(V78+W78+Y78+Z78+AB78+AD78)","v":35},4.95,{"$f":"O78+P78+Q78","v":55.27},11.87,7.5,null,{"$f":"IF(AU78<30,0,IF(AU78<50,5,IF(AU78<65,10,IF(AU78>66,15))))","v":10},{"$f":"IF(X78<499,15,IF(X78<999,10,IF(X78<1499,5,IF(X78>1500,0))))","v":5},1416.5434087463095,{"$f":"IF(DD78<500,0,IF(DD78<1000,5,IF(DD78>1000,10)))","v":0},{"$f":"IF(AA78=\"Yes\",20,0)","v":20},"Yes",0,"No",{"$f":"IF(AE78=\"Yes\",20,0)","v":0},"No",10,{"$f":"IF(BM76<999,20,IF(BM76<1499,15,IF(BM76<1999,10,IF(BM76<3999,5,IF(BM76>4000,0)))))","v":0},15,10,"No",15,"Minimal",10,"Yes",0,"No",0,"No",15.607000817638772,0,53.139971694710994,0.88886058751024577,"N/A",2.4787958946666668,50,0,null,null,null,"Albemarle RPO",100,"","","","","01",100,"","","","",{"$f":"SUM(V78+W78+Y78+Z78+AB78+AD78)","v":35},60,null,null,null,null,11.87,null,"Exceeds cap of $15 million for Statewide & Regional Projects cascading to Division Needs",{"$f":"O78+BT78*0.25","v":15.32},null,"Dare",100,"","","","","","",1,"A","01, , ","Albemarle RPO, , ","Dare, , , ",4.04747843,4.04747843,"Arterial","Arterial",1,1,"Undivided","Undivided",35,35,4.7811417332246,95.218858266775399,3718.1938420000001,15800.000190000001,0.23532872134731284,3540.4217244979513,177.77211750204916,0,0,0,0,47.458223420000003,43.976591910000003,68.001043339999995,"","","","","No","No",10,12,"No",4,0,"2 Lane Undivided","","None","None",2,"No",19,21318000,0,0,21318000,"",21318000,21318000,""]
["A130009","Pasquotank","Albemarle RPO","Aviation","Division Needs",null,"Elizabeth City Coast Guard Air Station/Regional",null,null,"Install MALS/MALSF/MALSR",null,900000,null,null,null,null,null,null,12.05,13.5,null,"N/A",null,3176.8308782313661,null,null,"Yes",0,null,{"$f":"IF(AE79=\"Yes\",10,0)","v":0},null,0,{"$f":"IF(X79<999,20,IF(X79<1499,15,IF(X79<1999,10,IF(X79<3999,5,IF(X79>4000,0)))))","v":5},15,{"$f":"IF(AJ79=\"Yes\",10,0)","v":10},"Yes",15,"Minimal",10,"Yes",{"$f":"IF(AP79=\"Yes\",5,0)","v":5},"Yes",0,"No",null,null,null,null,null,null,null,null,null,null,null,"Albemarle RPO",null,null,null,null,null,null,null,null,null,null,null,null,60,null,null,null,null,null,null,null,null,null,"Pasquotank",null,null,null,null,null,null,null,null,null,null,null,null,null,0.86,null,null,null,null,null,null,null,null,null,null,164.71,null,null,null,null,null,null,null,null,null,null,null,null,null,null,null,null,null,null,null,null,null,null,null,null,null,null,null,null,null,null,null,null,1000000,null,450000]
["A130010","Pasquotank","Albemarle RPO","Aviation","Division Needs",null,"Elizabeth City Coast Guard Air Station/Regional",null,null,"Acquire Equipment Shelter",null,490500,null,null,null,null,null,null,7.11,13.5,null,"N/A",null,3462.7456572721894,null,null,"Yes",0,null,{"$f":"IF(AE80=\"Yes\",10,0)","v":0},null,0,5,15,10,"Yes",15,"Minimal",10,"Yes",{"$f":"IF(AP80=\"Yes\",5,0)","v":5},"Yes",0,"No",null,null,null,null,null,null,null,null,null,null,null,"Albemarle RPO",null,null,null,null,null,null,null,null,null,null,null,null,60,null,null,null,null,null,null,null,null,null,"Pasquotank",null,null,null,null,null,null,null,null,null,null,null,null,null,0.86,null,null,null,null,null,null,null,null,null,null,164.71,null,null,null,null,null,null,null,null,null,null,null,null,null,null,null,null,null,null,null,null,null,null,null,null,null,null,null,null,null,null,null,null,545000,null,490500]
["H141929","Perquimans","Albemarle RPO","Highway","Statewide Mobility","","US-17","US 17 Business (North) in Edenton (Broad Street)","SR 1100 / 1140 (Okisko Road)","Upgrade roadway to Interstate","2 - Upgrade Arterial to Freeway/Expressway",362296000,12.231591398447446,null,9.98,{"$f":"(V81+W81+Y81+Z81+AB81+AD81)","v":70},4.95,{"$f":"O81+P81+Q81","v":84.93},7.47,7.5,null,{"$f":"IF(AU81<30,0,IF(AU81<50,5,IF(AU81<65,10,IF(AU81>66,15))))","v":5},{"$f":"IF(X81<499,15,IF(X81<999,10,IF(X81<1499,5,IF(X81>1500,0))))","v":5},1471.2174057748716,{"$f":"IF(DD81<500,0,IF(DD81<1000,5,IF(DD81>1000,10)))","v":10},{"$f":"IF(AA81=\"Yes\",20,0)","v":20},"Yes",10,"Yes",{"$f":"IF(AE81=\"Yes\",20,0)","v":20},"Yes",5,15,15,0,"No",15,"Minimal",10,"Yes",{"$f":"IF(AP81=\"Yes\",10,0)","v":0},"No",0,"No",15.310184131456303,0.46260251838275884,33.909394688070002,6.3722125822879949,28.343734182311298,50.155493607634938,0,25,null,null,null,"Albemarle RPO",100,"","","","","01",100,"","","","",{"$f":"SUM(V81+W81+Y81+Z81+AB81+AD81)","v":70},60,null,null,100,null,{"$f":"S81+BU81*0.25","v":7.47},null,"Delay Prioritization pending outcome of Future Interstate Designation; Exceeds cap of $15 million for Statewide & Regional Projects cascading to Division Needs",{"$f":"O81+BT81*0.25","v":34.980000000000004},null,"Perquimans",89.76,"Chowan",8.6,"Pasquotank",1.63,"","",1,"A","01, , ","Albemarle RPO, , ","Perquimans, Chowan, Pasquotank, ",19.226261770000001,19.226261770000001,"Multi-Lane Highway","Freeway",2,2,"Divided","Divided",55.267216771237202,70,9.9501222739189998,90.049877726081007,12808.310102863101,75440.184645582907,0.16978100150518441,11533.867586405504,1274.4425164575989,6586938.0592921842,727828.18539802916,7314766.2446902134,167599042,27.89512178,40.943156899999998,32.900079220000002,"","",116.79099750996799,4.5008368613625799E-4,"No","No",12,12,"No",3,4,"4 Lane with Median - Partial Control","4A - 4 Lane Divided (46' Depressed Median) with Paved Shoulders","None","None",2,"Yes",28,248047000,102008000,12241000,362296000,"",362296000,362296000,""]
["H141931","Camden","Albemarle RPO","Highway","Statewide Mobility","","US-17","US 17/158 north of Elizabeth City (North Road Street)","Virginia State LIne","Upgrade roadway to Interstate","2 - Upgrade Arterial to Freeway/Expressway",66692000,11.444817563368547,null,9.1,75,4.95,89.05,6.84,7.5,null,0,15,380.94657353193423,10,{"$f":"IF(AA82=\"Yes\",20,0)","v":20},"Yes",10,"Yes",{"$f":"IF(AE82=\"Yes\",20,0)","v":20},"Yes",0,20,15,0,"No",15,"Minimal",10,"Yes",0,"No",0,"No",16.058654438177065,1.8246393120614166,25.536049133033998,6.3980551436151325,22.466134962705745,64.340570639189394,0,25,null,null,null,"Albemarle RPO",100,"","","","","01",100,"","","","",75,60,null,null,null,null,6.84,null,"Delay Prioritization pending outcome of Future Interstate Designation; Exceeds cap of $15 million for Statewide & Regional Projects cascading to Division Needs",9.1,null,"Camden",73.67,"Pasquotank",26.33,"","","","",1,"A","01, , ","Albemarle RPO, , ","Camden, Pasquotank, , ",13.01933756,13.01933756,"Multi-Lane Highway","Freeway",2,2,"Divided","Divided",55,70,9.5160604457086997,90.483939554291297,13446.856879729799,75544.764459042606,0.17799852810475245,12167.245851006774,1279.6110287230265,4814002.4068682343,506281.42535790673,5320283.8322261414,121688845,16.545985770000001,37.384043830000003,22.68577938,"","",86.358414733329894,3.6296428452078499E-4,"No","No",12,12,"No",3,4,"4 Lane with Median - Limited Control","4A - 4 Lane Divided (46' Depressed Median) with Paved Shoulders","Limited","Limited",1,"Yes",32,54160000,11189000,1343000,66692000,"",66692000,66692000,""]
["H090124-B","Dare","Peanut Belt RPO","Highway","Statewide Mobility","R-2544B","US-64 ","West of SR 1102 (East Lake Road)","East of Dare County Landfill","Widen to Multi-Lanes.","1 - Widen Existing Roadway",26450000,7.7762964530412519,null,7.4354279530602927,60,6.3,73.735427953060295,4.9569519687068624,9,null,5,5,1021.2769561031048,0,{"$f":"IF(AA83=\"Yes\",20,0)","v":20},"Yes",10,"Yes",{"$f":"IF(AE83=\"Yes\",20,0)","v":20},"Yes",5,15,15,0,"No",15,"Minimal",10,"Yes",0,"No",0,"No",12.646326065699627,0,36.923193621368995,1.4503963559723212,0,15.895993893333333,0,0,null,null,null,"Albemarle RPO",100,"","","","","01",100,"","","","",60,60,null,null,null,null,4.9569519687068624,null,"Exceeds cap of $15 million for Statewide & Regional Projects cascading to Division Needs",7.4354279530602927,null,"Dare",100,"","","","","","",1,"A","01, , ","Albemarle RPO, , ","Dare, , , ",8.7466968000000005,8.7466968000000005,"Two Lane Highway","Multi-Lane Highway",1,2,"Undivided","Divided",55,55,9.796673270458701,90.203326729541303,2960.9977100000001,15499.99951,0.19103211636166045,2670.918438805536,290.07927119446424,0,0,0,0,44.270671739999997,26.617315269999999,39.892671919999998,"","",0,0,"No","No",12,12,"No",0,0,"2 Lane Undivided","4A - 4 Lane Divided (46' Depressed Median) with Paved Shoulders","None","Partial",2,"Yes",24,23300000,2100000,1050000,26450000,"",26450000,26450000,""]
["H141880","Pasquotank","Albemarle RPO","Highway","Statewide Mobility","","US-17-BYP-Elizabeth City Bypass","SR 1100 / 1140 (Okisko Road)","US 17/158 north of Elizabeth City (North Road Street)","Upgrade freeway to interstate standards","17 - Upgrade Freeway to Interstate Standards",16554000,7.4401437540013751,null,5.1586118755402079,75,6.3,86.4586118755402,3.4390745836934724,9,null,0,15,146.45742390673294,10,{"$f":"IF(AA84=\"Yes\",20,0)","v":20},"Yes",10,"Yes",{"$f":"IF(AE84=\"Yes\",20,0)","v":20},"Yes",0,20,15,0,"No",15,"Minimal",10,"Yes",0,"No",0,"No",13.968030206078721,0,20.422715630856001,5.5853239091258402,0.90398347266990298,13.553747511552267,0,0,null,null,null,"Albemarle RPO",100,"","","","","01",100,"","","","",75,60,null,null,null,null,3.4390745836934724,null,"Delay Prioritization pending outcome of Future Interstate Designation; Exceeds cap of $15 million for Statewide & Regional Projects cascading to Division Needs",5.1586118755402079,null,"Pasquotank",100,"","","","","","",1,"A","01, , ","Albemarle RPO, , ","Pasquotank, , , ",9.97557267,9.97557267,"Freeway","Freeway",2,2,"Divided","Divided",68.723659978444402,68.723659978444402,9.858813170697001,90.141186829302995,11330.621267328401,72048.855909959806,0.1572630283191227,10213.556485503232,1117.064781825168,0,0,0,0,23.95659736,8.3349116199999997,28.98276534,"","",3.7328922246088601,1.43467772287892E-5,"No","No",12,12,"No",4,4,"4 Lane with Median - Full Control","","Full","Full",2,"No",23,16554000,0,0,16554000,"",16554000,16554000,""]
["H090055","Bertie","Peanut Belt RPO","Highway","Statewide Mobility","R-2205","US-13 ","NC 42 at Powellsville. in Bertie County","US 13 Bypass North of Ahoskie in Hertford County","Construct Multi-Lanes with Bypass of Ahoskie on New Location.","1 - Widen Existing Roadway",49575000,16.451595973936445,null,15.16,45,null,60.16,10.94,null,null,10,0,4708.3774991272439,0,{"$f":"IF(AA85=\"Yes\",15,0)","v":15},"Yes",10,"Yes",{"$f":"IF(AE85=\"Yes\",10,0)","v":10},"Yes",10,{"$f":"IF(BM83<999,20,IF(BM83<1499,15,IF(BM83<1999,10,IF(BM83<3999,5,IF(BM83>4000,0)))))","v":0},15,10,"Yes",15,"Minimal",10,"Yes",0,"No",0,"No",27.533278106761291,2.989666162380232E-2,56.820126272447993,12.360755065048751,0.28479903166367554,27.339840362,25,0,null,null,null,"Peanut Belt RPO",100,"","","","","01",100,"","","","",45,60,null,null,null,null,10.94,null,"Exceeds cap of $15 million for Statewide & Regional Projects cascading to Division Needs",15.16,null,"Bertie",51.94,"Hertford",48.06,"","","","",1,"A","01, , ","Peanut Belt RPO, , ","Bertie, Hertford, , ",1.6332768900000001,1.6332768900000001,"Two Lane Highway","Multi-Lane Highway",1,2,"Undivided","Divided",50,50,6.0899926560569,93.910007343943107,6446.6134540000003,15500,0.41591054541935485,6054.0151680870249,392.59828591297605,61700.390330254988,4001.2234543961185,65701.613784651112,1482127,71.632139179999996,31.628654959999999,67.216632419999996,"","",1,4.6959806332735103E-6,"Yes","No",11,12,"No",3,2,"2 Lane Undivided","4A - 4 Lane Divided (46' Depressed Median) with Paved Shoulders","None","Limited",1,"Yes",24,46000000,3575000,0,49575000,"",49575000,49575000,""]
["H090098","Bertie","Peanut Belt RPO","Highway","Statewide Mobility","R-2506","US-13 ","US 13 Business North of Windsor","NC 42","Widen to Multi-Lanes.","1 - Widen Existing Roadway",99400000,11.136523875976859,null,12.4,45,null,57.4,9.1,null,null,10,0,1765.7073314003956,0,{"$f":"IF(AA86=\"Yes\",15,0)","v":15},"Yes",10,"Yes",{"$f":"IF(AE86=\"Yes\",10,0)","v":10},"Yes",10,{"$f":"IF(BM84<999,20,IF(BM84<1499,15,IF(BM84<1999,10,IF(BM84<3999,5,IF(BM84>4000,0)))))","v":0},15,10,"Yes",15,"Minimal",10,"Yes",0,"No",0,"No",14.914047600427818,6.1686539235412473E-2,50.994178142192993,7.1730424362549918,1.097773326075915,20.499871621,25,0,null,null,null,"Peanut Belt RPO",100,"","","","","01",100,"","","","",45,60,null,null,null,null,9.1,null,"Exceeds cap of $15 million for Statewide & Regional Projects cascading to Division Needs",12.4,null,"Bertie",100,"","","","","","",1,"A","01, , ","Peanut Belt RPO, , ","Bertie, , , ",16.084402399999998,16.084402399999998,"Two Lane Highway","Multi-Lane Highway",1,2,"Undivided","Divided",49,50,8.8125771032800007,91.187422896719994,3499.9572069999999,15539.176170000001,0.22523441196046365,3191.5207795513193,308.43642744868021,245144.62958747204,23691.38068680216,268836.01027427422,6131642,54.538307000000003,43.544452530000001,54.915074679999996,"","",4,1.7955466521518299E-5,"Yes","No",11,12,"No",0,0,"2 Lane Undivided","4A - 4 Lane Divided (46' Depressed Median) with Paved Shoulders","None","Partial",1,"Yes",25,61000000,35800000,2600000,99400000,"",99400000,99400000,""]
["H090182","Martin","Mid-East RPO","Highway","Regional Impact","R-2700","NC-11 ","US 64 Relocation North of Bethel","NC 903","Widen to Four Lanes with a Bypass of Oak City on New Location.","6 - Widen Existing Roadway and Construct Part on New Location",120488000,null,null,7.5066214316192408,45,null,52.506621431619237,5.0029548834901352,null,null,5,0,2117.0917484054085,5,{"$f":"IF(AA87=\"Yes\",15,0)","v":15},"Yes",10,"Yes",{"$f":"IF(AE87=\"Yes\",10,0)","v":10},"Yes",5,{"$f":"IF(X87<999,20,IF(X87<1499,15,IF(X87<1999,10,IF(X87<3999,5,IF(X87>4000,0)))))","v":5},15,10,"Yes",15,"Minimal",10,"Yes",0,"No",{"$f":"IF(AR87=\"Yes\",10,0)","v":0},"No",16.498670475081592,4.3782127680764893E-2,33.487096232138995,3.4346861968498441,"N/A",23.602926140999998,0,0,null,null,null,"Mid-East RPO",86.92,"Upper Coastal Plain RPO",13.08,"","","01",86.92,"04",13.08,"","",45,60,null,null,null,null,5.0029548834901352,null,"Exceeds cap of $15 million for Statewide & Regional Projects cascading to Division Needs",7.5066214316192408,null,"Martin",86.92,"Edgecombe",13.08,"","","","",1,"A","01, 04, ","Mid-East RPO, Upper Coastal Plain RPO, ","Martin, Edgecombe, , ",14.7,14.714917890000001,"Two Lane Highway","Multi-Lane Highway",1,2,"Undivided","Divided",54,55,17.761137949743897,82.238862050256103,3867.6420469999998,15520.633970000001,0.24919356093802653,3180.7048076300312,686.93723936996878,183602.25972227845,39652.60439546586,223254.86411774432,5275221,43.679475170000003,30.094417199999999,26.697443459999999,"","","","","No","No",12,12,"No",3,0,"New Roadway","4A - 4 Lane Divided (46' Depressed Median) with Paved Shoulders","None","Partial",1,"Yes",26,113088000,6607000,793000,120488000,"",120488000,120488000,""]
["H090399","Chowan","Albemarle RPO","Highway","Regional Impact","U-3419","NC-94 Soundside Road","NC 32","US 17 Bypass","NC 32  to US 17 Bypass. Two Lanes  on New Location.","5 - Construct Roadway on New Location",24738000,null,null,12.13,30,3.6,45.730000000000004,9.75,5.25,null,0,0,1818.1844987799473,0,{"$f":"IF(AA88=\"Yes\",20,0)","v":20},"Yes",10,"Yes",{"$f":"IF(AE88=\"Yes\",20,0)","v":0},"no",0,10,15,10,"No",{"$f":"IF(AL88=\"Minimal\",15,0)","v":15},"Minimal",10,"Yes",0,"No",0,"No",20.802069229215935,0,26.713074408734997,1.0562003183467636,"N/A",24.906870215000001,0,50,null,null,null,"Albemarle RPO",100,"","","","","01",100,"","","","",30,60,null,null,null,null,9.75,null,"Exceeds cap of $15 million for Statewide & Regional Projects cascading to Division Needs",12.13,null,"Chowan",100,"","","","","","",1,"A","01, , ","Albemarle RPO, , ","Chowan, , , ",3.7,2.77282246,"Two Lane Highway","Arterial",1,1,"Undivided","Undivided",46,45,4.3049857529063003,95.695014247093695,4906.8702149999999,15627.53831,0.31398868572026556,4695.6301513306471,211.24006366935274,0,0,0,0,29.14122888,21.864780190000001,29.14122888,"","","","","No","No",12,12,"No",0,2,"New Roadway","2B - 2 Lane Undivided with Paved Shoulders, 25-45 mph","None","None",1,"No",30,24510000,204000,24000,24738000,"",24738000,24738000,""]
["H112082","Dare","Albemarle RPO","Highway","Division Needs","","SR-1208 W. Kitty Hawk Road","SR 1210 (Bob Perry Road)","Ivy Lane","Modernize Roadway with Wide Shoulders For Bicyclists","16 - Modernize Roadway",2736000,null,null,null,null,null,null,9.57,6.75,null,"N/A",null,{"$f":"(EI89/CZ89)/CO89","v":2827.9496762997946},null,null,"Yes",null,null,null,null,{"$f":"IF(AU89<30,0,IF(AU89<50,5,IF(AU89<65,10,IF(AU89<79,15,IF(AU89>80,20)))))","v":5},5,{"$f":"IF(AA89=\"Yes\",15,0)","v":15},10,"No",15,"Minimal",{"$f":"IF(AN89=\"Yes\",10,0)","v":10},"Yes",0,"No",0,"No",3.8196962025316457,0,41.863874847167999,0,"N/A","N/A",50,0,null,null,null,"Albemarle RPO",100,"","","","","01",100,"","","","",null,60,null,null,null,100,34.57,null,null,null,null,"Dare",100,"","","","","","",1,"A","01, , ","Albemarle RPO, , ","Dare, , , ",1.06317076,1.06317076,"Arterial","Arterial",1,1,"Undivided","Undivided",35,35,0,100,910,15800,5.7594936708860761E-2,910,0,0,0,0,0,31.412820159999999,47.095682400000001,47.095682400000001,"","","","","No","No",9,11,"No",0,0,"2 Lane Undivided","","None","None",2,"No",18,2736000,0,0,2736000,"",2736000,2736000,""]
["H090868","Gates","Albemarle RPO","Highway","Regional Impact","","NC-32 ","Chowan County","Virginia State Line","Widen to Multi-Lanes from Chowan County to Virginia Border","1 - Widen Existing Roadway",164732000,null,null,8.6051018168922653,{"$f":"(V90+W90+Y90+Z90+AB90+AD90)","v":55},3.6,{"$f":"O90+P90+Q90","v":67.205101816892267},5.7367345445948441,5.25,null,{"$f":"IF(AU90<30,0,IF(AU90<50,5,IF(AU90<65,10,IF(AU90>66,15))))","v":5},{"$f":"IF(X90<499,15,IF(X90<999,10,IF(X90<1499,5,IF(X90>1500,0))))","v":0},3736.084845243709,{"$f":"IF(DD90<500,0,IF(DD90<1000,5,IF(DD90>1000,10)))","v":0},{"$f":"IF(AA90=\"Yes\",20,0)","v":20},"Yes",{"$f":"IF(AC90=\"Yes\",10,0)","v":10},"Yes",{"$f":"IF(AE90=\"Yes\",20,0)","v":20},"Yes",5,5,15,10,"No",15,"Minimal",10,"Yes",0,"No",0,"No",11.331138193748444,0,46.036207252199993,1.1899936567631844,"N/A",43.959183177,0,0,null,null,null,"Albemarle RPO",100,"","","","","01",100,"","","","",{"$f":"SUM(V90+W90+Y90+Z90+AB90+AD90)","v":55},60,null,null,null,null,5.7367345445948441,null,"Exceeds cap of $15 million for Statewide & Regional Projects cascading to Division Needs",{"$f":"O90+BT90*0.25","v":8.6051018168922653},null,"Gates",100,"","","","","","",1,"A","01, , ","Albemarle RPO, , ","Gates, , , ",16.61934853,16.61934853,"Two Lane Highway","Multi-Lane Highway",1,2,"Undivided","Divided",55,55,8.9707219720884996,91.029278027911502,2653.0610590000001,15500.00001,0.17116522950247406,2415.0623276473634,237.99873135263687,0,0,0,0,52.038928579999997,41.030888079999997,45.052617339999998,"","","","","No","No",12,12,"No",0,0,"2 Lane Undivided","4A - 4 Lane Divided (46' Depressed Median) with Paved Shoulders","None","Partial",1,"Yes",38,106020000,52421000,6291000,164732000,"",164732000,164732000,""]
["H090145","Gates","Albemarle RPO","Highway","Statewide Mobility","R-2578","US-158 ","US 13","NC 32 in Sunbury","Widen to Multi-Lanes.","1 - Widen Existing Roadway",110400000,8.2154544470739186,null,8.1873220710655996,{"$f":"(V91+W91+Y91+Z91+AB91+AD91)","v":55},4.95,{"$f":"O91+P91+Q91","v":68.137322071065597},5.4582147140437334,7.5,null,{"$f":"IF(AU91<30,0,IF(AU91<50,5,IF(AU91<65,10,IF(AU91>66,15))))","v":5},{"$f":"IF(X91<499,15,IF(X91<999,10,IF(X91<1499,5,IF(X91>1500,0))))","v":0},2636.408006233883,{"$f":"IF(DD91<500,0,IF(DD91<1000,5,IF(DD91>1000,10)))","v":0},{"$f":"IF(AA91=\"Yes\",20,0)","v":20},"Yes",10,"Yes",{"$f":"IF(AE91=\"Yes\",20,0)","v":20},"Yes",5,5,15,10,"No",15,"Minimal",10,"Yes",0,"No",0,"No",11.950545640279334,0,42.631601500157998,1.8356530248715976,0,48.394265506000004,0,0,null,null,null,"Albemarle RPO",100,"","","","","01",100,"","","","",{"$f":"SUM(V91+W91+Y91+Z91+AB91+AD91)","v":55},60,null,null,null,null,5.4582147140437334,null,"Exceeds cap of $15 million for Statewide & Regional Projects cascading to Division Needs",{"$f":"O91+BT91*0.25","v":8.1873220710655996},null,"Gates",100,"","","","","","",1,"A","01, , ","Albemarle RPO, , ","Gates, , , ",14.96563003,14.96563003,"Two Lane Highway","Multi-Lane Highway",1,2,"Undivided","Divided",55,55,13.120764575956201,86.879235424043799,2798.0885020000001,15500.00013,0.18052183732465557,2430.9578970256807,367.13060497431951,0,0,0,0,42.384867309999997,36.449745309999997,49.072982639999999,"","",0,0,"No","No",12,12,"No",0,0,"2 Lane Undivided","4A - 4 Lane Divided (46' Depressed Median) with Paved Shoulders","None","Partial",1,"Yes",40,65000000,35500000,9900000,110400000,"",110400000,110400000,""]
["A130016","Dare","Albemarle RPO","Aviation","Division Needs",null,"Dare County Regional",null,null,"Land Acquisition-Runway Approach",null,428000,null,null,null,null,null,null,38.049999999999997,9.75,null,"N/A",null,11239.259679418501,null,{"$f":"IF(AA92=\"Yes\",15,0)","v":15},"Yes",0,null,{"$f":"IF(AE92=\"Yes\",10,0)","v":0},null,0,0,15,{"$f":"IF(AJ92=\"Yes\",10,0)","v":10},"Yes",15,"Minimal",10,"Yes",{"$f":"IF(AP92=\"Yes\",5,0)","v":5},"Yes",0,"No",null,null,null,null,null,null,null,null,null,null,null,"Albemarle RPO",null,null,null,null,null,null,null,null,null,null,null,null,55,null,null,null,null,null,null,null,null,null,"Dare",null,null,null,null,null,null,null,null,null,null,null,null,null,0.82,null,null,null,null,null,null,null,null,null,null,46.44,null,null,null,null,null,null,null,null,null,null,null,null,null,null,null,null,null,null,null,null,null,null,null,null,null,null,null,null,null,null,null,null,475555,null,428000]
["A130018","Dare","Albemarle RPO","Aviation","Division Needs",null,"Dare County Regional",null,null,"Land Acquisition-Runway Approach",null,454815,null,null,null,null,null,null,38.049999999999997,9.75,null,"N/A",null,11943.420306296088,null,{"$f":"IF(AA93=\"Yes\",15,0)","v":15},"Yes",0,null,{"$f":"IF(AE93=\"Yes\",10,0)","v":0},null,0,0,15,10,"Yes",15,"Minimal",10,"Yes",{"$f":"IF(AP93=\"Yes\",5,0)","v":5},"Yes",0,"No",null,null,null,null,null,null,null,null,null,null,null,"Albemarle RPO",null,null,null,null,null,null,null,null,null,null,null,null,55,null,null,null,null,null,null,null,null,null,"Dare",null,null,null,null,null,null,null,null,null,null,null,null,null,0.82,null,null,null,null,null,null,null,null,null,null,46.44,null,null,null,null,null,null,null,null,null,null,null,null,null,null,null,null,null,null,null,null,null,null,null,null,null,null,null,null,null,null,null,null,505350,null,454815]
["A130019","Dare","Albemarle RPO","Aviation","Division Needs",null,"Dare County Regional",null,null,"Land Acquisition-Runway Approach",null,3325500,null,null,null,null,null,null,38.049999999999997,9.75,null,"N/A",null,87327.47211193043,null,{"$f":"IF(AA94=\"Yes\",15,0)","v":15},"Yes",0,null,{"$f":"IF(AE94=\"Yes\",10,0)","v":0},null,0,0,15,10,"Yes",15,"Minimal",10,"Yes",{"$f":"IF(AP94=\"Yes\",5,0)","v":5},"Yes",0,"No",null,null,null,null,null,null,null,null,null,null,null,"Albemarle RPO",null,null,null,null,null,null,null,null,null,null,null,null,55,null,null,null,null,null,null,null,null,null,"Dare",null,null,null,null,null,null,null,null,null,null,null,null,null,0.82,null,null,null,null,null,null,null,null,null,null,46.44,null,null,null,null,null,null,null,null,null,null,null,null,null,null,null,null,null,null,null,null,null,null,null,null,null,null,null,null,null,null,null,null,3695000,null,3325500]
["A130028","Dare","Albemarle RPO","Aviation","Division Needs",null,"Dare County Regional",null,null,"Land Acquisition-Obstruction Removal",null,1152000,null,null,null,null,null,null,36.85,9.75,null,"N/A",null,30251.465305350732,null,{"$f":"IF(AA95=\"Yes\",15,0)","v":15},"Yes",0,null,{"$f":"IF(AE95=\"Yes\",10,0)","v":0},null,0,0,15,10,"Yes",15,"Minimal",10,"Yes",{"$f":"IF(AP95=\"Yes\",5,0)","v":5},"Yes",0,"No",null,null,null,null,null,null,null,null,null,null,null,"Albemarle RPO",null,null,null,null,null,null,null,null,null,null,null,null,55,null,null,null,null,null,null,null,null,null,"Dare",null,null,null,null,null,null,null,null,null,null,null,null,null,0.82,null,null,null,null,null,null,null,null,null,null,46.44,null,null,null,null,null,null,null,null,null,null,null,null,null,null,null,null,null,null,null,null,null,null,null,null,null,null,null,null,null,null,null,null,1280000,null,1152000]
["A130415","Hertford","Peanut Belt RPO","Aviation","Division Needs",null,"Tri-County",null,null,"Land Acquisition-Runway Approach",null,450000,null,null,null,null,null,null,35.35,null,null,"N/A",null,14750.954714569027,null,{"$f":"IF(AA96=\"Yes\",15,0)","v":15},"Yes",0,null,{"$f":"IF(AE96=\"Yes\",10,0)","v":0},null,0,0,15,10,"Yes",15,"Minimal",10,"Yes",{"$f":"IF(AP96=\"Yes\",5,0)","v":5},"Yes",0,"No",null,null,null,null,null,null,null,null,null,null,null,"Peanut Belt RPO",null,null,null,null,null,null,null,null,null,null,null,null,55,null,null,null,null,null,null,null,null,null,"Hertford",null,null,null,null,null,null,null,null,null,null,null,null,null,0.85,null,null,null,null,null,null,null,null,null,null,35.89,null,null,null,null,null,null,null,null,null,null,null,null,null,null,null,null,null,null,null,null,null,null,null,null,null,null,null,null,null,null,null,null,500000,null,450000]
["B142220","Chowan","Albemarle RPO","Bike & Ped","Division Needs",null,"North Broad Street","Church Street","Water Street","North Broad Street Bike Path","2. Construct multi-use trail / greenway / sidepath or on-road bike lane on local roadway",400000,null,null,null,null,null,null,21.145250000000001,9.75,null,"N/A",null,4205.3913116615495,null,null,"Yes",null,null,null,null,5,0,15,10,"Yes",15,"Minimal",10,"Yes",{"$f":"IF(AP97=\"Yes\",10,0)","v":0},"No",0,"No",null,null,32.5,null,null,null,null,null,null,null,null,"Albemarle RPO",null,null,null,null,null,null,null,null,null,null,null,null,{"$f":"SUM(AF97+AG97+AH97+AI97+AK97+AM97+AO97)","v":55},null,null,null,null,{"$f":"S97+BU97*0.25","v":21.145250000000001},{"$f":"BV97+T97","v":30.895250000000001},null,null,null,"Chowan County",null,null,null,null,null,null,null,null,null,null,null,null,null,0.28000000000000003,null,null,null,null,null,null,null,null,null,null,{"$f":"3397*0.1","v":339.70000000000005},null,null,null,null,null,null,null,null,null,null,null,null,null,null,null,null,null,null,null,null,null,null,null,null,null,null,null,null,null,380000,0,null,400000,0,400000]
["B141529","Dare","Albemarle RPO","Bike & Ped","Division Needs",null,"US 158","Atlantic","Baum","Construct Sidewalk","5. Construct Sidewalk",345000,null,null,null,null,null,null,21.058673913043478,9.75,null,"N/A",null,5058.8550026752273,null,null,"Yes",null,null,null,null,5,0,15,10,"Yes",15,"Minimal",10,"Yes",{"$f":"IF(AP98=\"Yes\",10,0)","v":0},"No",0,"No",null,null,45,null,null,null,null,null,null,null,null,"Albemarle RPO",null,null,null,null,null,null,null,null,null,null,null,null,{"$f":"SUM(AF98+AG98+AH98+AI98+AK98+AM98+AO98)","v":55},null,null,null,null,{"$f":"S98+BU98*0.25","v":21.058673913043478},{"$f":"BV98+T98","v":30.808673913043478},null,null,null,"Dare County",null,null,null,null,null,null,null,null,null,null,null,null,null,0.89,null,null,null,null,null,null,null,null,null,null,{"$f":"1512*0.1","v":151.20000000000002},null,null,null,null,null,null,null,null,null,null,null,null,null,null,null,null,null,null,null,null,null,null,null,null,null,null,null,null,null,300000,0,null,345000,0,680760]
["B141937","Currituck","Albemarle RPO","Bike & Ped","Division Needs",null,"Currituck Multiuse","Albacore St","Driftwood Way","Construct Mult-use Path","2. Construct multi-use trail / greenway / sidepath or on-road bike lane on local roadway",460000,null,null,null,null,null,null,16.10631928977989,13.5,null,"N/A",null,158402.20385674931,null,null,"Yes",null,null,null,null,5,0,15,10,"Yes",15,"Minimal",10,"Yes",{"$f":"IF(AP99=\"Yes\",10,0)","v":0},"No",0,"No",null,null,45,null,null,null,null,null,null,null,null,"Albemarle RPO",null,null,null,null,null,null,null,null,null,null,null,null,{"$f":"SUM(AF99+AG99+AH99+AI99+AK99+AM99+AO99)","v":55},null,null,null,null,{"$f":"S99+BU99*0.25","v":16.10631928977989},{"$f":"BV99+T99","v":29.60631928977989},null,null,null,"Currituck County",null,null,null,null,null,null,null,null,null,null,null,null,null,0.66,null,null,null,null,null,null,null,null,null,null,{"$f":"44*0.1","v":4.4000000000000004},null,null,null,null,null,null,null,null,null,null,null,null,null,null,null,null,null,null,null,null,null,null,null,null,null,null,null,null,null,400000,0,null,460000,0,460000]
["A130029","Dare","Albemarle RPO","Aviation","Division Needs",null,"Dare County Regional",null,null,"Design",null,1620000,null,null,null,null,null,null,35.229999999999997,9.75,null,"N/A",null,42541.123085649466,null,{"$f":"IF(AA100=\"Yes\",15,0)","v":15},"Yes",{"$f":"IF(AC100=\"Yes\",10,0)","v":0},null,{"$f":"IF(AE100=\"Yes\",10,0)","v":0},null,0,0,15,10,"Yes",15,"Minimal",10,"Yes",{"$f":"IF(AP100=\"Yes\",5,0)","v":5},"Yes",0,"No",null,null,null,null,null,null,null,null,null,null,null,"Albemarle RPO",null,null,null,null,null,null,null,null,null,null,null,null,{"$f":"SUM(AF100+AG100+AH100+AI100+AK100+AM100+AO100+AQ100)","v":55},null,null,null,null,null,null,null,null,null,"Dare",null,null,null,null,null,null,null,null,null,null,null,null,null,0.82,null,null,null,null,null,null,null,null,null,null,46.44,null,null,null,null,null,null,null,null,null,null,null,null,null,null,null,null,null,null,null,null,null,null,null,null,null,null,null,null,null,null,null,null,1800000,null,1620000]
["A130006","Pasquotank","Albemarle RPO","Aviation","Division Needs",null,"Elizabeth City Coast Guard Air Station/Regional",null,null,"Permitting/mitigation/preliminary",null,3659719,null,null,null,null,null,null,27.7,13.5,null,"N/A",null,25836.240721888931,null,null,"Yes",{"$f":"IF(AC101=\"Yes\",10,0)","v":0},null,{"$f":"IF(AE101=\"Yes\",10,0)","v":0},null,0,0,15,10,"Yes",15,"Minimal",10,"Yes",{"$f":"IF(AP101=\"Yes\",5,0)","v":5},"Yes",0,"No",null,null,null,null,null,null,null,null,null,null,null,"Albemarle RPO",null,null,null,null,null,null,null,null,null,null,null,null,{"$f":"SUM(AF101+AG101+AH101+AI101+AK101+AM101+AO101+AQ101)","v":55},null,null,null,100,{"$f":"S101+BU101*0.25","v":52.7},null,null,null,null,"Pasquotank",null,null,null,null,null,null,null,null,null,null,null,null,null,0.86,null,null,null,null,null,null,null,null,null,null,164.71,null,null,null,null,null,null,null,null,null,null,null,null,null,null,null,null,null,null,null,null,null,null,null,null,null,null,null,null,null,null,null,null,4066354,null,3659719]
["A130042","Washington","Albemarle RPO","Aviation","Division Needs",null,"Plymouth Municipal Airport",null,null,"Design",null,477000,null,null,null,null,null,null,26.37,6,null,"N/A",null,12610.773883801105,null,null,"Yes",{"$f":"IF(AC102=\"Yes\",10,0)","v":0},null,{"$f":"IF(AE102=\"Yes\",10,0)","v":0},null,0,0,15,10,"Yes",15,"Minimal",10,"Yes",{"$f":"IF(AP102=\"Yes\",5,0)","v":5},"Yes",0,"No",null,null,null,null,null,null,null,null,null,null,null,"Albemarle RPO",null,null,null,null,null,null,null,null,null,null,null,null,{"$f":"SUM(AF102+AG102+AH102+AI102+AK102+AM102+AO102+AQ102)","v":55},null,null,null,100,{"$f":"S102+BU102*0.25","v":51.370000000000005},null,null,null,null,"Washington",null,null,null,null,null,null,null,null,null,null,null,null,null,1.04,null,null,null,null,null,null,null,null,null,null,36.369999999999997,null,null,null,null,null,null,null,null,null,null,null,null,null,null,null,null,null,null,null,null,null,null,null,null,null,null,null,null,null,null,null,null,530000,null,477000]
["B141941","Currituck","Albemarle RPO","Bike & Ped","Division Needs",null,"Currituck Multi use","Comrmonrant Ct.","Harris Teeter","Construct Multi use path","2. Construct multi-use trail / greenway / sidepath or on-road bike lane on local roadway",460000,null,null,null,null,null,null,14.62143146722117,13.5,null,"N/A",null,130718.95424836602,null,null,"Yes",null,null,null,null,5,0,15,10,"Yes",15,"Minimal",10,"Yes",{"$f":"IF(AP103=\"Yes\",10,0)","v":0},"No",0,"No",null,null,35,null,null,null,null,null,null,null,null,"Albemarle RPO",null,null,null,null,null,null,null,null,null,null,null,null,{"$f":"SUM(AF103+AG103+AH103+AI103+AK103+AM103+AO103)","v":55},null,null,null,null,{"$f":"S103+BU103*0.25","v":14.62143146722117},{"$f":"BV103+T103","v":28.121431467221171},null,null,null,"Currituck County",null,null,null,null,null,null,null,null,null,null,null,null,null,0.69,null,null,null,null,null,null,null,null,null,null,{"$f":"51*0.1","v":5.1000000000000005},null,null,null,null,null,null,null,null,null,null,null,null,null,null,null,null,null,null,null,null,null,null,null,null,null,null,null,null,null,400000,0,null,460000,0,460000]
["A130032","Currituck","Albemarle RPO","Aviation","Division Needs",null,"Currituck County Regional",null,null,"Clearing/grading/Drainage/paving/marking/lighting/signage",null,2520000,null,null,null,null,null,null,26.33,0,null,"N/A",null,35378.55049024563,null,null,"Yes",{"$f":"IF(AC104=\"Yes\",10,0)","v":0},null,{"$f":"IF(AE104=\"Yes\",10,0)","v":0},null,0,0,15,10,"Yes",15,"Minimal",10,"Yes",{"$f":"IF(AP104=\"Yes\",5,0)","v":5},"Yes",0,"No",null,null,null,null,null,null,null,null,null,null,null,"Albemarle RPO",null,null,null,null,null,null,null,null,null,null,null,null,{"$f":"SUM(AF104+AG104+AH104+AI104+AK104+AM104+AO104+AQ104)","v":55},null,null,null,null,null,null,null,null,null,"Currituck",null,null,null,null,null,null,null,null,null,null,null,null,null,1.04,null,null,null,null,null,null,null,null,null,null,68.489999999999995,null,null,null,null,null,null,null,null,null,null,null,null,null,null,null,null,null,null,null,null,null,null,null,null,null,null,null,null,null,null,null,null,2800000,null,2520000]
["B141958","Currituck","Albemarle RPO","Bike & Ped","Division Needs",null,"Currituck Multi use","Harris Teeter","Sandbucket","Construct Multi use trail","2. Construct multi-use trail / greenway / sidepath or on-road bike lane on local roadway",460000,null,null,null,null,null,null,14.378002237428664,13.5,null,"N/A",null,161857.84658691063,null,null,"Yes",null,null,null,null,5,0,15,10,"Yes",15,"Minimal",10,"Yes",{"$f":"IF(AP105=\"Yes\",10,0)","v":0},"No",0,"No",null,null,35,null,null,null,null,null,null,null,null,"Albemarle RPO",null,null,null,null,null,null,null,null,null,null,null,null,{"$f":"SUM(AF105+AG105+AH105+AI105+AK105+AM105+AO105)","v":55},null,null,null,null,{"$f":"S105+BU105*0.25","v":14.378002237428664},{"$f":"BV105+T105","v":27.878002237428664},null,null,null,"Currituck County",null,null,null,null,null,null,null,null,null,null,null,null,null,0.57999999999999996,null,null,null,null,null,null,null,null,null,null,{"$f":"49*0.1","v":4.9000000000000004},null,null,null,null,null,null,null,null,null,null,null,null,null,null,null,null,null,null,null,null,null,null,null,null,null,null,null,null,null,400000,0,null,460000,0,460000]
["A130033","Currituck","Albemarle RPO","Aviation","Division Needs",null,"Currituck County Regional",null,null,"Design",null,1746000,null,null,null,null,null,null,25,13.5,null,"N/A",null,24512.281411098757,null,null,"Yes",{"$f":"IF(AC106=\"Yes\",10,0)","v":0},null,{"$f":"IF(AE106=\"Yes\",10,0)","v":0},null,0,0,15,10,"Yes",15,"Minimal",10,"Yes",{"$f":"IF(AP106=\"Yes\",5,0)","v":5},"Yes",0,"No",null,null,null,null,null,null,null,null,null,null,null,"Albemarle RPO",null,null,null,null,null,null,null,null,null,null,null,null,{"$f":"SUM(AF106+AG106+AH106+AI106+AK106+AM106+AO106+AQ106)","v":55},null,null,null,null,null,null,null,null,null,"Currituck",null,null,null,null,null,null,null,null,null,null,null,null,null,1.04,null,null,null,null,null,null,null,null,null,null,68.489999999999995,null,null,null,null,null,null,null,null,null,null,null,null,null,null,null,null,null,null,null,null,null,null,null,null,null,null,null,null,null,null,null,null,1940000,null,1746000]
["B141531","Camden","Albemarle RPO","Bike & Ped","Division Needs",null,"US 158","Atlantic","Eighth","Construct Sidewalk","5. Construct Sidewalk",410100,null,null,null,null,null,null,13.560226164350158,9.75,null,"N/A",null,5436.1832356162604,null,null,"Yes",null,null,null,null,5,0,15,10,"Yes",15,"Minimal",10,"Yes",{"$f":"IF(AP107=\"Yes\",10,0)","v":0},"No",0,"No",null,null,45,null,null,null,null,null,null,null,null,"Albemarle RPO",null,null,null,null,null,null,null,null,null,null,null,null,{"$f":"SUM(AF107+AG107+AH107+AI107+AK107+AM107+AO107)","v":55},null,null,null,null,{"$f":"S107+BU107*0.25","v":13.560226164350158},{"$f":"BV107+T107","v":23.310226164350158},null,null,null,"Dare County",null,null,null,null,null,null,null,null,null,null,null,null,null,0.68,null,null,null,null,null,null,null,null,null,null,{"$f":"1826*0.1","v":182.60000000000002},null,null,null,null,null,null,null,null,null,null,null,null,null,null,null,null,null,null,null,null,null,null,null,null,null,null,null,null,null,355100,0,null,410100,0,675000]
["B141346","Tyrrell","Albemarle RPO","Bike & Ped","Division Needs",null,"US 64","Etheridge Road","Ludington Drive","Apply brick pavers or brick stamping on the north side of the Scuppernong River bridge, paint the existing guardrail and erect an entry sign to the existing pedestrian promenade leading to Veterans Park","7. Construct Streetscape Improvements",160000,null,null,null,null,null,null,12.590571576383752,9.75,null,"N/A",null,3803.5049627791564,null,null,"Yes",null,null,null,null,0,5,15,10,"Yes",15,"Minimal",10,"Yes",{"$f":"IF(AP108=\"Yes\",10,0)","v":0},"No",0,"No",null,null,12.5,null,null,null,null,null,null,null,null,"Albemarle RPO",null,null,null,null,null,null,null,null,null,null,null,null,{"$f":"SUM(AF108+AG108+AH108+AI108+AK108+AM108+AO108)","v":55},null,null,null,0,{"$f":"S108+BU108*0.25","v":12.590571576383752},{"$f":"BV108+T108","v":22.340571576383752},null,null,null,"Tyrrell County",null,null,null,null,null,null,null,null,null,null,null,null,null,0.32,null,null,null,null,null,null,null,null,null,null,403,null,null,null,null,null,null,null,null,null,null,null,null,null,null,null,null,null,null,null,null,null,null,null,null,null,null,null,null,null,155000,0,null,160000,0,490500]
["B141764","Dare","Albemarle RPO","Bike & Ped","Division Needs",null,"Nags Head Multi Use Path","Grouse Street","Forbes Street","Construct Multi use path","2. Construct multi-use trail / greenway / sidepath or on-road bike lane on local roadway",335000,null,null,null,null,null,null,13.578235911783022,6.75,null,"N/A",null,41823.814655172406,null,null,"Yes",null,null,null,null,5,0,15,10,"Yes",15,"Minimal",10,"Yes",{"$f":"IF(AP109=\"Yes\",10,0)","v":0},"No",0,"No",null,null,35,null,null,null,null,null,null,null,null,"Albemarle RPO",null,null,null,null,null,null,null,null,null,null,null,null,{"$f":"SUM(AF109+AG109+AH109+AI109+AK109+AM109+AO109)","v":55},null,null,null,null,{"$f":"S109+BU109*0.25","v":13.578235911783022},{"$f":"BV109+T109","v":20.328235911783022},null,null,null,"Dare County",null,null,null,null,null,null,null,null,null,null,null,null,null,0.32,null,null,null,null,null,null,null,null,null,null,{"$f":"232*0.1","v":23.200000000000003},null,null,null,null,null,null,null,null,null,null,null,null,null,null,null,null,null,null,null,null,null,null,null,null,null,null,null,null,null,290000,0,null,335000,0,310500]
["A130030","Dare","Albemarle RPO","Aviation","Division Needs",null,"Dare County Regional",null,null,"Runway Overlay",null,3060000,null,null,null,null,null,null,15.85,9.75,null,"N/A",null,80355.454717337881,null,null,"Yes",{"$f":"IF(AC110=\"Yes\",10,0)","v":0},null,{"$f":"IF(AE110=\"Yes\",10,0)","v":0},null,0,0,15,10,"Yes",15,"Minimal",10,"Yes",{"$f":"IF(AP110=\"Yes\",5,0)","v":5},"Yes",0,"No",null,null,null,null,null,null,null,null,null,null,null,"Albemarle RPO",null,null,null,null,null,null,null,null,null,null,null,null,{"$f":"SUM(AF110+AG110+AH110+AI110+AK110+AM110+AO110+AQ110)","v":55},null,null,null,null,null,null,null,null,null,"Dare",null,null,null,null,null,null,null,null,null,null,null,null,null,0.82,null,null,null,null,null,null,null,null,null,null,46.44,null,null,null,null,null,null,null,null,null,null,null,null,null,null,null,null,null,null,null,null,null,null,null,null,null,null,null,null,null,null,null,null,3400000,null,3060000]
["A130031","Currituck","Albemarle RPO","Aviation","Division Needs",null,"Currituck County Regional",null,null,"Land Acquisition-Runway Approach",null,19350000,null,null,null,null,null,null,15.64,15,null,"N/A",null,271656.7269786718,null,null,"Yes",{"$f":"IF(AC111=\"Yes\",10,0)","v":0},null,{"$f":"IF(AE111=\"Yes\",10,0)","v":0},null,0,0,15,10,"Yes",15,"Minimal",10,"Yes",{"$f":"IF(AP111=\"Yes\",5,0)","v":5},"Yes",0,"No",null,null,null,null,null,null,null,null,null,null,null,"Albemarle RPO",null,null,null,null,null,null,null,null,null,null,null,null,{"$f":"SUM(AF111+AG111+AH111+AI111+AK111+AM111+AO111+AQ111)","v":55},null,null,null,null,null,null,null,null,null,"Currituck",null,null,null,null,null,null,null,null,null,null,null,null,null,1.04,null,null,null,null,null,null,null,null,null,null,68.489999999999995,null,null,null,null,null,null,null,null,null,null,null,null,null,null,null,null,null,null,null,null,null,null,null,null,null,null,null,null,null,null,null,null,21500000,null,19350000]
["B141363","Dare","Albemarle RPO","Bike & Ped","Division Needs",null,"US 158","Cypress Knee Lane","Bennett Street","Construct 6000' of sidewalk on west side of US 158","5. Construct Sidewalk",282000,null,null,null,null,null,null,10.244104110930639,9.75,null,"N/A",null,9170.2063106796122,null,null,"Yes",null,null,null,null,5,0,15,10,"Yes",15,"Minimal",10,"Yes",{"$f":"IF(AP112=\"Yes\",10,0)","v":0},"No",0,"No",null,null,35,null,null,null,null,null,null,null,null,"Albemarle RPO",null,null,null,null,null,null,null,null,null,null,null,null,{"$f":"SUM(AF112+AG112+AH112+AI112+AK112+AM112+AO112)","v":55},null,null,null,null,{"$f":"S112+BU112*0.25","v":10.244104110930639},{"$f":"BV112+T112","v":19.994104110930639},null,null,null,"Dare County",null,null,null,null,null,null,null,null,null,null,null,null,null,2.06,null,null,null,null,null,null,null,null,null,null,{"$f":"960*0.1","v":96},null,null,null,null,null,null,null,null,null,null,null,null,null,null,null,null,null,null,null,null,null,null,null,null,null,null,null,null,null,272000,0,null,282000,0,1813500]
["A130046","Washington","Albemarle RPO","Aviation","Division Needs",null,"Plymouth Municipal Airport",null,null,"Land Acquisition-Obstruction Removal",null,315000,null,null,null,null,null,null,14.65,6,null,"N/A",null,9755.5043252046289,null,null,"Yes",{"$f":"IF(AC113=\"Yes\",10,0)","v":0},null,{"$f":"IF(AE113=\"Yes\",10,0)","v":0},null,0,0,15,10,"Yes",15,"Minimal",10,"Yes",{"$f":"IF(AP113=\"Yes\",5,0)","v":5},"Yes",0,"No",null,null,null,null,null,null,null,null,null,null,null,"Albemarle RPO",null,null,null,null,null,null,null,null,null,null,null,null,{"$f":"SUM(AF113+AG113+AH113+AI113+AK113+AM113+AO113+AQ113)","v":55},null,null,null,null,null,null,null,null,null,"Washington",null,null,null,null,null,null,null,null,null,null,null,null,null,1.04,null,null,null,null,null,null,null,null,null,null,36.369999999999997,null,null,null,null,null,null,null,null,null,null,null,null,null,null,null,null,null,null,null,null,null,null,null,null,null,null,null,null,null,null,null,null,350000,null,369000]
["A130416","Hertford","Peanut Belt RPO","Aviation","Division Needs",null,"Tri-County",null,null,"Design",null,559913,null,null,null,null,null,null,14.48,null,null,"N/A",null,18353.891793552193,null,null,"Yes",{"$f":"IF(AC114=\"Yes\",10,0)","v":0},null,{"$f":"IF(AE114=\"Yes\",10,0)","v":0},null,0,0,15,10,"Yes",15,"Minimal",10,"Yes",{"$f":"IF(AP114=\"Yes\",5,0)","v":5},"Yes",0,"No",null,null,null,null,null,null,null,null,null,null,null,"Peanut Belt RPO",null,null,null,null,null,null,null,null,null,null,null,null,{"$f":"SUM(AF114+AG114+AH114+AI114+AK114+AM114+AO114+AQ114)","v":55},null,null,null,null,null,null,null,null,null,"Hertford",null,null,null,null,null,null,null,null,null,null,null,null,null,0.85,null,null,null,null,null,null,null,null,null,null,35.89,null,null,null,null,null,null,null,null,null,null,null,null,null,null,null,null,null,null,null,null,null,null,null,null,null,null,null,null,null,null,null,null,622125,null,559913]
["A130005","Hyde","Albemarle RPO","Aviation","Division Needs",null,"Hyde County",null,null,"Design",null,328275,null,null,null,null,null,null,14.08,6.75,null,"N/A",null,33229.577892499241,null,null,"Yes",{"$f":"IF(AC115=\"Yes\",10,0)","v":0},null,{"$f":"IF(AE115=\"Yes\",10,0)","v":0},null,0,0,15,10,"Yes",15,"Minimal",10,"Yes",{"$f":"IF(AP115=\"Yes\",5,0)","v":5},"Yes",0,"No",null,null,null,null,null,null,null,null,null,null,null,"Albemarle RPO",null,null,null,null,null,null,null,null,null,null,null,null,{"$f":"SUM(AF115+AG115+AH115+AI115+AK115+AM115+AO115+AQ115)","v":55},null,null,null,null,null,null,null,null,null,"Hyde",null,null,null,null,null,null,null,null,null,null,null,null,null,0.89,null,null,null,null,null,null,null,null,null,null,11.1,null,null,null,null,null,null,null,null,null,null,null,null,null,null,null,null,null,null,null,null,null,null,null,null,null,null,null,null,null,null,null,null,364750,null,328275]
["A130043","Washington","Albemarle RPO","Aviation","Division Needs",null,"Plymouth Municipal Airport",null,null,"Design",null,666000,null,null,null,null,null,null,11.07,6,null,"N/A",null,17607.495611344937,null,null,"Yes",{"$f":"IF(AC116=\"Yes\",10,0)","v":0},null,{"$f":"IF(AE116=\"Yes\",10,0)","v":0},null,0,0,15,10,"Yes",15,"Minimal",10,"Yes",{"$f":"IF(AP116=\"Yes\",5,0)","v":5},"Yes",0,"No",null,null,null,null,null,null,null,null,null,null,null,"Albemarle RPO",null,null,null,null,null,null,null,null,null,null,null,null,{"$f":"SUM(AF116+AG116+AH116+AI116+AK116+AM116+AO116+AQ116)","v":55},null,null,null,null,null,null,null,null,null,"Washington",null,null,null,null,null,null,null,null,null,null,null,null,null,1.04,null,null,null,null,null,null,null,null,null,null,36.369999999999997,null,null,null,null,null,null,null,null,null,null,null,null,null,null,null,null,null,null,null,null,null,null,null,null,null,null,null,null,null,null,null,null,740000,null,666000]
["A130035","Currituck","Albemarle RPO","Aviation","Division Needs",null,"Currituck County Regional",null,null,"Install MALS/MALSF/MALSR",null,450000,null,null,null,null,null,null,10.42,13.5,null,"N/A",null,6317.5983018295765,null,null,"Yes",{"$f":"IF(AC117=\"Yes\",10,0)","v":0},null,{"$f":"IF(AE117=\"Yes\",10,0)","v":0},null,0,0,15,10,"Yes",15,"Minimal",10,"Yes",{"$f":"IF(AP117=\"Yes\",5,0)","v":5},"Yes",0,"No",null,null,null,null,null,null,null,null,null,null,null,"Albemarle RPO",null,null,null,null,null,null,null,null,null,null,null,null,{"$f":"SUM(AF117+AG117+AH117+AI117+AK117+AM117+AO117+AQ117)","v":55},null,null,null,null,null,null,null,null,null,"Currituck",null,null,null,null,null,null,null,null,null,null,null,null,null,1.04,null,null,null,null,null,null,null,null,null,null,68.489999999999995,null,null,null,null,null,null,null,null,null,null,null,null,null,null,null,null,null,null,null,null,null,null,null,null,null,null,null,null,null,null,null,null,500000,null,450000]
["B141353","Pasquotank","Albemarle RPO","Bike & Ped","Division Needs",null,"River Road","Weeksville Road - NC-344  ","Ehringhaus Street","Construct multi-use path and pedestrian crosswalks to connect Middle School and subdivisions","2. Construct multi-use trail / greenway / sidepath or on-road bike lane on local roadway",420000,null,null,null,null,null,null,8.4542459855749996,8.25,null,"N/A",null,2004.7520047520045,null,null,"Yes",null,null,null,null,0,5,15,10,"Yes",15,"Minimal",10,"Yes",{"$f":"IF(AP118=\"Yes\",10,0)","v":0},"No",0,"No",null,null,12.5,null,null,null,null,null,null,null,null,"Albemarle RPO",null,null,null,null,null,null,null,null,null,null,null,null,{"$f":"SUM(AF118+AG118+AH118+AI118+AK118+AM118+AO118)","v":55},null,null,null,null,{"$f":"S118+BU118*0.25","v":8.4542459855749996},{"$f":"BV118+T118","v":16.704245985575},null,null,null,"Pasquotank County",null,null,null,null,null,null,null,null,null,null,null,null,null,1.1200000000000001,null,null,null,null,null,null,null,null,null,null,481,null,null,null,null,null,null,null,null,null,null,null,null,null,null,null,null,null,null,null,null,null,null,null,null,null,null,null,null,null,400000,300000,null,720000,0,1080000]
["A130376","Martin","Mid-East RPO","Aviation","Division Needs",null,"Martin County ",null,null,"Land Acquisition",null,459000,null,null,null,null,null,null,10.199999999999999,null,null,"N/A",null,39185.555128697662,null,null,"Yes",{"$f":"IF(AC119=\"Yes\",10,0)","v":0},null,{"$f":"IF(AE119=\"Yes\",10,0)","v":0},null,0,{"$f":"IF(X119<999,20,IF(X119<1499,15,IF(X119<1999,10,IF(X119<3999,5,IF(X119>4000,0)))))","v":0},15,10,"Yes",15,"Minimal",10,"Yes",{"$f":"IF(AP119=\"Yes\",5,0)","v":5},"Yes",{"$f":"IF(AR119=\"Yes\",10,0)","v":0},"No",null,null,null,null,null,null,null,null,null,null,null,"Mid-East RPO",null,null,null,null,null,null,null,null,null,null,null,null,{"$f":"SUM(AF119+AG119+AH119+AI119+AK119+AM119+AO119+AQ119)","v":55},null,null,null,null,null,null,null,null,null,"Martin",null,null,null,null,null,null,null,null,null,null,null,null,null,0.95,null,null,null,null,null,null,null,null,null,null,12.33,null,null,null,null,null,null,null,null,null,null,null,null,null,null,null,null,null,null,null,null,null,null,null,null,null,null,null,null,null,null,null,null,510000,null,459000]
["A130024","Dare","Albemarle RPO","Aviation","Division Needs",null,"Dare County Regional",null,null,"Construct/expand or repair",null,499500,null,null,null,null,null,null,9.1300000000000008,9.75,null,"N/A",null,13116.846284741918,null,null,"Yes",0,null,0,null,0,0,15,10,"Yes",{"$f":"IF(AL120=\"Minimal\",15,0)","v":15},"Minimal",10,"Yes",5,"Yes",0,"No",null,null,null,null,null,null,null,null,null,null,null,"Albemarle RPO",null,null,null,null,null,null,null,null,null,null,null,null,55,null,null,null,null,null,null,null,null,null,"Dare",null,null,null,null,null,null,null,null,null,null,null,null,null,0.82,null,null,null,null,null,null,null,null,null,null,46.44,null,null,null,null,null,null,null,null,null,null,null,null,null,null,null,null,null,null,null,null,null,null,null,null,null,null,null,null,null,null,null,null,555000,null,499500]
["A130015","Chowan","Albemarle RPO","Aviation","Division Needs",null,"Northeastern Regional",null,null,"Reconstruct/Rehabilitate/Overlay",null,801000,null,null,null,null,null,null,9.06,8.25,null,"N/A",null,{"$f":"(EI121/CZ121)/CO121","v":18316.777344821909},null,null,"Yes",0,null,0,null,{"$f":"IF(AU121<30,0,IF(AU121<50,5,IF(AU121<65,10,IF(AU121<79,15,IF(AU121>80,20)))))","v":0},0,{"$f":"IF(AA121=\"Yes\",15,0)","v":15},10,"Yes",15,"Minimal",{"$f":"IF(AN121=\"Yes\",10,0)","v":10},"Yes",5,"Yes",0,"No",null,null,null,null,null,null,null,null,null,null,null,"Albemarle RPO",null,null,null,null,null,null,null,null,null,null,null,null,55,null,null,null,null,null,null,null,null,null,"Chowan",null,null,null,null,null,null,null,null,null,null,null,null,null,1.1399999999999999,null,null,null,null,null,null,null,null,null,null,38.36,null,null,null,null,null,null,null,null,null,null,null,null,null,null,null,null,null,null,null,null,null,null,null,null,null,null,null,null,null,null,null,null,890000,null,801000]
["A130020","Dare","Albemarle RPO","Aviation","Division Needs",null,"Dare County Regional",null,null,"Design",null,810000,null,null,null,null,null,null,8.7799999999999994,9.75,null,"N/A",null,21270.561542824733,null,null,"Yes",0,null,0,null,0,0,15,10,"Yes",15,"Minimal",10,"Yes",5,"Yes",0,"No",null,null,null,null,null,null,null,null,null,null,null,"Albemarle RPO",null,null,null,null,null,null,null,null,null,null,null,null,55,null,null,null,null,null,null,null,null,null,"Dare",null,null,null,null,null,null,null,null,null,null,null,null,null,0.82,null,null,null,null,null,null,null,null,null,null,46.44,null,null,null,null,null,null,null,null,null,null,null,null,null,null,null,null,null,null,null,null,null,null,null,null,null,null,null,null,null,null,null,null,900000,null,810000]
["A130021","Dare","Albemarle RPO","Aviation","Division Needs",null,"Dare County Regional",null,null,"Clearing/grading/Drainage/paving/marking/lighting/signage",null,189000,null,null,null,null,null,null,8.74,9.75,null,"N/A",null,4963.1310266591045,null,null,"Yes",0,null,0,null,0,0,15,10,"Yes",15,"Minimal",10,"Yes",5,"Yes",0,"No",null,null,null,null,null,null,null,null,null,null,null,"Albemarle RPO",null,null,null,null,null,null,null,null,null,null,null,null,55,null,null,null,null,null,null,null,null,null,"Dare",null,null,null,null,null,null,null,null,null,null,null,null,null,0.82,null,null,null,null,null,null,null,null,null,null,46.44,null,null,null,null,null,null,null,null,null,null,null,null,null,null,null,null,null,null,null,null,null,null,null,null,null,null,null,null,null,null,null,null,210000,null,189000]
["A130023","Dare","Albemarle RPO","Aviation","Division Needs",null,"Dare County Regional",null,null,"Install Taxiway edge lighting",null,405000,null,null,null,null,null,null,8.1999999999999993,9.75,null,"N/A",null,10635.280771412366,null,null,"Yes",0,null,0,null,0,0,15,{"$f":"IF(AJ124=\"Yes\",10,0)","v":10},"Yes",15,"Minimal",10,"Yes",5,"Yes",0,"No",null,null,null,null,null,null,null,null,null,null,null,"Albemarle RPO",null,null,null,null,null,null,null,null,null,null,null,null,55,null,null,null,null,null,null,null,null,null,"Dare",null,null,null,null,null,null,null,null,null,null,null,null,null,0.82,null,null,null,null,null,null,null,null,null,null,46.44,null,null,null,null,null,null,null,null,null,null,null,null,null,null,null,null,null,null,null,null,null,null,null,null,null,null,null,null,null,null,null,null,450000,null,405000]
["A130041","Currituck","Albemarle RPO","Aviation","Division Needs",null,"Currituck County Regional",null,null,"Runway Overlay",null,3105000,null,null,null,null,null,null,8.17,13.5,null,"N/A",null,43591.428282624081,null,null,"Yes",0,null,0,null,0,0,15,10,"Yes",15,"Minimal",10,"Yes",5,"Yes",0,"No",null,null,null,null,null,null,null,null,null,null,null,"Albemarle RPO",null,null,null,null,null,null,null,null,null,null,null,null,55,null,null,null,null,null,null,null,null,null,"Currituck",null,null,null,null,null,null,null,null,null,null,null,null,null,1.04,null,null,null,null,null,null,null,null,null,null,68.489999999999995,null,null,null,null,null,null,null,null,null,null,null,null,null,null,null,null,null,null,null,null,null,null,null,null,null,null,null,null,null,null,null,null,3450000,null,3105000]
["A130017","Dare","Albemarle RPO","Aviation","Division Needs",null,"Dare County Regional",null,null,"Land Acquisition - Runway Approach",null,1980000,null,null,null,null,null,null,8.0500000000000007,9.75,null,"N/A",null,51994.705993571573,null,null,"Yes",0,null,0,null,0,0,15,10,"Yes",15,"Minimal",10,"Yes",5,"Yes",0,"No",null,null,null,null,null,null,null,null,null,null,null,"Albemarle RPO",null,null,null,null,null,null,null,null,null,null,null,null,55,null,null,null,null,null,null,null,null,null,"Dare",null,null,null,null,null,null,null,null,null,null,null,null,null,0.82,null,null,null,null,null,null,null,null,null,null,46.44,null,null,null,null,null,null,null,null,null,null,null,null,null,null,null,null,null,null,null,null,null,null,null,null,null,null,null,null,null,null,null,null,2200000,null,1980000]
["A130012","Chowan","Albemarle RPO","Aviation","Division Needs",null,"Northeastern Regional",null,null,"Design",null,420368,null,null,null,null,null,null,8.0399999999999991,8.25,null,"N/A",null,9612.7179262023674,null,null,"Yes",0,null,0,null,0,0,15,10,"Yes",15,"Minimal",10,"Yes",5,"Yes",0,"No",null,null,null,null,null,null,null,null,null,null,null,"Albemarle RPO",null,null,null,null,null,null,null,null,null,null,null,null,55,null,null,null,null,null,null,null,null,null,"Chowan",null,null,null,null,null,null,null,null,null,null,null,null,null,1.1399999999999999,null,null,null,null,null,null,null,null,null,null,38.36,null,null,null,null,null,null,null,null,null,null,null,null,null,null,null,null,null,null,null,null,null,null,null,null,null,null,null,null,null,null,null,null,467075,null,420368]
["A130022","Dare","Albemarle RPO","Aviation","Division Needs",null,"Dare County Regional",null,null,"Upgrade Existing Terminal Bldg.",null,675000,null,null,null,null,null,null,7.97,9.75,null,"N/A",null,17725.467952353945,null,null,"Yes",0,null,0,null,0,0,15,10,"Yes",15,"Minimal",10,"Yes",5,"Yes",0,"No",null,null,null,null,null,null,null,null,null,null,null,"Albemarle RPO",null,null,null,null,null,null,null,null,null,null,null,null,55,null,null,null,null,null,null,null,null,null,"Dare",null,null,null,null,null,null,null,null,null,null,null,null,null,0.82,null,null,null,null,null,null,null,null,null,null,46.44,null,null,null,null,null,null,null,null,null,null,null,null,null,null,null,null,null,null,null,null,null,null,null,null,null,null,null,null,null,null,null,null,750000,null,675000]
["A130002","Hyde","Albemarle RPO","Aviation","Division Needs",null,"Hyde County",null,null,"Upgrade Existing Terminal Bldg.",null,675000,null,null,null,null,null,null,7.95,6.75,null,"N/A",null,68326.753720012144,null,null,"Yes",0,null,0,null,0,0,15,10,"Yes",15,"Minimal",10,"Yes",5,"Yes",0,"No",null,null,null,null,null,null,null,null,null,null,null,"Albemarle RPO",null,null,null,null,null,null,null,null,null,null,null,null,55,null,null,null,null,null,null,null,null,null,"Hyde",null,null,null,null,null,null,null,null,null,null,null,null,null,0.89,null,null,null,null,null,null,null,null,null,null,11.1,null,null,null,null,null,null,null,null,null,null,null,null,null,null,null,null,null,null,null,null,null,null,null,null,null,null,null,null,null,null,null,null,750000,null,675000]
["A130027","Dare","Albemarle RPO","Aviation","Division Needs",null,"Dare County Regional",null,null,"Relocate TVOR",null,382500,null,null,null,null,null,null,7.87,9.75,null,"N/A",null,10044.431839667235,null,null,"Yes",0,null,0,null,0,0,15,10,"Yes",15,"Minimal",10,"Yes",5,"Yes",0,"No",null,null,null,null,null,null,null,null,null,null,null,"Albemarle RPO",null,null,null,null,null,null,null,null,null,null,null,null,55,null,null,null,null,null,null,null,null,null,"Dare",null,null,null,null,null,null,null,null,null,null,null,null,null,0.82,null,null,null,null,null,null,null,null,null,null,46.44,null,null,null,null,null,null,null,null,null,null,null,null,null,null,null,null,null,null,null,null,null,null,null,null,null,null,null,null,null,null,null,null,425000,null,382500]
["A130040","Currituck","Albemarle RPO","Aviation","Division Needs",null,"Currituck County Regional",null,null,"Environmental Assessment",null,2475000,null,null,null,null,null,null,7.86,13.5,null,"N/A",null,34746.790660062674,null,null,"Yes",0,null,0,null,0,0,15,10,"Yes",15,"Minimal",10,"Yes",5,"Yes",0,"No",null,null,null,null,null,null,null,null,null,null,null,"Albemarle RPO",null,null,null,null,null,null,null,null,null,null,null,null,55,null,null,null,null,null,null,null,null,null,"Currituck",null,null,null,null,null,null,null,null,null,null,null,null,null,1.04,null,null,null,null,null,null,null,null,null,null,68.489999999999995,null,null,null,null,null,null,null,null,null,null,null,null,null,null,null,null,null,null,null,null,null,null,null,null,null,null,null,null,null,null,null,null,2750000,null,2475000]
["A130026","Dare","Albemarle RPO","Aviation","Division Needs",null,"Dare County Regional",null,null,"Hangers and Economic Development",null,270000,null,null,null,null,null,null,6.97,9.75,null,"N/A",null,7090.1871809415779,null,null,"Yes",0,null,0,null,0,0,15,10,"Yes",15,"Minimal",10,"Yes",5,"Yes",0,"No",null,null,null,null,null,null,null,null,null,null,null,"Albemarle RPO",null,null,null,null,null,null,null,null,null,null,null,null,55,null,null,null,null,null,null,null,null,null,"Dare",null,null,null,null,null,null,null,null,null,null,null,null,null,0.82,null,null,null,null,null,null,null,null,null,null,46.44,null,null,null,null,null,null,null,null,null,null,null,null,null,null,null,null,null,null,null,null,null,null,null,null,null,null,null,null,null,null,null,null,300000,null,270000]
["A130013","Chowan","Albemarle RPO","Aviation","Division Needs",null,"Northeastern Regional",null,null,"Design",null,680760,null,null,null,null,null,null,6.68,8.25,null,"N/A",null,15567.202678228419,null,null,"Yes",0,null,0,null,0,0,15,10,"Yes",15,"Minimal",10,"Yes",5,"Yes",0,"No",null,null,null,null,null,null,null,null,null,null,null,"Albemarle RPO",null,null,null,null,null,null,null,null,null,null,null,null,55,null,null,null,null,null,null,null,null,null,"Chowan",null,null,null,null,null,null,null,null,null,null,null,null,null,1.1399999999999999,null,null,null,null,null,null,null,null,null,null,38.36,null,null,null,null,null,null,null,null,null,null,null,null,null,null,null,null,null,null,null,null,null,null,null,null,null,null,null,null,null,null,null,null,756400,null,680760]
["A130414","Hertford","Peanut Belt RPO","Aviation","Division Needs",null,"Tri-County",null,null,"Upgrade Existing Terminal Bldg.",null,225000,null,null,null,null,null,null,6.66,null,null,"N/A",null,7375.4773572845133,null,null,"Yes",0,null,0,null,0,0,15,10,"Yes",15,"Minimal",10,"Yes",5,"Yes",0,"No",null,null,null,null,null,null,null,null,null,null,null,"Peanut Belt RPO",null,null,null,null,null,null,null,null,null,null,null,null,55,null,null,null,null,null,null,null,null,null,"Hertford",null,null,null,null,null,null,null,null,null,null,null,null,null,0.85,null,null,null,null,null,null,null,null,null,null,35.89,null,null,null,null,null,null,null,null,null,null,null,null,null,null,null,null,null,null,null,null,null,null,null,null,null,null,null,null,null,null,null,null,250000,null,225000]
["A130373","Martin","Mid-East RPO","Aviation","Division Needs",null,"Martin County ",null,null,"Design",null,369000,null,null,null,null,null,null,6.54,null,null,"N/A",null,31502.112946600078,null,null,"Yes",0,null,0,null,0,0,15,10,"Yes",15,"Minimal",10,"Yes",5,"Yes",0,"No",null,null,null,null,null,null,null,null,null,null,null,"Mid-East RPO",null,null,null,null,null,null,null,null,null,null,null,null,55,null,null,null,null,null,null,null,null,null,"Martin",null,null,null,null,null,null,null,null,null,null,null,null,null,0.95,null,null,null,null,null,null,null,null,null,null,12.33,null,null,null,null,null,null,null,null,null,null,null,null,null,null,null,null,null,null,null,null,null,null,null,null,null,null,null,null,null,null,null,null,410000,null,369000]
["A130047","Washington","Albemarle RPO","Aviation","Division Needs",null,"Plymouth Municipal Airport",null,null,"AWOS Installation",null,193500,null,null,null,null,null,null,6.1,6,null,"N/A",null,5102.4724519362962,null,null,"Yes",0,null,0,null,0,0,15,10,"Yes",15,"Minimal",10,"Yes",5,"Yes",0,"No",null,null,null,null,null,null,null,null,null,null,null,"Albemarle RPO",null,null,null,null,null,null,null,null,null,null,null,null,55,null,null,null,null,null,null,null,null,null,"Washington",null,null,null,null,null,null,null,null,null,null,null,null,null,1.04,null,null,null,null,null,null,null,null,null,null,36.369999999999997,null,null,null,null,null,null,null,null,null,null,null,null,null,null,null,null,null,null,null,null,null,null,null,null,null,null,null,null,null,null,null,null,215000,null,193000]
["A130025","Dare","Albemarle RPO","Aviation","Division Needs",null,"Dare County Regional",null,null,"Hangers and Economic Development",null,468000,null,null,null,null,null,null,5.56,9.75,null,"N/A",null,12289.657780298734,null,null,"Yes",0,null,0,null,0,0,15,10,"Yes",15,"Minimal",10,"Yes",5,"Yes",0,"No",null,null,null,null,null,null,null,null,null,null,null,"Albemarle RPO",null,null,null,null,null,null,null,null,null,null,null,null,55,null,null,null,null,null,null,null,null,null,"Dare",null,null,null,null,null,null,null,null,null,null,null,null,null,0.82,null,null,null,null,null,null,null,null,null,null,46.44,null,null,null,null,null,null,null,null,null,null,null,null,null,null,null,null,null,null,null,null,null,null,null,null,null,null,null,null,null,null,null,null,520000,null,468000]
["A130037","Currituck","Albemarle RPO","Aviation","Division Needs",null,"Currituck County Regional",null,null,"Hangers and Economic Development",null,1080000,null,null,null,null,null,null,5.56,15,null,"N/A",null,15162.235924390983,null,null,"Yes",0,null,0,null,0,0,15,10,"Yes",15,"Minimal",10,"Yes",5,"Yes",0,"No",null,null,null,null,null,null,null,null,null,null,null,"Albemarle RPO",null,null,null,null,null,null,null,null,null,null,null,null,55,null,null,null,null,null,null,null,null,null,"Currituck",null,null,null,null,null,null,null,null,null,null,null,null,null,1.04,null,null,null,null,null,null,null,null,null,null,68.489999999999995,null,null,null,null,null,null,null,null,null,null,null,null,null,null,null,null,null,null,null,null,null,null,null,null,null,null,null,null,null,null,null,null,1125000,null,1080000]
["A130038","Currituck","Albemarle RPO","Aviation","Division Needs",null,"Currituck County Regional",null,null,"Hangers and Economic Development",null,1012500,null,null,null,null,null,null,5.56,13.5,null,"N/A",null,14214.596179116548,null,null,"Yes",0,null,0,null,0,0,15,10,"Yes",15,"Minimal",10,"Yes",5,"Yes",0,"No",null,null,null,null,null,null,null,null,null,null,null,"Albemarle RPO",null,null,null,null,null,null,null,null,null,null,null,null,55,null,null,null,null,null,null,null,null,null,"Currituck",null,null,null,null,null,null,null,null,null,null,null,null,null,1.04,null,null,null,null,null,null,null,null,null,null,68.489999999999995,null,null,null,null,null,null,null,null,null,null,null,null,null,null,null,null,null,null,null,null,null,null,null,null,null,null,null,null,null,null,null,null,1125000,null,1012500]
["A130039","Currituck","Albemarle RPO","Aviation","Division Needs",null,"Currituck County Regional",null,null,"Hangers and Economic Development",null,1813500,null,null,null,null,null,null,5.56,13.5,null,"N/A",null,25459.921156373195,null,null,"Yes",0,null,0,null,0,0,15,10,"Yes",15,"Minimal",10,"Yes",5,"Yes",0,"No",null,null,null,null,null,null,null,null,null,null,null,"Albemarle RPO",null,null,null,null,null,null,null,null,null,null,null,null,55,null,null,null,null,null,null,null,null,null,"Currituck",null,null,null,null,null,null,null,null,null,null,null,null,null,1.04,null,null,null,null,null,null,null,null,null,null,68.489999999999995,null,null,null,null,null,null,null,null,null,null,null,null,null,null,null,null,null,null,null,null,null,null,null,null,null,null,null,null,null,null,null,null,2015000,null,1813500]
["A130034","Currituck","Albemarle RPO","Aviation","Division Needs",null,"Currituck County Regional",null,null,"Corporate & T-hanger Taxiways",null,2547000,null,null,null,null,null,null,4.26,15,null,"N/A",null,35757.606388355402,null,null,"Yes",0,null,0,null,0,0,15,10,"Yes",15,"Minimal",10,"Yes",5,"Yes",0,"No",null,null,null,null,null,null,null,null,null,null,null,"Albemarle RPO",null,null,null,null,null,null,null,null,null,null,null,null,55,null,null,null,null,null,null,null,null,null,"Currituck",null,null,null,null,null,null,null,null,null,null,null,null,null,1.04,null,null,null,null,null,null,null,null,null,null,68.489999999999995,null,null,null,null,null,null,null,null,null,null,null,null,null,null,null,null,null,null,null,null,null,null,null,null,null,null,null,null,null,null,null,null,2830000,null,2547000]
["A130014","Chowan","Albemarle RPO","Aviation","Division Needs",null,"Northeastern Regional",null,null,"Hangers and Economic Development",null,1048500,null,null,null,null,null,null,4.0599999999999996,8.25,null,"N/A",null,23976.455737884862,null,null,"Yes",0,null,0,null,0,0,15,10,"Yes",15,"Minimal",10,"Yes",5,"Yes",0,"No",null,null,null,null,null,null,null,null,null,null,null,"Albemarle RPO",null,null,null,null,null,null,null,null,null,null,null,null,55,null,null,null,null,null,null,null,null,null,"Chowan",null,null,null,null,null,null,null,null,null,null,null,null,null,1.1399999999999999,null,null,null,null,null,null,null,null,null,null,38.36,null,null,null,null,null,null,null,null,null,null,null,null,null,null,null,null,null,null,null,null,null,null,null,null,null,null,null,null,null,null,null,null,1165000,null,1048500]
["A130044","Washington","Albemarle RPO","Aviation","Division Needs",null,"Plymouth Municipal Airport",null,null,"Hangers and Economic Development",null,310500,null,null,null,null,null,null,3.56,6,null,"N/A",null,8208.8999809648703,null,null,"Yes",0,null,0,null,0,0,15,10,"Yes",15,"Minimal",10,"Yes",5,"Yes",0,"No",null,null,null,null,null,null,null,null,null,null,null,"Albemarle RPO",null,null,null,null,null,null,null,null,null,null,null,null,55,null,null,null,null,null,null,null,null,null,"Washington",null,null,null,null,null,null,null,null,null,null,null,null,null,1.04,null,null,null,null,null,null,null,null,null,null,36.369999999999997,null,null,null,null,null,null,null,null,null,null,null,null,null,null,null,null,null,null,null,null,null,null,null,null,null,null,null,null,null,null,null,null,345000,null,310500]
["A130045","Washington","Albemarle RPO","Aviation","Division Needs",null,"Plymouth Municipal Airport",null,null,"Hangers and Economic Development",null,760500," ",null," ",null,null,null,3.56,6,null,"N/A",null,5115.6912924853541,null,null,"Yes",0,null,0,null,0,0,15,10,"Yes",15,"Minimal",10,"Yes",5,"Yes",0,"No",null,null,null,null,null,null,null,null,null,null,null,"Albemarle RPO",null,null,null,null,null,null,null,null,null,null,null,null,55,null,null,null,null,null,null,null,null,null,"Washington",null,null,null,null,null,null,null,null,null,null,null,null,null,1.04,null,null,null,null,null,null,null,null,null,null,36.369999999999997,null,null,null,null,null,null,null,null,null,null,null,null,null,null,null,null,null,null,null,null,null,null,null,null,null,null,null,null,null,null,null,null,845000,null,193500]
["A130375","Martin","Mid-East RPO","Aviation","Division Needs",null,"Martin County ",null,null,"Hangers and Economic Development",null,535500," ",null," ",null,null,null,3.5,null,null,"N/A",null,45716.4809834806,null,null,"Yes",0,null,0,null,0,0,15,10,"Yes",15,"Minimal",10,"Yes",5,"Yes",0,"No",null,null,null,null,null,null,null,null,null,null,null,"Mid-East RPO",null,null,null,null,null,null,null,null,null,null,null,null,55,null,null,null,null,null,null,null,null,null,"Martin",null,null,null,null,null,null,null,null,null,null,null,null,null,0.95,null,null,null,null,null,null,null,null,null,null,12.33,null,null,null,null,null,null,null,null,null,null,null,null,null,null,null,null,null,null,null,null,null,null,null,null,null,null,null,null,null,null,null,null,595000,null,535500]
["A130003","Hyde","Albemarle RPO","Aviation","Division Needs",null,"Hyde County",null,null,"Hangers and Economic Development",null,990000," ",null," ",null,null,null,3.16,6.75,null,"N/A",null,100212.57212268448,null,null,"Yes",0,null,0,null,0,0,15,10,"Yes",15,"Minimal",10,"Yes",5,"Yes",0,"No",null,null,null,null,null,null,null,null,null,null,null,"Albemarle RPO",null,null,null,null,null,null,null,null,null,null,null,null,55,null,null,null,null,null,null,null,null,null,"Hyde",null,null,null,null,null,null,null,null,null,null,null,null,null,0.89,null,null,null,null,null,null,null,null,null,null,11.1,null,null,null,null,null,null,null,null,null,null,null,null,null,null,null,null,null,null,null,null,null,null,null,null,null,null,null,null,null,null,null,null,1100000,null,990000]
["A130004","Hyde","Albemarle RPO","Aviation","Division Needs",null,"Hyde County",null,null,"other",null,2070000," ",null," ",null,null,null,3.16,6.75,null,"N/A",null,209535.37807470391,null,null,"Yes",0,null,0,null,0,0,15,10,"Yes",15,"Minimal",10,"Yes",5,"Yes",0,"No",null,null,null,null,null,null,null,null,null,null,null,"Albemarle RPO",null,null,null,null,null,null,null,null,null,null,null,null,55,null,null,null,null,null,null,null,null,null,"Hyde",null,null,null,null,null,null,null,null,null,null,null,null,null,0.89,null,null,null,null,null,null,null,null,null,null,11.1,null,null,null,null,null,null,null,null,null,null,null,null,null,null,null,null,null,null,null,null,null,null,null,null,null,null,null,null,null,null,null,null,2300000,null,2070000]
["A130374","Martin","Mid-East RPO","Aviation","Division Needs",null,"Martin County ",null,null,"Hangers and Economic Development",null,211500," ",null," ",null,null,null,3.16,null,null,"N/A",null,18056.08912792931,null,null,"Yes",0,null,0,null,0,0,15,10,"Yes",15,"Minimal",10,"Yes",5,"Yes",0,"No",null,null,null,null,null,null,null,null,null,null,null,"Mid-East RPO",null,null,null,null,null,null,null,null,null,null,null,null,55,null,null,null,null,null,null,null,null,null,"Martin",null,null,null,null,null,null,null,null,null,null,null,null,null,0.95,null,null,null,null,null,null,null,null,null,null,12.33,null,null,null,null,null,null,null,null,null,null,null,null,null,null,null,null,null,null,null,null,null,null,null,null,null,null,null,null,null,null,null,null,235000,null,211500]
["A130001",null,null,"Aviation","Division Needs",null,"Hyde County",null,null,"Design",null,622440,null,null,null,null,null,null,25.97,6.75,null,"N/A",null,63006.37716368054,null,null,"Yes",0,null,0,null,0,0,15,10,"Yes",15,"Minimal",10,"Yes",5,"Yes",0,"No",null,null,null,null,null,null,null,null,null,null,null,"Albemarle RPO",null,null,null,null,null,null,null,null,null,null,null,null,55,null,null,null,null,null,null,null,null,null,"Hyde",null,null,null,null,null,null,null,null,null,null,null,null,null,0.89,null,null,null,null,null,null,null,null,null,null,11.1,null,null,null,null,null,null,null,null,null,null,null,null,null,null,null,null,null,null,null,null,null,null,null,null,null,null,null,null,null,null,null,null,691600,null,622440]
["H129108","Martin","Mid-East RPO","Highway","Regional Impact","R-3826","NC-125 NC 125","SR 1182 (East of College Road)","NC 125 Northwest of Williamston","Construct Two Lanes, Part on New Location","5 - Construct Roadway on New Location",13455000,null,null,16.96,{"$f":"(V150+W150+Y150+Z150+AB150+AD150)","v":50},null,{"$f":"O150+P150+Q150","v":66.960000000000008},13.65,null,null,{"$f":"IF(AU150<30,0,IF(AU150<50,5,IF(AU150<65,10,IF(AU150>66,15))))","v":5},{"$f":"IF(X150<499,15,IF(X150<999,10,IF(X150<1499,5,IF(X150>1500,0))))","v":10},807.05092750951746,{"$f":"IF(DD150<500,0,IF(DD150<1000,5,IF(DD150>1000,10)))","v":0},{"$f":"IF(AA150=\"Yes\",15,0)","v":15},"Yes",10,"Yes",10,"Yes",5,{"$f":"IF(BM148<999,20,IF(BM148<1499,15,IF(BM148<1999,10,IF(BM148<3999,5,IF(BM148>4000,0)))))","v":20},15,10,"Yes",15,"Minimal",10,"Yes",{"$f":"IF(AP150=\"Yes\",10,0)","v":0},"No",0,"No",22.757972274033232,4.6692109996283913,34.092816780692999,2.0332975245396128,"N/A",11.222159958999999,25,50,null,null,null,"Mid-East RPO",100,"","","","","01",100,"","","","",{"$f":"SUM(V150+W150+Y150+Z150+AB150+AD150)","v":50},75,null,null,100,100,{"$f":"S150+BU150*0.25","v":38.65},null,null,{"$f":"O150+BT150*0.25","v":41.96},null,"Martin",100,"","","","","","",1,"A","01, , ","Mid-East RPO, , ","Martin, , , ",3.6,2.3084244100000002,"Arterial","Arterial",1,1,"Undivided","Undivided",42,40,5.6307186107274996,94.369281389272501,7222.1599589999996,21809.21213,0.33115180484055384,6815.5004540920772,406.65950490792255,2633056.1127941757,157106.18793675935,2790162.3007309353,62824234,27.046175269999999,38.234234950000001,37.008268989999998,"","","","","No","No",11,12,"No",0,2,"New Roadway","2B - 2 Lane Undivided with Paved Shoulders, 25-45 mph","None","None",1,"No",22,10800000,2400000,255000,13455000,"",13455000,13455000,""]
["H141741","Bertie","Peanut Belt RPO","Highway","Regional Impact","","NC-45 ","Hertford County Line","Washington County Line","Currently a 2- lane major thoroughfare with high truck percentage, this project recommends road be widened to 24 feet with paved shoulders and turn lanes where necessary through Bertie County, with safety and mobility the primary purpose.\n","1 - Widen Existing Roadway",130375000,null,null,9.07,{"$f":"(V151+W151+Y151+Z151+AB151+AD151)","v":45},null,{"$f":"O151+P151+Q151","v":54.07},6.88,null,null,{"$f":"IF(AU151<30,0,IF(AU151<50,5,IF(AU151<65,10,IF(AU151>66,15))))","v":5},{"$f":"IF(X151<499,15,IF(X151<999,10,IF(X151<1499,5,IF(X151>1500,0))))","v":0},2103.5491872249895,{"$f":"IF(DD151<500,0,IF(DD151<1000,5,IF(DD151>1000,10)))","v":5},{"$f":"IF(AA151=\"Yes\",15,0)","v":15},"Yes",10,"Yes",10,"Yes",5,{"$f":"IF(BM149<999,20,IF(BM149<1499,15,IF(BM149<1999,10,IF(BM149<3999,5,IF(BM149>4000,0)))))","v":20},15,10,"Yes",15,"Minimal",10,"Yes",0,"No",{"$f":"IF(AR151=\"Yes\",10,0)","v":0},"No",10.66617998102131,1.6161204218600192E-2,33.133862619032996,2.6845429695994789,"N/A",16.497368424559369,25,0,null,null,null,"Peanut Belt RPO",100,"Albemarle RPO","","","","01",100,"","","","",{"$f":"SUM(V151+W151+Y151+Z151+AB151+AD151)","v":45},75,null,null,null,null,6.88,null,"Exceeds cap of $15 million for Statewide & Regional Projects cascading to Division Needs",{"$f":"O151+BT151*0.25","v":9.07},null,"Bertie",100,"Washington","","","","","",1,"A","01, , ","Peanut Belt RPO, Albemarle RPO, ","Bertie, Washington, , ",24.817557310000002,24.817557310000002,"Two Lane Highway","Two Lane Highway",1,1,"Undivided","TWLTL",55,55,21.498974225824398,78.501025774175602,2497.3684245593699,15500,0.16112054351995936,1960.4598306394741,536.90859391989579,68999.968866657597,18896.932079771112,87896.900946428708,2107017,34.606511580000003,28.184745840000001,36.620271590000002,"","","","","No","No",11,12,"No",0,0,"2 Lane Undivided","3A - 2 Lane with Two Way Left Turn Lane, and Paved Shoulders","None","None",1,"No",27,108729000,19327000,2319000,130375000,"",130375000,130375000,""]
["H141680","Northampton","Peanut Belt RPO","Highway","Regional Impact","","NC-46 ","Virginia State Line","NC 48 in Gaston","Currently a 2-lane major thoroughfare from the Virginia State Line to NC 48 (TIP#U-2419), this project recommends to upgrade the existing facility to 24 feet w/ paved shoulders; while modifying sharp horizontal curves. This would provide safer maneuvering in a 12-foot lane; while tying in bike lane recommendations.\n","16 - Modernize Roadway",8587000,null,null,12.09,{"$f":"(V152+W152+Y152+Z152+AB152+AD152)","v":55},null,{"$f":"O152+P152+Q152","v":67.09},8.89,null,null,{"$f":"IF(AU152<30,0,IF(AU152<50,5,IF(AU152<65,10,IF(AU152>66,15))))","v":5},{"$f":"IF(X152<499,15,IF(X152<999,10,IF(X152<1499,5,IF(X152>1500,0))))","v":15},226.17036161740458,{"$f":"IF(DD152<500,0,IF(DD152<1000,5,IF(DD152>1000,10)))","v":0},{"$f":"IF(AA152=\"Yes\",15,0)","v":15},"Yes",10,"Yes",10,"Yes",5,{"$f":"IF(BM150<999,20,IF(BM150<1499,15,IF(BM150<1999,10,IF(BM150<3999,5,IF(BM150>4000,0)))))","v":0},15,10,"Yes",15,"Minimal",10,"Yes",0,"No",0,"No",15.582930485979688,0,48.359228950130998,1.1083439460534406,"N/A",17.64857133735174,25,0,null,null,null,"Peanut Belt RPO",100,"","","","","01",100,"","","","",{"$f":"SUM(V152+W152+Y152+Z152+AB152+AD152)","v":55},55,null,null,100,100,33.89,null,null,{"$f":"O152+BT152*0.25","v":37.090000000000003},null,"Northampton",100,"","","","","","",1,"A","01, , ","Peanut Belt RPO, , ","Northampton, , , ",10.4059785999999,10.4059785999999,"Two Lane Highway","Two Lane Highway",1,1,"Undivided","Undivided",55,55,6.0754955492136,93.924504450786401,3648.5713373517401,15500,0.23539169918398323,3426.9025481410522,221.66878921068809,0,0,0,0,52.554759300000001,46.363860670000001,46.173576099999998,"","","","","No","No",11,12,"No",2,0,"2 Lane Undivided","3A - 2 Lane with Two Way Left Turn Lane, and Paved Shoulders","None","None",1,"No",27,8587000,0,0,8587000,"",8587000,8587000,""]
["H129676-B","Hertford","Peanut Belt RPO","Highway","Statewide Mobility","R-5311B","US-13 , NC-11 ","NC 11/NC 561 Near Ahoskie","US 158/NC 45 Near Winton","Widen to Multi-Lanes.","1 - Widen Existing Roadway",78190000,14.294078398139709,null,10.371087217043794,{"$f":"(V153+W153+Y153+Z153+AB153+AD153)","v":45},null,{"$f":"O153+P153+Q153","v":55.371087217043794},6.9127386775858319,null,null,{"$f":"IF(AU153<30,0,IF(AU153<50,5,IF(AU153<65,10,IF(AU153>66,15))))","v":5},{"$f":"IF(X153<499,15,IF(X153<999,10,IF(X153<1499,5,IF(X153>1500,0))))","v":0},{"$f":"(EI153/CZ153)/CO153","v":1789.7333075371355},{"$f":"IF(DD153<500,0,IF(DD153<1000,5,IF(DD153>1000,10)))","v":5},{"$f":"IF(AA153=\"Yes\",15,0)","v":15},"Yes",10,"Yes",10,"Yes",{"$f":"IF(AU153<30,0,IF(AU153<50,5,IF(AU153<65,10,IF(AU153<79,15,IF(AU153>80,20)))))","v":5},{"$f":"IF(BM151<999,20,IF(BM151<1499,15,IF(BM151<1999,10,IF(BM151<3999,5,IF(BM151>4000,0)))))","v":0},{"$f":"IF(AA153=\"Yes\",15,0)","v":15},10,"Yes",15,"Minimal",{"$f":"IF(AN153=\"Yes\",10,0)","v":10},"Yes",0,"No",0,"No",24.001832373834379,3.9584013300933626E-2,45.085970388722998,12.62287902978008,0.48480637170798752,24.870691912999998,0,0,null,null,null,"Peanut Belt RPO",100,"","","","","01",100,"","","","",{"$f":"SUM(V153+W153+Y153+Z153+AB153+AD153)","v":45},55,null,null,null,null,6.9127386775858319,null,"Exceeds cap of $15 million for Statewide & Regional Projects cascading to Division Needs",{"$f":"O153+BT153*0.25","v":10.371087217043794},null,"Hertford",100,"","","","","","",1,"A","01, , ","Peanut Belt RPO, , ","Hertford, , , ",7.7687519099999998,7.7687519099999998,"Two Lane Highway","Multi-Lane Highway",1,2,"Undivided","Divided",51,51,12.658791545258499,87.341208454741505,5623.5639709999996,15511.563459999999,0.36254011309057299,4911.6887304968486,711.87524050315096,116717.64369008195,16916.462999159405,133634.10668924137,3095074,59.757713440000003,36.965768650000001,38.547956220000003,"","",2.1084775792553301,7.5876498549044201E-6,"Yes","No",12,12,"No",4,2,"2 Lane Undivided","4A - 4 Lane Divided (46' Depressed Median) with Paved Shoulders","None","Partial",1,"Yes",24,73100000,4425000,665000,78190000,"",78190000,78190000,""]
["H141224","Currituck","Albemarle RPO","Highway","Division Needs","","Ponderosa Drive","US 17","NC 168","Upgrade Ponderosa Drive to provide direct connection between US 17 and NC 168 to alleviate existing traffic","6 - Widen Existing Roadway and Construct Part on New Location",46069000,null,null,null,null,null,null,11.1,7.5,null,"N/A",null,1967.3398086522786,null,null,"Yes",null,null,null,null,5,{"$f":"IF(X154<999,20,IF(X154<1499,15,IF(X154<1999,10,IF(X154<3999,5,IF(X154>4000,0)))))","v":10},15,0,"No",{"$f":"IF(AL154=\"Minimal\",15,0)","v":15},"Minimal",10,"Yes",0,"No",0,"No",9.7560748992085635,1.3002594152249887,49.966063520603996,0,"N/A","N/A",50,0,null,null,null,"Albemarle RPO",100,"","","","","01",100,"","","","",null,55,null,null,null,null,11.1,null,"Exceeds cap of $15 million for Statewide & Regional Projects cascading to Division Needs",null,null,"Currituck",63.5,"Camden",36.5,"","","","",1,"A","01, , ","Albemarle RPO, , ","Currituck, Camden, , ",17.899999999999999,10.223092530000001,"Two Lane Highway","Two Lane Highway",1,1,"Undivided","Undivided",53.1532929418469,55,0,100,2290.5886992880501,15547.2645412783,0.1473306569915557,2290.5886992880501,0,2722802.3267137692,0,2722802.3267137692,59901651,78.457510429999999,43.696003040000001,27.75966841,"","","","","No","No",10,12,"No",0,0,"New Roadway","2A - 2 Lane Undivided with Paved Shoulders, 55 mph","None","None",1,"No",34,44934000,1013000,122000,46069000,"",46069000,46069000,""]
["H090505","Chowan","Albemarle RPO","Highway","Division Needs","U-5001","- New Route - Western Connector (Luke Street)","Albania Stree","Virginia Street","Albania Street to Virginia Street.  Construct Multi-Lanes, Some New Location.","5 - Construct Roadway on New Location",9681000," ",null," ",null,null,null,3.3389965257502841,4.5,null,"N/A",null,1484.2014063804211,null,null,"Yes",null,null,null,null,0,{"$f":"IF(X155<999,20,IF(X155<1499,15,IF(X155<1999,10,IF(X155<3999,5,IF(X155>4000,0)))))","v":15},15,{"$f":"IF(AJ155=\"Yes\",10,0)","v":0},"No",{"$f":"IF(AL155=\"Minimal\",15,0)","v":15},"Minimal",10,"Yes",0,"No",0,"No",21.672837154252885,1.44483162896395,10.272296474286,1.0195217718000875,"N/A","N/A",0,0,null,null,null,"Albemarle RPO",100,"","","","","01",100,"","","","",null,55,null,null,null,null,3.3389965257502841,null,"Minimal Local Support",null,null,"Chowan",100,"","","","","","",1,"A","01, , ","Albemarle RPO, , ","Chowan, , , ",1.5,1.11961556,"Arterial","Arterial",1,2,"Undivided","Divided",38,35,3.5000000000003002,96.499999999999702,5825.8386959999998,18071.619050000001,0.32237502793088146,5621.9343416399824,203.90435436001749,604716.87205310084,21932.736292083333,626649.60834518413,13987415,7.8258291699999996,15.168313080000001,7.8258291699999996,"","","","","No","No",12,12,"Yes",0,2,"New Roadway","4C - 4 Lane Divided (23' Raised Median) with Curb & Gutter, Wide Outside Lanes, and Sidewalks","None","Partial",1,"No",24,5928000,3351000,402000,9681000,"",9681000,9681000,""]
["H090102","Martin","Mid-East RPO","Highway","Statewide Mobility","R-2511","US-17 ","Washington Bypass North of NC 171","Multi-Lanes South of Williamston","Widen to Multi-Lanes.","1 - Widen Existing Roadway",72100000,13.736271562618974,null,13.18,{"$f":"(V156+W156+Y156+Z156+AB156+AD156)","v":50},null,{"$f":"O156+P156+Q156","v":63.18},9.6199999999999992,null,null,{"$f":"IF(AU156<30,0,IF(AU156<50,5,IF(AU156<65,10,IF(AU156>66,15))))","v":5},{"$f":"IF(X156<499,15,IF(X156<999,10,IF(X156<1499,5,IF(X156>1500,0))))","v":5},1431.1007695384499,{"$f":"IF(DD156<500,0,IF(DD156<1000,5,IF(DD156>1000,10)))","v":5},{"$f":"IF(AA156=\"Yes\",15,0)","v":15},"Yes",{"$f":"IF(AC156=\"Yes\",10,0)","v":10},"Yes",{"$f":"IF(AE156=\"Yes\",10,0)","v":10},"Yes",5,{"$f":"IF(BM154<999,20,IF(BM154<1499,15,IF(BM154<1999,10,IF(BM154<3999,5,IF(BM154>4000,0)))))","v":0},15,10,"Yes",15,"Minimal",10,"Yes",0,"No",0,"No",21.525655987638711,4.5849292649098476E-2,49.622986325087993,11.243927572853604,0.53735831453110849,17.119984946000002,0,25,null,null,null,"Mid-East RPO",100,"","","","","01",61.75,"02",38.25,"","",{"$f":"SUM(V156+W156+Y156+Z156+AB156+AD156)","v":50},55,null,null,100,null,9.6199999999999992,null,"Exceeds cap of $15 million for Statewide & Regional Projects cascading to Division Needs",{"$f":"O156+BT156*0.25","v":38.18},null,"Martin",61.75,"Beaufort",38.25,"","","","",1,"A","01, 02, ","Mid-East RPO, , ","Martin, Beaufort, , ",9.9962002000000005,9.9962002000000005,"Two Lane Highway","Multi-Lane Highway",1,2,"Undivided","Divided",55,55,12.3607401176475,87.639259882352505,5039.9949820000002,15500,0.32516096658064519,4417.0143003325056,622.98068166749499,125234.98255004203,17663.283270730833,142898.26582077285,3305734,70.895399049999995,20.985946729999998,57.002501580000001,"","",2,8.7471662906221696E-6,"Yes","No",12,12,"No",1,2,"2 Lane Undivided","4A - 4 Lane Divided (46' Depressed Median) with Paved Shoulders","None","Partial",1,"Yes",21,51700000,16000000,4400000,72100000,"",72100000,72100000,""]
["H141684","Northampton","Peanut Belt RPO","Highway","Regional Impact","","NC-305 ","Seaboard Town Limits","Hertford County Line","Currently a 2-lane major thoroughfare from Seaboard to Hertford County, NC 305 is recommended to be upgrade from its existing facility to 24 feet w/ paved shoulders. This would provides improved mobility between Jackson and Rich Square, while tying in with bike lane recommendations.  \n","16 - Modernize Roadway",340000,null,null,8.93,55,null,63.93,6.78,null,null,5,15,6.4567141369090955,0,{"$f":"IF(AA157=\"Yes\",15,0)","v":15},"Yes",10,"Yes",{"$f":"IF(AE157=\"Yes\",10,0)","v":10},"Yes",5,{"$f":"IF(BM155<999,20,IF(BM155<1499,15,IF(BM155<1999,10,IF(BM155<3999,5,IF(BM155>4000,0)))))","v":0},15,10,"Yes",15,"Minimal",10,"Yes",0,"No",0,"No",9.1026580263264592,0,33.738719173995001,1.2485128352237644,"N/A",12.13739033746937,25,0,null,null,null,"Peanut Belt RPO",100,"","","","","01",100,"","","","",55,55,null,null,null,100,31.78,null,null,8.93,"Estimated costs too low.","Northampton",100,"","","","","","",1,"A","01, , ","Peanut Belt RPO, , ","Northampton, , , ",24.636755659999899,24.636755659999899,"Two Lane Highway","Two Lane Highway",1,1,"Undivided","Undivided",51.703662517699499,51.703662517699499,11.682590805589401,88.317409194410601,2137.39033746937,15548.988304589,0.13746169818897852,1887.6877704246172,249.7025670447529,0,0,0,0,34.662762260000001,27.896578810000001,38.666939079999999,"","","","","No","No",11,12,"No",0,0,"2 Lane Undivided","3A - 2 Lane with Two Way Left Turn Lane, and Paved Shoulders","None","None",1,"No",25,340000,0,0,340000,"",340000,340000,""]
["H090149-B","Northampton","Peanut Belt RPO","Highway","Statewide Mobility","R-2584B","US-158 ","East of SR 1500","East of SR 1365","Widen to Multi-Lanes, Part on New  Location.","6 - Widen Existing Roadway and Construct Part on New Location",54800000,7.9305558958701106,null,8.2200000000000006,40,null,48.22,6.31,null,null,0,0,3336.37631613444,5,{"$f":"IF(AA158=\"Yes\",15,0)","v":15},"Yes",10,"Yes",{"$f":"IF(AE158=\"Yes\",10,0)","v":10},"Yes",0,{"$f":"IF(X158<999,20,IF(X158<1499,15,IF(X158<1999,10,IF(X158<3999,5,IF(X158>4000,0)))))","v":5},15,10,"Yes",15,"Minimal",10,"Yes",0,"No",0,"No",17.825798295498515,5.7991313868613135E-2,20.262297100979996,2.6959465148098603,0,24.612863031,0,25,null,null,null,"Peanut Belt RPO",100,"","","","","01",100,"","","","",40,55,null,null,null,null,6.31,null,"Exceeds cap of $15 million for Statewide & Regional Projects cascading to Division Needs",8.2200000000000006,null,"Northampton",100,"","","","","","",1,"A","01, , ","Peanut Belt RPO, , ","Northampton, , , ",3.5,3.9067273600000001,"Two Lane Highway","Multi-Lane Highway",1,2,"Undivided","Divided",47,55,12.824748075914599,87.175251924085401,4204.2876770000003,15625.369189999999,0.26906805374497528,3665.0983740380284,539.18930296197209,119535.72994085884,17585.445280927532,137121.17522178637,3177924,28.277875479999999,8.9871338000000005,23.527961319999999,"","",0,0,"No","No",12,12,"No",1,2,"New Roadway","4A - 4 Lane Divided (46' Depressed Median) with Paved Shoulders","None","Partial",1,"Yes",26,47600000,7200000,0,54800000,"",54800000,54800000,""]
["H141662","Northampton","Peanut Belt RPO","Highway","Regional Impact","","NC-35 ","Hertford County Line ","Virginia State Line","Currently 2-lane major thoroughfare from the Hertford County line to the Virginia State Line, NC 35 in Northampton County is a major truck route with high truck percentage. It is recommended to upgrade the existing facility to 24 feet w/ paved shoulders and turn lanes at all major intersections; while also modifying curves in some sections. This will improve overall connectivity in Severn, Conway, Woodland.\n","1 - Widen Existing Roadway",69277000,null,null,8.16,40,null,48.16,6.27,null,null,5,0,1957.443714235656,0,{"$f":"IF(AA159=\"Yes\",15,0)","v":15},"Yes",10,"Yes",{"$f":"IF(AE159=\"Yes\",10,0)","v":10},"Yes",5,{"$f":"IF(BM157<999,20,IF(BM157<1499,15,IF(BM157<1999,10,IF(BM157<3999,5,IF(BM157>4000,0)))))","v":0},15,10,"Yes",15,"Minimal",10,"Yes",0,"No",0,"No",7.3733627816354605,0.12733198608484778,30.197608283831997,1.1098492973746994,"N/A",13.732099667873541,25,0,null,null,null,"Peanut Belt RPO",100,"","","","","01",100,"","","","",40,55,null,null,null,null,6.27,null,"Exceeds cap of $15 million for Statewide & Regional Projects cascading to Division Needs",8.16,null,"Northampton",100,"","","","","","",1,"A","01, , ","Peanut Belt RPO, , ","Northampton, , , ",20.43275423,20.43275423,"Two Lane Highway","Two Lane Highway",1,1,"Undivided","TWLTL",51.123057912261999,55,12.8150743050166,87.184925694983406,1732.0996678735401,15556.563670646099,0.11134204857476741,1510.1298083986001,221.96985947493988,331852.88318075956,48778.149690389968,380631.03287114954,8821178,28.494854069999999,27.026539769999999,35.080491199999997,"","","","","No","No",10,11,"No",0,0,"2 Lane Undivided","3A - 2 Lane with Two Way Left Turn Lane, and Paved Shoulders","None","None",1,"No",26,60103000,8191000,983000,69277000,"",69277000,69277000,""]
["H129112-B","Northampton","Peanut Belt RPO","Highway","Statewide Mobility","R-2582B","US-158 , NC-46 ","SR 1312 (St. John Church Road)","SR 1333 (Lynch Road) East of Jackson","Widen to Multi-Lanes with Bypass of Jackson, Part on New Location.","1 - Widen Existing Roadway",66800000,8.5075034871344801,null,6.6843160297359381,40,null,46.684316029735939,4.4558793576483104,null,null,0,0,3315.5475518357507,5,{"$f":"IF(AA160=\"Yes\",15,0)","v":15},"Yes",10,"Yes",{"$f":"IF(AE160=\"Yes\",10,0)","v":10},"Yes",0,{"$f":"IF(X160<999,20,IF(X160<1499,15,IF(X160<1999,10,IF(X160<3999,5,IF(X160>4000,0)))))","v":5},15,10,"Yes",15,"Minimal",10,"Yes",0,"No",0,"No",17.447583609263642,9.9398652694610776E-3,27.10127010195,2.7582020050072966,8.4790335780915993E-2,16.255478221000004,0,0,null,null,null,"Peanut Belt RPO",100,"","","","","01",100,"","","","",40,55,null,null,null,null,4.4558793576483104,null,"Exceeds cap of $15 million for Statewide & Regional Projects cascading to Division Needs",6.6843160297359381,null,"Northampton",100,"","","","","","",1,"A","01, , ","Peanut Belt RPO, , ","Northampton, , , ",4.9318765100000004,4.9318765100000004,"Two Lane Highway","Multi-Lane Highway",1,2,"Undivided","Divided",55,55,13.503522042645699,86.496477957354301,4085.1594070000001,15500.00043,0.26355866410772738,3533.5190059985407,551.64040100145928,24714.483489075938,3858.3371305809887,28572.820619656926,663983,37.272482830000001,20.230309649999999,23.80914902,"","",0,1.6958067156183199E-6,"No","No",12,12,"No",2,2,"2 Lane Undivided","4A - 4 Lane Divided (46' Depressed Median) with Paved Shoulders","None","Partial",1,"Yes",22,61400000,5400000,0,66800000,"",66800000,66800000,""]
["H090869","Camden","Albemarle RPO","Highway","Regional Impact","","NC-343 ","US 158","SR 1119 in Shiloh","Upgrade Roadway with Wider Shoulders and New Culvert(S).","16 - Modernize Roadway",17898000,null,null,14.28,35,4.95,54.230000000000004,11.19,6.75,null,5,10,902.06866756128704,0,{"$f":"IF(AA161=\"Yes\",20,0)","v":20},"Yes",0,"No",{"$f":"IF(AE161=\"Yes\",20,0)","v":0},"No",5,{"$f":"IF(BM159<999,20,IF(BM159<1499,15,IF(BM159<1999,10,IF(BM159<3999,5,IF(BM159>4000,0)))))","v":0},15,10,"No",{"$f":"IF(AL161=\"Minimal\",15,0)","v":15},"Minimal",10,"Yes",0,"No",0,"No",12.434121680232257,0,49.452596115812995,0.63988824624267526,"N/A",26.911312477999999,50,0,null,null,null,"Albemarle RPO",100,"","","","","01",100,"","","","",35,55,null,null,null,null,11.19,null,"Exceeds cap of $15 million for Statewide & Regional Projects cascading to Division Needs",14.28,null,"Camden",100,"","","","","","",1,"A","01, , ","Albemarle RPO, , ","Camden, , , ",6.8151604299999997,6.8151604299999997,"Two Lane Highway","Two Lane Highway",1,1,"Undivided","Undivided",55,55,4.3958747202722996,95.604125279727697,2911.3124779999998,15500,0.18782661148387095,2783.334828751465,127.97764924853506,0,0,0,0,55.740450629999998,49.081060229999999,43.551114750000004,"","","","","No","No",10,12,"No",0,0,"2 Lane Undivided","","None","None",1,"No",32,17898000,0,0,17898000,"",17898000,17898000,""]
["B141344","Tyrrell","Albemarle RPO","Bike & Ped","Division Needs",null,"Fonsoe Street","US 64/Scuppernong Drive","Main Street","Construct a pedestrian sidewalk on one side of Fonsoe Street to connect US 64/Scuppernong Drive to Main Street","5. Construct Sidewalk",100000,null,null,null,null,null,null,18.819570064834998,9.75,null,"N/A",null,20040.485829959514,null,null,"Yes",null,null,null,null,0,{"$f":"IF(X162<999,20,IF(X162<1499,15,IF(X162<1999,10,IF(X162<3999,5,IF(X162>4000,0)))))","v":0},15,{"$f":"IF(AJ162=\"Yes\",10,0)","v":10},"Yes",15,"Minimal",10,"Yes",0,"No",0,"No",null,null,22.5,null,null,null,null,null,null,null,null,"Albemarle RPO",null,null,null,null,null,null,null,null,null,null,null,null,{"$f":"SUM(AF162+AG162+AH162+AI162+AK162+AM162+AO162)","v":50},null,null,null,null,18.819570064834998,{"$f":"BV162+T162","v":28.569570064834998},null,null,null,"Tyrrell County",null,null,null,null,null,null,null,null,null,null,null,null,null,0.25,null,null,null,null,null,null,null,null,null,null,494,null,null,null,null,null,null,null,null,null,null,null,null,null,null,null,null,null,null,null,null,null,null,null,null,null,null,null,null,null,85000,0,null,100000,0,2475000]
["B141340","Tyrrell","Albemarle RPO","Bike & Ped","Division Needs",null,"Main Street","Broad Street","Road Street","Construct 305 feet of pedestrian sidewalk on the north side of Main Street in front of Columbia Middle School.","5. Construct Sidewalk",100000,null,null,null,null,null,null,17.717965136690001,9.75,null,"N/A",null,6121.9440192433849,null,null,"Yes",null,null,null,null,0,0,15,10,"Yes",15,"Minimal",10,"Yes",0,"No",0,"No",null,null,12.5,null,null,null,null,null,null,null,null,"Albemarle RPO",null,null,null,null,null,null,null,null,null,null,null,null,50,null,null,null,null,17.717965136690001,27.467965136690001,null,null,null,"Tyrrell County",null,null,null,null,null,null,null,null,null,null,null,null,null,0.17,null,null,null,null,null,null,null,null,null,null,538,null,null,null,null,null,null,null,null,null,null,null,null,null,null,null,null,null,null,null,null,null,null,null,null,null,null,null,null,null,80000,0,null,100000,0,559913]
["B141940","Currituck","Albemarle RPO","Bike & Ped","Division Needs",null,"Currituck Multi-Use","Ocean Sands(K)","Seabird Way","Construct Multi-use path","2. Construct multi-use trail / greenway / sidepath or on-road bike lane on local roadway",460000,null,null,null,null,null,null,13.102509516759566,13.5,null,"N/A",null,22616.647819460151,null,null,"Yes",null,null,null,null,0,0,15,10,"Yes",15,"Minimal",10,"Yes",0,"No",0,"No",null,null,25,null,null,null,null,null,null,null,null,"Albemarle RPO",null,null,null,null,null,null,null,null,null,null,null,null,50,null,null,null,null,13.102509516759566,26.602509516759568,null,null,null,"Currituck County",null,null,null,null,null,null,null,null,null,null,null,null,null,4.7300000000000004,null,null,null,null,null,null,null,null,null,null,{"$f":"43*0.1","v":4.3},null,null,null,null,null,null,null,null,null,null,null,null,null,null,null,null,null,null,null,null,null,null,null,null,null,null,null,null,null,400000,0,null,460000,0,460000]
["B141963","Currituck","Albemarle RPO","Bike & Ped","Division Needs",null,"Corolla multi-use path","Ocean Sands Section A","Yaupon Lane/Old Stoney Road","Oceans Sands section A (.1 mile south of Ocean Way) to Yaupon Lane/Old stoney Road","2. Construct multi-use trail / greenway / sidepath or on-road bike lane on local roadway",400000,null,null,null,null,null,null,12.852200094756203,13.5,null,"N/A",null,126984.126984127,null,null,"Yes",null,null,null,null,0,0,15,10,"Yes",15,"Minimal",10,"Yes",0,"No",0,"No",null,null,25,null,null,null,null,null,null,null,null,"Albemarle RPO",null,null,null,null,null,null,null,null,null,null,null,null,50,null,null,null,null,12.852200094756203,26.352200094756203,null,null,null,"Currituck County",null,null,null,null,null,null,null,null,null,null,null,null,null,0.7,null,null,null,null,null,null,null,null,null,null,{"$f":"45*0.1","v":4.5},null,null,null,null,null,null,null,null,null,null,null,null,null,null,null,null,null,null,null,null,null,null,null,null,null,null,null,null,null,380000,0,null,400000,0,400000]
["B141961","Currituck","Albemarle RPO","Bike & Ped","Division Needs",null,"Corolla multi-use path","Ocean Sands section c","Ocean Sands section A","Ocean Sands Section C, .5 miles south of Sandhill Ln. to .1 miles south of Ocean Way.","2. Construct multi-use trail / greenway / sidepath or on-road bike lane on local roadway",420000,null,null,null,null,null,null,12.73396082381764,13.5,null,"N/A",null,190217.39130434778,null,null,"Yes",null,null,null,null,0,0,15,10,"Yes",15,"Minimal",10,"Yes",0,"No",0,"No",null,null,25,null,null,null,null,null,null,null,null,"Albemarle RPO",null,null,null,null,null,null,null,null,null,null,null,null,50,null,null,null,null,12.73396082381764,26.23396082381764,null,null,null,"Currituck County",null,null,null,null,null,null,null,null,null,null,null,null,null,0.46,null,null,null,null,null,null,null,null,null,null,{"$f":"48*0.1","v":4.8000000000000007},null,null,null,null,null,null,null,null,null,null,null,null,null,null,null,null,null,null,null,null,null,null,null,null,null,null,null,null,null,400000,380000,null,800000,0,420000]
["B141774","Dare","Albemarle RPO","Bike & Ped","Division Needs",null,"NC 12 Duck","Cook Drive","Ships Watch Drive","Construct Sidewalk and extend share use path","5. Construct Sidewalk",290800,null,null,null,null,null,null,12.669319420463816,13.5,null,"N/A",null,7133.0455259026676,null,null,"Yes",null,null,null,null,0,0,15,10,"Yes",15,"Minimal",10,"Yes",0,"No",0,"No",null,null,25,null,null,null,null,null,null,null,null,"Albemarle RPO",null,null,null,null,null,null,null,null,null,null,null,null,50,null,null,null,null,12.669319420463816,26.169319420463815,null,null,null,"Dare County",null,null,null,null,null,null,null,null,null,null,null,null,null,2.08,null,null,null,null,null,null,null,null,null,null,{"$f":"196*0.1","v":19.600000000000001},null,null,null,null,null,null,null,null,null,null,null,null,null,null,null,null,null,null,null,null,null,null,null,null,null,null,null,null,null,370000,0,null,426000,135200,290800]
["B141780","Dare","Albemarle RPO","Bike & Ped","Division Needs",null,"Colington Road Path",".3 miles west Baum St","Bridge","Construct Multi use path","2. Construct multi-use trail / greenway / sidepath or on-road bike lane on local roadway",410000,null,null,null,null,null,null,13.321441426829745,9.75,null,"N/A",null,14204.545454545452,null,null,"Yes",null,null,null,null,0,0,15,10,"Yes",15,"Minimal",10,"Yes",0,"No",0,"No",null,null,12.5,null,null,null,null,null,null,null,null,"Albemarle RPO",null,null,null,null,null,null,null,null,null,null,null,null,50,null,null,null,null,13.321441426829745,23.071441426829743,null,null,null,"Dare County",null,null,null,null,null,null,null,null,null,null,null,null,null,0.32,null,null,null,null,null,null,null,null,null,null,{"$f":"902*0.1","v":90.2},null,null,null,null,null,null,null,null,null,null,null,null,null,null,null,null,null,null,null,null,null,null,null,null,null,null,null,null,null,310000,0,null,410000,0,410000]
["B141755","Camden","Albemarle RPO","Bike & Ped","Division Needs",null,"Main St.","US 17","SR 1243-Mullen Drive","Widen existing pavement","2. Construct multi-use trail / greenway / sidepath or on-road bike lane on local roadway",345000,null,null,null,null,null,null,13.997229630050075,8.25,null,"N/A",null,76968.816067653272,null,null,"Yes",null,null,null,null,0,0,15,10,"Yes",15,"Minimal",10,"Yes",0,"No",0,"No",null,null,25,null,null,null,null,null,null,null,null,"Albemarle RPO",null,null,null,null,null,null,null,null,null,null,null,null,50,null,null,null,null,13.997229630050075,22.247229630050075,null,null,null,"Camden County",null,null,null,null,null,null,null,null,null,null,null,null,null,1.056,null,null,null,null,null,null,null,null,null,null,{"$f":"129*0.1","v":12.9},null,null,null,null,null,null,null,null,null,null,null,null,null,null,null,null,null,null,null,null,null,null,null,null,null,null,null,null,null,300000,0,null,345000,0,1048500]
["B141362","Dare","Albemarle RPO","Bike & Ped","Division Needs",null,"US 158","Gulfstream Road","Gull Street","Construct sidewalk from Gulfstream Road to Gull Street","2. Construct multi-use trail / greenway / sidepath or on-road bike lane on local roadway",415000,null,null,null,null,null,null,11.799247349397591,9.75,null,"N/A",null,312132.35294117645,null,null,"Yes",null,null,null,null,0,0,15,10,"Yes",15,"Minimal",10,"Yes",0,"No",0,"No",null,null,25,null,null,null,null,null,null,null,null,"Albemarle RPO",null,null,null,null,null,null,null,null,null,null,null,null,50,null,null,null,null,11.799247349397591,21.549247349397589,null,null,null,"Dare County",null,null,null,null,null,null,null,null,null,null,null,null,null,0.48,null,null,null,null,null,null,null,null,null,null,{"$f":"170*0.1","v":17},null,null,null,null,null,null,null,null,null,null,null,null,null,null,null,null,null,null,null,null,null,null,null,null,null,null,null,null,null,400000,0,null,415000,0,2547000]
["B141762","Dare","Albemarle RPO","Bike & Ped","Division Needs",null,"Nags Head Multi use Path","Gull Street","Grouse St.","Construct Multi use Path","2. Construct multi-use trail / greenway / sidepath or on-road bike lane on local roadway",437000,null,null,null,null,null,null,11.368879191733225,9.75,null,"N/A",null,340460.52631578944,null,null,"Yes",null,null,null,null,0,0,15,10,"Yes",15,"Minimal",10,"Yes",0,"No",0,"No",null,null,25,null,null,null,null,null,null,null,null,"Albemarle RPO",null,null,null,null,null,null,null,null,null,null,null,null,50,null,null,null,null,11.368879191733225,21.118879191733225,null,null,null,"Dare County",null,null,null,null,null,null,null,null,null,null,null,null,null,0.32,null,null,null,null,null,null,null,null,null,null,{"$f":"190*0.1","v":19},null,null,null,null,null,null,null,null,null,null,null,null,null,null,null,null,null,null,null,null,null,null,null,null,null,null,null,null,null,380000,0,null,437000,0,2070000]
["B141776","Dare","Albemarle RPO","Bike & Ped","Division Needs",null,"Colington Road","SR 1452",".3 miles west","Construct Multi use path","2. Construct multi-use trail / greenway / sidepath or on-road bike lane on local roadway",400000,null,null,null,null,null,null,10.899780568313751,9.75,null,"N/A",null,16479.215589337946,null,null,"Yes",null,null,null,null,0,0,15,10,"Yes",15,"Minimal",10,"Yes",0,"No",0,"No",null,null,12.5,null,null,null,null,null,null,null,null,"Albemarle RPO",null,null,null,null,null,null,null,null,null,null,null,null,50,null,null,null,null,10.899780568313751,20.649780568313751,null,null,null,"Dare County",null,null,null,null,null,null,null,null,null,null,null,null,null,0.27,null,null,null,null,null,null,null,null,null,null,{"$f":"899*0.1","v":89.9},null,null,null,null,null,null,null,null,null,null,null,null,null,null,null,null,null,null,null,null,null,null,null,null,null,null,null,null,null,300000,0,null,400000,0,400000]
["B141954","Dare","Albemarle RPO","Bike & Ped","Division Needs",null,"NC 12-Hatteras-II","SR 1237",".8 miles south","Construct curb & gutter /Sidewalk","5. Construct Sidewalk",370000,null,null,null,null,null,null,10.804722947171893,9.75,null,"N/A",null,11725.186969197615,null,null,"Yes",null,null,null,null,0,0,15,10,"Yes",15,"Minimal",10,"Yes",0,"No",0,"No",null,null,5,null,null,null,null,null,null,null,null,"Albemarle RPO",null,null,null,null,null,null,null,null,null,null,null,null,50,null,null,null,null,10.804722947171893,20.554722947171893,null,null,null,"Dare County",null,null,null,null,null,null,null,null,null,null,null,null,null,0.49,null,null,null,null,null,null,null,null,null,null,{"$f":"644*0.1","v":64.400000000000006},null,null,null,null,null,null,null,null,null,null,null,null,null,null,null,null,null,null,null,null,null,null,null,null,null,null,null,null,null,320000,145000,null,515000,0,370000]
["B141947","Dare","Albemarle RPO","Bike & Ped","Division Needs",null,"NC 12-Hatteras","Bridge","SR 1237","Construct curb & gutter and sidewalk","5. Construct Sidewalk",406000,null,null,null,null,null,null,10.502334790371034,9.75,null,"N/A",null,8369.4083694083693,null,null,"Yes",null,null,null,null,0,0,15,10,"Yes",15,"Minimal",10,"Yes",0,"No",0,"No",null,null,5,null,null,null,null,null,null,null,null,"Albemarle RPO",null,null,null,null,null,null,null,null,null,null,null,null,50,null,null,null,null,10.502334790371034,20.252334790371034,null,null,null,"Dare County",null,null,null,null,null,null,null,null,null,null,null,null,null,0.77,null,null,null,null,null,null,null,null,null,null,{"$f":"630*0.1","v":63},null,null,null,null,null,null,null,null,null,null,null,null,null,null,null,null,null,null,null,null,null,null,null,null,null,null,null,null,null,356000,162000,null,568000,0,406000]
["B141791","Camden","Albemarle RPO","Bike & Ped","Division Needs",null,"SR 1215","US 17","US 17","Construct Sidewalk on roads south side of US 17","5. Construct Sidewalk",370000,null,null,null,null,null,null,11.62296046708027,8.25,null,"N/A",null,14192.558496355963,null,null,"Yes",null,null,null,null,0,0,15,10,"Yes",15,"Minimal",10,"Yes",0,"No",0,"No",null,null,5,null,null,null,null,null,null,null,null,"Albemarle RPO",null,null,null,null,null,null,null,null,null,null,null,null,50,null,null,null,null,11.62296046708027,19.872960467080269,null,null,null,"Camden County",null,null,null,null,null,null,null,null,null,null,null,null,null,0.79,null,null,null,null,null,null,null,null,null,null,{"$f":"330*0.1","v":33},null,null,null,null,null,null,null,null,null,null,null,null,null,null,null,null,null,null,null,null,null,null,null,null,null,null,null,null,null,320000,0,null,370000,0,370000]
["B141860","Dare","Albemarle RPO","Bike & Ped","Division Needs",null,"Twiford Street","Twiford Street","The Woods Road","Connect existing The Woods Road and Twiford Street multi-use paths","2. Construct multi-use trail / greenway / sidepath or on-road bike lane on local roadway",162000,null,null,null,null,null,null,10.153627313669816,7.5,null,"N/A",null,35495.179666958808,null,null,"Yes",null,null,null,null,0,0,15,10,"Yes",15,"Minimal",10,"Yes",0,"No",0,"No",null,null,12.5,null,null,null,null,null,null,null,null,"Albemarle RPO",null,null,null,null,null,null,null,null,null,null,null,null,50,null,null,null,null,10.153627313669816,17.653627313669816,null,null,null,"Dare County",null,null,null,null,null,null,null,null,null,null,null,null,null,7.0000000000000007E-2,null,null,null,null,null,null,null,null,null,null,{"$f":"652*0.1","v":65.2},null,null,null,null,null,null,null,null,null,null,null,null,null,null,null,null,null,null,null,null,null,null,null,null,null,null,null,null,null,152000,0,null,162000,0,162000]
["B141955","Chowan","Albemarle RPO","Bike & Ped","Division Needs",null,"Edenton Multi-use path","Twiddy Avenue","Chowan River fising pier","Connect path where existing sidewalk stops near Twiddy Ave. and extend towards Pembroke to the west side of town, connecting  residential subdivisions and over the US 17 bypass overpass, terminating at the new Chowan River fishing pier. (Phase 2)","2. Construct multi-use trail / greenway / sidepath or on-road bike lane on local roadway",400000,null,null,null,null,null,null,5.4141769778944999,3.75,null,"N/A",null,38986.354775828462,null,null,"Yes",null,null,null,null,0,0,15,10,"Yes",15,"Minimal",10,"Yes",0,"No",0,"No",null,null,12.5,null,null,null,null,null,null,null,null,"Albemarle RPO",null,null,null,null,null,null,null,null,null,null,null,null,50,null,null,null,null,5.4141769778944999,9.164176977894499,null,null,null,"Chowan County",null,null,null,null,null,null,null,null,null,null,null,null,null,0.15,null,null,null,null,null,null,null,null,null,null,{"$f":"684*0.1","v":68.400000000000006},null,null,null,null,null,null,null,null,null,null,null,null,null,null,null,null,null,null,null,null,null,null,null,null,null,null,null,null,null,380000,0,null,400000,0,400000]
["H129070-B","Dare","Albemarle RPO","Highway","Statewide Mobility","R-2545B","US-64 ","West of Alligator River","East of SR 1153 (Old Ferry Landing Road)","Widen to Multi-Lanes and construct new multi-lane bridge","1 - Widen Existing Roadway",209520000,8.7940938845902572,null,10.91,{"$f":"(V178+W178+Y178+Z178+AB178+AD178)","v":55},6.3,{"$f":"O178+P178+Q178","v":72.209999999999994},8.11,9,null,{"$f":"IF(AU178<30,0,IF(AU178<50,5,IF(AU178<65,10,IF(AU178>66,15))))","v":5},{"$f":"IF(X178<499,15,IF(X178<999,10,IF(X178<1499,5,IF(X178>1500,0))))","v":0},{"$f":"(EI178/CZ178)/CO178","v":29096.895469661078},{"$f":"IF(DD178<500,0,IF(DD178<1000,5,IF(DD178>1000,10)))","v":0},{"$f":"IF(AA178=\"Yes\",20,0)","v":20},"Yes",{"$f":"IF(AC178=\"Yes\",10,0)","v":10},"Yes",{"$f":"IF(AE178=\"Yes\",20,0)","v":20},"Yes",{"$f":"IF(AU178<30,0,IF(AU178<50,5,IF(AU178<65,10,IF(AU178<79,15,IF(AU178>80,20)))))","v":5},{"$f":"IF(X178<999,20,IF(X178<1499,15,IF(X178<1999,10,IF(X178<3999,5,IF(X178>4000,0)))))","v":0},{"$f":"IF(AA178=\"Yes\",15,0)","v":15},10,"No",{"$f":"IF(AL178=\"Minimal\",15,0)","v":15},"Minimal",{"$f":"IF(AN178=\"Yes\",10,0)","v":10},"Yes",{"$f":"IF(AP178=\"Yes\",10,0)","v":0},"No",{"$f":"IF(AR178=\"Yes\",10,0)","v":0},"No",14.270585729083869,1.1163993890798015E-3,41.794293499331999,1.6490928707611838,3.3353219629360747E-2,16.910134090666666,25,0,null,null,null,"Albemarle RPO",100,"","","","","01",100,"","","","",{"$f":"SUM(V178+W178+Y178+Z178+AB178+AD178)","v":55},{"$f":"SUM(AF178+AG178+AH178+AI178+AK178+AM178+AO178+AQ178)","v":55},null,null,null,null,8.11,null,"Exceeds cap of $15 million for Statewide & Regional Projects cascading to Division Needs",{"$f":"O178+BT178*0.25","v":10.91},null,"Dare",100,"","","","","","",1,"A","01, , ","Albemarle RPO, , ","Dare, , , ",2.1550796399999999,2.1550796399999999,"Two Lane Highway","Multi-Lane Highway",1,2,"Undivided","Divided",55,55,9.8709647777421008,90.129035222257897,3341.3002839999999,15500,0.21556776025806451,3011.4817098477629,329.81857415223675,9203.9757762141344,1008.0227806517644,10211.998556865899,233908,51.108556550000003,38.599637540000003,35.687225949999998,"","",0,6.6706439258721495E-7,"No","No",12,12,"No",0,0,"2 Lane Undivided","4A - 4 Lane Divided (46' Depressed Median) with Paved Shoulders","None","Partial",2,"Yes",24,208200000,1220000,100000,209520000,"",209520000,209520000,""]
["H090124-A","Dare","Albemarle RPO","Highway","Statewide Mobility","R-2544A","US-64 ","East of SR 1153 (Old Ferry Landing Road)","West of SR 1102 (East Lake Road)","Widen to Multi-Lanes.","1 - Widen Existing Roadway",15800000,6.9067768278857349,null,6.2094234301841915,{"$f":"(V179+W179+Y179+Z179+AB179+AD179)","v":50},6.3,{"$f":"O179+P179+Q179","v":62.509423430184185},4.1396156201227949,9,null,{"$f":"IF(AU179<30,0,IF(AU179<50,5,IF(AU179<65,10,IF(AU179>66,15))))","v":0},{"$f":"IF(X179<499,15,IF(X179<999,10,IF(X179<1499,5,IF(X179>1500,0))))","v":0},2473.1357746167182,{"$f":"IF(DD179<500,0,IF(DD179<1000,5,IF(DD179>1000,10)))","v":0},{"$f":"IF(AA179=\"Yes\",20,0)","v":20},"Yes",{"$f":"IF(AC179=\"Yes\",10,0)","v":10},"Yes",{"$f":"IF(AE179=\"Yes\",20,0)","v":20},"Yes",0,5,15,10,"No",15,"Minimal",10,"Yes",0,"No",0,"No",12.385806333013942,0,29.010349868214,1.4499997058007565,0,15.733332549333333,0,0,null,null,null,"Albemarle RPO",100,"","","","","01",100,"","","","",{"$f":"SUM(V179+W179+Y179+Z179+AB179+AD179)","v":50},55,null,null,null,null,4.1396156201227949,null,"Exceeds cap of $15 million for Statewide & Regional Projects cascading to Division Needs",{"$f":"O179+BT179*0.25","v":6.2094234301841915},null,"Dare",100,"","","","","","",1,"A","01, , ","Albemarle RPO, , ","Dare, , , ",2.2029831400000002,2.2029831400000002,"Two Lane Highway","Multi-Lane Highway",1,2,"Undivided","Divided",55,55,9.9999989848327004,90.0000010151673,2899.9997060000001,15499.99843,0.18709677417689907,2609.9997648398489,289.99994116015131,0,0,0,0,46.148892490000001,0,40.890861090000001,"","",0,0,"No","No",12,12,"No",0,0,"2 Lane Undivided","4A - 4 Lane Divided (46' Depressed Median) with Paved Shoulders","None","Partial",2,"Yes",24,14700000,1030000,70000,15800000,"",15800000,15800000,""]
["H129208","Northampton","Peanut Belt RPO","Highway","Statewide Mobility","","I-95 ","Halifax/Northampton County Line","Virginia State Line","Widen Roadway to 6 Lanes.","1 - Widen Existing Roadway",301845000,28.416150288621655,null,16.180642213015471,{"$f":"(V180+W180+Y180+Z180+AB180+AD180)","v":60},null,{"$f":"O180+P180+Q180","v":76.180642213015474},10.783881430066547,null,null,{"$f":"IF(AU180<30,0,IF(AU180<50,5,IF(AU180<65,10,IF(AU180>66,15))))","v":10},{"$f":"IF(X180<499,15,IF(X180<999,10,IF(X180<1499,5,IF(X180>1500,0))))","v":5},1106.3946563455881,{"$f":"IF(DD180<500,0,IF(DD180<1000,5,IF(DD180>1000,10)))","v":10},{"$f":"IF(AA180=\"Yes\",15,0)","v":15},"Yes",{"$f":"IF(AC180=\"Yes\",10,0)","v":10},"Yes",{"$f":"IF(AE180=\"Yes\",10,0)","v":10},"Yes",10,{"$f":"IF(BM178<999,20,IF(BM178<1499,15,IF(BM178<1999,10,IF(BM178<3999,5,IF(BM178>4000,0)))))","v":0},15,0,"Yes",15,"Minimal",10,"Yes",0,"No",0,"No",47.900877747680426,9.640135831304146E-2,59.841535194671998,38.259352094788944,3.8094261839862646,40.362556689999998,0,0,null,null,null,"Peanut Belt RPO",100,"","","","","01",100,"","","04","",{"$f":"SUM(V180+W180+Y180+Z180+AB180+AD180)","v":60},50,null,null,null,null,10.783881430066547,null,"Exceeds cap of $15 million for Statewide & Regional Projects cascading to Division Needs",{"$f":"O180+BT180*0.25","v":16.180642213015471},null,"Northampton",100,"","","Halifax","","","",1,"A","01, , 04","Peanut Belt RPO, , ","Northampton, , Halifax, ",7.5027332400000004,7.5027332400000004,"Freeway","Freeway",2,3,"Divided","Divided",70,70,21.0432684483435,78.956731551656503,36362.556689999998,65408.408710000003,0.55593091786134041,28710.68627104221,7651.8704189577884,960106.99302050809,255884.31532331507,1215991.3083438231,29098268,57.640053430000002,53.200470930000002,68.702035480000006,"","",19,5.7188523679725298E-5,"No","No",12,12,"No",11,10,"4 Lane with Median - Full Control","6A - 6 Lane Divided (46' Depressed Median) with Paved Shoulders","Full","Full",1,"No",22,300960000,790000,95000,301845000,"",301845000,301845000,""]
["H141739","Bertie","Peanut Belt RPO","Highway","Statewide Mobility","","US-17 ","US 17A East of Windsor","South end of Chowan River Bridge","Upgrade roadway to Interstate","2 - Upgrade Arterial to Freeway/Expressway",120801000,5.0079009635828404,null,4.04,{"$f":"(V181+W181+Y181+Z181+AB181+AD181)","v":45},null,{"$f":"O181+P181+Q181","v":49.04},3.52,null,null,{"$f":"IF(AU181<30,0,IF(AU181<50,5,IF(AU181<65,10,IF(AU181>66,15))))","v":0},{"$f":"IF(X181<499,15,IF(X181<999,10,IF(X181<1499,5,IF(X181>1500,0))))","v":0},1916.4046364329799,{"$f":"IF(DD181<500,0,IF(DD181<1000,5,IF(DD181>1000,10)))","v":10},{"$f":"IF(AA181=\"Yes\",15,0)","v":15},"Yes",{"$f":"IF(AC181=\"Yes\",10,0)","v":10},"Yes",{"$f":"IF(AE181=\"Yes\",10,0)","v":10},"Yes",0,{"$f":"IF(X181<999,20,IF(X181<1499,15,IF(X181<1999,10,IF(X181<3999,5,IF(X181>4000,0)))))","v":10},15,0,"Yes",15,"Minimal",10,"Yes",0,"No",0,"No",9.7962399411793832,0.37251017789587837,0,6.6047609105597012,6.3632374574832147,42.364117748521622,0,25,null,null,null,"Peanut Belt RPO",100,"","","","","01",100,"","","","",{"$f":"SUM(V181+W181+Y181+Z181+AB181+AD181)","v":45},50,null,null,null,null,3.52,null,"Exceeds cap of $15 million for Statewide & Regional Projects cascading to Division Needs",{"$f":"O181+BT181*0.25","v":4.04},null,"Bertie",100,"","","","","","",1,"A","01, , ","Peanut Belt RPO, , ","Bertie, , , ",7.7616468999999997,7.7616468999999997,"Multi-Lane Highway","Freeway",2,2,"Divided","Divided",55.000291984953797,70,16.265134601790702,83.734865398209294,8121.3725828405404,74420.488354429806,0.10912818180071945,6800.4204007285998,1320.9521821119401,1603998.7142052867,311569.79668598284,1915568.5108912694,44999602,0,0,0,"","",29.776517950539802,9.7488231199124501E-5,"No","No",12,12,"No",3,4,"4 Lane with Median - Partial Control","4A - 4 Lane Divided (46' Depressed Median) with Paved Shoulders","None","Full",1,"Yes",29,94540000,23447000,2814000,120801000,"",120801000,120801000,""]
["H141220","Perquimans","Albemarle RPO","Highway","Division Needs","","SR-1200 ","NC 37","SR 1213","Widen and repave Perry's Bridge Road","16 - Modernize Roadway",1487000,null,null,null,null,null,null,7.89,4.5,null,"N/A",null,9466.3921313637402,null,null,"Yes",null,null,null,null,0,{"$f":"IF(X182<999,20,IF(X182<1499,15,IF(X182<1999,10,IF(X182<3999,5,IF(X182>4000,0)))))","v":0},15,10,"No",{"$f":"IF(AL182=\"Minimal\",15,0)","v":15},"Minimal",10,"Yes",0,"No",0,"No",0.38438709677419353,0,3.5375503362540002,0,"N/A","N/A",75,0,null,null,null,"Albemarle RPO",100,"","","","","01",100,"","","","",null,50,null,null,null,null,7.89,null,"Project Not Competitive",null,null,"Perquimans",100,"","","","","","",1,"A","01, , ","Albemarle RPO, , ","Perquimans, , , ",1.7453557799999999,1.7453557799999999,"Two Lane Highway","Two Lane Highway",1,1,"Undivided","Undivided",55,55,0,100,90,15500,5.8064516129032262E-3,90,0,0,0,0,0,7.0511415900000003,0,3.5625707900000001,"","","","","No","No",9,12,"No",0,0,"2 Lane Undivided","3A - 2 Lane with Two Way Left Turn Lane, and Paved Shoulders","None","None",2,"No",30,1487000,0,0,1487000,"",1487000,1487000,""]
["H090305","Washington","Albemarle RPO","Highway","Division Needs","R-4909","- New Route","SR 1126 (Newland Road)","SR 1125 (Millpond Road)","Construct Two Lane Facility on New Location.","5 - Construct Roadway on New Location",3830000," ",null," ",null,null,null,1.7543918552372901,6,null,"N/A",null,5466.922175852761,null,null,"Yes",null,null,null,null,0,{"$f":"IF(X183<999,20,IF(X183<1499,15,IF(X183<1999,10,IF(X183<3999,5,IF(X183>4000,0)))))","v":0},15,10,"No",{"$f":"IF(AL183=\"Minimal\",15,0)","v":15},"Minimal",10,"Yes",0,"No",0,"No",2.661746009269887,1.3004642297650131,13.581708313338,0,"N/A","N/A",0,0,null,null,null,"Albemarle RPO",100,"","","","","01",100,"","","","",null,50,null,null,null,null,1.7543918552372901,null,"Project Not Competitive",null,null,"Washington",100,"","","","","","",1,"A","01, , ","Albemarle RPO, , ","Washington, , , ",3.2,1.11833022,"Two Lane Highway","Two Lane Highway",1,1,"Undivided","Undivided",48,55,0,100,626.44914619999997,15588.69995,4.0186105846498121E-2,626.44914619999997,0,226398.99803106303,0,226398.99803106303,4980778,11.35602182,15.8078866,13.585291440000001,"","","","","No","No",11,11,"No",0,0,"New Roadway","2A - 2 Lane Undivided with Paved Shoulders, 55 mph","None","None",1,"No",32,3762000,61000,7000,3830000,"",3830000,3830000,""]
["H129515","Currituck","Albemarle RPO","Highway","Statewide Mobility","R-2576","- New Location Mid-Currituck Bridge","Coinjock","Corolla","Construct New Bridge Over Currituck Sound","5 - Construct Roadway on New Location",173304000,23.342830564038344,null,15.726629282408148,{"$f":"(V184+W184+Y184+Z184+AB184+AD184)","v":60},6.3,{"$f":"O184+P184+Q184","v":82.026629282408138},11.853563286896481,9,null,{"$f":"IF(AU184<30,0,IF(AU184<50,5,IF(AU184<65,10,IF(AU184>66,15))))","v":5},{"$f":"IF(X184<499,15,IF(X184<999,10,IF(X184<1499,5,IF(X184>1500,0))))","v":0},2285.8539293439476,{"$f":"IF(DD184<500,0,IF(DD184<1000,5,IF(DD184>1000,10)))","v":5},{"$f":"IF(AA184=\"Yes\",20,0)","v":20},"Yes",{"$f":"IF(AC184=\"Yes\",10,0)","v":10},"Yes",{"$f":"IF(AE184=\"Yes\",20,0)","v":20},"Yes",5,{"$f":"IF(BM182<999,20,IF(BM182<1499,15,IF(BM182<1999,10,IF(BM182<3999,5,IF(BM182>4000,0)))))","v":0},15,{"$f":"IF(AJ184=\"Yes\",10,0)","v":0},"No",{"$f":"IF(AL184=\"Minimal\",15,0)","v":15},"Minimal",10,"Yes",0,"No",0,"No",18.793795397608299,8.9256870412685227,40.816150430087994,4.7268539468324926,100,15.360235206666667,25,25,null,null,null,"Albemarle RPO",100,"","","","","01",100,"","","","",{"$f":"SUM(V184+W184+Y184+Z184+AB184+AD184)","v":60},45,null,null,null,null,11.853563286896481,null,"Exceeds cap of $15 million for Statewide & Regional Projects cascading to Division Needs",{"$f":"O184+BT184*0.25","v":15.726629282408148},null,"Currituck",100,"","","","","","",1,"A","01, , ","Albemarle RPO, , ","Currituck, , , ",43.4,6.8671598999999999,"Multi-Lane Highway","Two Lane Highway",2,1,"Undivided","Undivided",48,55,8.5628675608103002,91.437132439189696,11040.35281,46072.965450000003,0.23962757122680498,10094.982020633501,945.37078936649846,62075426.132216401,5813214.3755113408,67888640.507727742,1546857267,39.093044159999998,53.593429299999997,29.774223899999999,"","",2016,5.7389172778583896E-3,"No","No",11,12,"No",3,4,"New Roadway","2A - 2 Lane Undivided with Paved Shoulders, 55 mph","None","None",2,"No",24,383281000,25592000,1947000,410820000,237516000,173304000,173304000,"Toll Revenue less Roadway Maintenance and Financing"]
["H090442","Dare","Albemarle RPO","Highway","Statewide Mobility","U-3815","US-64 ","US 64 Business/NC 345","","US 64-US 64 Bypass-NC 345.  Improve intersection.","10 - Improve Intersection",1550000,26.823169613838097,null,21.9385617456722,{"$f":"(V185+W185+Y185+Z185+AB185+AD185)","v":60},5.85,{"$f":"O185+P185+Q185","v":87.788561745672197},13.654173443351365,9,null,{"$f":"IF(AU185<30,0,IF(AU185<50,5,IF(AU185<65,10,IF(AU185>66,15))))","v":15},{"$f":"IF(X185<499,15,IF(X185<999,10,IF(X185<1499,5,IF(X185>1500,0))))","v":15},139.0264115479155,{"$f":"IF(DD185<500,0,IF(DD185<1000,5,IF(DD185>1000,10)))","v":10},{"$f":"IF(AA185=\"Yes\",20,0)","v":20},"Yes",{"$f":"IF(AC185=\"Yes\",10,0)","v":0},"No",{"$f":"IF(AE185=\"Yes\",20,0)","v":0},"No",20,{"$f":"IF(BM183<999,20,IF(BM183<1499,15,IF(BM183<1999,10,IF(BM183<3999,5,IF(BM183>4000,0)))))","v":0},15,{"$f":"IF(AJ185=\"Yes\",10,0)","v":0},"No",{"$f":"IF(AL185=\"Minimal\",15,0)","v":0},"Significant",{"$f":"AQ185","v":0},"No",0,"No",0,"No",24.045702820610419,29.146031612903226,83.35,8.2540013041944356,8.7984902294512004,14.865280946666667,0,0,null,null,null,"Albemarle RPO",100,"","","","","01",100,"","","","",{"$f":"SUM(V185+W185+Y185+Z185+AB185+AD185)","v":60},35,null,null,null,null,13.654173443351365,null,"Minimal Local Support",{"$f":"O185+BT185*0.25","v":21.9385617456722},null,"Dare",100,"","","","","","",1,"A","01, , ","Albemarle RPO, , ","Dare, , , ",0.5,0.5,"Multi-Lane Highway","Multi-Lane Highway",2,2,"Undivided","Undivided",52.507045460133803,55,7.4033818208643005,92.596618179135703,22297.921419999999,88445.592550000001,0.25210890421017368,20647.121159161114,1650.800260838887,1844524.6341283831,147475.36587161687,1992000,45176349,"","","",66.7,100,33,1.4296980458902399E-4,"No","No",12,12,"No",4,4,"2 Lane Undivided","","Limited","Partial",2,"No",14.753019576345601,1250000,300000,0,1550000,"",1550000,1550000,""]
[null,null,null,null,null,null,null,null,null,null,null,null,null,null,null,null,null,null,null,null,null,null,null,null,null,null," ",null,null,null,null,null,null,0,null,null,null,null,null," "]

{"sheet":"Division Needs-Ferry","index":5,"n_rows":186,"n_cols":141,"rows_kept":186,"cut":false,"hidden":false,"merged":[[1,4,1,45],[5,0,5,4],[5,6,5,40],[5,72,5,77],[6,21,6,30],[6,31,6,43]]}
[]
[null,null,null,null," "]
[]
[null,null,null,null,null,null,null,null,null,"Projects in blue are fully funded for construction and not eligible for local input point assignment ",null,"*Projects over $200M may be subject to the corridor cap",null,null,null,null,null,null,null,null,null,null,null,null,null,null,null,null,null,null,null,null,null,null,null,null,null,null,null,null,null,null,null,null,null,null,null,null,null,null,null,null,null,null,null,null,null,null,null,null,null,null,null,null,null,null,null,null,null,null,null,null,null,null,null,null,null,null,null,null,null,null,null,null,null,null,null,null,null,null,null,null,null,null,null,null,null,null,null,null,null,null,null,null,null,null,null,null,null,null,null,null,null,null,null,null,null,null,null,null,null,null,null,null,null,null,null,null,null,null,null,null,null,null,null,null,null,null,"*Projects over $200M may be subject to the corridor cap"]
[]
["DRAFT",null,null,null,null,null,"Division One Division Needs Point Assignment-Ferry",null,null,null,null,null,null,null,null,null,null,null,null,null,null,null,null,null,null,null,null,null,null,null,null,null,null,null,null,null,null,null,null,null,null,null,null,null,null,null,null,null,null,null,null,null,null,null,null,null,null,null,null,null,null,null,null,null,null,null,null,null,null,null,null,null,"DRAFT"]
[null,null,null,null,null,null,null,null,null,null,null,null,null,null,null,null,null,null,null,null,null,"Regional Criteria",null,null,null,null,null,null,null,null,null,"Division Needs"]
["SPOT ID","County","RPO","MODE","Project Category","TIP","Route","From / Cross Street","To","Description","Specific Improvement Type","Cost to NCDOT","Statewide Mobility Quantiative Score\n(Out of 100)",null,"Regional Impact Quantiative Score\n(Out of 70)","Division Methodology Preliminary Ranking","Regional Impact RPO Score (Out of 15)","Total Regional Score(Out of 100)","Division Needs Quantiative Score\n(Out of 50)","Division Needs RPO Score (Out of 25)",null,"Safety Score (15pts)","Cost Effectiveness Score (15pts)","Cost Effectiveness","Freight Volume Score                (10pts)","Transportation Plan Consistency Score (20pts)","Transportation Plan Consistency (Yes/No)","Corridor Continuity Score (20pts)","Corridor Continuity (Yes/No)","Public Support Score (20pts)","Public Support","Safety Score (20pts)","Cost Effectiveness (20pts)","Transportation Plan Consistency (15pts)","Multimodal Accomodations (10pts)","Multimodal (Yes/No)","Project Feasibility (15pts)","Project Feasibility (Significant/Minimal)","Public Support (10pts)","Public Support (Yes/No)","Airport Safety (5pts)","Airport Safety (Yes/No)","Transit Expansion (5pts)","Transit (Yes/No)","Congestion","[Travel Time] Benefit/Cost","Safety","Multimodal + [Freight & Military]","Economic Competitiveness","Accessibility / Connectivity","Lane Width","[Paved] Shoulder Width",null,null,null," MPO/RPO","First MPO/RPO %","Second MPO/RPO","Second MPO/RPO %","Third MPO/RPO","Third MPO/RPO %","First Division","First Division %","Second Division","Second Division %","Third Division","Third Division %","Divisin Methodology Preliminary Ranking","Division Methodology Preliminary Ranking","Preliminary Ranking","Preliminary Ranking","Division Engineer Local Points REGIONAL","Division Engineer Local Points DIVISION NEEDS","SPOT + Division Points","SPOT + Division + RPO                  (Out of 100)","Comments","SPOT + Division Points","Comments","County","First County %","Second County","Second County %","Third County","Third County %","Fourth County","Fourth County %","Highest Division","Funding Region","All Divisions","All MPOs/RPOs","All Counties","Existing Length (Miles)","Project Length (Miles)","Existing Facility Type","Project Facility Type","Existing Lanes Per Direction","Project Lanes Per Direction","Existing Median Type","Project Median Type","Existing Speed Limit","Project Speed Limit","Truck %","Auto %","Existing Volume","Existing Capacity","Existing Volume / Capacity Ratio","Auto Volume","Truck Volume","Travel Time Savings Over 30 Years Autos (Hrs)","Travel Time Savings Over 30 Years Trucks (Hrs)","Travel Time Savings Over 30 Years Total (Hrs)","Travel Time Savings Over 30 Years Total ($)","Crash Density Points Segment","Crash Severity Points Segment","Critical Crash Rate Points Segment","Crash Frequency Points Intersection","Severity Index Points Intersection","Long Term Employment","Percent Change In Value Added","Non-Interstate STRAHNet Route","Direct Connection to Transportation Terminal","Existing Lane Width","DOT Design Standard Lane Width","Existing Roadway Has Curb & Gutter","Existing Paved Shoulder Width","DOT Design Paved Shoulder Width","Existing Cross Section","Project Cross Section","Existing Access Control","Project Access Control","County Tier","Upgrade Roadway Eligible","Census Average Commute Time","Construction Cost","Right-Of-Way Cost","Utilities Cost","Actual Project Cost","Other Funds","Cost to NCDOT","Cost Used in Benefit/Cost Analysis","Other Funds Source"]
["T130121","Dare","Albemarle RPO","Transit","Division Needs",null,null,null,null,"Expansion Vehicle-Due to expected increased demand for public transportation within the community we would like to have a 13-passenger LTV as part of our fleet in FY 2018. For the period FY2011-FY2014, we have seen an approximate increase of 15% each year for demand, riders, and trips. This trend is expected to continue as the elderly population in the region increases.",null,6655,null,null,null,null,null,null,4.03,9.75,null,{"$f":"IF(AU9<30,0,IF(AU9<50,5,IF(AU9<65,10,IF(AU9>66,15))))","v":5},0,{"$f":"(EI9/CZ9)/CO9","v":1.4999485992069509E-6},0," ","Yes",{"$f":"IF(AC9=\"Yes\",10,0)","v":0},"No",{"$f":"IF(AE9=\"Yes\",10,0)","v":0},"No",{"$f":"IF(AU9<30,0,IF(AU9<50,5,IF(AU9<65,10,IF(AU9<79,15,IF(AU9>80,20)))))","v":5},{"$f":"IF(X9<999,20,IF(X9<1499,15,IF(X9<1999,10,IF(X9<3999,5,IF(X9>4000,0)))))","v":20},{"$f":"IF(AA9=\"Yes\",15,0)","v":15},{"$f":"IF(AJ9=\"Yes\",10,0)","v":10},"Yes",{"$f":"IF(AL9=\"Minimal\",15,0)","v":15},"Minimal",{"$f":"IF(AN9=\"Yes\",10,0)","v":10},"Yes",{"$f":"IF(AP9=\"Yes\",5,0)","v":0},"No",{"$f":"IF(AR9=\"Yes\",5,0)","v":5},"Yes",null,null,31.2,null,null,null,null,null,null,null,null,"Albemarle RPO",null,null,null,null,null,null,null,null,null,null,null,null,{"$f":"SUM(AF9+AG9+AH9+AI9+AK9+AM9+AO9+AQ9)","v":80},null,null,null,100,{"$f":"S9+BU9*0.25","v":29.03},null,null,null,null,"Dare",null,null,null,null,null,null,null,null,null,null,null,null,null,248868,null,null,null,null,null,null,null,null,null,null,17828,null,null,null,null,null,null,null,null,null,null,null,null,null,null,null,null,null,null,null,null,null,null,null,null,null,null,null,null,null,null,null,null,66550,null,6655,null,"Fed:$53,240                        Local:$6,655"]
["T130109","Martin","Mid-East RPO","Transit","Division Needs",null,null,null,null,"Expansion Vehicle-Martin County  Transit provides curb to curb public transportation service in a demand-response system.   Many of the riders are elderly and/or disabled that depend on Martin County Transit as his/her's only means of transportation to services and resources.   Martin County Transit works closely with Social Services to provide transportation for these vulnerable adults. ",null,6010," ",null," ",null,null,null,3.19,null,null,5,0,0,0," ","Yes",{"$f":"IF(AC10=\"Yes\",10,0)","v":0},"No",{"$f":"IF(AE10=\"Yes\",10,0)","v":0},"No",5,20,15,10,"Yes",15,"Minimal",10,"Yes",0,"No",5,"Yes",null,null,31.2,null,null,null,null,null,null,null,null,"Mid-East RPO",null,null,null,null,null,null,null,null,null,null,null,null,80,null,null,null,null,null,null,null,null,null,"Martin",null,null,null,null,null,null,null,null,null,null,null,null,null,33392,null,null,null,null,null,null,null,null,null,null,2280,null,null,null,null,null,null,null,null,null,null,null,null,null,null,null,null,null,null,null,null,null,null,null,null,null,null,null,null,null,null,null,null,60100,null,6010,null,"Fed:$48,080 Local:$6,010"]
["T130017","Pasquotank","Albemarle RPO","Transit","Regional Impact",null,null,null,null,"Expansion Vehicle-ARHS-ICPTA’s covers a little over 1000 square miles across five counties.  Our agency wants to purchase an expansion vehicle to meet client demand. ",null,8205,null,null,5.35,{"$f":"(V11+W11+Y11+Z11+AB11+AD11)","v":60},3.15,{"$f":"O11+P11+Q11","v":68.5},5.01,9.75,null,5,{"$f":"IF(X11<499,15,IF(X11<999,10,IF(X11<1499,5,IF(X11>1500,0))))","v":15},{"$f":"(EI11/CZ11)/CO11","v":2.0337951039078898E-5},0,{"$f":"IF(AA11=\"Yes\",20,0)","v":20},"Yes",{"$f":"IF(AC11=\"Yes\",20,0)","v":0},"No",{"$f":"IF(AE11=\"Yes\",20,0)","v":20},"Yes",5,20,15,10,"Yes",15,"Minimal",10,"Yes",0,"No",5,"Yes",null,null,31.2,null,null,null,null,null,null,null,null,"Albemarle RPO",null,null,null,null,null,null,null,null,null,null,null,{"$f":"SUM(V11+W11+Y11+Z11+AB11+AD11)","v":60},80,null,null,null,null,null,null,null,{"$f":"O11+BT11*0.25","v":5.35},null,"Pasquotank",null,null,null,null,null,null,null,null,null,null,null,null,null,870586,null,null,null,null,null,null,null,null,null,null,98611,null,null,null,null,null,null,null,null,null,null,null,null,null,null,null,null,null,null,null,null,null,null,null,null,null,null,null,null,null,null,null,null,82050,null,1746000,null,"Fed:$65,640                            Local:$8,205"]
["T130018","Pasquotank","Albemarle RPO","Transit","Regional Impact",null,null,null,null,"Expansion Vehicle-ARHS-ICPTA’s covers a little over 1000 square miles across five counties.  Our agency wants to purchase an expansion vehicle to meet client demand. ",null,8205,null,null,4.8,{"$f":"SUM(V12+W12+Y12+Z12+AB12+AD12)","v":60},3.15,67.95,4.46,9.75,null,5,15,9.5574391910448089E-8,0,20,"Yes",0,"No",20,"Yes",5,20,15,10,"Yes",15,"Minimal",10,"Yes",0,"No",5,"Yes",null,null,31.2,null,null,null,null,null,null,null,null,"Albemarle RPO",null,null,null,null,null,null,null,null,null,null,null,60,80,null,null,null,null,null,null,null,4.8,null,"Pasquotank",null,null,null,null,null,null,null,null,null,null,null,null,null,870586,null,null,null,null,null,null,null,null,null,null,98611,null,null,null,null,null,null,null,null,null,null,null,null,null,null,null,null,null,null,null,null,null,null,null,null,null,null,null,null,null,null,null,null,82050,null,8205,null,"Fed:$65,640                            Local:$8,205"]
["T130019","Pasquotank","Albemarle RPO","Transit","Regional Impact",null,null,null,null,"Expansion Vehicle-ARHS-ICPTA’s covers a little over 1000 square miles across five counties.  Our agency wants to purchase an expansion vehicle to meet client demand. ",null,8205,null,null,4.8,{"$f":"SUM(V13+W13+Y13+Z13+AB13+AD13)","v":60},3.15,67.95,4.46,9.75,null,5,15,9.5574391910448089E-8,0,20,"Yes",0,"No",20,"Yes",5,20,15,10,"Yes",15,"Minimal",10,"Yes",0,"No",5,"Yes",null,null,31.2,null,null,null,null,"Fed:$65,640                            Local:$8,205",null,null,null,"Albemarle RPO",null,null,null,null,null,null,null,null,null,null,null,60,80,null,null,null,null,null,null,null,4.8,null,"Pasquotank",null,null,null,null,null,null,null,null,null,null,null,null,null,870586,null,null,null,null,null,null,null,null,null,null,98611,null,null,null,null,null,null,null,null,null,null,null,null,null,null,null,null,null,null,null,null,null,null,null,null,null,null,null,null,null,null,null,null,82050,null,8205,null,"Fed:$65,640                            Local:$8,205"]
["T130020","Pasquotank","Albemarle RPO","Transit","Regional Impact",null,null,null,null,"Expansion Vehicle-ARHS-ICPTA’s covers a little over 1000 square miles across five counties.  Our agency wants to purchase an expansion vehicle to meet client demand. ",null,8205,null,null,4.8,{"$f":"SUM(V14+W14+Y14+Z14+AB14+AD14)","v":60},3.15,67.95,4.46,9.75,null,5,15,9.5574391910448089E-8,0,20,"Yes",0,"No",20,"Yes",5,20,15,10,"Yes",15,"Minimal",10,"Yes",0,"No",5,"Yes",null,null,31.2,null,null,null,null,"Fed:$65,640                            Local:$8,205",null,null,null,"Albemarle RPO",null,null,null,null,null,null,null,null,null,null,null,60,80,null,null,null,null,null,null,null,4.8,null,"Pasquotank",null,null,null,null,null,null,null,null,null,null,null,null,null,870586,null,null,null,null,null,null,null,null,null,null,98611,null,null,null,null,null,null,null,null,null,null,null,null,null,null,null,null,null,null,null,null,null,null,null,null,null,null,null,null,null,null,null,null,82050,null,8205,null,"Fed:$65,640                            Local:$8,205"]
["T130021","Pasquotank","Albemarle RPO","Transit","Regional Impact",null,null,null,null,"Expansion Vehicle-ARHS-ICPTA’s covers a little over 1000 square miles across five counties.  Our agency wants to purchase an expansion vehicle to meet client demand. ",null,8205,null,null,4.8,{"$f":"SUM(V15+W15+Y15+Z15+AB15+AD15)","v":60},3.15,67.95,4.46,9.75,null,5,15,9.5574391910448089E-8,0,20,"Yes",0,"No",20,"Yes",5,20,15,10,"Yes",15,"Minimal",10,"Yes",0,"No",5,"Yes",null,null,31.2,null,null,null,null,"Fed:$65,640                            Local:$8,205",null,null,null,"Albemarle RPO",null,null,null,null,null,null,null,null,null,null,null,60,80,null,null,null,null,null,null,null,4.8,null,"Pasquotank",null,null,null,null,null,null,null,null,null,null,null,null,null,870586,null,null,null,null,null,null,null,null,null,null,98611,null,null,null,null,null,null,null,null,null,null,null,null,null,null,null,null,null,null,null,null,null,null,null,null,null,null,null,null,null,null,null,null,82050,null,8205,null,"Fed:$65,640                            Local:$8,205"]
["T130072","Bertie","Peanut Belt RPO","Transit","Regional Impact",null,null,null,null,"Expansion Vehicle-Purpose of expanding routes for employment, education, and/or medical purposes. Etc.  ",null,6783,null,null,2.97,{"$f":"SUM(V16+W16+Y16+Z16+AB16+AD16)","v":60},3.15,66.12,2.85,null,null,5,15,1.1956010382247026E-7,0,20,"Yes",0,"No",20,"Yes",5,20,15,10,"Yes",15,"Minimal",10,"Yes",0,"No",5,"Yes",null,null,31.2,null,null,null,null,null,null,null,null,"Peanut Belt RPO",null,null,null,null,null,null,null,null,null,null,null,60,80,null,null,null,null,null,null,null,2.97,null,"Bertie",null,null,null,null,null,null,null,null,null,null,null,null,null,1238603,null,null,null,null,null,null,null,null,null,null,45804,null,null,null,null,null,null,null,null,null,null,null,null,null,null,null,null,null,null,null,null,null,null,null,null,null,null,null,null,null,null,null,null,67830,null,6783,null,"Fed:$54,264              Local:$6,783"]
["H129676-A","Hertford","Peanut Belt RPO","Highway","Statewide Mobility","R-5311A","NC-11 ","SR 1213 (Old NC 11 Road)","","Upgrade At-Grade Intersecton to Interchange.","7 - Upgrade At-grade Intersection to Interchange or Grade Separation",9460000,15.194668034134692,null,13.574471535535771,{"$f":"(V17+W17+Y17+Z17+AB17+AD17)","v":70},null,{"$f":"O17+P17+Q17","v":83.574471535535764},8.9410226938807895,null,null,{"$f":"IF(AU17<30,0,IF(AU17<50,5,IF(AU17<65,10,IF(AU17>66,15))))","v":15},{"$f":"IF(X17<499,15,IF(X17<999,10,IF(X17<1499,5,IF(X17>1500,0))))","v":10},566.46164208284017,{"$f":"IF(DD17<500,0,IF(DD17<1000,5,IF(DD17>1000,10)))","v":10},{"$f":"IF(AA17=\"Yes\",15,0)","v":15},"Yes",{"$f":"IF(AC17=\"Yes\",10,0)","v":10},"Yes",{"$f":"IF(AE17=\"Yes\",10,0)","v":10},"Yes",15,{"$f":"IF(BM15<999,20,IF(BM15<1499,15,IF(BM15<1999,10,IF(BM15<3999,5,IF(BM15>4000,0)))))","v":20},15,{"$f":"IF(AJ17=\"Yes\",10,0)","v":10},"Yes",15,"Minimal",10,"Yes",{"$f":"IF(AP17=\"Yes\",10,0)","v":0},"No",{"$f":"IF(AR17=\"Yes\",10,0)","v":0},"No",19.501477044516125,3.2587498942917548,66.650000000000006,6.2469894638882204,4.5220205971468346,25.050239849999997,0,0,null,null,null,"Peanut Belt RPO",100,"","","","","01",100,"","","","",{"$f":"SUM(V17+W17+Y17+Z17+AB17+AD17)","v":70},{"$f":"SUM(AF17+AG17+AH17+AI17+AK17+AM17+AO17+AQ17)","v":85},null,null,100,100,{"$f":"S17+BU17*0.25","v":33.94102269388079},null,null,38.574471535535771,null,"Hertford",100,"","","","","","",1,"A","01, , ","Peanut Belt RPO, , ","Hertford, , , ",2,2,"Two Lane Highway","Multi-Lane Highway",1,1,"Undivided","Divided",49.999892227322199,55,14.962705749633502,85.0372942503665,8350.0799499999994,31000,0.26935741774193545,7100.6820572223551,1249.3978927776441,1121641.911162334,197358.08883766588,1319000,30827774,"","","",33.299999999999997,100,21,6.9440411942936698E-5,"No","No",12,12,"No",2,2,"2 Lane Undivided","","None","Full",1,"Yes",19.565219056081599,8900000,500000,60000,9460000,"",9460000,9460000,""]
["H129043","Dare","Albemarle RPO","Highway","Division Needs","R-5014","SR-1217 Collington Road","US 158","Dead End","Operational-Safety Improvements","16 - Modernize Roadway",4850000,null,null,null,null,null,null,23.32,9,null,"N/A",null,57.991491345712276,null,null,"Yes",null,null,null,null,15,{"$f":"IF(BM16<999,20,IF(BM16<1499,15,IF(BM16<1999,10,IF(BM16<3999,5,IF(BM16>4000,0)))))","v":20},15,10,"No",{"$f":"IF(AL18=\"Minimal\",15,0)","v":15},"Minimal",10,"Yes",{"$f":"IF(AP18=\"Yes\",10,0)","v":0},"No",{"$f":"IF(AR18=\"Yes\",10,0)","v":0},"No",41.974683544303801,0,66.21829770798,0,"N/A","N/A",25,100,null,null,null,"Albemarle RPO",100,"","","","","01",100,"","","","",null,{"$f":"SUM(AF18+AG18+AH18+AI18+AK18+AM18+AO18+AQ18)","v":85},null,null,null,100,{"$f":"S18+BU18*0.25","v":48.32},null,null,null,null,"Dare",100,"","","","","","",1,"A","01, , ","Albemarle RPO, , ","Dare, , , ",4.3454650700000004,4.3454650700000004,"Arterial","Arterial",1,1,"Undivided","Undivided",33,33,0,100,10000,15800,0.63291139240506333,10000,0,0,0,0,0,95.975087430000002,64.447475030000007,38.252198139999997,"","","","","No","No",11,12,"No",0,4,"2 Lane Undivided","","None","None",2,"No",25,4350000,500000,0,4850000,"",2520000,4850000,""]
["H141222","Perquimans","Albemarle RPO","Highway","Division Needs","","SR-1301 ","SR 1302","SR 1303","Widen and repave New Hope Road (Phase 2)","16 - Modernize Roadway",1114000,null,null,null,null,null,null,14.9,5.25,null,"N/A",null,469.54674256434129,null,null,"Yes",null,null,null,null,15,{"$f":"IF(X19<999,20,IF(X19<1499,15,IF(X19<1999,10,IF(X19<3999,5,IF(X19>4000,0)))))","v":20},15,10,"No",{"$f":"IF(AL19=\"Minimal\",15,0)","v":15},"Minimal",10,"Yes",{"$f":"IF(AP19=\"Yes\",10,0)","v":0},"No",{"$f":"IF(AR19=\"Yes\",10,0)","v":0},"No",4.6980645161290324,0,69.325207669245003,0,"N/A","N/A",75,0,null,null,null,"Albemarle RPO",100,"","","","","01",100,"","","","",null,{"$f":"SUM(AF19+AG19+AH19+AI19+AK19+AM19+AO19+AQ19)","v":85},null,null,null,100,{"$f":"S19+BU19*0.25","v":39.9},null,null,null,null,"Perquimans",100,"","","","","","",1,"A","01, , ","Albemarle RPO, , ","Perquimans, , , ",1.3068696,1.3068696,"Two Lane Highway","Two Lane Highway",1,1,"Undivided","Undivided",55,55,0,100,1100,15500,7.0967741935483872E-2,1100,0,0,0,0,0,75.594077170000006,94.347974910000005,38.054370570000003,"","","","","No","No",9,12,"No",0,0,"2 Lane Undivided","3A - 2 Lane with Two Way Left Turn Lane, and Paved Shoulders","None","None",2,"No",30,1114000,0,0,1114000,"",675000,1114000,""]
["H090289","Martin","Mid-East RPO","Highway","Division Needs","R-4705","SR-1142 ","NC 903","SR 1182","NC 903 to SR 1182.   Upgrade Facility.","16 - Modernize Roadway",11200000,null,null,null,null,null,null,10.09,null,null,"N/A",null,298.96243736795947,null,null,"Yes",null,null,null,null,10,20,15,{"$f":"IF(AJ20=\"Yes\",10,0)","v":10},"Yes",15,"Minimal",10,"Yes",{"$f":"IF(AP20=\"Yes\",10,0)","v":0},"No",{"$f":"IF(AR20=\"Yes\",10,0)","v":0},"No",16.672666819006448,0,59.268861974388003,0.78073851317326326,"N/A","N/A",25,0,null,null,null,"Mid-East RPO",100,"","","","","01",100,"","","","",null,{"$f":"SUM(AF20+AG20+AH20+AI20+AK20+AM20+AO20+AQ20)","v":80},null,null,null,100,{"$f":"S20+BU20*0.25","v":35.090000000000003},null,null,null,null,"Martin",100,"","","","","","",1,"A","01, , ","Mid-East RPO, , ","Martin, , , ",9.5967154299999997,9.5967154299999997,"Two Lane Highway","Two Lane Highway",1,1,"Undivided","Undivided",55,55,3.9999707795377004,96.000029220462295,3903.7210829999999,15500,0.25185297309677418,3747.5733803653475,156.14770263465266,0,0,0,0,87.040487170000006,47.05679026,43.727090930000003,"","","","","No","No",11,12,"No",0,0,"2 Lane Undivided","","None","None",1,"No",21,7200000,4000000,0,11200000,"",11200000,11200000,""]
["F130003","Dare","Albemarle RPO","Ferry","Division Needs",null,"Hatteras - South Dock (NC 12)",null,null,"Replacement Vessel – River Class Ferry (Baum-H)",null,12000000,null,null,null,null,null,null,36.700000000000003,6.75,null,null,null,{"$f":"(EI21/CZ21)/CO21","v":89.223959053811043},null,null,"Yes",null,null,null,null,{"$f":"IF(AU21<30,0,IF(AU21<50,5,IF(AU21<65,10,IF(AU21<79,15,IF(AU21>80,20)))))","v":5},{"$f":"IF(X21<999,20,IF(X21<1499,15,IF(X21<1999,10,IF(X21<3999,5,IF(X21>4000,0)))))","v":20},{"$f":"IF(AA21=\"Yes\",15,0)","v":15},{"$f":"IF(AJ21=\"Yes\",10,0)","v":10},"Yes",{"$f":"IF(AL21=\"Minimal\",15,0)","v":15},"Minimal",{"$f":"IF(AN21=\"Yes\",10,0)","v":10},"Yes",{"$f":"IF(AP21=\"Yes\",5,0)","v":0},"No",{"$f":"IF(AR21=\"Yes\",5,0)","v":0},"No",null,null,47,null,null,null,null,null,null,null,null,"Albemarle RPO",null,null,null,null,null,null,null,null,null,null,null,null,{"$f":"SUM(AF21+AG21+AH21+AI21++AK21+AM21+AO21+AQ21)","v":75},null,null,null,100,{"$f":"S21+BU21*0.25","v":61.7},{"$f":"BV21+T21","v":68.45},null,null,null,"Dare",null,null,null,null,null,null,null,null,null,null,null,null,null,{"$f":"5*2","v":10},null,null,null,null,null,null,null,null,null,null,21687,null,null,null,null,null,null,null,null,null,null,null,null,null,null,null,null,null,null,null,null,null,null,null,null,null,null,null,null,null,null,null,null,12000000,null,19350000]
["T130063","Hyde","Albemarle RPO","Transit","Division Needs",null,null,null,null,"Facilities-Bus Shelter-This funding request is for 2 shelters and 20 benches to support the Ocracoke Park and Ride Project.  ",null,7600,null,null,null,null,null,null,31.19,12,null,0,0,2.8524159963489075E-7,0," ","Yes",{"$f":"IF(AC22=\"Yes\",10,0)","v":0},"No",{"$f":"IF(AE22=\"Yes\",10,0)","v":0},"No",0,{"$f":"IF(X22<999,20,IF(X22<1499,15,IF(X22<1999,10,IF(X22<3999,5,IF(X22>4000,0)))))","v":20},15,10,"Yes",15,"Minimal",10,"Yes",0,"No",{"$f":"IF(AR22=\"Yes\",5,0)","v":5},"Yes",null,null,0,null,null,null,null,null,null,null,null,"Albemarle RPO",null,null,null,null,null,null,null,null,null,null,null,null,{"$f":"SUM(AF22+AG22+AH22+AI22+AK22+AM22+AO22+AQ22)","v":75},null,null,null,null,null,null,null,null,null,"Hyde",null,null,null,null,null,null,null,null,null,null,null,null,null,175290,null,null,null,null,null,null,null,null,null,null,152000,null,null,null,null,null,null,null,null,null,null,null,null,null,null,null,null,null,null,null,null,null,null,null,null,null,null,null,null,null,null,null,null,76000,null,7600,null,"Fed:$60,800                        Local:$7,600"]
["F130007","Dare","Albemarle RPO","Ferry","Division Needs",null,"Hatteras-South Dock",null,null,"Replacement Vessel-River Class Ferry( Chico)",null,12000000,null,null,null,null,null,null,29.6,7.5,null,null,null,4.6686955318854615,null,null,"Yes",null,null,null,null,5,{"$f":"IF(X23<999,20,IF(X23<1499,15,IF(X23<1999,10,IF(X23<3999,5,IF(X23>4000,0)))))","v":20},15,10,"Yes",15,"Minimal",10,"Yes",0,"No",{"$f":"IF(AR23=\"Yes\",5,0)","v":0},"No",null,null,47,null,null,null,null,null,null,null,null,"Albemarle RPO",null,null,null,null,null,null,null,null,null,null,null,null,{"$f":"SUM(AF23+AG23+AH23+AI23++AK23+AM23+AO23+AQ23)","v":75},null,null,null,0,{"$f":"S23+BU23*0.25","v":29.6},{"$f":"BV23+T23","v":37.1},null,null,null,null,null,null,null,null,null,null,null,null,null,null,null,null,null,{"$f":"5*2","v":10},null,null,null,null,null,null,null,null,null,null,21687,null,null,null,null,null,null,null,null,null,null,null,null,null,null,null,null,null,null,null,null,null,null,null,null,null,null,null,null,null,null,null,null,12000000,null,1012500]
["F130008","Dare","Albemarle RPO","Ferry","Division Needs",null,"Hatteras-South Dock",null,null,"Replacement Vessel-River Class Ferry (Frisco)",null,12000000,null,null,null,null,null,null,28.3,7.5,null,null,null,1.8674782127541847,null,null,"Yes",null,null,null,null,5,{"$f":"IF(X24<999,20,IF(X24<1499,15,IF(X24<1999,10,IF(X24<3999,5,IF(X24>4000,0)))))","v":20},15,10,"Yes",15,"Minimal",10,"Yes",0,"No",{"$f":"IF(AR24=\"Yes\",5,0)","v":0},"No",null,null,47,null,null,null,null,null,null,null,null,"Albemarle RPO",null,null,null,null,null,null,null,null,null,null,null,null,{"$f":"SUM(AF24+AG24+AH24+AI24++AK24+AM24+AO24+AQ24)","v":75},null,null,null,0,{"$f":"S24+BU24*0.25","v":28.3},35.799999999999997,null,null,null,null,null,null,null,null,null,null,null,null,null,null,null,null,null,{"$f":"5*2","v":10},null,null,null,null,null,null,null,null,null,null,21687,null,null,null,null,null,null,null,null,null,null,null,null,null,null,null,null,null,null,null,null,null,null,null,null,null,null,null,null,null,null,null,null,12000000,null,405000]
["A130412","Hertford","Peanut Belt RPO","Aviation","Division Needs",null,"Tri-County",null,null,"Design",null,1602288,null,null,null,null,null,null,25.95,null,null,"N/A",null,52522.839394883056,null,null,"Yes",{"$f":"IF(AC25=\"Yes\",10,0)","v":0},null,{"$f":"IF(AE25=\"Yes\",10,0)","v":0},null,0,{"$f":"IF(BM23<999,20,IF(BM23<1499,15,IF(BM23<1999,10,IF(BM23<3999,5,IF(BM23>4000,0)))))","v":20},15,10,"Yes",15,"Minimal",10,"Yes",5,"Yes",{"$f":"IF(AR25=\"Yes\",10,0)","v":0},"No",null,null,null,null,null,null,null,null,null,null,null,"Peanut Belt RPO",null,null,null,null,null,null,null,null,null,null,null,null,{"$f":"SUM(AF25+AG25+AH25+AI25+AK25+AM25+AO25+AQ25)","v":75},null,null,null,100,null,null,null,null,null,"Hertford",null,null,null,null,null,null,null,null,null,null,null,null,null,0.85,null,null,null,null,null,null,null,null,null,null,35.89,null,null,null,null,null,null,null,null,null,null,null,null,null,null,null,null,null,null,null,null,null,null,null,null,null,null,null,null,null,null,null,null,1780320,null,1602288]
["F130011","Hyde","Albemarle RPO","Ferry","Division Needs",null,"Swan Quarter-Ocracoke",null,null,"Replacement Vessel-Sound Class Ferry (Pamlico)",null,16000000,null,null,null,null,null,null,14.4,7.5,null,null,null,185.57179308745071,null,null,"Yes",null,null,null,null,5,{"$f":"IF(X26<999,20,IF(X26<1499,15,IF(X26<1999,10,IF(X26<3999,5,IF(X26>4000,0)))))","v":20},15,10,"Yes",15,"Minimal",10,"Yes",0,"No",{"$f":"IF(AR26=\"Yes\",5,0)","v":0},"No",null,null,34,null,null,null,null,null,null,null,null,"Albemarle RPO",null,null,null,null,null,null,null,null,null,null,null,null,{"$f":"SUM(AF26+AG26+AH26+AI26++AK26+AM26+AO26+AQ26)","v":75},null,null,null,0,{"$f":"S26+BU26*0.25","v":14.4},{"$f":"BV26+T26","v":21.9},null,null,null,"Hyde",null,null,null,null,null,null,null,null,null,null,null,null,null,{"$f":"30*2","v":60},null,null,null,null,null,null,null,null,null,null,1437,null,null,null,null,null,null,null,null,null,null,null,null,null,null,null,null,null,null,null,null,null,null,null,null,null,null,null,null,null,null,null,null,16000000,null,16000000]
["B141355","Perquimans","Albemarle RPO","Bike & Ped","Division Needs",null,"Harvey Point Road","US-17","N. Commerce Drive","Construct 5' wide multi-use path along eastern side of Harvey Point Road","2. Construct multi-use trail / greenway / sidepath or on-road bike lane on local roadway",400000,null,null,null,null,null,null,13.463021372661501,9.75,null,"N/A",null,1441.3118527042577,null,null,"Yes",null,null,null,null,10,15,15,10,"Yes",15,"Minimal",10,"Yes",{"$f":"IF(AP27=\"Yes\",10,0)","v":0},"No",{"$f":"IF(AR27=\"Yes\",10,0)","v":0},"No",null,null,50,null,null,null,null,null,null,null,null,"Albemarle RPO",null,null,null,null,null,null,null,null,null,null,null,null,{"$f":"SUM(AF27+AG27+AH27+AI27+AK27+AM27+AO27)","v":75},null,null,null,25,{"$f":"S27+BU27*0.25","v":19.713021372661501},null,null,null,null,"Perquimans County",null,null,null,null,null,null,null,null,null,null,null,null,null,0.66,null,null,null,null,null,null,null,null,null,null,158,null,null,null,null,null,null,null,null,null,null,null,null,null,null,null,null,null,null,null,null,null,null,null,null,null,null,null,null,null,380000,0,null,400000,0,150300]
["F130012","Currituck","Albemarle RPO","Ferry","Division Needs",null,"Currituck - Knotts Island",null,null,"Replacement Vessel-River Class Ferry (Hunt)",null,12000000,null,null,null,null,null,null,12.3,7.5,null,null,null,660.42927903137047,null,null,"Yes",null,null,null,null,5,20,15,10,"Yes",15,"Minimal",10,"Yes",{"$f":"IF(AP28=\"Yes\",5,0)","v":0},"No",{"$f":"IF(AR28=\"Yes\",5,0)","v":0},"No",null,null,46,null,null,null,null,null,null,null,null,"Albemarle RPO",null,null,null,null,null,null,null,null,null,null,null,null,{"$f":"SUM(AF28+AG28+AH28+AI28++AK28+AM28+AO28+AQ28)","v":75},null,null,null,0,{"$f":"S28+BU28*0.25","v":12.3},{"$f":"BV28+T28","v":19.8},null,null,null,null,null,null,null,null,null,null,null,null,null,null,null,null,null,{"$f":"5*2","v":10},null,null,null,null,null,null,null,null,null,null,1817,null,null,null,null,null,null,null,null,null,null,null,null,null,null,null,null,null,null,null,null,null,null,null,null,null,null,null,null,null,null,null,null,12000000,null,12000000]
["T130067","Hyde","Albemarle RPO","Transit","Division Needs",null,null,null,null,"Expansion Vehicle-This funding request is for 6 LTV and 3 Trams to support the Ocracoke Park and Ride Project.",null,85500,null,null,null,null,null,null,11.36,12,null,{"$f":"IF(AU29<30,0,IF(AU29<50,5,IF(AU29<65,10,IF(AU29>66,15))))","v":0},0,3.2089679958925209E-6,0," ","Yes",{"$f":"IF(AC29=\"Yes\",10,0)","v":0},"No",{"$f":"IF(AE29=\"Yes\",10,0)","v":0},"No",0,20,15,10,"Yes",15,"Minimal",10,"Yes",{"$f":"IF(AP29=\"Yes\",5,0)","v":0},"No",{"$f":"IF(AR29=\"Yes\",5,0)","v":5},"Yes",null,null,20.6,null,null,null,null,null,null,null,null,"Albemarle RPO",null,null,null,null,null,null,null,null,null,null,null,null,{"$f":"SUM(AF29+AG29+AH29+AI29+AK29+AM29+AO29+AQ29)","v":75},null,null,null,null,null,null,null,null,null,"Hyde",null,null,null,null,null,null,null,null,null,null,null,null,null,175290,null,null,null,null,null,null,null,null,null,null,152000,null,null,null,null,null,null,null,null,null,null,null,null,null,null,null,null,null,null,null,null,null,null,null,null,null,null,null,null,null,null,null,null,855000,null,85500,null,"Fed:$684,000   Local:$85,500"]
["F130013","Hyde","Albemarle RPO","Ferry","Division Needs",null,"Cedar Island-Ocracoke",null,null,"Replacement Vessel-Sound Class Ferry (Silver Lake)",null,16000000,null,null,null,null,null,null,16.3,7.5,null,null,null,263.20984404816738,null,null,"Yes",null,null,null,null,5,20,15,10,"Yes",15,"Minimal",10,"Yes",{"$f":"IF(AP30=\"Yes\",5,0)","v":0},"No",{"$f":"IF(AR30=\"Yes\",5,0)","v":0},"No",null,null,38.5,null,null,null,null,null,null,null,null,"Albemarle RPO",null,null,null,null,null,null,null,null,null,null,null,null,{"$f":"SUM(AF30+AG30+AH30+AI30++AK30+AM30+AO30+AQ30)","v":75},null,null,null,0,{"$f":"S30+BU30*0.25","v":16.3},{"$f":"BV30+T30","v":23.8},null,null,null,null,null,null,null,null,null,null,null,null,null,null,null,null,null,{"$f":"13*2","v":26},null,null,null,null,null,null,null,null,null,null,2338,null,null,null,null,null,null,null,null,null,null,null,null,null,null,null,null,null,null,null,null,null,null,null,null,null,null,null,null,null,null,null,null,16000000,null,16000000]
["F130014","Hyde","Albemarle RPO","Ferry","Division Needs",null,"Cedar Island-Ocracoke",null,null,"Replacement Vessel-Sound Class Ferry (Carteret)",null,16000000,null,null,null,null,null,null,15.3,7.5,null,null,null,263.20984404816738,null,null,"Yes",null,null,null,null,5,20,15,10,"Yes",15,"Minimal",10,"Yes",{"$f":"IF(AP31=\"Yes\",5,0)","v":0},"No",{"$f":"IF(AR31=\"Yes\",5,0)","v":0},"No",null,null,38.5,null,null,null,null,null,null,null,null,"Albemarle RPO",null,null,null,null,null,null,null,null,null,null,null,null,{"$f":"SUM(AF31+AG31+AH31+AI31++AK31+AM31+AO31+AQ31)","v":75},null,null,null,0,{"$f":"S31+BU31*0.25","v":15.3},22.8,null,null,null,"Currituck",null,null,null,null,null,null,null,null,null,null,null,null,null,{"$f":"13*2","v":26},null,null,null,null,null,null,null,null,null,null,2338,null,null,null,null,null,null,null,null,null,null,null,null,null,null,null,null,null,null,null,null,null,null,null,null,null,null,null,null,null,null,null,null,16000000,null,16000000]
["A130413","Hertford","Peanut Belt RPO","Aviation","Division Needs",null,"Tri-County",null,null,"Corporate & T-hanger Taxiways",null,230400,null,null,null,null,null,null,7.47,null,null,"N/A",null,7552.4888138593415,null,null,"Yes",{"$f":"IF(AC32=\"Yes\",10,0)","v":0},null,{"$f":"IF(AE32=\"Yes\",10,0)","v":0},null,0,{"$f":"IF(BM30<999,20,IF(BM30<1499,15,IF(BM30<1999,10,IF(BM30<3999,5,IF(BM30>4000,0)))))","v":20},15,10,"Yes",15,"Minimal",10,"Yes",{"$f":"IF(AP32=\"Yes\",5,0)","v":5},"Yes",{"$f":"IF(AR32=\"Yes\",10,0)","v":0},"No",null,null,null,null,null,null,null,null,null,null,null,"Peanut Belt RPO",null,null,null,null,null,null,null,null,null,null,null,null,{"$f":"SUM(AF32+AG32+AH32+AI32+AK32+AM32+AO32+AQ32)","v":75},null,null,null,null,null,null,null,null,null,"Hertford",null,null,null,null,null,null,null,null,null,null,null,null,null,0.85,null,null,null,null,null,null,null,null,null,null,35.89,null,null,null,null,null,null,null,null,null,null,null,null,null,null,null,null,null,null,null,null,null,null,null,null,null,null,null,null,null,null,null,null,256000,null,230400]
["H141724","Bertie","Peanut Belt RPO","Highway","Statewide Mobility","","US-17 , US-13 ","US 64 at Williamston","US 13 North at Windsor","Upgrade roadway to Interstate","2 - Upgrade Arterial to Freeway/Expressway",296415000,13.963177203030861,null,18.190000000000001,{"$f":"(V33+W33+Y33+Z33+AB33+AD33)","v":55},null,{"$f":"O33+P33+Q33","v":73.19},14.61,null,null,{"$f":"IF(AU33<30,0,IF(AU33<50,5,IF(AU33<65,10,IF(AU33>66,15))))","v":10},{"$f":"IF(X33<499,15,IF(X33<999,10,IF(X33<1499,5,IF(X33>1500,0))))","v":0},1821.1995352104639,{"$f":"IF(DD33<500,0,IF(DD33<1000,5,IF(DD33>1000,10)))","v":10},{"$f":"IF(AA33=\"Yes\",15,0)","v":15},"Yes",{"$f":"IF(AC33=\"Yes\",10,0)","v":10},"Yes",{"$f":"IF(AE33=\"Yes\",10,0)","v":10},"Yes",10,{"$f":"IF(BM31<999,20,IF(BM31<1499,15,IF(BM31<1999,10,IF(BM31<3999,5,IF(BM31>4000,0)))))","v":20},15,10,"Yes",15,"Minimal",10,"Yes",{"$f":"IF(AP33=\"Yes\",10,0)","v":0},"No",0,"No",13.832167036632629,0.39403603056525477,56.903493981509996,10.770627201140798,18.508414444923371,35.755430809828404,0,75,null,null,null,"Peanut Belt RPO",89.61,"Mid-East RPO",10.39,"","","01",100,"","","","",{"$f":"SUM(V33+W33+Y33+Z33+AB33+AD33)","v":55},{"$f":"SUM(AF33+AG33+AH33+AI33+AK33+AM33+AO33+AQ33)","v":80},null,null,null,null,{"$f":"S33+BU33*0.25","v":14.61},null,"Delay Prioritization pending outcome of Future Interstate Designation; Exceeds cap of $15 million for Statewide & Regional Projects cascading to Division Needs",{"$f":"O33+BT33*0.25","v":18.190000000000001},null,"Bertie",89.61,"Martin",10.39,"","","","",1,"A","01, , ","Peanut Belt RPO, Mid-East RPO, ","Bertie, Martin, , ",14.46506022,14.46506022,"Multi-Lane Highway","Freeway",2,2,"Divided","Divided",54.750299643765302,70,12.233633194568,87.766366805432,11251.8102699428,72347.719571150898,0.15552404881092519,9875.3050737692665,1376.5051961735337,4433453.3141525285,617972.96167929168,5051426.2758318204,116798190,56.167965979999998,51.059687429999997,63.499901289999997,"","",79.840633949681404,2.9032765494878602E-4,"Yes","No",12,12,"No",1,4,"4 Lane with Median - Partial Control","4A - 4 Lane Divided (46' Depressed Median) with Paved Shoulders","None","Full",1,"Yes",21,226794000,62162000,7459000,296415000,"",296415000,296415000,""]
["H111228","Camden","Albemarle RPO","Highway","Division Needs","","SR-1227 ","NC 168","NC 343 in Camden County","Widen to 24 Feet with Paved Shoulders and Turn Lanes Where Necessary from\nthe Camden County Line to the Location of the Proposed NC 168 Bypass.","16 - Modernize Roadway",12540000,null,null,null,null,null,null,10.43,9.75,null,"N/A",null,7.9858468392354567,null,null,"Yes",null,null,null,null,5,{"$f":"IF(X34<999,20,IF(X34<1499,15,IF(X34<1999,10,IF(X34<3999,5,IF(X34>4000,0)))))","v":20},15,10,"No",{"$f":"IF(AL34=\"Minimal\",15,0)","v":15},"Minimal",10,"Yes",{"$f":"IF(AP34=\"Yes\",10,0)","v":0},"No",0,"No",9.3998067385422761,0,44.936317592166006,0,"N/A","N/A",50,0,null,null,null,"Albemarle RPO",100,"","","","","01",100,"","","","",null,{"$f":"SUM(AF34+AG34+AH34+AI34+AK34+AM34+AO34+AQ34)","v":75},null,null,null,100,{"$f":"S34+BU34*0.25","v":35.43},null,null,null,null,"Camden",55.7,"Currituck",44.3,"","","","",1,"A","01, , ","Albemarle RPO, , ","Camden, Currituck, , ",11.004277439999999,11.004277439999999,"Two Lane Highway","Two Lane Highway",1,1,"Undivided","Undivided",54,54,0,100,2201.904411,15508.10743,0.14198408290237127,2201.904411,0,0,0,0,0,69.443972479999999,39.267785250000003,26.110677290000002,"","","","","No","No",10,12,"No",0,0,"2 Lane Undivided","","None","None",1,"No",34,12540000,0,0,12540000,"",193500,12540000,""]
["H129113-A","Northampton","Peanut Belt RPO","Highway","Statewide Mobility","R-2582A","US-158 , NC-46 ","I-95/NC 46 in Roanoke Rapids","SR 1312 (St. John Church Road)","Widen to Multi-Lanes.","1 - Widen Existing Roadway",61600000,10.75557238499411,null,10.87,{"$f":"(V35+W35+Y35+Z35+AB35+AD35)","v":45},null,{"$f":"O35+P35+Q35","v":55.87},8.0399999999999991,null,null,{"$f":"IF(AU35<30,0,IF(AU35<50,5,IF(AU35<65,10,IF(AU35>66,15))))","v":5},{"$f":"IF(X35<499,15,IF(X35<999,10,IF(X35<1499,5,IF(X35>1500,0))))","v":0},2091.14740608183,{"$f":"IF(DD35<500,0,IF(DD35<1000,5,IF(DD35>1000,10)))","v":5},{"$f":"IF(AA35=\"Yes\",15,0)","v":15},"Yes",{"$f":"IF(AC35=\"Yes\",10,0)","v":10},"Yes",{"$f":"IF(AE35=\"Yes\",10,0)","v":10},"Yes",5,{"$f":"IF(BM33<999,20,IF(BM33<1499,15,IF(BM33<1999,10,IF(BM33<3999,5,IF(BM33>4000,0)))))","v":0},15,{"$f":"IF(AJ35=\"Yes\",10,0)","v":10},"Yes",15,"Minimal",10,"Yes",{"$f":"IF(AP35=\"Yes\",10,0)","v":0},"No",0,"No",16.653337707758549,1.1873089610389611,37.553088508914001,2.7725679898764266,10.935559354881701,15.814667089,25,0,null,null,null,"Peanut Belt RPO",100,"","","","","01",100,"","","","",{"$f":"SUM(V35+W35+Y35+Z35+AB35+AD35)","v":45},{"$f":"SUM(AF35+AG35+AH35+AI35+AK35+AM35+AO35+AQ35)","v":55},null,null,null,null,{"$f":"S35+BU35*0.25","v":8.0399999999999991},null,"Exceeds cap of $15 million for Statewide & Regional Projects cascading to Division Needs",{"$f":"O35+BT35*0.25","v":10.87},null,"Northampton",100,"","","","","","",1,"A","01, , ","Peanut Belt RPO, , ","Northampton, , , ",7.4799006700000001,7.4799006700000001,"Arterial","Multi-Lane Highway",1,2,"Undivided","Divided",50,50,14.080301894199701,85.919698105800293,3938.2223629999999,15671.3475,0.25130081270930915,3383.7087650247145,554.51359797528528,2698025.2618860388,442145.52707987302,3140170.7889659116,73138232,40.937157169999999,38.616381390000001,33.11699402,"","",50,1.6871118709763401E-4,"No","No",11,12,"No",1,0,"2 Lane Undivided","4A - 4 Lane Divided (46' Depressed Median) with Paved Shoulders","None","Partial",1,"Yes",22,54000000,7600000,0,61600000,"",61600000,61600000,""]
["B141365","Dare","Albemarle RPO","Bike & Ped","Division Needs",null,"Us 158 sidewalk","Bennett Street","Worthington Lane","Construct 6000' of sidewalk on west side of US 158","5. Construct Sidewalk",282000,null,null,null,null,null,null,15.295680447883793,9.75,null,"N/A",null,3163.9556096077831,null,null,"Yes",null,null,null,null,15,{"$f":"IF(X36<999,20,IF(X36<1499,15,IF(X36<1999,10,IF(X36<3999,5,IF(X36>4000,0)))))","v":5},15,{"$f":"IF(AJ36=\"Yes\",10,0)","v":10},"Yes",{"$f":"IF(AL36=\"Minimal\",15,0)","v":15},"Minimal",10,"Yes",{"$f":"IF(AP36=\"Yes\",10,0)","v":0},"No",0,"No",null,null,65,null,null,null,null,null,null,null,null,"Albemarle RPO",null,null,null,null,null,null,null,null,null,null,null,null,{"$f":"SUM(AF36+AG36+AH36+AI36+AK36+AM36+AO36)","v":70},null,null,null,25,{"$f":"S36+BU36*0.25","v":21.545680447883793},null,null,null,null,"Dare County",null,null,null,null,null,null,null,null,null,null,null,null,null,1.56,null,null,null,null,null,null,null,null,null,null,{"$f":"1012*0.1","v":101.2},null,null,null,null,null,null,null,null,null,null,null,null,null,null,null,null,null,null,null,null,null,null,null,null,null,null,null,null,null,272000,0,null,282000,0,499500]
["A130011","Pasquotank","Albemarle RPO","Aviation","Division Needs",null,"Elizabeth City Coast Guard Air Station/Regional",null,null,"Hangers and Economic Development",null,150300,null,null,null,null,null,null,5.76,13.5,null,"N/A",null,1061.0615133292763,null,null,"Yes",{"$f":"IF(AC37=\"Yes\",10,0)","v":0},null,{"$f":"IF(AE37=\"Yes\",10,0)","v":0},null,0,{"$f":"IF(X37<999,20,IF(X37<1499,15,IF(X37<1999,10,IF(X37<3999,5,IF(X37>4000,0)))))","v":15},15,{"$f":"IF(AJ37=\"Yes\",10,0)","v":10},"Yes",{"$f":"IF(AL37=\"Minimal\",15,0)","v":15},"Minimal",10,"Yes",{"$f":"IF(AP37=\"Yes\",5,0)","v":5},"Yes",0,"No",null,null,null,null,null,null,null,null,null,null,null,"Albemarle RPO",null,null,null,null,null,null,null,null,null,null,null,null,{"$f":"SUM(AF37+AG37+AH37+AI37+AK37+AM37+AO37+AQ37)","v":70},null,null,null,null,null,null,null,null,null,"Pasquotank",null,null,null,null,null,null,null,null,null,null,null,null,null,0.86,null,null,null,null,null,null,null,null,null,null,164.71,null,null,null,null,null,null,null,null,null,null,null,null,null,null,null,null,null,null,null,null,null,null,null,null,null,null,null,null,null,null,null,null,167000,null,150300]
["H090139","Currituck","Albemarle RPO","Highway","Statewide Mobility","R-2574","US-158 ","East of NC 34 at Belcross in Camden County","NC 168 in Currituck County","Widen to Multi-Lanes.","1 - Widen Existing Roadway",124500000,12.917806507523943,null,15.32,{"$f":"(V38+W38+Y38+Z38+AB38+AD38)","v":60},5.85,{"$f":"O38+P38+Q38","v":81.169999999999987},11.88,9,null,{"$f":"IF(AU38<30,0,IF(AU38<50,5,IF(AU38<65,10,IF(AU38>66,15))))","v":5},{"$f":"IF(X38<499,15,IF(X38<999,10,IF(X38<1499,5,IF(X38>1500,0))))","v":0},1995.9908209645782,{"$f":"IF(DD38<500,0,IF(DD38<1000,5,IF(DD38>1000,10)))","v":5},{"$f":"IF(AA38=\"Yes\",20,0)","v":20},"Yes",{"$f":"IF(AC38=\"Yes\",10,0)","v":10},"Yes",{"$f":"IF(AE38=\"Yes\",20,0)","v":20},"Yes",5,{"$f":"IF(BM36<999,20,IF(BM36<1499,15,IF(BM36<1999,10,IF(BM36<3999,5,IF(BM36>4000,0)))))","v":20},15,10,"No",{"$f":"IF(AL38=\"Minimal\",15,0)","v":15},"Minimal",10,"Yes",{"$f":"IF(AP38=\"Yes\",10,0)","v":0},"No",0,"No",25.899192792202655,4.9311622489959836E-2,42.817742247555003,3.7513246389685184,1.0121603056695501,40.175551936000005,0,50,null,null,null,"Albemarle RPO",100,"","","","","01",100,"","","","",{"$f":"SUM(V38+W38+Y38+Z38+AB38+AD38)","v":60},75,null,null,100,null,{"$f":"S38+BU38*0.25","v":11.88},null,"Exceeds cap of $15 million for Statewide & Regional Projects cascading to Division Needs",{"$f":"O38+BT38*0.25","v":40.32},null,"Currituck",81.819999999999993,"Camden",18.18,"","","","",1,"A","01, , ","Albemarle RPO, , ","Currituck, Camden, , ",10.2830142,10.2830142,"Two Lane Highway","Multi-Lane Highway",1,2,"Undivided","Divided",55,55,12.3687060697064,87.631293930293594,6065.8319760000004,15505.137360000001,0.39121433336337758,5315.5670482062969,750.26492779370369,232553.67338973124,32823.753964834919,265377.42735456617,6139297,47.387447479999999,46.640021480000001,34.438604390000002,"","",4,1.6243206113391E-5,"No","No",12,12,"No",0,2,"2 Lane Undivided","4A - 4 Lane Divided (46' Depressed Median) with Paved Shoulders","None","Partial",2,"Yes",32,82500000,40600000,1400000,124500000,"",124500000,124500000,""]
["H090201","Bertie","Peanut Belt RPO","Highway","Regional Impact","R-2900","NC-11 ","NC 903 in Martin County","US 13 Bypass North of Ahoskie in Hertford County","Widen to Multi-Lanes","1 - Widen Existing Roadway",264678000,null,null,9.6828556939639139,{"$f":"(V39+W39+Y39+Z39+AB39+AD39)","v":45},null,{"$f":"O39+P39+Q39","v":54.682855693963916},6.4527639498232601,null,null,{"$f":"IF(AU39<30,0,IF(AU39<50,5,IF(AU39<65,10,IF(AU39>66,15))))","v":5},{"$f":"IF(X39<499,15,IF(X39<999,10,IF(X39<1499,5,IF(X39>1500,0))))","v":0},1767.5616600315998,{"$f":"IF(DD39<500,0,IF(DD39<1000,5,IF(DD39>1000,10)))","v":5},{"$f":"IF(AA39=\"Yes\",15,0)","v":15},"Yes",{"$f":"IF(AC39=\"Yes\",10,0)","v":10},"Yes",{"$f":"IF(AE39=\"Yes\",10,0)","v":10},"Yes",5,{"$f":"IF(BM37<999,20,IF(BM37<1499,15,IF(BM37<1999,10,IF(BM37<3999,5,IF(BM37>4000,0)))))","v":20},15,{"$f":"IF(AJ39=\"Yes\",10,0)","v":10},"Yes",15,"Minimal",10,"Yes",0,"No",0,"No",22.004158280104082,7.4195384580509144E-2,42.449285833548004,4.9984943886064652,"N/A",19.458886990000003,0,0,null,null,null,"Peanut Belt RPO",91.83,"Mid-East RPO",8.17,"","","01",100,"","","","",{"$f":"SUM(V39+W39+Y39+Z39+AB39+AD39)","v":45},75,null,null,null,null,6.4527639498232601,null,"Exceeds cap of $15 million for Statewide & Regional Projects cascading to Division Needs",{"$f":"O39+BT39*0.25","v":9.6828556939639139},null,"Bertie",60.05,"Hertford",31.78,"Martin",8.17,"","",1,"A","01, , ","Peanut Belt RPO, Mid-East RPO, ","Bertie, Hertford, Martin, ",29.059377309999999,29.059377309999999,"Two Lane Highway","Multi-Lane Highway",1,2,"Undivided","Divided",54,55,19.400469355290102,80.599530644709901,5152.9623300000003,15503.09146,0.33238288913506808,4153.2634522787075,999.698877721293,665630.52880070708,160218.60887587239,825849.13767657941,19637886,52.985728870000003,37.521074390000003,36.8537903,"","","","","No","No",12,12,"No",2,2,"2 Lane Undivided","4A - 4 Lane Divided (46' Depressed Median) with Paved Shoulders","Limited","Partial",1,"Yes",22,224808000,35598000,4272000,264678000,"",264678000,264678000,""]
["H090400","Pasquotank","Albemarle RPO","Highway","Division Needs","U-3420","SR-1309 New Route - Main Street Extension","Proposed US 17 Bypass","US 17","Proposed US 17 Bypass to US 17 Bypass (Hughes Boulevard). Upgrade Roadway, Some New Location with interchange at the  Proposed US 17 Bypass.","6 - Widen Existing Roadway and Construct Part on New Location",37604000,null,null,null,null,null,null,7.4926218010578971,9.75,null,"N/A",null,570.59042489894205,null,null,"Yes",null,null,null,null,10,{"$f":"IF(X40<999,20,IF(X40<1499,15,IF(X40<1999,10,IF(X40<3999,5,IF(X40>4000,0)))))","v":20},15,{"$f":"IF(AJ40=\"Yes\",10,0)","v":0},"No",{"$f":"IF(AL40=\"Minimal\",15,0)","v":15},"Minimal",10,"Yes",0,"No",0,"No",21.23955152748097,0,53.686666483098001,2.2125776482960196,"N/A","N/A",0,0,null,null,null,"Albemarle RPO",100,"","","","","01",100,"","","","",null,70,null,null,null,null,7.4926218010578971,null,"Exceeds cap of $15 million for Statewide & Regional Projects cascading to Division Needs",null,null,"Pasquotank",100,"","","","","","",1,"A","01, , ","Albemarle RPO, , ","Pasquotank, , , ",8.1,4.4965362500000001,"Multi-Lane Highway","Arterial",2,2,"Divided","Divided",53,45,3.0192359281745,96.980764071825504,14656.54027,57189.055699999997,0.25628225699134949,14214.024740340796,442.51552965920388,0,0,0,0,45.39256322,70.290980619999999,45.39256322,"","","","","No","No",12,12,"No",4,4,"New Roadway","4B - 4 Lane Divided (23' Raised Median) with Paved Shoulders and Sidewalks","None","Partial",2,"No",23,32490000,4566000,548000,37604000,"",37604000,37604000,""]
["H141863","Bertie","Peanut Belt RPO","Highway","Statewide Mobility","","US-17-BYP-Windsor Bypass","US 13 North at Windsor","US 17A East of Windsor","Upgrade freeway to interstate standards","17 - Upgrade Freeway to Interstate Standards",18115000,5.280522319769938,null,13.48,{"$f":"(V41+W41+Y41+Z41+AB41+AD41)","v":60},null,{"$f":"O41+P41+Q41","v":73.48},12.32,null,null,{"$f":"IF(AU41<30,0,IF(AU41<50,5,IF(AU41<65,10,IF(AU41>66,15))))","v":0},{"$f":"IF(X41<499,15,IF(X41<999,10,IF(X41<1499,5,IF(X41>1500,0))))","v":15},377.5845547580675,{"$f":"IF(DD41<500,0,IF(DD41<1000,5,IF(DD41>1000,10)))","v":10},{"$f":"IF(AA41=\"Yes\",15,0)","v":15},"Yes",{"$f":"IF(AC41=\"Yes\",10,0)","v":10},"Yes",{"$f":"IF(AE41=\"Yes\",10,0)","v":10},"Yes",0,20,15,{"$f":"IF(AJ41=\"Yes\",10,0)","v":10},"Yes",15,"Minimal",10,"Yes",0,"No",0,"No",8.9789540080974994,0,14.225955942132,5.8043325764056979,3.3740078463481447E-2,17.24548809831855,0,100,null,null,null,"Peanut Belt RPO",100,"","","","","01",100,"","","","",{"$f":"SUM(V41+W41+Y41+Z41+AB41+AD41)","v":60},70,null,null,null,null,12.32,null,"Delay Prioritization pending outcome of Future Interstate Designation; Exceeds cap of $15 million for Statewide & Regional Projects cascading to Division Needs",{"$f":"O41+BT41*0.25","v":13.48},null,"Bertie",100,"","","","","","",1,"A","01, , ","Peanut Belt RPO, , ","Bertie, , , ",6.6215013200000001,6.6215013200000001,"Freeway","Freeway",2,2,"Divided","Divided",69.868031583409305,69.868031583409305,16.0219228784675,83.978077121532493,7245.4880983185503,71492.605187994195,0.10134597947950133,6084.6215830374103,1160.8665152811395,0,0,0,0,15.056317160000001,7.53506316,20.090755720000001,"","",0.15711071904780799,5.1769085022182097E-7,"No","No",12,12,"No",0,4,"4 Lane with Median - Full Control","","Full","Full",1,"No",25,18115000,0,0,18115000,"",18115000,18115000,""]
["H090149-C","Northampton","Peanut Belt RPO","Highway","Statewide Mobility","R-2584C","US-158 ","East of SR 1365","Murfreesboro Bypass","Widen to Multi-Lanes, Part on New  Location.","1 - Widen Existing Roadway",15500000,9.3681981442180433,null,8.4421943032112416,{"$f":"(V42+W42+Y42+Z42+AB42+AD42)","v":45},null,{"$f":"O42+P42+Q42","v":53.442194303211238},5.627067316119323,null,null,{"$f":"IF(AU42<30,0,IF(AU42<50,5,IF(AU42<65,10,IF(AU42>66,15))))","v":5},{"$f":"IF(X42<499,15,IF(X42<999,10,IF(X42<1499,5,IF(X42>1500,0))))","v":5},1024.9810988969052,{"$f":"IF(DD42<500,0,IF(DD42<1000,5,IF(DD42>1000,10)))","v":0},{"$f":"IF(AA42=\"Yes\",15,0)","v":15},"Yes",{"$f":"IF(AC42=\"Yes\",10,0)","v":10},"Yes",{"$f":"IF(AE42=\"Yes\",10,0)","v":10},"Yes",5,15,15,{"$f":"IF(AJ42=\"Yes\",10,0)","v":10},"Yes",15,"Minimal",10,"Yes",0,"No",0,"No",16.471282630658063,3.1866580645161291E-2,39.767523949889998,2.1687150311144747,6.7579796151811991E-2,23.569707588,0,0,null,null,null,"Peanut Belt RPO",100,"","","","","01",100,"","","","",{"$f":"SUM(V42+W42+Y42+Z42+AB42+AD42)","v":45},70,null,null,null,null,5.627067316119323,null,"Exceeds cap of $15 million for Statewide & Regional Projects cascading to Division Needs",{"$f":"O42+BT42*0.25","v":8.4421943032112416},null,"Northampton",100,"","","","","","",1,"A","01, , ","Peanut Belt RPO, , ","Northampton, , , ",3.9211613500000002,3.9211613500000002,"Two Lane Highway","Multi-Lane Highway",1,2,"Undivided","Divided",55,55,11.2468617618159,88.753138238184107,3856.5691959999999,15500,0.24881091587096774,3422.8261897771054,433.74300622289491,19034.061700427039,2412.010042237323,21446.07174266436,493932,45.618827529999997,32.736669169999999,40.959006600000002,"","",0,1.3515959230362399E-6,"No","No",12,12,"No",2,0,"2 Lane Undivided","4A - 4 Lane Divided (46' Depressed Median) with Paved Shoulders","None","Partial",1,"Yes",26,10800000,4700000,0,15500000,"",15500000,15500000,""]
["H141650","Northampton","Peanut Belt RPO","Highway","Regional Impact","","US-258 ","Halifax County Line","Rich Square Town Limits","Currently a 2-lane major thoroughfare, it is recommended to widen to 24 feet w/ paved shoulders where necessary from Halifax County line to Rich Square town limits. Provides continuity with Halifax County CTP recommendations, which were based on recommendations in the Edgecombe County CTP.\n","16 - Modernize Roadway",701000,null,null,6.001844019965354,{"$f":"(V43+W43+Y43+Z43+AB43+AD43)","v":50},null,{"$f":"O43+P43+Q43","v":56.001844019965354},4.0012293466435693,null,null,{"$f":"IF(AU43<30,0,IF(AU43<50,5,IF(AU43<65,10,IF(AU43>66,15))))","v":0},{"$f":"IF(X43<499,15,IF(X43<999,10,IF(X43<1499,5,IF(X43>1500,0))))","v":15},45.604565057177851,{"$f":"IF(DD43<500,0,IF(DD43<1000,5,IF(DD43>1000,10)))","v":0},{"$f":"IF(AA43=\"Yes\",15,0)","v":15},"Yes",{"$f":"IF(AC43=\"Yes\",10,0)","v":10},"Yes",{"$f":"IF(AE43=\"Yes\",10,0)","v":10},"Yes",0,20,15,{"$f":"IF(AJ43=\"Yes\",10,0)","v":10},"Yes",15,"Minimal",10,"Yes",0,"No",0,"No",11.153476270105694,0,28.858817196330001,1.999890922488379,"N/A",12.61146520254281,0,0,null,null,null,"Peanut Belt RPO",100,"","","","","01",100,"04","","","",{"$f":"SUM(V43+W43+Y43+Z43+AB43+AD43)","v":50},70,null,null,null,100,29.001229346643569,null,null,{"$f":"O43+BT43*0.25","v":6.001844019965354},null,"Northampton",100,"Halifax","","","","","",1,"A","01, 04, ","Peanut Belt RPO, , ","Northampton, Halifax, , ",5.88607046,5.88607046,"Two Lane Highway","Two Lane Highway",1,1,"Undivided","Undivided",55.000040093698097,55.000040093698097,15.316236421921801,84.683763578078199,2611.4652025428099,15500.011299133101,0.16848150315147617,2211.4870180451339,399.97818449767578,0,0,0,0,29.796681070000002,26.991747960000001,29.796681070000002,"","","","","No","No",12,12,"No",4,0,"2 Lane Undivided","3A - 2 Lane with Two Way Left Turn Lane, and Paved Shoulders","None","None",1,"No",25,701000,0,0,701000,"",701000,701000,""]
["H090099-B","Gates","Albemarle RPO","Highway","Statewide Mobility","R-2507B","US-13 ","US 158 Bypass in Tarheel","SR 1202 (Eure Road/Gates School Road)","Widen to Multi-Lanes.","1 - Widen Existing Roadway",26200000,11.662716525966273,null,12.49,{"$f":"(V44+W44+Y44+Z44+AB44+AD44)","v":65},3.6,{"$f":"O44+P44+Q44","v":81.089999999999989},9.16,5.25,null,{"$f":"IF(AU44<30,0,IF(AU44<50,5,IF(AU44<65,10,IF(AU44>66,15))))","v":10},{"$f":"IF(X44<499,15,IF(X44<999,10,IF(X44<1499,5,IF(X44>1500,0))))","v":0},1700.8127716901893,{"$f":"IF(DD44<500,0,IF(DD44<1000,5,IF(DD44>1000,10)))","v":5},{"$f":"IF(AA44=\"Yes\",20,0)","v":20},"Yes",{"$f":"IF(AC44=\"Yes\",10,0)","v":10},"Yes",{"$f":"IF(AE44=\"Yes\",20,0)","v":20},"Yes",10,10,15,10,"No",{"$f":"IF(AL44=\"Minimal\",15,0)","v":15},"Minimal",10,"Yes",0,"No",0,"No",15.80258064516129,1.9666755725190839E-2,50.766884000546995,9.1677418804838702,5.8055295488545502E-2,45.1,25,0,null,null,null,"Albemarle RPO",100,"","","","","01",100,"","","","",{"$f":"SUM(V44+W44+Y44+Z44+AB44+AD44)","v":65},70,null,null,100,null,9.16,null,"Exceeds cap of $15 million for Statewide & Regional Projects cascading to Division Needs",{"$f":"O44+BT44*0.25","v":37.49},null,"Gates",100,"","","","","","",1,"A","01, , ","Albemarle RPO, , ","Gates, , , ",4.1633513100000004,4.1633513100000004,"Two Lane Highway","Multi-Lane Highway",1,2,"Undivided","Divided",55,55,17.297297,82.702703,3700,15500,0.23870967741935484,3060.0000110000001,639.99998900000003,18067.430804417563,3778.8089786008504,21846.239783018413,515269,59.821943230000002,36.671154739999999,55.822785619999998,"","",0,1.16110590977091E-6,"Yes","No",11,12,"No",2,0,"2 Lane Undivided","4A - 4 Lane Divided (46' Depressed Median) with Paved Shoulders","None","Partial",1,"Yes",37,23200000,1800000,1200000,26200000,"",26200000,26200000,""]
["H141218","Perquimans","Albemarle RPO","Highway","Division Needs","","SR-1329","SR 1331","SR 1300","Widen and repave Woodville Road Phase 2","16 - Modernize Roadway",734000,null,null,null,null,null,null,8.27,5.25,null,"N/A",null,548.01863437169857,null,null,"Yes",null,null,null,null,0,20,15,10,"No",15,"Minimal",10,"Yes",0,"No",0,"No",7.6877419354838707,0,0,0,"N/A","N/A",75,0,null,null,null,"Albemarle RPO",100,"","","","","01",100,"","","","",null,70,null,null,null,100,33.269999999999996,null,null,null,null,"Perquimans",100,"","","","","","",1,"A","01, , ","Albemarle RPO, , ","Perquimans, , , ",0.74409473000000004,0.74409473000000004,"Two Lane Highway","Two Lane Highway",1,1,"Undivided","Undivided",55,55,0,100,1800,15500,0.11612903225806452,1800,0,0,0,0,0,0,0,0,"","","","","No","No",9,12,"No",0,0,"2 Lane Undivided","3A - 2 Lane with Two Way Left Turn Lane, and Paved Shoulders","None","None",2,"No",30,734000,0,0,734000,"",734000,734000,""]
["H090099-C","Gates","Albemarle RPO","Highway","Statewide Mobility","R-2507C","US-13 ","SR 1202 (Eure Road/Gates School Road)","Virginia State Line","Widen to Multi-Lanes.","1 - Widen Existing Roadway",31000000,12.467522810856204,null,10.977776395583573,{"$f":"(V46+W46+Y46+Z46+AB46+AD46)","v":65},3.15,{"$f":"O46+P46+Q46","v":79.127776395583581},7.3178708035073292,5.25,null,{"$f":"IF(AU46<30,0,IF(AU46<50,5,IF(AU46<65,10,IF(AU46>66,15))))","v":10},{"$f":"IF(X46<499,15,IF(X46<999,10,IF(X46<1499,5,IF(X46>1500,0))))","v":0},1720.1381017321557,{"$f":"IF(DD46<500,0,IF(DD46<1000,5,IF(DD46>1000,10)))","v":5},{"$f":"IF(AA46=\"Yes\",20,0)","v":20},"Yes",{"$f":"IF(AC46=\"Yes\",10,0)","v":10},"Yes",{"$f":"IF(AE46=\"Yes\",20,0)","v":20},"Yes",10,10,15,10,"No",15,"Minimal",10,"Yes",0,"No",0,"No",16.327877726309676,1.9403806451612902E-2,56.831426502311999,9.3663279759304228,6.9301056105317504E-2,45.468977557000002,0,0,null,null,null,"Albemarle RPO",100,"","","","","01",100,"","","","",{"$f":"SUM(V46+W46+Y46+Z46+AB46+AD46)","v":65},70,null,null,100,null,7.3178708035073292,null,"Exceeds cap of $15 million for Statewide & Regional Projects cascading to Division Needs",{"$f":"O46+BT46*0.25","v":35.977776395583575},null,"Gates",100,"","","","","","",1,"A","01, , ","Albemarle RPO, , ","Gates, , , ",4.71405809,4.71405809,"Two Lane Highway","Multi-Lane Highway",1,2,"Undivided","Divided",55,55,16.741916150222998,83.258083849776995,3822.9925189999999,15500,0.24664467864516129,3182.9503170397215,640.04220196027802,21279.268908809252,4278.9326794035505,25558.201588212803,601518,71.452794549999993,31.798630360000001,67.25990573,"","",0,1.38602112210635E-6,"Yes","No",12,12,"No",0,0,"2 Lane Undivided","4A - 4 Lane Divided (46' Depressed Median) with Paved Shoulders","None","Partial",1,"Yes",37,23800000,6000000,1200000,31000000,"",31000000,31000000,""]
["F130002","Hyde","Albemarle RPO","Ferry","Division Needs",null,"Statewide: Support Vessel",null,null,"Replacement Vessel-Tug (Dare)",null,1725000,null,null,null,null,null,null,25.9,6,null,null,null,0.4157119961235074,null,null,"Yes",null,null,null,null,5,20,15,{"$f":"IF(AJ47=\"Yes\",10,0)","v":0},"No",15,"Minimal",10,"Yes",{"$f":"IF(AP47=\"Yes\",5,0)","v":0},"No",{"$f":"IF(AR47=\"Yes\",5,0)","v":0},"No",null,null,39.43,null,null,null,null,null,null,null,null,"Albemarle RPO",null,null,null,null,null,null,null,null,null,null,null,null,{"$f":"SUM(AF47+AG47+AH47+AI47++AK47+AM47+AO47+AQ47)","v":65},null,null,null,0,25.9,{"$f":"BV47+T47","v":31.9},null,null,null,"Hyde",null,null,null,null,null,null,null,null,null,null,null,null,null,{"$f":"9.5*2","v":19},null,null,null,null,null,null,null,null,null,null,60391,null,null,null,null,null,null,null,null,null,null,null,null,null,null,null,null,null,null,null,null,null,null,null,null,null,null,null,null,null,null,null,null,1725000,null,477000]
["F130004",null,"Albemarle RPO","Ferry","Division Needs",null,"Statewide: Support Vessel",null,null,"Replacement Vessel-Tug  (Buxton Jr.)",null,1725000,null,null,null,null,null,null,23.4,6,null,null,null,0.20079673775022244,null,null,"Yes",null,null,null,null,5,20,15,0,"No",15,"Minimal",10,"Yes",{"$f":"IF(AP48=\"Yes\",5,0)","v":0},"No",{"$f":"IF(AR48=\"Yes\",5,0)","v":0},"No",null,null,39.43,null,null,null,null,null,null,null,null,"Albemarle RPO",null,null,null,null,null,null,null,null,null,null,null,null,{"$f":"SUM(AF48+AG48+AH48+AI48++AK48+AM48+AO48+AQ48)","v":65},null,null,null,0,23.4,29.4,null,null,null,null,null,null,null,null,null,null,null,null,null,null,null,null,null,{"$f":"9.5*2","v":19},null,null,null,null,null,null,null,null,null,null,60391,null,null,null,null,null,null,null,null,null,null,null,null,null,null,null,null,null,null,null,null,null,null,null,null,null,null,null,null,null,null,null,null,1725000,null,230400]
["F130001","Hyde","Albemarle RPO","Ferry","Division Needs",null,"Statewide: Support Vessel",null,null,"Replacement Vessel-Tug(Albemarle)",null,5000000,null,null,null,null,null,null,19.3,6,null,null,null,1.0039836887511122,null,null,"Yes",null,null,null,null,5,20,15,0,"No",15,"Minimal",10,"Yes",{"$f":"IF(AP49=\"Yes\",5,0)","v":0},"No",{"$f":"IF(AR49=\"Yes\",5,0)","v":0},"No",null,null,39.43,null,null,null,null,null,null,null,null,"Albemarle RPO",null,null,null,null,null,null,null,null,null,null,null,null,{"$f":"SUM(AF49+AG49+AH49+AI49++AK49+AM49+AO49+AQ49)","v":65},null,null,null,0,19.3,25.3,null,null,null,"Hyde",null,null,null,null,null,null,null,null,null,null,null,null,null,{"$f":"9.5*2","v":19},null,null,null,null,null,null,null,null,null,null,60391,null,null,null,null,null,null,null,null,null,null,null,null,null,null,null,null,null,null,null,null,null,null,null,null,null,null,null,null,null,null,null,null,5000000,null,1152000]
["B141476","Dare","Albemarle RPO","Bike & Ped","Division Needs",null,"Kill Devil Hills Multi Use Path","Ocean Acres","Atlantic","Construct Multi-Use Path","2. Construct multi-use trail / greenway / sidepath or on-road bike lane on local roadway",356500,null,null,null,null,null,null,18.504548236546277,9.75,null,"N/A",null,7756.7101699088889,null,null,"Yes",null,null,null,null,15,0,15,10,"Yes",15,"Minimal",10,"Yes",{"$f":"IF(AP50=\"Yes\",10,0)","v":0},"No",{"$f":"IF(AR50=\"Yes\",10,0)","v":0},"No",null,null,75,null,null,null,null,null,null,null,null,"Albemarle RPO",null,null,null,null,null,null,null,null,null,null,null,null,{"$f":"SUM(AF50+AG50+AH50+AI50+AK50+AM50+AO50)","v":65},null,null,null,25,24.754548236546277,null,null,null,null,"Dare County",null,null,null,null,null,null,null,null,null,null,null,null,null,0.31,null,null,null,null,null,null,null,null,null,null,{"$f":"786*0.1","v":78.600000000000009},null,null,null,null,null,null,null,null,null,null,null,null,null,null,null,null,null,null,null,null,null,null,null,null,null,null,null,null,null,310000,0,null,356500,0,189000]
["F130005",null,"Albemarle RPO","Ferry","Division Needs",null,"Statewide: Support Vessel",null,null,"Replacement Vessel-Barge (NC-2 Fuel Barge)",null,200000,null,null,null,null,null,null,18.2,3,null,null,null,0.28609613318122518,null,null,"Yes",null,null,null,null,5,20,15,0,"No",15,"Minimal",10,"Yes",{"$f":"IF(AP51=\"Yes\",5,0)","v":0},"No",{"$f":"IF(AR51=\"Yes\",5,0)","v":0},"No",null,null,39.43,null,null,null,null,null,null,null,null,"Albemarle RPO",null,null,null,null,null,null,null,null,null,null,null,null,{"$f":"SUM(AF51+AG51+AH51+AI51++AK51+AM51+AO51+AQ51)","v":65},null,null,null,0,18.2,{"$f":"BV51+T51","v":21.2},null,null,null,null,null,null,null,null,null,null,null,null,null,null,null,null,null,{"$f":"9.5*2","v":19},null,null,null,null,null,null,null,null,null,null,60391,null,null,null,null,null,null,null,null,null,null,null,null,null,null,null,null,null,null,null,null,null,null,null,null,null,null,null,null,null,null,null,null,200000,null,328275]
["B141349","Dare","Albemarle RPO","Bike & Ped","Division Needs",null,"NC 12","Gull Street","Jennettes Pier","Construct sidewalk on west side of NC 12 from Gull Street south to Jennets Pier","5. Construct Sidewalk",100000,null,null,null,null,null,null,15.642500000000002,6.75,null,"N/A",null,1461.0389610389611,null,null,"Yes",null,null,null,null,0,15,15,10,"Yes",15,"Minimal",10,"Yes",{"$f":"IF(AP52=\"Yes\",10,0)","v":0},"No",{"$f":"IF(AR52=\"Yes\",10,0)","v":0},"No",null,null,12.5,null,null,null,null,null,null,null,null,"Albemarle RPO",null,null,null,null,null,null,null,null,null,null,null,null,{"$f":"SUM(AF52+AG52+AH52+AI52+AK52+AM52+AO52)","v":65},null,null,null,25,21.892500000000002,null,null,null,null,"Dare County",null,null,null,null,null,null,null,null,null,null,null,null,null,0.3,null,null,null,null,null,null,null,null,null,null,308,null,null,null,null,null,null,null,null,null,null,null,null,null,null,null,null,null,null,null,null,null,null,null,null,null,null,null,null,null,90000,0,null,100000,0,135000]
["F130009","Hyde","Albemarle RPO","Ferry","Division Needs",null,"Statewide: Support Vessel",null,null,"Replacement Vessel-Barge (NC-1 Pipeline Barge)",null,185000,null,null,null,null,null,null,13.7,3,null,null,null,{"$f":"(EI53/CZ53)/CO53","v":1.7255969650409739},null,null,"Yes",null,null,null,null,{"$f":"IF(AU53<30,0,IF(AU53<50,5,IF(AU53<65,10,IF(AU53<79,15,IF(AU53>80,20)))))","v":5},20,{"$f":"IF(AA53=\"Yes\",15,0)","v":15},0,"No",15,"Minimal",{"$f":"IF(AN53=\"Yes\",10,0)","v":10},"Yes",{"$f":"IF(AP53=\"Yes\",5,0)","v":0},"No",{"$f":"IF(AR53=\"Yes\",5,0)","v":0},"No",null,null,39.43,null,null,null,null,null,null,null,null,"Albemarle RPO",null,null,null,null,null,null,null,null,null,null,null,null,{"$f":"SUM(AF53+AG53+AH53+AI53++AK53+AM53+AO53+AQ53)","v":65},null,null,null,0,13.7,{"$f":"BV53+T53","v":16.7},null,null,null,"Hyde",null,null,null,null,null,null,null,null,null,null,null,null,null,{"$f":"9.5*2","v":19},null,null,null,null,null,null,null,null,null,null,60391,null,null,null,null,null,null,null,null,null,null,null,null,null,null,null,null,null,null,null,null,null,null,null,null,null,null,null,null,null,null,null,null,185000,null,1980000]
["F130010","Hyde","Albemarle RPO","Ferry","Division Needs",null,"Statewide: Support Vessel",null,null,"Replacement Vessel-Barge (NC-3 Equipment Barge)",null,185000,null,null,null,null,null,null,13.7,3,null,null,null,0.5804280700592368,null,null,"Yes",null,null,null,null,5,20,15,0,"No",15,"Minimal",10,"Yes",{"$f":"IF(AP54=\"Yes\",5,0)","v":0},"No",{"$f":"IF(AR54=\"Yes\",5,0)","v":0},"No",null,null,39.43,null,null,null,null,null,null,null,null,"Albemarle RPO",null,null,null,null,null,null,null,null,null,null,null,null,{"$f":"SUM(AF54+AG54+AH54+AI54++AK54+AM54+AO54+AQ54)","v":65},null,null,null,0,13.7,16.7,null,null,null,"Hyde",null,null,null,null,null,null,null,null,null,null,null,null,null,{"$f":"9.5*2","v":19},null,null,null,null,null,null,null,null,null,null,60391,null,null,null,null,null,null,null,null,null,null,null,null,null,null,null,null,null,null,null,null,null,null,null,null,null,null,null,null,null,null,null,null,185000,null,666000]
["H090329","Northampton","Peanut Belt RPO","Highway","Regional Impact","U-2419","NC-48 ","Roanoke Avenue in Halifax County","NC 46 in Gaston in Northampton County","Roanoke Avenue in Halifax County to NC 46 in Gaston in Northampton County. Widen to Multi-Lanes.","1 - Widen Existing Roadway",30987000,null,null,20.72,{"$f":"(V55+W55+Y55+Z55+AB55+AD55)","v":40},null,{"$f":"O55+P55+Q55","v":60.72},17.12,null,null,{"$f":"IF(AU55<30,0,IF(AU55<50,5,IF(AU55<65,10,IF(AU55>66,15))))","v":0},{"$f":"IF(X55<499,15,IF(X55<999,10,IF(X55<1499,5,IF(X55>1500,0))))","v":0},1638.8925354054695,{"$f":"IF(DD55<500,0,IF(DD55<1000,5,IF(DD55>1000,10)))","v":5},{"$f":"IF(AA55=\"Yes\",15,0)","v":15},"Yes",{"$f":"IF(AC55=\"Yes\",10,0)","v":10},"Yes",{"$f":"IF(AE55=\"Yes\",10,0)","v":10},"Yes",0,{"$f":"IF(BM53<999,20,IF(BM53<1499,15,IF(BM53<1999,10,IF(BM53<3999,5,IF(BM53>4000,0)))))","v":20},15,10,"Yes",15,"Minimal",10,"Yes",{"$f":"IF(AP55=\"Yes\",10,0)","v":0},"No",{"$f":"IF(AR55=\"Yes\",10,0)","v":0},"No",46.280282747314516,0.8176696033820634,24.093813457691997,4.1616023981484593,"N/A",19.025870580000003,0,100,null,null,null,"Peanut Belt RPO",100,"","","","","01",79.88,"04",20.12,"","",{"$f":"SUM(V55+W55+Y55+Z55+AB55+AD55)","v":40},{"$f":"SUM(AF55+AG55+AH55+AI55+AK55+AM55+AO55+AQ55)","v":70},null,null,100,null,17.12,null,"Exceeds cap of $15 million for Statewide & Regional Projects cascading to Division Needs",{"$f":"O55+BT55*0.25","v":45.72},null,"Northampton",79.88,"Halifax",20.12,"","","","",1,"A","01, 04, ","Peanut Belt RPO, , ","Northampton, Halifax, , ",1.71481062,1.71481062,"Arterial","Arterial",1,2,"Undivided","Divided",43,45,7.5487960210548,92.451203978945202,11025.870580000001,15800.17362,0.69783224192190874,10193.550100370308,832.32047962969182,1032268.9976535406,84286.496733129708,1116555.4943866702,25337128,16.88552645,55.403142789999997,0,"","","","","No","No",12,12,"No",0,4,"2 Lane Undivided","4C - 4 Lane Divided (23' Raised Median) with Curb & Gutter, Wide Outside Lanes, and Sidewalks","None","Partial",1,"No",24,29754000,1101000,132000,30987000,"",30987000,30987000,""]
["H090285","Perquimans","Albemarle RPO","Highway","Statewide Mobility","R-4458","US-17 ","SR 1300 (New Hope Road)","","Convert at-Grade intersection to An interchange","7 - Upgrade At-grade Intersection to Interchange or Grade Separation",12906000,11.908335891675366,null,12.64,{"$f":"(V56+W56+Y56+Z56+AB56+AD56)","v":65},4.95,{"$f":"O56+P56+Q56","v":82.59},9.24,7.5,null,{"$f":"IF(AU56<30,0,IF(AU56<50,5,IF(AU56<65,10,IF(AU56>66,15))))","v":10},{"$f":"IF(X56<499,15,IF(X56<999,10,IF(X56<1499,5,IF(X56>1500,0))))","v":15},407.68760462512967,{"$f":"IF(DD56<500,0,IF(DD56<1000,5,IF(DD56>1000,10)))","v":10},{"$f":"IF(AA56=\"Yes\",20,0)","v":20},"Yes",10,"Yes",{"$f":"IF(AE56=\"Yes\",20,0)","v":0},"no",10,{"$f":"IF(BM54<999,20,IF(BM54<1499,15,IF(BM54<1999,10,IF(BM54<3999,5,IF(BM54>4000,0)))))","v":20},15,0,"No",{"$f":"IF(AL56=\"Minimal\",15,0)","v":15},"Minimal",10,"Yes",{"$f":"IF(AP56=\"Yes\",10,0)","v":0},"No",0,"No",16.727256327764458,0.67404679993801331,50,7.7049196029202633,1.46961032780572,63.408788800000011,0,25,null,null,null,"Albemarle RPO",100,"","","","","01",100,"","","","",{"$f":"SUM(V56+W56+Y56+Z56+AB56+AD56)","v":65},70,null,null,null,null,9.24,null,"Delay Prioritization pending outcome of Future Interstate Designation; Need to coordinate this project with SPOT ID#H141929",{"$f":"O56+BT56*0.25","v":12.64},"County Does not support project","Perquimans",100,"","","","","","",1,"A","01, , ","Albemarle RPO, , ","Perquimans, , , ",2,2,"Multi-Lane Highway","Freeway",2,2,"Divided","Divided",55,55,9.7356275119906002,90.2643724880094,15828.2958,91352.771370000002,0.17326563346274099,14287.311879415947,1540.9839205840526,343004.6154544357,36995.38454556428,380000,8699248,"","","",0,100,6,2.3392206556114398E-5,"no","No",12,12,"No",3,4,"2 Lane Undivided","","None","Full",2,"Yes",30.6,10716000,2190000,0,12906000,"",12906000,12906000,""]
["H090284","Dare","Albemarle RPO","Highway","Statewide Mobility","R-4457","US-158 ","NC 12","","Improve intersection ","7 - Upgrade At-grade Intersection to Interchange or Grade Separation",23870000,25.088572426440816,null,23.24,{"$f":"(V57+W57+Y57+Z57+AB57+AD57)","v":55},6.3,{"$f":"O57+P57+Q57","v":84.539999999999992},17.98,9,null,{"$f":"IF(AU57<30,0,IF(AU57<50,5,IF(AU57<65,10,IF(AU57>66,15))))","v":10},{"$f":"IF(X57<499,15,IF(X57<999,10,IF(X57<1499,5,IF(X57>1500,0))))","v":5},1254.6033770323088,{"$f":"IF(DD57<500,0,IF(DD57<1000,5,IF(DD57>1000,10)))","v":10},{"$f":"IF(AA57=\"Yes\",20,0)","v":20},"Yes",10,"Yes",{"$f":"IF(AE57=\"Yes\",20,0)","v":0},"No",10,{"$f":"IF(BM55<999,20,IF(BM55<1499,15,IF(BM55<1999,10,IF(BM55<3999,5,IF(BM55>4000,0)))))","v":20},15,0,"No",15,"Minimal",10,"Yes",{"$f":"IF(AP57=\"Yes\",10,0)","v":0},"No",0,"No",54.50533413736671,0.3082017176372015,50,17.576238950973607,1.2926387974492148,100,0,75,null,null,null,"Albemarle RPO",100,"","","","","01",100,"","","","",{"$f":"SUM(V57+W57+Y57+Z57+AB57+AD57)","v":55},70,null,null,null,null,17.98,null,null,{"$f":"O57+BT57*0.25","v":23.24},null,"Dare",100,"","","","","","",1,"A","01, , ","Albemarle RPO, , ","Dare, , , ",0.5,0.5,"Arterial","Arterial",2,2,"TWLTL","Divided",50.0000000000014,50.0000000000014,9.2380430429066998,90.761956957093304,38051.866329999997,58117.244420000003,0.6547431267561119,34536.618539805277,3515.2477901947218,292253.50140184048,29746.498598159575,322000.00000000006,7356775,"","","",66.7,33.299999999999997,5,2.0852775948984299E-5,"No","No",12,12,"No",1,4,"4 Lane with TWLTL (Five Lane)","","None","Partial",2,"Yes",18.899999992478101,19250000,4620000,0,23870000,"",23870000,23870000,""]
["A130008","Pasquotank","Albemarle RPO","Aviation","Division Needs",null,"Elizabeth City Coast Guard Air Station/Regional",null,null,"Land Acquisition-Apron Construction",null,1800000,null,null,null,null,null,null,8.59,13.5,null,"N/A",null,1588.4154391156831,null,null,"Yes",0,null,{"$f":"IF(AE58=\"Yes\",10,0)","v":0},null,0,{"$f":"IF(X58<999,20,IF(X58<1499,15,IF(X58<1999,10,IF(X58<3999,5,IF(X58>4000,0)))))","v":10},15,10,"Yes",15,"Minimal",10,"Yes",{"$f":"IF(AP58=\"Yes\",5,0)","v":5},"Yes",0,"No",null,null,null,null,null,null,null,null,null,null,null,"Albemarle RPO",null,null,null,null,null,null,null,null,null,null,null,null,65,null,null,null,null,null,null,null,null,null,"Pasquotank",null,null,null,null,null,null,null,null,null,null,null,null,null,0.86,null,null,null,null,null,null,null,null,null,null,164.71,null,null,null,null,null,null,null,null,null,null,null,null,null,null,null,null,null,null,null,null,null,null,null,null,null,null,null,null,null,null,null,null,2000000,null,225000]
["A130007","Pasquotank","Albemarle RPO","Aviation","Division Needs",null,"Elizabeth City Coast Guard Air Station/Regional",null,null,"Permitting/mitigation/preliminary",null,247500,null,null,null,null,null,null,7.89,13.5,null,"N/A",null,1747.2569830272516,null,null,"Yes",0,null,{"$f":"IF(AE59=\"Yes\",10,0)","v":0},null,0,{"$f":"IF(X59<999,20,IF(X59<1499,15,IF(X59<1999,10,IF(X59<3999,5,IF(X59>4000,0)))))","v":10},15,10,"Yes",15,"Minimal",10,"Yes",{"$f":"IF(AP59=\"Yes\",5,0)","v":5},"Yes",0,"No",null,null,null,null,null,null,null,null,null,null,null,"Albemarle RPO",null,null,null,null,null,null,null,null,null,null,null,null,65,null,null,null,null,null,null,null,null,null,"Pasquotank",null,null,null,null,null,null,null,null,null,null,null,null,null,0.86,null,null,null,null,null,null,null,null,null,null,164.71,null,null,null,null,null,null,null,null,null,null,null,null,null,null,null,null,null,null,null,null,null,null,null,null,null,null,null,null,null,null,null,null,275000,null,247500]
["A130036","Currituck","Albemarle RPO","Aviation","Division Needs",null,"Currituck County Regional",null,null,"Acquire Equipment Shelter",null,135000,null,null,null,null,null,null,5.56,15,null,"N/A",null,1895.2794905488729,null,null,"Yes",0,null,{"$f":"IF(AE60=\"Yes\",10,0)","v":0},null,0,{"$f":"IF(X60<999,20,IF(X60<1499,15,IF(X60<1999,10,IF(X60<3999,5,IF(X60>4000,0)))))","v":10},15,10,"Yes",15,"Minimal",10,"Yes",{"$f":"IF(AP60=\"Yes\",5,0)","v":5},"Yes",0,"No",null,null,null,null,null,null,null,null,null,null,null,"Albemarle RPO",null,null,null,null,null,null,null,null,null,null,null,null,65,null,null,null,null,null,null,null,null,null,"Currituck",null,null,null,null,null,null,null,null,null,null,null,null,null,1.04,null,null,null,null,null,null,null,null,null,null,68.489999999999995,null,null,null,null,null,null,null,null,null,null,null,null,null,null,null,null,null,null,null,null,null,null,null,null,null,null,null,null,null,null,null,null,150000,null,135000]
["H090230","Dare","Albemarle RPO","Highway","Statewide Mobility","R-3419","US-158 ","US 64-NC 12","Eastern End of Currituck Sound Bridge","Add Additional Lanes.","1 - Widen Existing Roadway",85428000,33.826595565109983,null,22.42,{"$f":"(V61+W61+Y61+Z61+AB61+AD61)","v":90},6.3,{"$f":"O61+P61+Q61","v":118.72},15.67,6.75,null,{"$f":"IF(AU61<30,0,IF(AU61<50,5,IF(AU61<65,10,IF(AU61>66,15))))","v":15},{"$f":"IF(X61<499,15,IF(X61<999,10,IF(X61<1499,5,IF(X61>1500,0))))","v":15},183.5913006327666,{"$f":"IF(DD61<500,0,IF(DD61<1000,5,IF(DD61>1000,10)))","v":10},{"$f":"IF(AA61=\"Yes\",20,0)","v":20},"Yes",10,"Yes",{"$f":"IF(AE61=\"Yes\",20,0)","v":20},"Yes",15,{"$f":"IF(BM59<999,20,IF(BM59<1499,15,IF(BM59<1999,10,IF(BM59<3999,5,IF(BM59>4000,0)))))","v":20},15,10,"No",15,"Minimal",10,"Yes",{"$f":"IF(AP61=\"Yes\",10,0)","v":0},"No",0,"No",61.663206108983005,3.1984238540057124,66.848834021375993,12.296076997726795,52.240077745304099,17.929986580000001,0,25,null,null,null,"Albemarle RPO",100,"","","","","01",100,"","","","",{"$f":"SUM(V61+W61+Y61+Z61+AB61+AD61)","v":90},85,null,null,100,null,{"$f":"S61+BU61*0.25","v":15.67},null,"Exceeds cap of $15 million for Statewide & Regional Projects cascading to Division Needs",{"$f":"O61+BT61*0.25","v":47.42},null,"Dare",100,"","","","","","",1,"A","01, , ","Albemarle RPO, , ","Dare, , , ",17.3012275,17.3012275,"Arterial","Arterial",2,3,"TWLTL","Divided",50,45,9.1437711105651012,90.856228889434902,26894.979869999999,31700.06882,0.8484202360163835,24435.76447045464,2459.2153995453591,10869853.540386515,1093942.0884352552,11963795.62882177,273234953,66.845883279999995,76.036630419999995,57.684045019999999,"","",200,8.4480155490608197E-4,"No","No",12,12,"No",3,4,"4 Lane with TWLTL (Five Lane)","6E - 6 Lane Divided (23' Raised Median) with Curb & Gutter, Wide Outside Lanes, and Sidewalks","None","Partial",2,"No",18,56202000,26095000,3131000,85428000,"",85428000,85428000,""]
["H141869","Chowan","Albemarle RPO","Highway","Statewide Mobility","","US-17-BYP-Edenton Bypass","South end of Chowan River Bridge","US 17 Business (North) in Edenton (Broad Street)","Upgrade freeway to interstate standards","17 - Upgrade Freeway to Interstate Standards",39943000,8.7484760417394707,null,13.199578131959568,75,4.95,93.149578131959572,10.466385421306379,7.5,null,5,10,527.48148407603003,10,{"$f":"IF(AA62=\"Yes\",20,0)","v":20},"Yes",10,"Yes",{"$f":"IF(AE62=\"Yes\",20,0)","v":20},"Yes",5,{"$f":"IF(X62<999,20,IF(X62<1499,15,IF(X62<1999,10,IF(X62<3999,5,IF(X62>4000,0)))))","v":20},15,{"$f":"IF(AJ62=\"Yes\",10,0)","v":0},"No",15,"Minimal",10,"Yes",0,"No",0,"No",10.143372066527785,0,44.520482146535997,5.8742929410305047,0.78557618921433359,18.241940617180788,25,25,null,null,null,"Albemarle RPO",90.31,"Peanut Belt RPO",9.69,"","","01",100,"","","","",75,65,null,null,100,null,10.466385421306379,null,"Delay Prioritization pending outcome of Future Interstate Designation; Exceeds cap of $15 million for Statewide & Regional Projects cascading to Division Needs",38.199578131959569,null,"Chowan",90.31,"Bertie",9.69,"","","","",1,"A","01, , ","Albemarle RPO, Peanut Belt RPO, ","Chowan, Bertie, , ",9.1876402099999996,9.1876402099999996,"Freeway","Freeway",2,2,"Divided","Divided",58.657857951946099,58.657857951946099,14.2546354405544,85.745364559445605,8241.9406171807896,72228.075098455607,0.11410993032759113,7067.0820289746889,1174.8585882061009,0,0,0,0,49.239147449999997,33.660043209999998,50.675613259999999,"","",3.5297729597742702,1.21817508245124E-5,"No","No",11,12,"No",3,4,"4 Lane with Median - Full Control","","Full","Full",1,"No",25,39943000,0,0,39943000,"",39943000,39943000,""]
["H111225","Currituck","Albemarle RPO","Highway","Statewide Mobility","","US-158 ","Proposed Mid Currituck Bridge","Dare County Line","Upgrade the Existing 5-Lane Boulevard to a 4-Lane Divided Boulevard fromtheproposed Mid-Currituck Bridge to the Dare County Line.","11 - Access Management",130843000,11.16234915458393,null,12.45,80,6.3,98.75,9.1300000000000008,9,null,5,15,484.12802715559553,10,{"$f":"IF(AA63=\"Yes\",20,0)","v":20},"Yes",10,"Yes",{"$f":"IF(AE63=\"Yes\",20,0)","v":20},"Yes",5,20,15,{"$f":"IF(AJ63=\"Yes\",10,0)","v":0},"No",15,"Minimal",10,"Yes",0,"No",0,"No",16.869019924360721,0,49.446054653357997,5.7851885596995665,0,19.311718553333336,0,25,null,null,null,"Albemarle RPO",100,"","","","","01",100,"","","","",80,65,null,null,0,null,9.1300000000000008,null,"Exceeds cap of $15 million for Statewide & Regional Projects cascading to Division Needs",12.45,null,"Currituck",100,"","","","","","",1,"A","01, , ","Albemarle RPO, , ","Currituck, , , ",19.349474180000001,19.349474180000001,"Multi-Lane Highway","Multi-Lane Highway",2,2,"TWLTL","Divided",55,55,8.2837391423356994,91.716260857664295,13967.57783,74282.529899999994,0.18803314653934533,12810.540118060086,1157.0377119399134,0,0,0,0,46.775181750000002,60.689393699999997,40.888423809999999,"","",0,0,"No","No",12,12,"No",3,4,"4 Lane with TWLTL (Five Lane)","4E - 4 Lane Divided (17'-6\"' Raised Median) with Paved Shoulders and Sidewalks","None","None",2,"No",25,125286000,4962000,595000,130843000,"",130843000,130843000,""]
["H111227","Currituck","Albemarle RPO","Highway","Statewide Mobility","","NC-168 ","Virginia Line","US 158","Upgrade the Existing 5-Lane Major Thoroughfare to a 4-Lane Divided Boulevardfrom the Virginia Line to US 158","11 - Access Management",122633000,9.259530084621499,null,10.46,70,6.3,86.76,7.81,9,null,5,10,512.62152970794932,5,{"$f":"IF(AA64=\"Yes\",20,0)","v":20},"Yes",10,"Yes",{"$f":"IF(AE64=\"Yes\",20,0)","v":20},"Yes",5,20,15,{"$f":"IF(AJ64=\"Yes\",10,0)","v":0},"No",15,"Minimal",10,"Yes",0,"No",0,"No",15.564629295984382,0,37.494202474773004,4.2036052417444214,0,36.707706353333336,0,25,null,null,null,"Albemarle RPO",100,"","","","","01",100,"","","","",70,65,null,null,null,null,7.81,null,"Exceeds cap of $15 million for Statewide & Regional Projects cascading to Division Needs",10.46,null,"Currituck",100,"","","","","","",1,"A","01, , ","Albemarle RPO, , ","Currituck, , , ",18.31536071,18.31536071,"Multi-Lane Highway","Multi-Lane Highway",2,2,"TWLTL","Divided",55,55,6.4366054177367005,93.5633945822633,13061.55953,75792.37487,0.17233342473307303,12220.838481651117,840.72104834888432,0,0,0,0,39.915379160000001,42.339522950000003,30.238954700000001,"","",0,0,"No","No",12,12,"No",3,4,"4 Lane with TWLTL (Five Lane)","4E - 4 Lane Divided (17'-6\"' Raised Median) with Paved Shoulders and Sidewalks","None","None",2,"No",34,120156000,2212000,265000,122633000,"",122633000,122633000,""]
["H090286","Perquimans","Albemarle RPO","Highway","Statewide Mobility","R-4459","US-17 ","SR 1336 (Harvey Point Road) and SR 1338 (Wayne Fork Road)","","Convert at-Grade intersection to An interchange","7 - Upgrade At-grade Intersection to Interchange or Grade Separation",17124000,11.326621906015168,null,10.49,60,4.95,75.44,7.79,7.5,null,5,15,485.15757135953902,10,{"$f":"IF(AA65=\"Yes\",20,0)","v":20},"Yes",10,"Yes",{"$f":"IF(AE65=\"Yes\",20,0)","v":0},"no",5,20,15,{"$f":"IF(AJ65=\"Yes\",10,0)","v":0},"No",15,"Minimal",10,"Yes",0,"No",0,"No",18.637613344626359,0.98769090165849105,33.299999999999997,9.1293282844147789,2.8316497524675701,58.660999040000007,0,25,null,null,null,"Albemarle RPO",100,"","","","","01",100,"","","","",60,65,null,null,null,null,7.79,null,"Exceeds cap of $15 million for Statewide & Regional Projects cascading to Division Needs",10.49,null,"Perquimans",100,"","","","","","",1,"A","01, , ","Albemarle RPO, , ","Perquimans, , , ",2,2,"Multi-Lane Highway","Freeway",2,2,"Divided","Divided",55,55,10.346093759894,89.653906240105997,17647.874640000002,91451.899420000002,0.19297439147710599,15822.008983117046,1825.8656568829558,660749.28898958117,76250.711010418774,737000,16913219,"","","",33.299999999999997,33.299999999999997,12,4.4632995049351403E-5,"No","No",12,12,"No",3,4,"2 Lane Undivided","","Limited","Full",2,"Yes",25.8,14934000,2190000,0,17124000,"",17124000,17124000,""]
["H090149-A","Northampton","Peanut Belt RPO","Highway","Statewide Mobility","R-2584A","US-158 ","SR 1333 (Mt. Caramel Road-Severn Road) East of Jackson","East of SR 1500","Widen to Multi-Lanes, Part on New  Location.","1 - Widen Existing Roadway",35400000,6.7665917857530138,null,6.1953666496314517,40,null,46.195366649631453,4.1302444330876344,null,null,0,5,1494.0486221150661,0,{"$f":"IF(AA66=\"Yes\",15,0)","v":15},"Yes",10,"Yes",{"$f":"IF(AE66=\"Yes\",10,0)","v":10},"Yes",0,15,15,10,"Yes",15,"Minimal",10,"Yes",0,"No",0,"No",11.375504147527343,0,29.926940183349,1.8062326157995514,0,19.990346666999997,0,0,null,null,null,"Peanut Belt RPO",100,"","","","","01",100,"","","","",40,65,null,null,null,null,4.1302444330876344,null,"Exceeds cap of $15 million for Statewide & Regional Projects cascading to Division Needs",6.1953666496314517,null,"Northampton",100,"","","","","","",1,"A","01, , ","Peanut Belt RPO, , ","Northampton, , , ",8.8959874899999996,8.8959874899999996,"Two Lane Highway","Multi-Lane Highway",1,2,"Undivided","Divided",55,55,13.563110771595898,86.436889228404098,2663.4488889999998,15500.00021,0.17183540986545573,2302.2023658400894,361.24652315991028,0,0,0,0,31.488997040000001,30.542237579999998,27.75856491,"","",0,0,"No","No",12,12,"No",2,0,"2 Lane Undivided","4A - 4 Lane Divided (46' Depressed Median) with Paved Shoulders","None","Partial",1,"Yes",26,31300000,4100000,0,35400000,"",35400000,35400000,""]
["B141773","Dare","Albemarle RPO","Bike & Ped","Division Needs",null,"NC 12 Duck","1174 Duck Road","Cook Drive","Construct Sidewalk on West side of NC 12","2. Construct multi-use trail / greenway / sidepath or on-road bike lane on local roadway",303600,null,null,null,null,null,null,20.72,13.5,null,"N/A",null,14426.229508196724,null,null,"Yes",null,null,null,null,10,0,15,{"$f":"IF(AJ67=\"Yes\",10,0)","v":10},"Yes",{"$f":"IF(AL67=\"Minimal\",15,0)","v":15},"Minimal",10,"Yes",0,"No",0,"No",null,null,62.5,null,null,null,null,null,null,null,null,"Albemarle RPO",null,null,null,null,null,null,null,null,null,null,null,null,{"$f":"SUM(AF67+AG67+AH67+AI67+AK67+AM67+AO67)","v":60},null,null,null,null,20.72,null,null,null,null,"Dare County",null,null,null,null,null,null,null,null,null,null,null,null,null,0.69,null,null,null,null,null,null,null,null,null,null,{"$f":"305*0.1","v":30.5},null,null,null,null,null,null,null,null,null,null,null,null,null,null,null,null,null,null,null,null,null,null,null,null,null,null,null,null,null,385000,0,null,442000,138400,303600]
["B141770","Dare","Albemarle RPO","Bike & Ped","Division Needs",null,"NC 12 Duck","Four Seasons Lane","Cook Drive","Connect share path and construct sidewalk","5. Construct Sidewalk",286000,null,null,null,null,null,null,19.84,13.5,null,"N/A",null,9712.7677237257158,null,null,"Yes",null,null,null,null,10,0,15,10,"Yes",15,"Minimal",10,"Yes",0,"No",0,"No",null,null,62.5,null,null,null,null,null,null,null,null,"Albemarle RPO",null,null,null,null,null,null,null,null,null,null,null,null,60,null,null,null,null,19.84,null,null,null,null,"Dare County",null,null,null,null,null,null,null,null,null,null,null,null,null,2.4700000000000002,null,null,null,null,null,null,null,null,null,null,{"$f":"317*0.1","v":31.700000000000003},null,null,null,null,null,null,null,null,null,null,null,null,null,null,null,null,null,null,null,null,null,null,null,null,null,null,null,null,null,365000,0,null,420000,134000,760500]
["B141788","Camden","Albemarle RPO","Bike & Ped","Division Needs",null,"SR 1216","US 17","End Pavement","Construct Sidewalks","5. Construct Sidewalk",200000,null,null,null,null,null,null,19.2234926866,8.25,null,"N/A",null,18705.574261129816,null,null,"Yes",null,null,null,null,10,0,15,10,"Yes",15,"Minimal",10,"Yes",0,"No",0,"No",null,null,50,null,null,null,null,null,null,null,null,"Albemarle RPO",null,null,null,null,null,null,null,null,null,null,null,null,60,null,null,null,null,19.2234926866,null,null,null,null,"Camden County",null,null,null,null,null,null,null,null,null,null,null,null,null,0.33,null,null,null,null,null,null,null,null,null,null,{"$f":"324*0.1","v":32.4},null,null,null,null,null,null,null,null,null,null,null,null,null,null,null,null,null,null,null,null,null,null,null,null,null,null,null,null,null,170000,0,null,200000,0,200000]
["B141479","Dare","Albemarle RPO","Bike & Ped","Division Needs",null,"Kill Devil Hills Multi Use Path","Eighth Street","Ocean Acres","Construct Multi use path","2. Construct multi-use trail / greenway / sidepath or on-road bike lane on local roadway",414000,null,null,null,null,null,null,15.233988893053294,9.75,null,"N/A",null,16290.726817042605,null,null,"Yes",null,null,null,null,10,0,15,10,"Yes",15,"Minimal",10,"Yes",0,"No",0,"No",null,null,55,null,null,null,null,null,null,null,null,"Albemarle RPO",null,null,null,null,null,null,null,null,null,null,null,null,60,null,null,null,null,15.233988893053294,null,null,null,null,"Dare County",null,null,null,null,null,null,null,null,null,null,null,null,null,0.36,null,null,null,null,null,null,null,null,null,null,{"$f":"798*0.1","v":79.800000000000011},null,null,null,null,null,null,null,null,null,null,null,null,null,null,null,null,null,null,null,null,null,null,null,null,null,null,null,null,null,360000,0,null,414000,0,468000]
["B141368","Dare","Albemarle RPO","Bike & Ped","Division Needs",null,"US 158","Worthington Lane","Jejac Street","Construct approximately 8200' of sidewalk on the west side of US 158","5. Construct Sidewalk",405375,null,null,null,null,null,null,14.980262092711737,9.75,null,"N/A",null,2732.7935222672068,null,null,"Yes",null,null,null,null,5,5,15,10,"Yes",15,"Minimal",10,"Yes",0,"No",0,"No",null,null,42.5,null,null,null,null,null,null,null,null,"Albemarle RPO",null,null,null,null,null,null,null,null,null,null,null,null,60,null,null,null,null,14.980262092711737,null,null,null,null,"Dare County",null,null,null,null,null,null,null,null,null,null,null,null,null,3.12,null,null,null,null,null,null,null,null,null,null,{"$f":"950*0.1","v":95},null,null,null,null,null,null,null,null,null,null,null,null,null,null,null,null,null,null,null,null,null,null,null,null,null,null,null,null,null,385375,0,null,405375,0,810000]
["B141956","Camden","Albemarle RPO","Bike & Ped","Division Needs",null,"Dismal Swamp Trail","McPherson Road",null,"Construct a 10' wide trail running between US 17 and the historic Dismal Swamp. (Phase 1)","2. Construct multi-use trail / greenway / sidepath or on-road bike lane on local roadway",400000,null,null,null,null,null,null,14.580441313826976,7.5,null,"N/A",null,94562.647754137128,null,null,"Yes",null,null,null,null,10,0,15,10,"Yes",15,"Minimal",10,"Yes",0,"No",0,"No",null,null,50,null,null,null,null,null,null,null,null,"Albemarle RPO",null,null,null,null,null,null,null,null,null,null,null,null,60,null,null,null,null,14.580441313826976,null,null,null,null,"Camden County",null,null,null,null,null,null,null,null,null,null,null,null,null,0.47,null,null,null,null,null,null,null,null,null,null,{"$f":"90*0.1","v":9},null,null,null,null,null,null,null,null,null,null,null,null,null,null,null,null,null,null,null,null,null,null,null,null,null,null,null,null,null,380000,0,null,400000,0,400000]
["B141965","Camden","Albemarle RPO","Bike & Ped","Division Needs",null,"Dismal Swamp Trail",null,null,"Construct a 10' wide trail running between US 17 and the historic Dismal Swamp (Phase 2)","2. Construct multi-use trail / greenway / sidepath or on-road bike lane on local roadway",400000,null,null,null,null,null,null,14.551587373051026,7.5,null,"N/A",null,120809.42313500452,null,null,"Yes",null,null,null,null,10,0,15,10,"Yes",15,"Minimal",10,"Yes",0,"No",0,"No",null,null,50,null,null,null,null,null,null,null,null,"Albemarle RPO",null,null,null,null,null,null,null,null,null,null,null,null,60,null,null,null,null,14.551587373051026,null,null,null,null,"Camden County",null,null,null,null,null,null,null,null,null,null,null,null,null,0.43,null,null,null,null,null,null,null,null,null,null,{"$f":"77*0.1","v":7.7},null,null,null,null,null,null,null,null,null,null,null,null,null,null,null,null,null,null,null,null,null,null,null,null,null,null,null,null,null,380000,0,null,400000,0,400000]
["H090146","Pasquotank","Albemarle RPO","Highway","Statewide Mobility","R-2579","US-158 ","NC 32 in Sunbury in Gates County","US 17 at Morgan's County in Pasquotank County","Widen to Multi-Lanes.","1 - Widen Existing Roadway",116900000,10.169185073380103,null,9.8457510643364152,{"$f":"(V74+W74+Y74+Z74+AB74+AD74)","v":55},3.6,{"$f":"O74+P74+Q74","v":68.445751064336406},6.5632928241854991,5.25,null,{"$f":"IF(AU74<30,0,IF(AU74<50,5,IF(AU74<65,10,IF(AU74>66,15))))","v":5},{"$f":"IF(X74<499,15,IF(X74<999,10,IF(X74<1499,5,IF(X74>1500,0))))","v":0},1998.9636506206675,{"$f":"IF(DD74<500,0,IF(DD74<1000,5,IF(DD74>1000,10)))","v":0},{"$f":"IF(AA74=\"Yes\",20,0)","v":20},"Yes",{"$f":"IF(AC74=\"Yes\",10,0)","v":10},"Yes",{"$f":"IF(AE74=\"Yes\",20,0)","v":20},"Yes",5,10,15,10,"No",15,"Minimal",10,"Yes",0,"No",0,"No",16.037487030331597,1.6236561163387512E-2,49.579204650359998,1.8147225661842494,0.32203017658757549,44.018879968,0,0,null,null,null,"Albemarle RPO",100,"","","","","01",100,"","","","",{"$f":"SUM(V74+W74+Y74+Z74+AB74+AD74)","v":55},{"$f":"SUM(AF74+AG74+AH74+AI74+AK74+AM74+AO74+AQ74)","v":65},null,null,null,null,6.5632928241854991,null,"Exceeds cap of $15 million for Statewide & Regional Projects cascading to Division Needs",{"$f":"O74+BT74*0.25","v":9.8457510643364152},null,"Pasquotank",50.79,"Gates",49.21,"","","","",1,"A","01, , ","Albemarle RPO, , ","Pasquotank, Gates, , ",15.565360119999999,15.565360119999999,"Two Lane Highway","Multi-Lane Highway",1,2,"Undivided","Divided",55,55,9.6602817719101992,90.339718228089794,3757.079988,15509.470209999999,0.24224425058552662,3394.1354747631499,362.9445132368499,74923.879907980401,8011.8225466282393,82935.702454608647,1898054,55.621653420000001,44.958995770000001,48.171840009999997,"","",1,5.4406035317515099E-6,"No","No",12,12,"No",1,0,"2 Lane Undivided","4A - 4 Lane Divided (46' Depressed Median) with Paved Shoulders","None","Partial",2,"Yes",37,91500000,20000000,5400000,116900000,"",116900000,116900000,""]
["B141867","Chowan","Albemarle RPO","Bike & Ped","Division Needs",null,";;",";;",";;","Connect path where existing sidewalk stops near Twiddy Ave. and extend towards Pembroke to the west side of town, connecting  residential subdivisions and over the US 17 bypass overpass, terminating at the new Chowan River fishing pier. (Phase 1)","2. Construct multi-use trail / greenway / sidepath or on-road bike lane on local roadway",400000,null,null,null,null,null,null,9.2594271087650011,3.75,null,"N/A",null,1871.3051080641271,null,null,"Yes",null,null,null,null,0,10,15,{"$f":"IF(AJ75=\"Yes\",10,0)","v":10},"Yes",15,"Minimal",10,"Yes",0,"No",0,"No",null,null,12.5,null,null,null,null,null,null,null,null,"Albemarle RPO",null,null,null,null,null,null,null,null,null,null,null,null,{"$f":"SUM(AF75+AG75+AH75+AI75+AK75+AM75+AO75)","v":60},null,null,null,null,9.2594271087650011,null,null,null,null,"Chowan County",null,null,null,null,null,null,null,null,null,null,null,null,null,0.96,null,null,null,null,null,null,null,null,null,null,{"$f":"2226.61*0.1","v":222.66100000000003},null,null,null,null,null,null,null,null,null,null,null,null,null,null,null,null,null,null,null,null,null,null,null,null,null,null,null,null,null,380000,0,null,400000,0,400000]
["H129070-AA","Tyrrell","Albemarle RPO","Highway","Statewide Mobility","R-2545AA","US-64 ","East of Columbia","West of SR 1229 (Old US 64) at Alligator River","Widen to Multi-Lanes.","1 - Widen Existing Roadway",20780000,5.3659988106159062,null,2.4071891913157408,{"$f":"(V76+W76+Y76+Z76+AB76+AD76)","v":55},6.3,{"$f":"O76+P76+Q76","v":63.707189191315734},1.6040208211594833,9,null,{"$f":"IF(AU76<30,0,IF(AU76<50,5,IF(AU76<65,10,IF(AU76>66,15))))","v":0},{"$f":"IF(X76<499,15,IF(X76<999,10,IF(X76<1499,5,IF(X76>1500,0))))","v":5},1402.7886202635034,{"$f":"IF(DD76<500,0,IF(DD76<1000,5,IF(DD76>1000,10)))","v":0},{"$f":"IF(AA76=\"Yes\",20,0)","v":20},"Yes",{"$f":"IF(AC76=\"Yes\",10,0)","v":10},"Yes",{"$f":"IF(AE76=\"Yes\",20,0)","v":20},"Yes",0,15,15,10,"No",15,"Minimal",10,"Yes",0,"No",0,"No",16.017049020064515,2.3159191530317612E-2,0,1.8563572953123741,1.8266488807498149,31.250646215000003,0,0,null,null,null,"Albemarle RPO",100,"","","","","01",100,"","","","",{"$f":"SUM(V76+W76+Y76+Z76+AB76+AD76)","v":55},{"$f":"SUM(AF76+AG76+AH76+AI76+AK76+AM76+AO76+AQ76)","v":65},null,null,null,null,1.6040208211594833,null,"Exceeds cap of $15 million for Statewide & Regional Projects cascading to Division Needs",{"$f":"O76+BT76*0.25","v":2.4071891913157408},null,"Tyrrell",100,"","","","","","",1,"A","01, , ","Albemarle RPO, , ","Tyrrell, , , ",3.95,3.95,"Two Lane Highway","Multi-Lane Highway",1,2,"Undivided","Divided",55,55,9.9000035722608004,90.0999964277392,3750.2154049999999,15500,0.24194938096774193,3378.9439459375253,371.27145906247483,18928.229631697483,2079.7952097663565,21008.024841463841,481248,0,0,0,"","",7,2.9532977614996302E-5,"No","No",12,12,"No",0,0,"2 Lane Undivided","4A - 4 Lane Divided (46' Depressed Median) with Paved Shoulders","None","Partial",1,"Yes",30,17800000,1730000,1250000,20780000,"",20780000,20780000,""]
["H129070-AB","Tyrrell","Albemarle RPO","Highway","Statewide Mobility","R-2545AB","US-64 ","West of SR 1229 (Old US 64) at Alligator River","West of Alligator River","Widen to Multi-Lanes.","1 - Widen Existing Roadway",44850000,5.2027678758907117,null,2.4071000419728881,{"$f":"(V77+W77+Y77+Z77+AB77+AD77)","v":55},6.3,{"$f":"O77+P77+Q77","v":63.707100041972886},1.6039762464880569,9,null,{"$f":"IF(AU77<30,0,IF(AU77<50,5,IF(AU77<65,10,IF(AU77>66,15))))","v":0},{"$f":"IF(X77<499,15,IF(X77<999,10,IF(X77<1499,5,IF(X77>1500,0))))","v":5},1430.3182031467043,{"$f":"IF(DD77<500,0,IF(DD77<1000,5,IF(DD77>1000,10)))","v":0},{"$f":"IF(AA77=\"Yes\",20,0)","v":20},"Yes",10,"Yes",{"$f":"IF(AE77=\"Yes\",20,0)","v":20},"Yes",0,15,15,10,"No",15,"Minimal",10,"Yes",0,"No",0,"No",16.017049020064515,2.2713444816053512E-2,0,1.8563572953123741,0.19567677364066899,31.250646215000003,0,0,null,null,null,"Albemarle RPO",100,"","","","","01",100,"","","","",{"$f":"SUM(V77+W77+Y77+Z77+AB77+AD77)","v":55},65,null,null,null,null,1.6039762464880569,null,"Exceeds cap of $15 million for Statewide & Regional Projects cascading to Division Needs",{"$f":"O77+BT77*0.25","v":2.4071000419728881},null,"Tyrrell",100,"","","","","","",1,"A","01, , ","Albemarle RPO, , ","Tyrrell, , , ",8.3612954199999994,8.3612954199999994,"Two Lane Highway","Multi-Lane Highway",1,2,"Undivided","Divided",55,55,9.9000035722608004,90.0999964277392,3750.2154049999999,15500,0.24194938096774193,3378.9439459375253,371.27145906247483,40066.96701980244,4402.4764966980465,44469.443516500483,1018698,0,0,0,"","",1,2.91353547281338E-6,"No","No",12,12,"No",0,0,"2 Lane Undivided","4A - 4 Lane Divided (46' Depressed Median) with Paved Shoulders","None","Partial",1,"Yes",30,41500000,1300000,2050000,44850000,"",44850000,44850000,""]
["H090376","Dare","Albemarle RPO","Highway","Regional Impact","U-2917","NC-12 ","Vicinity of SR 1206 in Kitty Hawk","","Roadway Improvements.","16 - Modernize Roadway",21318000,null,null,15.32,{"$f":"(V78+W78+Y78+Z78+AB78+AD78)","v":35},4.95,{"$f":"O78+P78+Q78","v":55.27},11.87,7.5,null,{"$f":"IF(AU78<30,0,IF(AU78<50,5,IF(AU78<65,10,IF(AU78>66,15))))","v":10},{"$f":"IF(X78<499,15,IF(X78<999,10,IF(X78<1499,5,IF(X78>1500,0))))","v":5},1416.5434087463095,{"$f":"IF(DD78<500,0,IF(DD78<1000,5,IF(DD78>1000,10)))","v":0},{"$f":"IF(AA78=\"Yes\",20,0)","v":20},"Yes",0,"No",{"$f":"IF(AE78=\"Yes\",20,0)","v":0},"No",10,{"$f":"IF(BM76<999,20,IF(BM76<1499,15,IF(BM76<1999,10,IF(BM76<3999,5,IF(BM76>4000,0)))))","v":0},15,10,"No",15,"Minimal",10,"Yes",0,"No",0,"No",15.607000817638772,0,53.139971694710994,0.88886058751024577,"N/A",2.4787958946666668,50,0,null,null,null,"Albemarle RPO",100,"","","","","01",100,"","","","",{"$f":"SUM(V78+W78+Y78+Z78+AB78+AD78)","v":35},60,null,null,null,null,11.87,null,"Exceeds cap of $15 million for Statewide & Regional Projects cascading to Division Needs",{"$f":"O78+BT78*0.25","v":15.32},null,"Dare",100,"","","","","","",1,"A","01, , ","Albemarle RPO, , ","Dare, , , ",4.04747843,4.04747843,"Arterial","Arterial",1,1,"Undivided","Undivided",35,35,4.7811417332246,95.218858266775399,3718.1938420000001,15800.000190000001,0.23532872134731284,3540.4217244979513,177.77211750204916,0,0,0,0,47.458223420000003,43.976591910000003,68.001043339999995,"","","","","No","No",10,12,"No",4,0,"2 Lane Undivided","","None","None",2,"No",19,21318000,0,0,21318000,"",21318000,21318000,""]
["A130009","Pasquotank","Albemarle RPO","Aviation","Division Needs",null,"Elizabeth City Coast Guard Air Station/Regional",null,null,"Install MALS/MALSF/MALSR",null,900000,null,null,null,null,null,null,12.05,13.5,null,"N/A",null,3176.8308782313661,null,null,"Yes",0,null,{"$f":"IF(AE79=\"Yes\",10,0)","v":0},null,0,{"$f":"IF(X79<999,20,IF(X79<1499,15,IF(X79<1999,10,IF(X79<3999,5,IF(X79>4000,0)))))","v":5},15,{"$f":"IF(AJ79=\"Yes\",10,0)","v":10},"Yes",15,"Minimal",10,"Yes",{"$f":"IF(AP79=\"Yes\",5,0)","v":5},"Yes",0,"No",null,null,null,null,null,null,null,null,null,null,null,"Albemarle RPO",null,null,null,null,null,null,null,null,null,null,null,null,60,null,null,null,null,null,null,null,null,null,"Pasquotank",null,null,null,null,null,null,null,null,null,null,null,null,null,0.86,null,null,null,null,null,null,null,null,null,null,164.71,null,null,null,null,null,null,null,null,null,null,null,null,null,null,null,null,null,null,null,null,null,null,null,null,null,null,null,null,null,null,null,null,1000000,null,450000]
["A130010","Pasquotank","Albemarle RPO","Aviation","Division Needs",null,"Elizabeth City Coast Guard Air Station/Regional",null,null,"Acquire Equipment Shelter",null,490500,null,null,null,null,null,null,7.11,13.5,null,"N/A",null,3462.7456572721894,null,null,"Yes",0,null,{"$f":"IF(AE80=\"Yes\",10,0)","v":0},null,0,5,15,10,"Yes",15,"Minimal",10,"Yes",{"$f":"IF(AP80=\"Yes\",5,0)","v":5},"Yes",0,"No",null,null,null,null,null,null,null,null,null,null,null,"Albemarle RPO",null,null,null,null,null,null,null,null,null,null,null,null,60,null,null,null,null,null,null,null,null,null,"Pasquotank",null,null,null,null,null,null,null,null,null,null,null,null,null,0.86,null,null,null,null,null,null,null,null,null,null,164.71,null,null,null,null,null,null,null,null,null,null,null,null,null,null,null,null,null,null,null,null,null,null,null,null,null,null,null,null,null,null,null,null,545000,null,490500]
["H141929","Perquimans","Albemarle RPO","Highway","Statewide Mobility","","US-17","US 17 Business (North) in Edenton (Broad Street)","SR 1100 / 1140 (Okisko Road)","Upgrade roadway to Interstate","2 - Upgrade Arterial to Freeway/Expressway",362296000,12.231591398447446,null,9.98,{"$f":"(V81+W81+Y81+Z81+AB81+AD81)","v":70},4.95,{"$f":"O81+P81+Q81","v":84.93},7.47,7.5,null,{"$f":"IF(AU81<30,0,IF(AU81<50,5,IF(AU81<65,10,IF(AU81>66,15))))","v":5},{"$f":"IF(X81<499,15,IF(X81<999,10,IF(X81<1499,5,IF(X81>1500,0))))","v":5},1471.2174057748716,{"$f":"IF(DD81<500,0,IF(DD81<1000,5,IF(DD81>1000,10)))","v":10},{"$f":"IF(AA81=\"Yes\",20,0)","v":20},"Yes",10,"Yes",{"$f":"IF(AE81=\"Yes\",20,0)","v":20},"Yes",5,15,15,0,"No",15,"Minimal",10,"Yes",{"$f":"IF(AP81=\"Yes\",10,0)","v":0},"No",0,"No",15.310184131456303,0.46260251838275884,33.909394688070002,6.3722125822879949,28.343734182311298,50.155493607634938,0,25,null,null,null,"Albemarle RPO",100,"","","","","01",100,"","","","",{"$f":"SUM(V81+W81+Y81+Z81+AB81+AD81)","v":70},60,null,null,100,null,{"$f":"S81+BU81*0.25","v":7.47},null,"Delay Prioritization pending outcome of Future Interstate Designation; Exceeds cap of $15 million for Statewide & Regional Projects cascading to Division Needs",{"$f":"O81+BT81*0.25","v":34.980000000000004},null,"Perquimans",89.76,"Chowan",8.6,"Pasquotank",1.63,"","",1,"A","01, , ","Albemarle RPO, , ","Perquimans, Chowan, Pasquotank, ",19.226261770000001,19.226261770000001,"Multi-Lane Highway","Freeway",2,2,"Divided","Divided",55.267216771237202,70,9.9501222739189998,90.049877726081007,12808.310102863101,75440.184645582907,0.16978100150518441,11533.867586405504,1274.4425164575989,6586938.0592921842,727828.18539802916,7314766.2446902134,167599042,27.89512178,40.943156899999998,32.900079220000002,"","",116.79099750996799,4.5008368613625799E-4,"No","No",12,12,"No",3,4,"4 Lane with Median - Partial Control","4A - 4 Lane Divided (46' Depressed Median) with Paved Shoulders","None","None",2,"Yes",28,248047000,102008000,12241000,362296000,"",362296000,362296000,""]
["H141931","Camden","Albemarle RPO","Highway","Statewide Mobility","","US-17","US 17/158 north of Elizabeth City (North Road Street)","Virginia State LIne","Upgrade roadway to Interstate","2 - Upgrade Arterial to Freeway/Expressway",66692000,11.444817563368547,null,9.1,75,4.95,89.05,6.84,7.5,null,0,15,380.94657353193423,10,{"$f":"IF(AA82=\"Yes\",20,0)","v":20},"Yes",10,"Yes",{"$f":"IF(AE82=\"Yes\",20,0)","v":20},"Yes",0,20,15,0,"No",15,"Minimal",10,"Yes",0,"No",0,"No",16.058654438177065,1.8246393120614166,25.536049133033998,6.3980551436151325,22.466134962705745,64.340570639189394,0,25,null,null,null,"Albemarle RPO",100,"","","","","01",100,"","","","",75,60,null,null,null,null,6.84,null,"Delay Prioritization pending outcome of Future Interstate Designation; Exceeds cap of $15 million for Statewide & Regional Projects cascading to Division Needs",9.1,null,"Camden",73.67,"Pasquotank",26.33,"","","","",1,"A","01, , ","Albemarle RPO, , ","Camden, Pasquotank, , ",13.01933756,13.01933756,"Multi-Lane Highway","Freeway",2,2,"Divided","Divided",55,70,9.5160604457086997,90.483939554291297,13446.856879729799,75544.764459042606,0.17799852810475245,12167.245851006774,1279.6110287230265,4814002.4068682343,506281.42535790673,5320283.8322261414,121688845,16.545985770000001,37.384043830000003,22.68577938,"","",86.358414733329894,3.6296428452078499E-4,"No","No",12,12,"No",3,4,"4 Lane with Median - Limited Control","4A - 4 Lane Divided (46' Depressed Median) with Paved Shoulders","Limited","Limited",1,"Yes",32,54160000,11189000,1343000,66692000,"",66692000,66692000,""]
["H090124-B","Dare","Peanut Belt RPO","Highway","Statewide Mobility","R-2544B","US-64 ","West of SR 1102 (East Lake Road)","East of Dare County Landfill","Widen to Multi-Lanes.","1 - Widen Existing Roadway",26450000,7.7762964530412519,null,7.4354279530602927,60,6.3,73.735427953060295,4.9569519687068624,9,null,5,5,1021.2769561031048,0,{"$f":"IF(AA83=\"Yes\",20,0)","v":20},"Yes",10,"Yes",{"$f":"IF(AE83=\"Yes\",20,0)","v":20},"Yes",5,15,15,0,"No",15,"Minimal",10,"Yes",0,"No",0,"No",12.646326065699627,0,36.923193621368995,1.4503963559723212,0,15.895993893333333,0,0,null,null,null,"Albemarle RPO",100,"","","","","01",100,"","","","",60,60,null,null,null,null,4.9569519687068624,null,"Exceeds cap of $15 million for Statewide & Regional Projects cascading to Division Needs",7.4354279530602927,null,"Dare",100,"","","","","","",1,"A","01, , ","Albemarle RPO, , ","Dare, , , ",8.7466968000000005,8.7466968000000005,"Two Lane Highway","Multi-Lane Highway",1,2,"Undivided","Divided",55,55,9.796673270458701,90.203326729541303,2960.9977100000001,15499.99951,0.19103211636166045,2670.918438805536,290.07927119446424,0,0,0,0,44.270671739999997,26.617315269999999,39.892671919999998,"","",0,0,"No","No",12,12,"No",0,0,"2 Lane Undivided","4A - 4 Lane Divided (46' Depressed Median) with Paved Shoulders","None","Partial",2,"Yes",24,23300000,2100000,1050000,26450000,"",26450000,26450000,""]
["H141880","Pasquotank","Albemarle RPO","Highway","Statewide Mobility","","US-17-BYP-Elizabeth City Bypass","SR 1100 / 1140 (Okisko Road)","US 17/158 north of Elizabeth City (North Road Street)","Upgrade freeway to interstate standards","17 - Upgrade Freeway to Interstate Standards",16554000,7.4401437540013751,null,5.1586118755402079,75,6.3,86.4586118755402,3.4390745836934724,9,null,0,15,146.45742390673294,10,{"$f":"IF(AA84=\"Yes\",20,0)","v":20},"Yes",10,"Yes",{"$f":"IF(AE84=\"Yes\",20,0)","v":20},"Yes",0,20,15,0,"No",15,"Minimal",10,"Yes",0,"No",0,"No",13.968030206078721,0,20.422715630856001,5.5853239091258402,0.90398347266990298,13.553747511552267,0,0,null,null,null,"Albemarle RPO",100,"","","","","01",100,"","","","",75,60,null,null,null,null,3.4390745836934724,null,"Delay Prioritization pending outcome of Future Interstate Designation; Exceeds cap of $15 million for Statewide & Regional Projects cascading to Division Needs",5.1586118755402079,null,"Pasquotank",100,"","","","","","",1,"A","01, , ","Albemarle RPO, , ","Pasquotank, , , ",9.97557267,9.97557267,"Freeway","Freeway",2,2,"Divided","Divided",68.723659978444402,68.723659978444402,9.858813170697001,90.141186829302995,11330.621267328401,72048.855909959806,0.1572630283191227,10213.556485503232,1117.064781825168,0,0,0,0,23.95659736,8.3349116199999997,28.98276534,"","",3.7328922246088601,1.43467772287892E-5,"No","No",12,12,"No",4,4,"4 Lane with Median - Full Control","","Full","Full",2,"No",23,16554000,0,0,16554000,"",16554000,16554000,""]
["H090055","Bertie","Peanut Belt RPO","Highway","Statewide Mobility","R-2205","US-13 ","NC 42 at Powellsville. in Bertie County","US 13 Bypass North of Ahoskie in Hertford County","Construct Multi-Lanes with Bypass of Ahoskie on New Location.","1 - Widen Existing Roadway",49575000,16.451595973936445,null,15.16,45,null,60.16,10.94,null,null,10,0,{"$f":"(EI85/CZ85)/CO85","v":4708.3774991272439},0,{"$f":"IF(AA85=\"Yes\",15,0)","v":15},"Yes",10,"Yes",{"$f":"IF(AE85=\"Yes\",10,0)","v":10},"Yes",{"$f":"IF(AU85<30,0,IF(AU85<50,5,IF(AU85<65,10,IF(AU85<79,15,IF(AU85>80,20)))))","v":10},{"$f":"IF(BM83<999,20,IF(BM83<1499,15,IF(BM83<1999,10,IF(BM83<3999,5,IF(BM83>4000,0)))))","v":0},{"$f":"IF(AA85=\"Yes\",15,0)","v":15},10,"Yes",15,"Minimal",{"$f":"IF(AN85=\"Yes\",10,0)","v":10},"Yes",0,"No",0,"No",27.533278106761291,2.989666162380232E-2,56.820126272447993,12.360755065048751,0.28479903166367554,27.339840362,25,0,null,null,null,"Peanut Belt RPO",100,"","","","","01",100,"","","","",45,60,null,null,null,null,10.94,null,"Exceeds cap of $15 million for Statewide & Regional Projects cascading to Division Needs",15.16,null,"Bertie",51.94,"Hertford",48.06,"","","","",1,"A","01, , ","Peanut Belt RPO, , ","Bertie, Hertford, , ",1.6332768900000001,1.6332768900000001,"Two Lane Highway","Multi-Lane Highway",1,2,"Undivided","Divided",50,50,6.0899926560569,93.910007343943107,6446.6134540000003,15500,0.41591054541935485,6054.0151680870249,392.59828591297605,61700.390330254988,4001.2234543961185,65701.613784651112,1482127,71.632139179999996,31.628654959999999,67.216632419999996,"","",1,4.6959806332735103E-6,"Yes","No",11,12,"No",3,2,"2 Lane Undivided","4A - 4 Lane Divided (46' Depressed Median) with Paved Shoulders","None","Limited",1,"Yes",24,46000000,3575000,0,49575000,"",49575000,49575000,""]
["H090098","Bertie","Peanut Belt RPO","Highway","Statewide Mobility","R-2506","US-13 ","US 13 Business North of Windsor","NC 42","Widen to Multi-Lanes.","1 - Widen Existing Roadway",99400000,11.136523875976859,null,12.4,45,null,57.4,9.1,null,null,10,0,1765.7073314003956,0,{"$f":"IF(AA86=\"Yes\",15,0)","v":15},"Yes",10,"Yes",{"$f":"IF(AE86=\"Yes\",10,0)","v":10},"Yes",10,{"$f":"IF(BM84<999,20,IF(BM84<1499,15,IF(BM84<1999,10,IF(BM84<3999,5,IF(BM84>4000,0)))))","v":0},15,10,"Yes",15,"Minimal",10,"Yes",0,"No",0,"No",14.914047600427818,6.1686539235412473E-2,50.994178142192993,7.1730424362549918,1.097773326075915,20.499871621,25,0,null,null,null,"Peanut Belt RPO",100,"","","","","01",100,"","","","",45,60,null,null,null,null,9.1,null,"Exceeds cap of $15 million for Statewide & Regional Projects cascading to Division Needs",12.4,null,"Bertie",100,"","","","","","",1,"A","01, , ","Peanut Belt RPO, , ","Bertie, , , ",16.084402399999998,16.084402399999998,"Two Lane Highway","Multi-Lane Highway",1,2,"Undivided","Divided",49,50,8.8125771032800007,91.187422896719994,3499.9572069999999,15539.176170000001,0.22523441196046365,3191.5207795513193,308.43642744868021,245144.62958747204,23691.38068680216,268836.01027427422,6131642,54.538307000000003,43.544452530000001,54.915074679999996,"","",4,1.7955466521518299E-5,"Yes","No",11,12,"No",0,0,"2 Lane Undivided","4A - 4 Lane Divided (46' Depressed Median) with Paved Shoulders","None","Partial",1,"Yes",25,61000000,35800000,2600000,99400000,"",99400000,99400000,""]
["H090182","Martin","Mid-East RPO","Highway","Regional Impact","R-2700","NC-11 ","US 64 Relocation North of Bethel","NC 903","Widen to Four Lanes with a Bypass of Oak City on New Location.","6 - Widen Existing Roadway and Construct Part on New Location",120488000,null,null,7.5066214316192408,45,null,52.506621431619237,5.0029548834901352,null,null,5,0,2117.0917484054085,5,{"$f":"IF(AA87=\"Yes\",15,0)","v":15},"Yes",10,"Yes",{"$f":"IF(AE87=\"Yes\",10,0)","v":10},"Yes",5,{"$f":"IF(X87<999,20,IF(X87<1499,15,IF(X87<1999,10,IF(X87<3999,5,IF(X87>4000,0)))))","v":5},15,10,"Yes",15,"Minimal",10,"Yes",0,"No",{"$f":"IF(AR87=\"Yes\",10,0)","v":0},"No",16.498670475081592,4.3782127680764893E-2,33.487096232138995,3.4346861968498441,"N/A",23.602926140999998,0,0,null,null,null,"Mid-East RPO",86.92,"Upper Coastal Plain RPO",13.08,"","","01",86.92,"04",13.08,"","",45,60,null,null,null,null,5.0029548834901352,null,"Exceeds cap of $15 million for Statewide & Regional Projects cascading to Division Needs",7.5066214316192408,null,"Martin",86.92,"Edgecombe",13.08,"","","","",1,"A","01, 04, ","Mid-East RPO, Upper Coastal Plain RPO, ","Martin, Edgecombe, , ",14.7,14.714917890000001,"Two Lane Highway","Multi-Lane Highway",1,2,"Undivided","Divided",54,55,17.761137949743897,82.238862050256103,3867.6420469999998,15520.633970000001,0.24919356093802653,3180.7048076300312,686.93723936996878,183602.25972227845,39652.60439546586,223254.86411774432,5275221,43.679475170000003,30.094417199999999,26.697443459999999,"","","","","No","No",12,12,"No",3,0,"New Roadway","4A - 4 Lane Divided (46' Depressed Median) with Paved Shoulders","None","Partial",1,"Yes",26,113088000,6607000,793000,120488000,"",120488000,120488000,""]
["H090399","Chowan","Albemarle RPO","Highway","Regional Impact","U-3419","NC-94 Soundside Road","NC 32","US 17 Bypass","NC 32  to US 17 Bypass. Two Lanes  on New Location.","5 - Construct Roadway on New Location",24738000,null,null,12.13,30,3.6,45.730000000000004,9.75,5.25,null,0,0,1818.1844987799473,0,{"$f":"IF(AA88=\"Yes\",20,0)","v":20},"Yes",10,"Yes",{"$f":"IF(AE88=\"Yes\",20,0)","v":0},"no",0,10,15,10,"No",{"$f":"IF(AL88=\"Minimal\",15,0)","v":15},"Minimal",10,"Yes",0,"No",0,"No",20.802069229215935,0,26.713074408734997,1.0562003183467636,"N/A",24.906870215000001,0,50,null,null,null,"Albemarle RPO",100,"","","","","01",100,"","","","",30,60,null,null,null,null,9.75,null,"Exceeds cap of $15 million for Statewide & Regional Projects cascading to Division Needs",12.13,null,"Chowan",100,"","","","","","",1,"A","01, , ","Albemarle RPO, , ","Chowan, , , ",3.7,2.77282246,"Two Lane Highway","Arterial",1,1,"Undivided","Undivided",46,45,4.3049857529063003,95.695014247093695,4906.8702149999999,15627.53831,0.31398868572026556,4695.6301513306471,211.24006366935274,0,0,0,0,29.14122888,21.864780190000001,29.14122888,"","","","","No","No",12,12,"No",0,2,"New Roadway","2B - 2 Lane Undivided with Paved Shoulders, 25-45 mph","None","None",1,"No",30,24510000,204000,24000,24738000,"",24738000,24738000,""]
["H112082","Dare","Albemarle RPO","Highway","Division Needs","","SR-1208 W. Kitty Hawk Road","SR 1210 (Bob Perry Road)","Ivy Lane","Modernize Roadway with Wide Shoulders For Bicyclists","16 - Modernize Roadway",2736000,null,null,null,null,null,null,9.57,6.75,null,"N/A",null,2827.9496762997946,null,null,"Yes",null,null,null,null,5,5,15,10,"No",15,"Minimal",10,"Yes",0,"No",0,"No",3.8196962025316457,0,41.863874847167999,0,"N/A","N/A",50,0,null,null,null,"Albemarle RPO",100,"","","","","01",100,"","","","",null,60,null,null,null,100,34.57,null,null,null,null,"Dare",100,"","","","","","",1,"A","01, , ","Albemarle RPO, , ","Dare, , , ",1.06317076,1.06317076,"Arterial","Arterial",1,1,"Undivided","Undivided",35,35,0,100,910,15800,5.7594936708860761E-2,910,0,0,0,0,0,31.412820159999999,47.095682400000001,47.095682400000001,"","","","","No","No",9,11,"No",0,0,"2 Lane Undivided","","None","None",2,"No",18,2736000,0,0,2736000,"",2736000,2736000,""]
["H090868","Gates","Albemarle RPO","Highway","Regional Impact","","NC-32 ","Chowan County","Virginia State Line","Widen to Multi-Lanes from Chowan County to Virginia Border","1 - Widen Existing Roadway",164732000,null,null,8.6051018168922653,{"$f":"(V90+W90+Y90+Z90+AB90+AD90)","v":55},3.6,{"$f":"O90+P90+Q90","v":67.205101816892267},5.7367345445948441,5.25,null,{"$f":"IF(AU90<30,0,IF(AU90<50,5,IF(AU90<65,10,IF(AU90>66,15))))","v":5},{"$f":"IF(X90<499,15,IF(X90<999,10,IF(X90<1499,5,IF(X90>1500,0))))","v":0},3736.084845243709,{"$f":"IF(DD90<500,0,IF(DD90<1000,5,IF(DD90>1000,10)))","v":0},{"$f":"IF(AA90=\"Yes\",20,0)","v":20},"Yes",{"$f":"IF(AC90=\"Yes\",10,0)","v":10},"Yes",{"$f":"IF(AE90=\"Yes\",20,0)","v":20},"Yes",5,5,15,10,"No",15,"Minimal",10,"Yes",0,"No",0,"No",11.331138193748444,0,46.036207252199993,1.1899936567631844,"N/A",43.959183177,0,0,null,null,null,"Albemarle RPO",100,"","","","","01",100,"","","","",{"$f":"SUM(V90+W90+Y90+Z90+AB90+AD90)","v":55},60,null,null,null,null,5.7367345445948441,null,"Exceeds cap of $15 million for Statewide & Regional Projects cascading to Division Needs",{"$f":"O90+BT90*0.25","v":8.6051018168922653},null,"Gates",100,"","","","","","",1,"A","01, , ","Albemarle RPO, , ","Gates, , , ",16.61934853,16.61934853,"Two Lane Highway","Multi-Lane Highway",1,2,"Undivided","Divided",55,55,8.9707219720884996,91.029278027911502,2653.0610590000001,15500.00001,0.17116522950247406,2415.0623276473634,237.99873135263687,0,0,0,0,52.038928579999997,41.030888079999997,45.052617339999998,"","","","","No","No",12,12,"No",0,0,"2 Lane Undivided","4A - 4 Lane Divided (46' Depressed Median) with Paved Shoulders","None","Partial",1,"Yes",38,106020000,52421000,6291000,164732000,"",164732000,164732000,""]
["H090145","Gates","Albemarle RPO","Highway","Statewide Mobility","R-2578","US-158 ","US 13","NC 32 in Sunbury","Widen to Multi-Lanes.","1 - Widen Existing Roadway",110400000,8.2154544470739186,null,8.1873220710655996,{"$f":"(V91+W91+Y91+Z91+AB91+AD91)","v":55},4.95,{"$f":"O91+P91+Q91","v":68.137322071065597},5.4582147140437334,7.5,null,{"$f":"IF(AU91<30,0,IF(AU91<50,5,IF(AU91<65,10,IF(AU91>66,15))))","v":5},{"$f":"IF(X91<499,15,IF(X91<999,10,IF(X91<1499,5,IF(X91>1500,0))))","v":0},2636.408006233883,{"$f":"IF(DD91<500,0,IF(DD91<1000,5,IF(DD91>1000,10)))","v":0},{"$f":"IF(AA91=\"Yes\",20,0)","v":20},"Yes",10,"Yes",{"$f":"IF(AE91=\"Yes\",20,0)","v":20},"Yes",5,5,15,10,"No",15,"Minimal",10,"Yes",0,"No",0,"No",11.950545640279334,0,42.631601500157998,1.8356530248715976,0,48.394265506000004,0,0,null,null,null,"Albemarle RPO",100,"","","","","01",100,"","","","",{"$f":"SUM(V91+W91+Y91+Z91+AB91+AD91)","v":55},60,null,null,null,null,5.4582147140437334,null,"Exceeds cap of $15 million for Statewide & Regional Projects cascading to Division Needs",{"$f":"O91+BT91*0.25","v":8.1873220710655996},null,"Gates",100,"","","","","","",1,"A","01, , ","Albemarle RPO, , ","Gates, , , ",14.96563003,14.96563003,"Two Lane Highway","Multi-Lane Highway",1,2,"Undivided","Divided",55,55,13.120764575956201,86.879235424043799,2798.0885020000001,15500.00013,0.18052183732465557,2430.9578970256807,367.13060497431951,0,0,0,0,42.384867309999997,36.449745309999997,49.072982639999999,"","",0,0,"No","No",12,12,"No",0,0,"2 Lane Undivided","4A - 4 Lane Divided (46' Depressed Median) with Paved Shoulders","None","Partial",1,"Yes",40,65000000,35500000,9900000,110400000,"",110400000,110400000,""]
["A130016","Dare","Albemarle RPO","Aviation","Division Needs",null,"Dare County Regional",null,null,"Land Acquisition-Runway Approach",null,428000,null,null,null,null,null,null,38.049999999999997,9.75,null,"N/A",null,11239.259679418501,null,{"$f":"IF(AA92=\"Yes\",15,0)","v":15},"Yes",0,null,{"$f":"IF(AE92=\"Yes\",10,0)","v":0},null,0,0,15,{"$f":"IF(AJ92=\"Yes\",10,0)","v":10},"Yes",15,"Minimal",10,"Yes",{"$f":"IF(AP92=\"Yes\",5,0)","v":5},"Yes",0,"No",null,null,null,null,null,null,null,null,null,null,null,"Albemarle RPO",null,null,null,null,null,null,null,null,null,null,null,null,55,null,null,null,null,null,null,null,null,null,"Dare",null,null,null,null,null,null,null,null,null,null,null,null,null,0.82,null,null,null,null,null,null,null,null,null,null,46.44,null,null,null,null,null,null,null,null,null,null,null,null,null,null,null,null,null,null,null,null,null,null,null,null,null,null,null,null,null,null,null,null,475555,null,428000]
["A130018","Dare","Albemarle RPO","Aviation","Division Needs",null,"Dare County Regional",null,null,"Land Acquisition-Runway Approach",null,454815,null,null,null,null,null,null,38.049999999999997,9.75,null,"N/A",null,11943.420306296088,null,{"$f":"IF(AA93=\"Yes\",15,0)","v":15},"Yes",0,null,{"$f":"IF(AE93=\"Yes\",10,0)","v":0},null,0,0,15,10,"Yes",15,"Minimal",10,"Yes",{"$f":"IF(AP93=\"Yes\",5,0)","v":5},"Yes",0,"No",null,null,null,null,null,null,null,null,null,null,null,"Albemarle RPO",null,null,null,null,null,null,null,null,null,null,null,null,55,null,null,null,null,null,null,null,null,null,"Dare",null,null,null,null,null,null,null,null,null,null,null,null,null,0.82,null,null,null,null,null,null,null,null,null,null,46.44,null,null,null,null,null,null,null,null,null,null,null,null,null,null,null,null,null,null,null,null,null,null,null,null,null,null,null,null,null,null,null,null,505350,null,454815]
["A130019","Dare","Albemarle RPO","Aviation","Division Needs",null,"Dare County Regional",null,null,"Land Acquisition-Runway Approach",null,3325500,null,null,null,null,null,null,38.049999999999997,9.75,null,"N/A",null,87327.47211193043,null,{"$f":"IF(AA94=\"Yes\",15,0)","v":15},"Yes",0,null,{"$f":"IF(AE94=\"Yes\",10,0)","v":0},null,0,0,15,10,"Yes",15,"Minimal",10,"Yes",{"$f":"IF(AP94=\"Yes\",5,0)","v":5},"Yes",0,"No",null,null,null,null,null,null,null,null,null,null,null,"Albemarle RPO",null,null,null,null,null,null,null,null,null,null,null,null,55,null,null,null,null,null,null,null,null,null,"Dare",null,null,null,null,null,null,null,null,null,null,null,null,null,0.82,null,null,null,null,null,null,null,null,null,null,46.44,null,null,null,null,null,null,null,null,null,null,null,null,null,null,null,null,null,null,null,null,null,null,null,null,null,null,null,null,null,null,null,null,3695000,null,3325500]
["A130028","Dare","Albemarle RPO","Aviation","Division Needs",null,"Dare County Regional",null,null,"Land Acquisition-Obstruction Removal",null,1152000,null,null,null,null,null,null,36.85,9.75,null,"N/A",null,30251.465305350732,null,{"$f":"IF(AA95=\"Yes\",15,0)","v":15},"Yes",0,null,{"$f":"IF(AE95=\"Yes\",10,0)","v":0},null,0,0,15,10,"Yes",15,"Minimal",10,"Yes",{"$f":"IF(AP95=\"Yes\",5,0)","v":5},"Yes",0,"No",null,null,null,null,null,null,null,null,null,null,null,"Albemarle RPO",null,null,null,null,null,null,null,null,null,null,null,null,55,null,null,null,null,null,null,null,null,null,"Dare",null,null,null,null,null,null,null,null,null,null,null,null,null,0.82,null,null,null,null,null,null,null,null,null,null,46.44,null,null,null,null,null,null,null,null,null,null,null,null,null,null,null,null,null,null,null,null,null,null,null,null,null,null,null,null,null,null,null,null,1280000,null,1152000]
["A130415","Hertford","Peanut Belt RPO","Aviation","Division Needs",null,"Tri-County",null,null,"Land Acquisition-Runway Approach",null,450000,null,null,null,null,null,null,35.35,null,null,"N/A",null,14750.954714569027,null,{"$f":"IF(AA96=\"Yes\",15,0)","v":15},"Yes",0,null,{"$f":"IF(AE96=\"Yes\",10,0)","v":0},null,0,0,15,10,"Yes",15,"Minimal",10,"Yes",{"$f":"IF(AP96=\"Yes\",5,0)","v":5},"Yes",0,"No",null,null,null,null,null,null,null,null,null,null,null,"Peanut Belt RPO",null,null,null,null,null,null,null,null,null,null,null,null,55,null,null,null,null,null,null,null,null,null,"Hertford",null,null,null,null,null,null,null,null,null,null,null,null,null,0.85,null,null,null,null,null,null,null,null,null,null,35.89,null,null,null,null,null,null,null,null,null,null,null,null,null,null,null,null,null,null,null,null,null,null,null,null,null,null,null,null,null,null,null,null,500000,null,450000]
["B142220","Chowan","Albemarle RPO","Bike & Ped","Division Needs",null,"North Broad Street","Church Street","Water Street","North Broad Street Bike Path","2. Construct multi-use trail / greenway / sidepath or on-road bike lane on local roadway",400000,null,null,null,null,null,null,21.145250000000001,9.75,null,"N/A",null,4205.3913116615495,null,null,"Yes",null,null,null,null,5,0,15,10,"Yes",15,"Minimal",10,"Yes",{"$f":"IF(AP97=\"Yes\",10,0)","v":0},"No",0,"No",null,null,32.5,null,null,null,null,null,null,null,null,"Albemarle RPO",null,null,null,null,null,null,null,null,null,null,null,null,{"$f":"SUM(AF97+AG97+AH97+AI97+AK97+AM97+AO97)","v":55},null,null,null,null,{"$f":"S97+BU97*0.25","v":21.145250000000001},null,null,null,null,"Chowan County",null,null,null,null,null,null,null,null,null,null,null,null,null,0.28000000000000003,null,null,null,null,null,null,null,null,null,null,{"$f":"3397*0.1","v":339.70000000000005},null,null,null,null,null,null,null,null,null,null,null,null,null,null,null,null,null,null,null,null,null,null,null,null,null,null,null,null,null,380000,0,null,400000,0,400000]
["B141529","Dare","Albemarle RPO","Bike & Ped","Division Needs",null,"US 158","Atlantic","Baum","Construct Sidewalk","5. Construct Sidewalk",345000,null,null,null,null,null,null,21.058673913043478,9.75,null,"N/A",null,5058.8550026752273,null,null,"Yes",null,null,null,null,5,0,15,10,"Yes",15,"Minimal",10,"Yes",{"$f":"IF(AP98=\"Yes\",10,0)","v":0},"No",0,"No",null,null,45,null,null,null,null,null,null,null,null,"Albemarle RPO",null,null,null,null,null,null,null,null,null,null,null,null,{"$f":"SUM(AF98+AG98+AH98+AI98+AK98+AM98+AO98)","v":55},null,null,null,null,{"$f":"S98+BU98*0.25","v":21.058673913043478},null,null,null,null,"Dare County",null,null,null,null,null,null,null,null,null,null,null,null,null,0.89,null,null,null,null,null,null,null,null,null,null,{"$f":"1512*0.1","v":151.20000000000002},null,null,null,null,null,null,null,null,null,null,null,null,null,null,null,null,null,null,null,null,null,null,null,null,null,null,null,null,null,300000,0,null,345000,0,680760]
["B141937","Currituck","Albemarle RPO","Bike & Ped","Division Needs",null,"Currituck Multiuse","Albacore St","Driftwood Way","Construct Mult-use Path","2. Construct multi-use trail / greenway / sidepath or on-road bike lane on local roadway",460000,null,null,null,null,null,null,16.10631928977989,13.5,null,"N/A",null,158402.20385674931,null,null,"Yes",null,null,null,null,5,0,15,10,"Yes",15,"Minimal",10,"Yes",{"$f":"IF(AP99=\"Yes\",10,0)","v":0},"No",0,"No",null,null,45,null,null,null,null,null,null,null,null,"Albemarle RPO",null,null,null,null,null,null,null,null,null,null,null,null,{"$f":"SUM(AF99+AG99+AH99+AI99+AK99+AM99+AO99)","v":55},null,null,null,null,{"$f":"S99+BU99*0.25","v":16.10631928977989},null,null,null,null,"Currituck County",null,null,null,null,null,null,null,null,null,null,null,null,null,0.66,null,null,null,null,null,null,null,null,null,null,{"$f":"44*0.1","v":4.4000000000000004},null,null,null,null,null,null,null,null,null,null,null,null,null,null,null,null,null,null,null,null,null,null,null,null,null,null,null,null,null,400000,0,null,460000,0,460000]
["A130029","Dare","Albemarle RPO","Aviation","Division Needs",null,"Dare County Regional",null,null,"Design",null,1620000,null,null,null,null,null,null,35.229999999999997,9.75,null,"N/A",null,42541.123085649466,null,{"$f":"IF(AA100=\"Yes\",15,0)","v":15},"Yes",{"$f":"IF(AC100=\"Yes\",10,0)","v":0},null,{"$f":"IF(AE100=\"Yes\",10,0)","v":0},null,0,0,15,10,"Yes",15,"Minimal",10,"Yes",{"$f":"IF(AP100=\"Yes\",5,0)","v":5},"Yes",0,"No",null,null,null,null,null,null,null,null,null,null,null,"Albemarle RPO",null,null,null,null,null,null,null,null,null,null,null,null,{"$f":"SUM(AF100+AG100+AH100+AI100+AK100+AM100+AO100+AQ100)","v":55},null,null,null,null,null,null,null,null,null,"Dare",null,null,null,null,null,null,null,null,null,null,null,null,null,0.82,null,null,null,null,null,null,null,null,null,null,46.44,null,null,null,null,null,null,null,null,null,null,null,null,null,null,null,null,null,null,null,null,null,null,null,null,null,null,null,null,null,null,null,null,1800000,null,1620000]
["A130006","Pasquotank","Albemarle RPO","Aviation","Division Needs",null,"Elizabeth City Coast Guard Air Station/Regional",null,null,"Permitting/mitigation/preliminary",null,3659719,null,null,null,null,null,null,27.7,13.5,null,"N/A",null,25836.240721888931,null,null,"Yes",{"$f":"IF(AC101=\"Yes\",10,0)","v":0},null,{"$f":"IF(AE101=\"Yes\",10,0)","v":0},null,0,0,15,10,"Yes",15,"Minimal",10,"Yes",{"$f":"IF(AP101=\"Yes\",5,0)","v":5},"Yes",0,"No",null,null,null,null,null,null,null,null,null,null,null,"Albemarle RPO",null,null,null,null,null,null,null,null,null,null,null,null,{"$f":"SUM(AF101+AG101+AH101+AI101+AK101+AM101+AO101+AQ101)","v":55},null,null,null,100,{"$f":"S101+BU101*0.25","v":52.7},null,null,null,null,"Pasquotank",null,null,null,null,null,null,null,null,null,null,null,null,null,0.86,null,null,null,null,null,null,null,null,null,null,164.71,null,null,null,null,null,null,null,null,null,null,null,null,null,null,null,null,null,null,null,null,null,null,null,null,null,null,null,null,null,null,null,null,4066354,null,3659719]
["A130042","Washington","Albemarle RPO","Aviation","Division Needs",null,"Plymouth Municipal Airport",null,null,"Design",null,477000,null,null,null,null,null,null,26.37,6,null,"N/A",null,12610.773883801105,null,null,"Yes",{"$f":"IF(AC102=\"Yes\",10,0)","v":0},null,{"$f":"IF(AE102=\"Yes\",10,0)","v":0},null,0,0,15,10,"Yes",15,"Minimal",10,"Yes",{"$f":"IF(AP102=\"Yes\",5,0)","v":5},"Yes",0,"No",null,null,null,null,null,null,null,null,null,null,null,"Albemarle RPO",null,null,null,null,null,null,null,null,null,null,null,null,{"$f":"SUM(AF102+AG102+AH102+AI102+AK102+AM102+AO102+AQ102)","v":55},null,null,null,100,{"$f":"S102+BU102*0.25","v":51.370000000000005},null,null,null,null,"Washington",null,null,null,null,null,null,null,null,null,null,null,null,null,1.04,null,null,null,null,null,null,null,null,null,null,36.369999999999997,null,null,null,null,null,null,null,null,null,null,null,null,null,null,null,null,null,null,null,null,null,null,null,null,null,null,null,null,null,null,null,null,530000,null,477000]
["B141941","Currituck","Albemarle RPO","Bike & Ped","Division Needs",null,"Currituck Multi use","Comrmonrant Ct.","Harris Teeter","Construct Multi use path","2. Construct multi-use trail / greenway / sidepath or on-road bike lane on local roadway",460000,null,null,null,null,null,null,14.62143146722117,13.5,null,"N/A",null,130718.95424836602,null,null,"Yes",null,null,null,null,5,0,15,10,"Yes",15,"Minimal",10,"Yes",{"$f":"IF(AP103=\"Yes\",10,0)","v":0},"No",0,"No",null,null,35,null,null,null,null,null,null,null,null,"Albemarle RPO",null,null,null,null,null,null,null,null,null,null,null,null,{"$f":"SUM(AF103+AG103+AH103+AI103+AK103+AM103+AO103)","v":55},null,null,null,null,{"$f":"S103+BU103*0.25","v":14.62143146722117},null,null,null,null,"Currituck County",null,null,null,null,null,null,null,null,null,null,null,null,null,0.69,null,null,null,null,null,null,null,null,null,null,{"$f":"51*0.1","v":5.1000000000000005},null,null,null,null,null,null,null,null,null,null,null,null,null,null,null,null,null,null,null,null,null,null,null,null,null,null,null,null,null,400000,0,null,460000,0,460000]
["A130032","Currituck","Albemarle RPO","Aviation","Division Needs",null,"Currituck County Regional",null,null,"Clearing/grading/Drainage/paving/marking/lighting/signage",null,2520000,null,null,null,null,null,null,26.33,0,null,"N/A",null,35378.55049024563,null,null,"Yes",{"$f":"IF(AC104=\"Yes\",10,0)","v":0},null,{"$f":"IF(AE104=\"Yes\",10,0)","v":0},null,0,0,15,10,"Yes",15,"Minimal",10,"Yes",{"$f":"IF(AP104=\"Yes\",5,0)","v":5},"Yes",0,"No",null,null,null,null,null,null,null,null,null,null,null,"Albemarle RPO",null,null,null,null,null,null,null,null,null,null,null,null,{"$f":"SUM(AF104+AG104+AH104+AI104+AK104+AM104+AO104+AQ104)","v":55},null,null,null,null,null,null,null,null,null,"Currituck",null,null,null,null,null,null,null,null,null,null,null,null,null,1.04,null,null,null,null,null,null,null,null,null,null,68.489999999999995,null,null,null,null,null,null,null,null,null,null,null,null,null,null,null,null,null,null,null,null,null,null,null,null,null,null,null,null,null,null,null,null,2800000,null,2520000]
["B141958","Currituck","Albemarle RPO","Bike & Ped","Division Needs",null,"Currituck Multi use","Harris Teeter","Sandbucket","Construct Multi use trail","2. Construct multi-use trail / greenway / sidepath or on-road bike lane on local roadway",460000,null,null,null,null,null,null,14.378002237428664,13.5,null,"N/A",null,161857.84658691063,null,null,"Yes",null,null,null,null,5,0,15,10,"Yes",15,"Minimal",10,"Yes",{"$f":"IF(AP105=\"Yes\",10,0)","v":0},"No",0,"No",null,null,35,null,null,null,null,null,null,null,null,"Albemarle RPO",null,null,null,null,null,null,null,null,null,null,null,null,{"$f":"SUM(AF105+AG105+AH105+AI105+AK105+AM105+AO105)","v":55},null,null,null,null,{"$f":"S105+BU105*0.25","v":14.378002237428664},null,null,null,null,"Currituck County",null,null,null,null,null,null,null,null,null,null,null,null,null,0.57999999999999996,null,null,null,null,null,null,null,null,null,null,{"$f":"49*0.1","v":4.9000000000000004},null,null,null,null,null,null,null,null,null,null,null,null,null,null,null,null,null,null,null,null,null,null,null,null,null,null,null,null,null,400000,0,null,460000,0,460000]
["A130033","Currituck","Albemarle RPO","Aviation","Division Needs",null,"Currituck County Regional",null,null,"Design",null,1746000,null,null,null,null,null,null,25,13.5,null,"N/A",null,24512.281411098757,null,null,"Yes",{"$f":"IF(AC106=\"Yes\",10,0)","v":0},null,{"$f":"IF(AE106=\"Yes\",10,0)","v":0},null,0,0,15,10,"Yes",15,"Minimal",10,"Yes",{"$f":"IF(AP106=\"Yes\",5,0)","v":5},"Yes",0,"No",null,null,null,null,null,null,null,null,null,null,null,"Albemarle RPO",null,null,null,null,null,null,null,null,null,null,null,null,{"$f":"SUM(AF106+AG106+AH106+AI106+AK106+AM106+AO106+AQ106)","v":55},null,null,null,null,null,null,null,null,null,"Currituck",null,null,null,null,null,null,null,null,null,null,null,null,null,1.04,null,null,null,null,null,null,null,null,null,null,68.489999999999995,null,null,null,null,null,null,null,null,null,null,null,null,null,null,null,null,null,null,null,null,null,null,null,null,null,null,null,null,null,null,null,null,1940000,null,1746000]
["B141764","Dare","Albemarle RPO","Bike & Ped","Division Needs",null,"Nags Head Multi Use Path","Grouse Street","Forbes Street","Construct Multi use path","2. Construct multi-use trail / greenway / sidepath or on-road bike lane on local roadway",335000,null,null,null,null,null,null,13.578235911783022,6.75,null,"N/A",null,41823.814655172406,null,null,"Yes",null,null,null,null,5,0,15,10,"Yes",15,"Minimal",10,"Yes",{"$f":"IF(AP107=\"Yes\",10,0)","v":0},"No",0,"No",null,null,35,null,null,null,null,null,null,null,null,"Albemarle RPO",null,null,null,null,null,null,null,null,null,null,null,null,{"$f":"SUM(AF107+AG107+AH107+AI107+AK107+AM107+AO107)","v":55},null,null,null,null,{"$f":"S107+BU107*0.25","v":13.578235911783022},null,null,null,null,"Dare County",null,null,null,null,null,null,null,null,null,null,null,null,null,0.32,null,null,null,null,null,null,null,null,null,null,{"$f":"232*0.1","v":23.200000000000003},null,null,null,null,null,null,null,null,null,null,null,null,null,null,null,null,null,null,null,null,null,null,null,null,null,null,null,null,null,290000,0,null,335000,0,310500]
["B141531","Camden","Albemarle RPO","Bike & Ped","Division Needs",null,"US 158","Atlantic","Eighth","Construct Sidewalk","5. Construct Sidewalk",410100,null,null,null,null,null,null,13.560226164350158,9.75,null,"N/A",null,5436.1832356162604,null,null,"Yes",null,null,null,null,5,0,15,10,"Yes",15,"Minimal",10,"Yes",{"$f":"IF(AP108=\"Yes\",10,0)","v":0},"No",0,"No",null,null,45,null,null,null,null,null,null,null,null,"Albemarle RPO",null,null,null,null,null,null,null,null,null,null,null,null,{"$f":"SUM(AF108+AG108+AH108+AI108+AK108+AM108+AO108)","v":55},null,null,null,null,{"$f":"S108+BU108*0.25","v":13.560226164350158},null,null,null,null,"Dare County",null,null,null,null,null,null,null,null,null,null,null,null,null,0.68,null,null,null,null,null,null,null,null,null,null,{"$f":"1826*0.1","v":182.60000000000002},null,null,null,null,null,null,null,null,null,null,null,null,null,null,null,null,null,null,null,null,null,null,null,null,null,null,null,null,null,355100,0,null,410100,0,675000]
["B141346","Tyrrell","Albemarle RPO","Bike & Ped","Division Needs",null,"US 64","Etheridge Road","Ludington Drive","Apply brick pavers or brick stamping on the north side of the Scuppernong River bridge, paint the existing guardrail and erect an entry sign to the existing pedestrian promenade leading to Veterans Park","7. Construct Streetscape Improvements",160000,null,null,null,null,null,null,12.590571576383752,9.75,null,"N/A",null,3803.5049627791564,null,null,"Yes",null,null,null,null,0,5,15,10,"Yes",15,"Minimal",10,"Yes",{"$f":"IF(AP109=\"Yes\",10,0)","v":0},"No",0,"No",null,null,12.5,null,null,null,null,null,null,null,null,"Albemarle RPO",null,null,null,null,null,null,null,null,null,null,null,null,{"$f":"SUM(AF109+AG109+AH109+AI109+AK109+AM109+AO109)","v":55},null,null,null,0,{"$f":"S109+BU109*0.25","v":12.590571576383752},null,null,null,null,"Tyrrell County",null,null,null,null,null,null,null,null,null,null,null,null,null,0.32,null,null,null,null,null,null,null,null,null,null,403,null,null,null,null,null,null,null,null,null,null,null,null,null,null,null,null,null,null,null,null,null,null,null,null,null,null,null,null,null,155000,0,null,160000,0,490500]
["A130030","Dare","Albemarle RPO","Aviation","Division Needs",null,"Dare County Regional",null,null,"Runway Overlay",null,3060000,null,null,null,null,null,null,15.85,9.75,null,"N/A",null,80355.454717337881,null,null,"Yes",{"$f":"IF(AC110=\"Yes\",10,0)","v":0},null,{"$f":"IF(AE110=\"Yes\",10,0)","v":0},null,0,0,15,10,"Yes",15,"Minimal",10,"Yes",{"$f":"IF(AP110=\"Yes\",5,0)","v":5},"Yes",0,"No",null,null,null,null,null,null,null,null,null,null,null,"Albemarle RPO",null,null,null,null,null,null,null,null,null,null,null,null,{"$f":"SUM(AF110+AG110+AH110+AI110+AK110+AM110+AO110+AQ110)","v":55},null,null,null,null,null,null,null,null,null,"Dare",null,null,null,null,null,null,null,null,null,null,null,null,null,0.82,null,null,null,null,null,null,null,null,null,null,46.44,null,null,null,null,null,null,null,null,null,null,null,null,null,null,null,null,null,null,null,null,null,null,null,null,null,null,null,null,null,null,null,null,3400000,null,3060000]
["A130031","Currituck","Albemarle RPO","Aviation","Division Needs",null,"Currituck County Regional",null,null,"Land Acquisition-Runway Approach",null,19350000,null,null,null,null,null,null,15.64,15,null,"N/A",null,271656.7269786718,null,null,"Yes",{"$f":"IF(AC111=\"Yes\",10,0)","v":0},null,{"$f":"IF(AE111=\"Yes\",10,0)","v":0},null,0,0,15,10,"Yes",15,"Minimal",10,"Yes",{"$f":"IF(AP111=\"Yes\",5,0)","v":5},"Yes",0,"No",null,null,null,null,null,null,null,null,null,null,null,"Albemarle RPO",null,null,null,null,null,null,null,null,null,null,null,null,{"$f":"SUM(AF111+AG111+AH111+AI111+AK111+AM111+AO111+AQ111)","v":55},null,null,null,null,null,null,null,null,null,"Currituck",null,null,null,null,null,null,null,null,null,null,null,null,null,1.04,null,null,null,null,null,null,null,null,null,null,68.489999999999995,null,null,null,null,null,null,null,null,null,null,null,null,null,null,null,null,null,null,null,null,null,null,null,null,null,null,null,null,null,null,null,null,21500000,null,19350000]
["B141363","Dare","Albemarle RPO","Bike & Ped","Division Needs",null,"US 158","Cypress Knee Lane","Bennett Street","Construct 6000' of sidewalk on west side of US 158","5. Construct Sidewalk",282000,null,null,null,null,null,null,10.244104110930639,9.75,null,"N/A",null,9170.2063106796122,null,null,"Yes",null,null,null,null,5,0,15,10,"Yes",15,"Minimal",10,"Yes",{"$f":"IF(AP112=\"Yes\",10,0)","v":0},"No",0,"No",null,null,35,null,null,null,null,null,null,null,null,"Albemarle RPO",null,null,null,null,null,null,null,null,null,null,null,null,{"$f":"SUM(AF112+AG112+AH112+AI112+AK112+AM112+AO112)","v":55},null,null,null,null,{"$f":"S112+BU112*0.25","v":10.244104110930639},null,null,null,null,"Dare County",null,null,null,null,null,null,null,null,null,null,null,null,null,2.06,null,null,null,null,null,null,null,null,null,null,{"$f":"960*0.1","v":96},null,null,null,null,null,null,null,null,null,null,null,null,null,null,null,null,null,null,null,null,null,null,null,null,null,null,null,null,null,272000,0,null,282000,0,1813500]
["A130046","Washington","Albemarle RPO","Aviation","Division Needs",null,"Plymouth Municipal Airport",null,null,"Land Acquisition-Obstruction Removal",null,315000,null,null,null,null,null,null,14.65,6,null,"N/A",null,9755.5043252046289,null,null,"Yes",{"$f":"IF(AC113=\"Yes\",10,0)","v":0},null,{"$f":"IF(AE113=\"Yes\",10,0)","v":0},null,0,0,15,10,"Yes",15,"Minimal",10,"Yes",{"$f":"IF(AP113=\"Yes\",5,0)","v":5},"Yes",0,"No",null,null,null,null,null,null,null,null,null,null,null,"Albemarle RPO",null,null,null,null,null,null,null,null,null,null,null,null,{"$f":"SUM(AF113+AG113+AH113+AI113+AK113+AM113+AO113+AQ113)","v":55},null,null,null,null,null,null,null,null,null,"Washington",null,null,null,null,null,null,null,null,null,null,null,null,null,1.04,null,null,null,null,null,null,null,null,null,null,36.369999999999997,null,null,null,null,null,null,null,null,null,null,null,null,null,null,null,null,null,null,null,null,null,null,null,null,null,null,null,null,null,null,null,null,350000,null,369000]
["A130416","Hertford","Peanut Belt RPO","Aviation","Division Needs",null,"Tri-County",null,null,"Design",null,559913,null,null,null,null,null,null,14.48,null,null,"N/A",null,18353.891793552193,null,null,"Yes",{"$f":"IF(AC114=\"Yes\",10,0)","v":0},null,{"$f":"IF(AE114=\"Yes\",10,0)","v":0},null,0,0,15,10,"Yes",15,"Minimal",10,"Yes",{"$f":"IF(AP114=\"Yes\",5,0)","v":5},"Yes",0,"No",null,null,null,null,null,null,null,null,null,null,null,"Peanut Belt RPO",null,null,null,null,null,null,null,null,null,null,null,null,{"$f":"SUM(AF114+AG114+AH114+AI114+AK114+AM114+AO114+AQ114)","v":55},null,null,null,null,null,null,null,null,null,"Hertford",null,null,null,null,null,null,null,null,null,null,null,null,null,0.85,null,null,null,null,null,null,null,null,null,null,35.89,null,null,null,null,null,null,null,null,null,null,null,null,null,null,null,null,null,null,null,null,null,null,null,null,null,null,null,null,null,null,null,null,622125,null,559913]
["A130005","Hyde","Albemarle RPO","Aviation","Division Needs",null,"Hyde County",null,null,"Design",null,328275,null,null,null,null,null,null,14.08,6.75,null,"N/A",null,33229.577892499241,null,null,"Yes",{"$f":"IF(AC115=\"Yes\",10,0)","v":0},null,{"$f":"IF(AE115=\"Yes\",10,0)","v":0},null,0,0,15,10,"Yes",15,"Minimal",10,"Yes",{"$f":"IF(AP115=\"Yes\",5,0)","v":5},"Yes",0,"No",null,null,null,null,null,null,null,null,null,null,null,"Albemarle RPO",null,null,null,null,null,null,null,null,null,null,null,null,{"$f":"SUM(AF115+AG115+AH115+AI115+AK115+AM115+AO115+AQ115)","v":55},null,null,null,null,null,null,null,null,null,"Hyde",null,null,null,null,null,null,null,null,null,null,null,null,null,0.89,null,null,null,null,null,null,null,null,null,null,11.1,null,null,null,null,null,null,null,null,null,null,null,null,null,null,null,null,null,null,null,null,null,null,null,null,null,null,null,null,null,null,null,null,364750,null,328275]
["A130043","Washington","Albemarle RPO","Aviation","Division Needs",null,"Plymouth Municipal Airport",null,null,"Design",null,666000,null,null,null,null,null,null,11.07,6,null,"N/A",null,17607.495611344937,null,null,"Yes",{"$f":"IF(AC116=\"Yes\",10,0)","v":0},null,{"$f":"IF(AE116=\"Yes\",10,0)","v":0},null,0,0,15,10,"Yes",15,"Minimal",10,"Yes",{"$f":"IF(AP116=\"Yes\",5,0)","v":5},"Yes",0,"No",null,null,null,null,null,null,null,null,null,null,null,"Albemarle RPO",null,null,null,null,null,null,null,null,null,null,null,null,{"$f":"SUM(AF116+AG116+AH116+AI116+AK116+AM116+AO116+AQ116)","v":55},null,null,null,null,null,null,null,null,null,"Washington",null,null,null,null,null,null,null,null,null,null,null,null,null,1.04,null,null,null,null,null,null,null,null,null,null,36.369999999999997,null,null,null,null,null,null,null,null,null,null,null,null,null,null,null,null,null,null,null,null,null,null,null,null,null,null,null,null,null,null,null,null,740000,null,666000]
["A130035","Currituck","Albemarle RPO","Aviation","Division Needs",null,"Currituck County Regional",null,null,"Install MALS/MALSF/MALSR",null,450000,null,null,null,null,null,null,10.42,13.5,null,"N/A",null,{"$f":"(EI117/CZ117)/CO117","v":6317.5983018295765},null,null,"Yes",{"$f":"IF(AC117=\"Yes\",10,0)","v":0},null,{"$f":"IF(AE117=\"Yes\",10,0)","v":0},null,{"$f":"IF(AU117<30,0,IF(AU117<50,5,IF(AU117<65,10,IF(AU117<79,15,IF(AU117>80,20)))))","v":0},0,{"$f":"IF(AA117=\"Yes\",15,0)","v":15},10,"Yes",15,"Minimal",{"$f":"IF(AN117=\"Yes\",10,0)","v":10},"Yes",{"$f":"IF(AP117=\"Yes\",5,0)","v":5},"Yes",0,"No",null,null,null,null,null,null,null,null,null,null,null,"Albemarle RPO",null,null,null,null,null,null,null,null,null,null,null,null,{"$f":"SUM(AF117+AG117+AH117+AI117+AK117+AM117+AO117+AQ117)","v":55},null,null,null,null,null,null,null,null,null,"Currituck",null,null,null,null,null,null,null,null,null,null,null,null,null,1.04,null,null,null,null,null,null,null,null,null,null,68.489999999999995,null,null,null,null,null,null,null,null,null,null,null,null,null,null,null,null,null,null,null,null,null,null,null,null,null,null,null,null,null,null,null,null,500000,null,450000]
["B141353","Pasquotank","Albemarle RPO","Bike & Ped","Division Needs",null,"River Road","Weeksville Road - NC-344  ","Ehringhaus Street","Construct multi-use path and pedestrian crosswalks to connect Middle School and subdivisions","2. Construct multi-use trail / greenway / sidepath or on-road bike lane on local roadway",420000,null,null,null,null,null,null,8.4542459855749996,8.25,null,"N/A",null,2004.7520047520045,null,null,"Yes",null,null,null,null,0,5,15,10,"Yes",15,"Minimal",10,"Yes",{"$f":"IF(AP118=\"Yes\",10,0)","v":0},"No",0,"No",null,null,12.5,null,null,null,null,null,null,null,null,"Albemarle RPO",null,null,null,null,null,null,null,null,null,null,null,null,{"$f":"SUM(AF118+AG118+AH118+AI118+AK118+AM118+AO118)","v":55},null,null,null,null,{"$f":"S118+BU118*0.25","v":8.4542459855749996},null,null,null,null,"Pasquotank County",null,null,null,null,null,null,null,null,null,null,null,null,null,1.1200000000000001,null,null,null,null,null,null,null,null,null,null,481,null,null,null,null,null,null,null,null,null,null,null,null,null,null,null,null,null,null,null,null,null,null,null,null,null,null,null,null,null,400000,300000,null,720000,0,1080000]
["A130376","Martin","Mid-East RPO","Aviation","Division Needs",null,"Martin County ",null,null,"Land Acquisition",null,459000,null,null,null,null,null,null,10.199999999999999,null,null,"N/A",null,39185.555128697662,null,null,"Yes",{"$f":"IF(AC119=\"Yes\",10,0)","v":0},null,{"$f":"IF(AE119=\"Yes\",10,0)","v":0},null,0,{"$f":"IF(X119<999,20,IF(X119<1499,15,IF(X119<1999,10,IF(X119<3999,5,IF(X119>4000,0)))))","v":0},15,10,"Yes",15,"Minimal",10,"Yes",{"$f":"IF(AP119=\"Yes\",5,0)","v":5},"Yes",{"$f":"IF(AR119=\"Yes\",10,0)","v":0},"No",null,null,null,null,null,null,null,null,null,null,null,"Mid-East RPO",null,null,null,null,null,null,null,null,null,null,null,null,{"$f":"SUM(AF119+AG119+AH119+AI119+AK119+AM119+AO119+AQ119)","v":55},null,null,null,null,null,null,null,null,null,"Martin",null,null,null,null,null,null,null,null,null,null,null,null,null,0.95,null,null,null,null,null,null,null,null,null,null,12.33,null,null,null,null,null,null,null,null,null,null,null,null,null,null,null,null,null,null,null,null,null,null,null,null,null,null,null,null,null,null,null,null,510000,null,459000]
["A130024","Dare","Albemarle RPO","Aviation","Division Needs",null,"Dare County Regional",null,null,"Construct/expand or repair",null,499500,null,null,null,null,null,null,9.1300000000000008,9.75,null,"N/A",null,13116.846284741918,null,null,"Yes",0,null,0,null,0,0,15,10,"Yes",{"$f":"IF(AL120=\"Minimal\",15,0)","v":15},"Minimal",10,"Yes",5,"Yes",0,"No",null,null,null,null,null,null,null,null,null,null,null,"Albemarle RPO",null,null,null,null,null,null,null,null,null,null,null,null,55,null,null,null,null,null,null,null,null,null,"Dare",null,null,null,null,null,null,null,null,null,null,null,null,null,0.82,null,null,null,null,null,null,null,null,null,null,46.44,null,null,null,null,null,null,null,null,null,null,null,null,null,null,null,null,null,null,null,null,null,null,null,null,null,null,null,null,null,null,null,null,555000,null,499500]
["A130015","Chowan","Albemarle RPO","Aviation","Division Needs",null,"Northeastern Regional",null,null,"Reconstruct/Rehabilitate/Overlay",null,801000,null,null,null,null,null,null,9.06,8.25,null,"N/A",null,18316.777344821909,null,null,"Yes",0,null,0,null,0,0,15,10,"Yes",15,"Minimal",10,"Yes",5,"Yes",0,"No",null,null,null,null,null,null,null,null,null,null,null,"Albemarle RPO",null,null,null,null,null,null,null,null,null,null,null,null,55,null,null,null,null,null,null,null,null,null,"Chowan",null,null,null,null,null,null,null,null,null,null,null,null,null,1.1399999999999999,null,null,null,null,null,null,null,null,null,null,38.36,null,null,null,null,null,null,null,null,null,null,null,null,null,null,null,null,null,null,null,null,null,null,null,null,null,null,null,null,null,null,null,null,890000,null,801000]
["A130020","Dare","Albemarle RPO","Aviation","Division Needs",null,"Dare County Regional",null,null,"Design",null,810000,null,null,null,null,null,null,8.7799999999999994,9.75,null,"N/A",null,21270.561542824733,null,null,"Yes",0,null,0,null,0,0,15,10,"Yes",15,"Minimal",10,"Yes",5,"Yes",0,"No",null,null,null,null,null,null,null,null,null,null,null,"Albemarle RPO",null,null,null,null,null,null,null,null,null,null,null,null,55,null,null,null,null,null,null,null,null,null,"Dare",null,null,null,null,null,null,null,null,null,null,null,null,null,0.82,null,null,null,null,null,null,null,null,null,null,46.44,null,null,null,null,null,null,null,null,null,null,null,null,null,null,null,null,null,null,null,null,null,null,null,null,null,null,null,null,null,null,null,null,900000,null,810000]
["A130021","Dare","Albemarle RPO","Aviation","Division Needs",null,"Dare County Regional",null,null,"Clearing/grading/Drainage/paving/marking/lighting/signage",null,189000,null,null,null,null,null,null,8.74,9.75,null,"N/A",null,4963.1310266591045,null,null,"Yes",0,null,0,null,0,0,15,10,"Yes",15,"Minimal",10,"Yes",5,"Yes",0,"No",null,null,null,null,null,null,null,null,null,null,null,"Albemarle RPO",null,null,null,null,null,null,null,null,null,null,null,null,55,null,null,null,null,null,null,null,null,null,"Dare",null,null,null,null,null,null,null,null,null,null,null,null,null,0.82,null,null,null,null,null,null,null,null,null,null,46.44,null,null,null,null,null,null,null,null,null,null,null,null,null,null,null,null,null,null,null,null,null,null,null,null,null,null,null,null,null,null,null,null,210000,null,189000]
["A130023","Dare","Albemarle RPO","Aviation","Division Needs",null,"Dare County Regional",null,null,"Install Taxiway edge lighting",null,405000,null,null,null,null,null,null,8.1999999999999993,9.75,null,"N/A",null,10635.280771412366,null,null,"Yes",0,null,0,null,0,0,15,{"$f":"IF(AJ124=\"Yes\",10,0)","v":10},"Yes",15,"Minimal",10,"Yes",5,"Yes",0,"No",null,null,null,null,null,null,null,null,null,null,null,"Albemarle RPO",null,null,null,null,null,null,null,null,null,null,null,null,55,null,null,null,null,null,null,null,null,null,"Dare",null,null,null,null,null,null,null,null,null,null,null,null,null,0.82,null,null,null,null,null,null,null,null,null,null,46.44,null,null,null,null,null,null,null,null,null,null,null,null,null,null,null,null,null,null,null,null,null,null,null,null,null,null,null,null,null,null,null,null,450000,null,405000]
["A130041","Currituck","Albemarle RPO","Aviation","Division Needs",null,"Currituck County Regional",null,null,"Runway Overlay",null,3105000,null,null,null,null,null,null,8.17,13.5,null,"N/A",null,43591.428282624081,null,null,"Yes",0,null,0,null,0,0,15,10,"Yes",15,"Minimal",10,"Yes",5,"Yes",0,"No",null,null,null,null,null,null,null,null,null,null,null,"Albemarle RPO",null,null,null,null,null,null,null,null,null,null,null,null,55,null,null,null,null,null,null,null,null,null,"Currituck",null,null,null,null,null,null,null,null,null,null,null,null,null,1.04,null,null,null,null,null,null,null,null,null,null,68.489999999999995,null,null,null,null,null,null,null,null,null,null,null,null,null,null,null,null,null,null,null,null,null,null,null,null,null,null,null,null,null,null,null,null,3450000,null,3105000]
["A130017","Dare","Albemarle RPO","Aviation","Division Needs",null,"Dare County Regional",null,null,"Land Acquisition - Runway Approach",null,1980000,null,null,null,null,null,null,8.0500000000000007,9.75,null,"N/A",null,51994.705993571573,null,null,"Yes",0,null,0,null,0,0,15,10,"Yes",15,"Minimal",10,"Yes",5,"Yes",0,"No",null,null,null,null,null,null,null,null,null,null,null,"Albemarle RPO",null,null,null,null,null,null,null,null,null,null,null,null,55,null,null,null,null,null,null,null,null,null,"Dare",null,null,null,null,null,null,null,null,null,null,null,null,null,0.82,null,null,null,null,null,null,null,null,null,null,46.44,null,null,null,null,null,null,null,null,null,null,null,null,null,null,null,null,null,null,null,null,null,null,null,null,null,null,null,null,null,null,null,null,2200000,null,1980000]
["A130012","Chowan","Albemarle RPO","Aviation","Division Needs",null,"Northeastern Regional",null,null,"Design",null,420368,null,null,null,null,null,null,8.0399999999999991,8.25,null,"N/A",null,9612.7179262023674,null,null,"Yes",0,null,0,null,0,0,15,10,"Yes",15,"Minimal",10,"Yes",5,"Yes",0,"No",null,null,null,null,null,null,null,null,null,null,null,"Albemarle RPO",null,null,null,null,null,null,null,null,null,null,null,null,55,null,null,null,null,null,null,null,null,null,"Chowan",null,null,null,null,null,null,null,null,null,null,null,null,null,1.1399999999999999,null,null,null,null,null,null,null,null,null,null,38.36,null,null,null,null,null,null,null,null,null,null,null,null,null,null,null,null,null,null,null,null,null,null,null,null,null,null,null,null,null,null,null,null,467075,null,420368]
["A130022","Dare","Albemarle RPO","Aviation","Division Needs",null,"Dare County Regional",null,null,"Upgrade Existing Terminal Bldg.",null,675000,null,null,null,null,null,null,7.97,9.75,null,"N/A",null,17725.467952353945,null,null,"Yes",0,null,0,null,0,0,15,10,"Yes",15,"Minimal",10,"Yes",5,"Yes",0,"No",null,null,null,null,null,null,null,null,null,null,null,"Albemarle RPO",null,null,null,null,null,null,null,null,null,null,null,null,55,null,null,null,null,null,null,null,null,null,"Dare",null,null,null,null,null,null,null,null,null,null,null,null,null,0.82,null,null,null,null,null,null,null,null,null,null,46.44,null,null,null,null,null,null,null,null,null,null,null,null,null,null,null,null,null,null,null,null,null,null,null,null,null,null,null,null,null,null,null,null,750000,null,675000]
["A130002","Hyde","Albemarle RPO","Aviation","Division Needs",null,"Hyde County",null,null,"Upgrade Existing Terminal Bldg.",null,675000,null,null,null,null,null,null,7.95,6.75,null,"N/A",null,68326.753720012144,null,null,"Yes",0,null,0,null,0,0,15,10,"Yes",15,"Minimal",10,"Yes",5,"Yes",0,"No",null,null,null,null,null,null,null,null,null,null,null,"Albemarle RPO",null,null,null,null,null,null,null,null,null,null,null,null,55,null,null,null,null,null,null,null,null,null,"Hyde",null,null,null,null,null,null,null,null,null,null,null,null,null,0.89,null,null,null,null,null,null,null,null,null,null,11.1,null,null,null,null,null,null,null,null,null,null,null,null,null,null,null,null,null,null,null,null,null,null,null,null,null,null,null,null,null,null,null,null,750000,null,675000]
["A130027","Dare","Albemarle RPO","Aviation","Division Needs",null,"Dare County Regional",null,null,"Relocate TVOR",null,382500,null,null,null,null,null,null,7.87,9.75,null,"N/A",null,10044.431839667235,null,null,"Yes",0,null,0,null,0,0,15,10,"Yes",15,"Minimal",10,"Yes",5,"Yes",0,"No",null,null,null,null,null,null,null,null,null,null,null,"Albemarle RPO",null,null,null,null,null,null,null,null,null,null,null,null,55,null,null,null,null,null,null,null,null,null,"Dare",null,null,null,null,null,null,null,null,null,null,null,null,null,0.82,null,null,null,null,null,null,null,null,null,null,46.44,null,null,null,null,null,null,null,null,null,null,null,null,null,null,null,null,null,null,null,null,null,null,null,null,null,null,null,null,null,null,null,null,425000,null,382500]
["A130040","Currituck","Albemarle RPO","Aviation","Division Needs",null,"Currituck County Regional",null,null,"Environmental Assessment",null,2475000,null,null,null,null,null,null,7.86,13.5,null,"N/A",null,34746.790660062674,null,null,"Yes",0,null,0,null,0,0,15,10,"Yes",15,"Minimal",10,"Yes",5,"Yes",0,"No",null,null,null,null,null,null,null,null,null,null,null,"Albemarle RPO",null,null,null,null,null,null,null,null,null,null,null,null,55,null,null,null,null,null,null,null,null,null,"Currituck",null,null,null,null,null,null,null,null,null,null,null,null,null,1.04,null,null,null,null,null,null,null,null,null,null,68.489999999999995,null,null,null,null,null,null,null,null,null,null,null,null,null,null,null,null,null,null,null,null,null,null,null,null,null,null,null,null,null,null,null,null,2750000,null,2475000]
["A130026","Dare","Albemarle RPO","Aviation","Division Needs",null,"Dare County Regional",null,null,"Hangers and Economic Development",null,270000,null,null,null,null,null,null,6.97,9.75,null,"N/A",null,7090.1871809415779,null,null,"Yes",0,null,0,null,0,0,15,10,"Yes",15,"Minimal",10,"Yes",5,"Yes",0,"No",null,null,null,null,null,null,null,null,null,null,null,"Albemarle RPO",null,null,null,null,null,null,null,null,null,null,null,null,55,null,null,null,null,null,null,null,null,null,"Dare",null,null,null,null,null,null,null,null,null,null,null,null,null,0.82,null,null,null,null,null,null,null,null,null,null,46.44,null,null,null,null,null,null,null,null,null,null,null,null,null,null,null,null,null,null,null,null,null,null,null,null,null,null,null,null,null,null,null,null,300000,null,270000]
["A130013","Chowan","Albemarle RPO","Aviation","Division Needs",null,"Northeastern Regional",null,null,"Design",null,680760,null,null,null,null,null,null,6.68,8.25,null,"N/A",null,15567.202678228419,null,null,"Yes",0,null,0,null,0,0,15,10,"Yes",15,"Minimal",10,"Yes",5,"Yes",0,"No",null,null,null,null,null,null,null,null,null,null,null,"Albemarle RPO",null,null,null,null,null,null,null,null,null,null,null,null,55,null,null,null,null,null,null,null,null,null,"Chowan",null,null,null,null,null,null,null,null,null,null,null,null,null,1.1399999999999999,null,null,null,null,null,null,null,null,null,null,38.36,null,null,null,null,null,null,null,null,null,null,null,null,null,null,null,null,null,null,null,null,null,null,null,null,null,null,null,null,null,null,null,null,756400,null,680760]
["A130414","Hertford","Peanut Belt RPO","Aviation","Division Needs",null,"Tri-County",null,null,"Upgrade Existing Terminal Bldg.",null,225000,null,null,null,null,null,null,6.66,null,null,"N/A",null,7375.4773572845133,null,null,"Yes",0,null,0,null,0,0,15,10,"Yes",15,"Minimal",10,"Yes",5,"Yes",0,"No",null,null,null,null,null,null,null,null,null,null,null,"Peanut Belt RPO",null,null,null,null,null,null,null,null,null,null,null,null,55,null,null,null,null,null,null,null,null,null,"Hertford",null,null,null,null,null,null,null,null,null,null,null,null,null,0.85,null,null,null,null,null,null,null,null,null,null,35.89,null,null,null,null,null,null,null,null,null,null,null,null,null,null,null,null,null,null,null,null,null,null,null,null,null,null,null,null,null,null,null,null,250000,null,225000]
["A130373","Martin","Mid-East RPO","Aviation","Division Needs",null,"Martin County ",null,null,"Design",null,369000,null,null,null,null,null,null,6.54,null,null,"N/A",null,31502.112946600078,null,null,"Yes",0,null,0,null,0,0,15,10,"Yes",15,"Minimal",10,"Yes",5,"Yes",0,"No",null,null,null,null,null,null,null,null,null,null,null,"Mid-East RPO",null,null,null,null,null,null,null,null,null,null,null,null,55,null,null,null,null,null,null,null,null,null,"Martin",null,null,null,null,null,null,null,null,null,null,null,null,null,0.95,null,null,null,null,null,null,null,null,null,null,12.33,null,null,null,null,null,null,null,null,null,null,null,null,null,null,null,null,null,null,null,null,null,null,null,null,null,null,null,null,null,null,null,null,410000,null,369000]
["A130047","Washington","Albemarle RPO","Aviation","Division Needs",null,"Plymouth Municipal Airport",null,null,"AWOS Installation",null,193500,null,null,null,null,null,null,6.1,6,null,"N/A",null,5102.4724519362962,null,null,"Yes",0,null,0,null,0,0,15,10,"Yes",15,"Minimal",10,"Yes",5,"Yes",0,"No",null,null,null,null,null,null,null,null,null,null,null,"Albemarle RPO",null,null,null,null,null,null,null,null,null,null,null,null,55,null,null,null,null,null,null,null,null,null,"Washington",null,null,null,null,null,null,null,null,null,null,null,null,null,1.04,null,null,null,null,null,null,null,null,null,null,36.369999999999997,null,null,null,null,null,null,null,null,null,null,null,null,null,null,null,null,null,null,null,null,null,null,null,null,null,null,null,null,null,null,null,null,215000,null,193000]
["A130025","Dare","Albemarle RPO","Aviation","Division Needs",null,"Dare County Regional",null,null,"Hangers and Economic Development",null,468000,null,null,null,null,null,null,5.56,9.75,null,"N/A",null,12289.657780298734,null,null,"Yes",0,null,0,null,0,0,15,10,"Yes",15,"Minimal",10,"Yes",5,"Yes",0,"No",null,null,null,null,null,null,null,null,null,null,null,"Albemarle RPO",null,null,null,null,null,null,null,null,null,null,null,null,55,null,null,null,null,null,null,null,null,null,"Dare",null,null,null,null,null,null,null,null,null,null,null,null,null,0.82,null,null,null,null,null,null,null,null,null,null,46.44,null,null,null,null,null,null,null,null,null,null,null,null,null,null,null,null,null,null,null,null,null,null,null,null,null,null,null,null,null,null,null,null,520000,null,468000]
["A130037","Currituck","Albemarle RPO","Aviation","Division Needs",null,"Currituck County Regional",null,null,"Hangers and Economic Development",null,1080000,null,null,null,null,null,null,5.56,15,null,"N/A",null,15162.235924390983,null,null,"Yes",0,null,0,null,0,0,15,10,"Yes",15,"Minimal",10,"Yes",5,"Yes",0,"No",null,null,null,null,null,null,null,null,null,null,null,"Albemarle RPO",null,null,null,null,null,null,null,null,null,null,null,null,55,null,null,null,null,null,null,null,null,null,"Currituck",null,null,null,null,null,null,null,null,null,null,null,null,null,1.04,null,null,null,null,null,null,null,null,null,null,68.489999999999995,null,null,null,null,null,null,null,null,null,null,null,null,null,null,null,null,null,null,null,null,null,null,null,null,null,null,null,null,null,null,null,null,1125000,null,1080000]
["A130038","Currituck","Albemarle RPO","Aviation","Division Needs",null,"Currituck County Regional",null,null,"Hangers and Economic Development",null,1012500,null,null,null,null,null,null,5.56,13.5,null,"N/A",null,14214.596179116548,null,null,"Yes",0,null,0,null,0,0,15,10,"Yes",15,"Minimal",10,"Yes",5,"Yes",0,"No",null,null,null,null,null,null,null,null,null,null,null,"Albemarle RPO",null,null,null,null,null,null,null,null,null,null,null,null,55,null,null,null,null,null,null,null,null,null,"Currituck",null,null,null,null,null,null,null,null,null,null,null,null,null,1.04,null,null,null,null,null,null,null,null,null,null,68.489999999999995,null,null,null,null,null,null,null,null,null,null,null,null,null,null,null,null,null,null,null,null,null,null,null,null,null,null,null,null,null,null,null,null,1125000,null,1012500]
["A130039","Currituck","Albemarle RPO","Aviation","Division Needs",null,"Currituck County Regional",null,null,"Hangers and Economic Development",null,1813500,null,null,null,null,null,null,5.56,13.5,null,"N/A",null,25459.921156373195,null,null,"Yes",0,null,0,null,0,0,15,10,"Yes",15,"Minimal",10,"Yes",5,"Yes",0,"No",null,null,null,null,null,null,null,null,null,null,null,"Albemarle RPO",null,null,null,null,null,null,null,null,null,null,null,null,55,null,null,null,null,null,null,null,null,null,"Currituck",null,null,null,null,null,null,null,null,null,null,null,null,null,1.04,null,null,null,null,null,null,null,null,null,null,68.489999999999995,null,null,null,null,null,null,null,null,null,null,null,null,null,null,null,null,null,null,null,null,null,null,null,null,null,null,null,null,null,null,null,null,2015000,null,1813500]
["A130034","Currituck","Albemarle RPO","Aviation","Division Needs",null,"Currituck County Regional",null,null,"Corporate & T-hanger Taxiways",null,2547000,null,null,null,null,null,null,4.26,15,null,"N/A",null,35757.606388355402,null,null,"Yes",0,null,0,null,0,0,15,10,"Yes",15,"Minimal",10,"Yes",5,"Yes",0,"No",null,null,null,null,null,null,null,null,null,null,null,"Albemarle RPO",null,null,null,null,null,null,null,null,null,null,null,null,55,null,null,null,null,null,null,null,null,null,"Currituck",null,null,null,null,null,null,null,null,null,null,null,null,null,1.04,null,null,null,null,null,null,null,null,null,null,68.489999999999995,null,null,null,null,null,null,null,null,null,null,null,null,null,null,null,null,null,null,null,null,null,null,null,null,null,null,null,null,null,null,null,null,2830000,null,2547000]
["A130014","Chowan","Albemarle RPO","Aviation","Division Needs",null,"Northeastern Regional",null,null,"Hangers and Economic Development",null,1048500,null,null,null,null,null,null,4.0599999999999996,8.25,null,"N/A",null,23976.455737884862,null,null,"Yes",0,null,0,null,0,0,15,10,"Yes",15,"Minimal",10,"Yes",5,"Yes",0,"No",null,null,null,null,null,null,null,null,null,null,null,"Albemarle RPO",null,null,null,null,null,null,null,null,null,null,null,null,55,null,null,null,null,null,null,null,null,null,"Chowan",null,null,null,null,null,null,null,null,null,null,null,null,null,1.1399999999999999,null,null,null,null,null,null,null,null,null,null,38.36,null,null,null,null,null,null,null,null,null,null,null,null,null,null,null,null,null,null,null,null,null,null,null,null,null,null,null,null,null,null,null,null,1165000,null,1048500]
["A130044","Washington","Albemarle RPO","Aviation","Division Needs",null,"Plymouth Municipal Airport",null,null,"Hangers and Economic Development",null,310500,null,null,null,null,null,null,3.56,6,null,"N/A",null,8208.8999809648703,null,null,"Yes",0,null,0,null,0,0,15,10,"Yes",15,"Minimal",10,"Yes",5,"Yes",0,"No",null,null,null,null,null,null,null,null,null,null,null,"Albemarle RPO",null,null,null,null,null,null,null,null,null,null,null,null,55,null,null,null,null,null,null,null,null,null,"Washington",null,null,null,null,null,null,null,null,null,null,null,null,null,1.04,null,null,null,null,null,null,null,null,null,null,36.369999999999997,null,null,null,null,null,null,null,null,null,null,null,null,null,null,null,null,null,null,null,null,null,null,null,null,null,null,null,null,null,null,null,null,345000,null,310500]
["A130045","Washington","Albemarle RPO","Aviation","Division Needs",null,"Plymouth Municipal Airport",null,null,"Hangers and Economic Development",null,760500," ",null," ",null,null,null,3.56,6,null,"N/A",null,5115.6912924853541,null,null,"Yes",0,null,0,null,0,0,15,10,"Yes",15,"Minimal",10,"Yes",5,"Yes",0,"No",null,null,null,null,null,null,null,null,null,null,null,"Albemarle RPO",null,null,null,null,null,null,null,null,null,null,null,null,55,null,null,null,null,null,null,null,null,null,"Washington",null,null,null,null,null,null,null,null,null,null,null,null,null,1.04,null,null,null,null,null,null,null,null,null,null,36.369999999999997,null,null,null,null,null,null,null,null,null,null,null,null,null,null,null,null,null,null,null,null,null,null,null,null,null,null,null,null,null,null,null,null,845000,null,193500]
["A130375","Martin","Mid-East RPO","Aviation","Division Needs",null,"Martin County ",null,null,"Hangers and Economic Development",null,535500," ",null," ",null,null,null,3.5,null,null,"N/A",null,45716.4809834806,null,null,"Yes",0,null,0,null,0,0,15,10,"Yes",15,"Minimal",10,"Yes",5,"Yes",0,"No",null,null,null,null,null,null,null,null,null,null,null,"Mid-East RPO",null,null,null,null,null,null,null,null,null,null,null,null,55,null,null,null,null,null,null,null,null,null,"Martin",null,null,null,null,null,null,null,null,null,null,null,null,null,0.95,null,null,null,null,null,null,null,null,null,null,12.33,null,null,null,null,null,null,null,null,null,null,null,null,null,null,null,null,null,null,null,null,null,null,null,null,null,null,null,null,null,null,null,null,595000,null,535500]
["A130003","Hyde","Albemarle RPO","Aviation","Division Needs",null,"Hyde County",null,null,"Hangers and Economic Development",null,990000," ",null," ",null,null,null,3.16,6.75,null,"N/A",null,100212.57212268448,null,null,"Yes",0,null,0,null,0,0,15,10,"Yes",15,"Minimal",10,"Yes",5,"Yes",0,"No",null,null,null,null,null,null,null,null,null,null,null,"Albemarle RPO",null,null,null,null,null,null,null,null,null,null,null,null,55,null,null,null,null,null,null,null,null,null,"Hyde",null,null,null,null,null,null,null,null,null,null,null,null,null,0.89,null,null,null,null,null,null,null,null,null,null,11.1,null,null,null,null,null,null,null,null,null,null,null,null,null,null,null,null,null,null,null,null,null,null,null,null,null,null,null,null,null,null,null,null,1100000,null,990000]
["A130004","Hyde","Albemarle RPO","Aviation","Division Needs",null,"Hyde County",null,null,"other",null,2070000," ",null," ",null,null,null,3.16,6.75,null,"N/A",null,209535.37807470391,null,null,"Yes",0,null,0,null,0,0,15,10,"Yes",15,"Minimal",10,"Yes",5,"Yes",0,"No",null,null,null,null,null,null,null,null,null,null,null,"Albemarle RPO",null,null,null,null,null,null,null,null,null,null,null,null,55,null,null,null,null,null,null,null,null,null,"Hyde",null,null,null,null,null,null,null,null,null,null,null,null,null,0.89,null,null,null,null,null,null,null,null,null,null,11.1,null,null,null,null,null,null,null,null,null,null,null,null,null,null,null,null,null,null,null,null,null,null,null,null,null,null,null,null,null,null,null,null,2300000,null,2070000]
["A130374","Martin","Mid-East RPO","Aviation","Division Needs",null,"Martin County ",null,null,"Hangers and Economic Development",null,211500," ",null," ",null,null,null,3.16,null,null,"N/A",null,18056.08912792931,null,null,"Yes",0,null,0,null,0,0,15,10,"Yes",15,"Minimal",10,"Yes",5,"Yes",0,"No",null,null,null,null,null,null,null,null,null,null,null,"Mid-East RPO",null,null,null,null,null,null,null,null,null,null,null,null,55,null,null,null,null,null,null,null,null,null,"Martin",null,null,null,null,null,null,null,null,null,null,null,null,null,0.95,null,null,null,null,null,null,null,null,null,null,12.33,null,null,null,null,null,null,null,null,null,null,null,null,null,null,null,null,null,null,null,null,null,null,null,null,null,null,null,null,null,null,null,null,235000,null,211500]
["A130001",null,null,"Aviation","Division Needs",null,"Hyde County",null,null,"Design",null,622440,null,null,null,null,null,null,25.97,6.75,null,"N/A",null,{"$f":"(EI149/CZ149)/CO149","v":63006.37716368054},null,null,"Yes",0,null,0,null,{"$f":"IF(AU149<30,0,IF(AU149<50,5,IF(AU149<65,10,IF(AU149<79,15,IF(AU149>80,20)))))","v":0},0,{"$f":"IF(AA149=\"Yes\",15,0)","v":15},10,"Yes",15,"Minimal",{"$f":"IF(AN149=\"Yes\",10,0)","v":10},"Yes",5,"Yes",0,"No",null,null,null,null,null,null,null,null,null,null,null,"Albemarle RPO",null,null,null,null,null,null,null,null,null,null,null,null,55,null,null,null,null,null,null,null,null,null,"Hyde",null,null,null,null,null,null,null,null,null,null,null,null,null,0.89,null,null,null,null,null,null,null,null,null,null,11.1,null,null,null,null,null,null,null,null,null,null,null,null,null,null,null,null,null,null,null,null,null,null,null,null,null,null,null,null,null,null,null,null,691600,null,622440]
["H129108","Martin","Mid-East RPO","Highway","Regional Impact","R-3826","NC-125 NC 125","SR 1182 (East of College Road)","NC 125 Northwest of Williamston","Construct Two Lanes, Part on New Location","5 - Construct Roadway on New Location",13455000,null,null,16.96,{"$f":"(V150+W150+Y150+Z150+AB150+AD150)","v":50},null,{"$f":"O150+P150+Q150","v":66.960000000000008},13.65,null,null,{"$f":"IF(AU150<30,0,IF(AU150<50,5,IF(AU150<65,10,IF(AU150>66,15))))","v":5},{"$f":"IF(X150<499,15,IF(X150<999,10,IF(X150<1499,5,IF(X150>1500,0))))","v":10},807.05092750951746,{"$f":"IF(DD150<500,0,IF(DD150<1000,5,IF(DD150>1000,10)))","v":0},{"$f":"IF(AA150=\"Yes\",15,0)","v":15},"Yes",10,"Yes",10,"Yes",5,{"$f":"IF(BM148<999,20,IF(BM148<1499,15,IF(BM148<1999,10,IF(BM148<3999,5,IF(BM148>4000,0)))))","v":20},15,10,"Yes",15,"Minimal",10,"Yes",{"$f":"IF(AP150=\"Yes\",10,0)","v":0},"No",0,"No",22.757972274033232,4.6692109996283913,34.092816780692999,2.0332975245396128,"N/A",11.222159958999999,25,50,null,null,null,"Mid-East RPO",100,"","","","","01",100,"","","","",{"$f":"SUM(V150+W150+Y150+Z150+AB150+AD150)","v":50},75,null,null,100,100,{"$f":"S150+BU150*0.25","v":38.65},null,null,{"$f":"O150+BT150*0.25","v":41.96},null,"Martin",100,"","","","","","",1,"A","01, , ","Mid-East RPO, , ","Martin, , , ",3.6,2.3084244100000002,"Arterial","Arterial",1,1,"Undivided","Undivided",42,40,5.6307186107274996,94.369281389272501,7222.1599589999996,21809.21213,0.33115180484055384,6815.5004540920772,406.65950490792255,2633056.1127941757,157106.18793675935,2790162.3007309353,62824234,27.046175269999999,38.234234950000001,37.008268989999998,"","","","","No","No",11,12,"No",0,2,"New Roadway","2B - 2 Lane Undivided with Paved Shoulders, 25-45 mph","None","None",1,"No",22,10800000,2400000,255000,13455000,"",13455000,13455000,""]
["H141741","Bertie","Peanut Belt RPO","Highway","Regional Impact","","NC-45 ","Hertford County Line","Washington County Line","Currently a 2- lane major thoroughfare with high truck percentage, this project recommends road be widened to 24 feet with paved shoulders and turn lanes where necessary through Bertie County, with safety and mobility the primary purpose.\n","1 - Widen Existing Roadway",130375000,null,null,9.07,{"$f":"(V151+W151+Y151+Z151+AB151+AD151)","v":45},null,{"$f":"O151+P151+Q151","v":54.07},6.88,null,null,{"$f":"IF(AU151<30,0,IF(AU151<50,5,IF(AU151<65,10,IF(AU151>66,15))))","v":5},{"$f":"IF(X151<499,15,IF(X151<999,10,IF(X151<1499,5,IF(X151>1500,0))))","v":0},2103.5491872249895,{"$f":"IF(DD151<500,0,IF(DD151<1000,5,IF(DD151>1000,10)))","v":5},{"$f":"IF(AA151=\"Yes\",15,0)","v":15},"Yes",10,"Yes",10,"Yes",5,{"$f":"IF(BM149<999,20,IF(BM149<1499,15,IF(BM149<1999,10,IF(BM149<3999,5,IF(BM149>4000,0)))))","v":20},15,10,"Yes",15,"Minimal",10,"Yes",0,"No",{"$f":"IF(AR151=\"Yes\",10,0)","v":0},"No",10.66617998102131,1.6161204218600192E-2,33.133862619032996,2.6845429695994789,"N/A",16.497368424559369,25,0,null,null,null,"Peanut Belt RPO",100,"Albemarle RPO","","","","01",100,"","","","",{"$f":"SUM(V151+W151+Y151+Z151+AB151+AD151)","v":45},75,null,null,null,null,6.88,null,"Exceeds cap of $15 million for Statewide & Regional Projects cascading to Division Needs",{"$f":"O151+BT151*0.25","v":9.07},null,"Bertie",100,"Washington","","","","","",1,"A","01, , ","Peanut Belt RPO, Albemarle RPO, ","Bertie, Washington, , ",24.817557310000002,24.817557310000002,"Two Lane Highway","Two Lane Highway",1,1,"Undivided","TWLTL",55,55,21.498974225824398,78.501025774175602,2497.3684245593699,15500,0.16112054351995936,1960.4598306394741,536.90859391989579,68999.968866657597,18896.932079771112,87896.900946428708,2107017,34.606511580000003,28.184745840000001,36.620271590000002,"","","","","No","No",11,12,"No",0,0,"2 Lane Undivided","3A - 2 Lane with Two Way Left Turn Lane, and Paved Shoulders","None","None",1,"No",27,108729000,19327000,2319000,130375000,"",130375000,130375000,""]
["H141680","Northampton","Peanut Belt RPO","Highway","Regional Impact","","NC-46 ","Virginia State Line","NC 48 in Gaston","Currently a 2-lane major thoroughfare from the Virginia State Line to NC 48 (TIP#U-2419), this project recommends to upgrade the existing facility to 24 feet w/ paved shoulders; while modifying sharp horizontal curves. This would provide safer maneuvering in a 12-foot lane; while tying in bike lane recommendations.\n","16 - Modernize Roadway",8587000,null,null,12.09,{"$f":"(V152+W152+Y152+Z152+AB152+AD152)","v":55},null,{"$f":"O152+P152+Q152","v":67.09},8.89,null,null,{"$f":"IF(AU152<30,0,IF(AU152<50,5,IF(AU152<65,10,IF(AU152>66,15))))","v":5},{"$f":"IF(X152<499,15,IF(X152<999,10,IF(X152<1499,5,IF(X152>1500,0))))","v":15},226.17036161740458,{"$f":"IF(DD152<500,0,IF(DD152<1000,5,IF(DD152>1000,10)))","v":0},{"$f":"IF(AA152=\"Yes\",15,0)","v":15},"Yes",10,"Yes",10,"Yes",5,{"$f":"IF(BM150<999,20,IF(BM150<1499,15,IF(BM150<1999,10,IF(BM150<3999,5,IF(BM150>4000,0)))))","v":0},15,10,"Yes",15,"Minimal",10,"Yes",0,"No",0,"No",15.582930485979688,0,48.359228950130998,1.1083439460534406,"N/A",17.64857133735174,25,0,null,null,null,"Peanut Belt RPO",100,"","","","","01",100,"","","","",{"$f":"SUM(V152+W152+Y152+Z152+AB152+AD152)","v":55},55,null,null,100,100,33.89,null,null,{"$f":"O152+BT152*0.25","v":37.090000000000003},null,"Northampton",100,"","","","","","",1,"A","01, , ","Peanut Belt RPO, , ","Northampton, , , ",10.4059785999999,10.4059785999999,"Two Lane Highway","Two Lane Highway",1,1,"Undivided","Undivided",55,55,6.0754955492136,93.924504450786401,3648.5713373517401,15500,0.23539169918398323,3426.9025481410522,221.66878921068809,0,0,0,0,52.554759300000001,46.363860670000001,46.173576099999998,"","","","","No","No",11,12,"No",2,0,"2 Lane Undivided","3A - 2 Lane with Two Way Left Turn Lane, and Paved Shoulders","None","None",1,"No",27,8587000,0,0,8587000,"",8587000,8587000,""]
["H129676-B","Hertford","Peanut Belt RPO","Highway","Statewide Mobility","R-5311B","US-13 , NC-11 ","NC 11/NC 561 Near Ahoskie","US 158/NC 45 Near Winton","Widen to Multi-Lanes.","1 - Widen Existing Roadway",78190000,14.294078398139709,null,10.371087217043794,{"$f":"(V153+W153+Y153+Z153+AB153+AD153)","v":45},null,{"$f":"O153+P153+Q153","v":55.371087217043794},6.9127386775858319,null,null,{"$f":"IF(AU153<30,0,IF(AU153<50,5,IF(AU153<65,10,IF(AU153>66,15))))","v":5},{"$f":"IF(X153<499,15,IF(X153<999,10,IF(X153<1499,5,IF(X153>1500,0))))","v":0},1789.7333075371355,{"$f":"IF(DD153<500,0,IF(DD153<1000,5,IF(DD153>1000,10)))","v":5},{"$f":"IF(AA153=\"Yes\",15,0)","v":15},"Yes",10,"Yes",10,"Yes",5,{"$f":"IF(BM151<999,20,IF(BM151<1499,15,IF(BM151<1999,10,IF(BM151<3999,5,IF(BM151>4000,0)))))","v":0},15,10,"Yes",15,"Minimal",10,"Yes",0,"No",0,"No",24.001832373834379,3.9584013300933626E-2,45.085970388722998,12.62287902978008,0.48480637170798752,24.870691912999998,0,0,null,null,null,"Peanut Belt RPO",100,"","","","","01",100,"","","","",{"$f":"SUM(V153+W153+Y153+Z153+AB153+AD153)","v":45},55,null,null,null,null,6.9127386775858319,null,"Exceeds cap of $15 million for Statewide & Regional Projects cascading to Division Needs",{"$f":"O153+BT153*0.25","v":10.371087217043794},null,"Hertford",100,"","","","","","",1,"A","01, , ","Peanut Belt RPO, , ","Hertford, , , ",7.7687519099999998,7.7687519099999998,"Two Lane Highway","Multi-Lane Highway",1,2,"Undivided","Divided",51,51,12.658791545258499,87.341208454741505,5623.5639709999996,15511.563459999999,0.36254011309057299,4911.6887304968486,711.87524050315096,116717.64369008195,16916.462999159405,133634.10668924137,3095074,59.757713440000003,36.965768650000001,38.547956220000003,"","",2.1084775792553301,7.5876498549044201E-6,"Yes","No",12,12,"No",4,2,"2 Lane Undivided","4A - 4 Lane Divided (46' Depressed Median) with Paved Shoulders","None","Partial",1,"Yes",24,73100000,4425000,665000,78190000,"",78190000,78190000,""]
["H141224","Currituck","Albemarle RPO","Highway","Division Needs","","Ponderosa Drive","US 17","NC 168","Upgrade Ponderosa Drive to provide direct connection between US 17 and NC 168 to alleviate existing traffic","6 - Widen Existing Roadway and Construct Part on New Location",46069000,null,null,null,null,null,null,11.1,7.5,null,"N/A",null,1967.3398086522786,null,null,"Yes",null,null,null,null,5,{"$f":"IF(X154<999,20,IF(X154<1499,15,IF(X154<1999,10,IF(X154<3999,5,IF(X154>4000,0)))))","v":10},15,0,"No",{"$f":"IF(AL154=\"Minimal\",15,0)","v":15},"Minimal",10,"Yes",0,"No",0,"No",9.7560748992085635,1.3002594152249887,49.966063520603996,0,"N/A","N/A",50,0,null,null,null,"Albemarle RPO",100,"","","","","01",100,"","","","",null,55,null,null,null,null,11.1,null,"Exceeds cap of $15 million for Statewide & Regional Projects cascading to Division Needs",null,null,"Currituck",63.5,"Camden",36.5,"","","","",1,"A","01, , ","Albemarle RPO, , ","Currituck, Camden, , ",17.899999999999999,10.223092530000001,"Two Lane Highway","Two Lane Highway",1,1,"Undivided","Undivided",53.1532929418469,55,0,100,2290.5886992880501,15547.2645412783,0.1473306569915557,2290.5886992880501,0,2722802.3267137692,0,2722802.3267137692,59901651,78.457510429999999,43.696003040000001,27.75966841,"","","","","No","No",10,12,"No",0,0,"New Roadway","2A - 2 Lane Undivided with Paved Shoulders, 55 mph","None","None",1,"No",34,44934000,1013000,122000,46069000,"",46069000,46069000,""]
["H090505","Chowan","Albemarle RPO","Highway","Division Needs","U-5001","- New Route - Western Connector (Luke Street)","Albania Stree","Virginia Street","Albania Street to Virginia Street.  Construct Multi-Lanes, Some New Location.","5 - Construct Roadway on New Location",9681000," ",null," ",null,null,null,3.3389965257502841,4.5,null,"N/A",null,1484.2014063804211,null,null,"Yes",null,null,null,null,0,{"$f":"IF(X155<999,20,IF(X155<1499,15,IF(X155<1999,10,IF(X155<3999,5,IF(X155>4000,0)))))","v":15},15,{"$f":"IF(AJ155=\"Yes\",10,0)","v":0},"No",{"$f":"IF(AL155=\"Minimal\",15,0)","v":15},"Minimal",10,"Yes",0,"No",0,"No",21.672837154252885,1.44483162896395,10.272296474286,1.0195217718000875,"N/A","N/A",0,0,null,null,null,"Albemarle RPO",100,"","","","","01",100,"","","","",null,55,null,null,null,null,3.3389965257502841,null,"Minimal Local Support",null,null,"Chowan",100,"","","","","","",1,"A","01, , ","Albemarle RPO, , ","Chowan, , , ",1.5,1.11961556,"Arterial","Arterial",1,2,"Undivided","Divided",38,35,3.5000000000003002,96.499999999999702,5825.8386959999998,18071.619050000001,0.32237502793088146,5621.9343416399824,203.90435436001749,604716.87205310084,21932.736292083333,626649.60834518413,13987415,7.8258291699999996,15.168313080000001,7.8258291699999996,"","","","","No","No",12,12,"Yes",0,2,"New Roadway","4C - 4 Lane Divided (23' Raised Median) with Curb & Gutter, Wide Outside Lanes, and Sidewalks","None","Partial",1,"No",24,5928000,3351000,402000,9681000,"",9681000,9681000,""]
["H090102","Martin","Mid-East RPO","Highway","Statewide Mobility","R-2511","US-17 ","Washington Bypass North of NC 171","Multi-Lanes South of Williamston","Widen to Multi-Lanes.","1 - Widen Existing Roadway",72100000,13.736271562618974,null,13.18,{"$f":"(V156+W156+Y156+Z156+AB156+AD156)","v":50},null,{"$f":"O156+P156+Q156","v":63.18},9.6199999999999992,null,null,{"$f":"IF(AU156<30,0,IF(AU156<50,5,IF(AU156<65,10,IF(AU156>66,15))))","v":5},{"$f":"IF(X156<499,15,IF(X156<999,10,IF(X156<1499,5,IF(X156>1500,0))))","v":5},1431.1007695384499,{"$f":"IF(DD156<500,0,IF(DD156<1000,5,IF(DD156>1000,10)))","v":5},{"$f":"IF(AA156=\"Yes\",15,0)","v":15},"Yes",{"$f":"IF(AC156=\"Yes\",10,0)","v":10},"Yes",{"$f":"IF(AE156=\"Yes\",10,0)","v":10},"Yes",5,{"$f":"IF(BM154<999,20,IF(BM154<1499,15,IF(BM154<1999,10,IF(BM154<3999,5,IF(BM154>4000,0)))))","v":0},15,10,"Yes",15,"Minimal",10,"Yes",0,"No",0,"No",21.525655987638711,4.5849292649098476E-2,49.622986325087993,11.243927572853604,0.53735831453110849,17.119984946000002,0,25,null,null,null,"Mid-East RPO",100,"","","","","01",61.75,"02",38.25,"","",{"$f":"SUM(V156+W156+Y156+Z156+AB156+AD156)","v":50},55,null,null,100,null,9.6199999999999992,null,"Exceeds cap of $15 million for Statewide & Regional Projects cascading to Division Needs",{"$f":"O156+BT156*0.25","v":38.18},null,"Martin",61.75,"Beaufort",38.25,"","","","",1,"A","01, 02, ","Mid-East RPO, , ","Martin, Beaufort, , ",9.9962002000000005,9.9962002000000005,"Two Lane Highway","Multi-Lane Highway",1,2,"Undivided","Divided",55,55,12.3607401176475,87.639259882352505,5039.9949820000002,15500,0.32516096658064519,4417.0143003325056,622.98068166749499,125234.98255004203,17663.283270730833,142898.26582077285,3305734,70.895399049999995,20.985946729999998,57.002501580000001,"","",2,8.7471662906221696E-6,"Yes","No",12,12,"No",1,2,"2 Lane Undivided","4A - 4 Lane Divided (46' Depressed Median) with Paved Shoulders","None","Partial",1,"Yes",21,51700000,16000000,4400000,72100000,"",72100000,72100000,""]
["H141684","Northampton","Peanut Belt RPO","Highway","Regional Impact","","NC-305 ","Seaboard Town Limits","Hertford County Line","Currently a 2-lane major thoroughfare from Seaboard to Hertford County, NC 305 is recommended to be upgrade from its existing facility to 24 feet w/ paved shoulders. This would provides improved mobility between Jackson and Rich Square, while tying in with bike lane recommendations.  \n","16 - Modernize Roadway",340000,null,null,8.93,55,null,63.93,6.78,null,null,5,15,6.4567141369090955,0,{"$f":"IF(AA157=\"Yes\",15,0)","v":15},"Yes",10,"Yes",{"$f":"IF(AE157=\"Yes\",10,0)","v":10},"Yes",5,{"$f":"IF(BM155<999,20,IF(BM155<1499,15,IF(BM155<1999,10,IF(BM155<3999,5,IF(BM155>4000,0)))))","v":0},15,10,"Yes",15,"Minimal",10,"Yes",0,"No",0,"No",9.1026580263264592,0,33.738719173995001,1.2485128352237644,"N/A",12.13739033746937,25,0,null,null,null,"Peanut Belt RPO",100,"","","","","01",100,"","","","",55,55,null,null,null,100,31.78,null,null,8.93,"Estimated costs too low.","Northampton",100,"","","","","","",1,"A","01, , ","Peanut Belt RPO, , ","Northampton, , , ",24.636755659999899,24.636755659999899,"Two Lane Highway","Two Lane Highway",1,1,"Undivided","Undivided",51.703662517699499,51.703662517699499,11.682590805589401,88.317409194410601,2137.39033746937,15548.988304589,0.13746169818897852,1887.6877704246172,249.7025670447529,0,0,0,0,34.662762260000001,27.896578810000001,38.666939079999999,"","","","","No","No",11,12,"No",0,0,"2 Lane Undivided","3A - 2 Lane with Two Way Left Turn Lane, and Paved Shoulders","None","None",1,"No",25,340000,0,0,340000,"",340000,340000,""]
["H090149-B","Northampton","Peanut Belt RPO","Highway","Statewide Mobility","R-2584B","US-158 ","East of SR 1500","East of SR 1365","Widen to Multi-Lanes, Part on New  Location.","6 - Widen Existing Roadway and Construct Part on New Location",54800000,7.9305558958701106,null,8.2200000000000006,40,null,48.22,6.31,null,null,0,0,3336.37631613444,5,{"$f":"IF(AA158=\"Yes\",15,0)","v":15},"Yes",10,"Yes",{"$f":"IF(AE158=\"Yes\",10,0)","v":10},"Yes",0,{"$f":"IF(X158<999,20,IF(X158<1499,15,IF(X158<1999,10,IF(X158<3999,5,IF(X158>4000,0)))))","v":5},15,10,"Yes",15,"Minimal",10,"Yes",0,"No",0,"No",17.825798295498515,5.7991313868613135E-2,20.262297100979996,2.6959465148098603,0,24.612863031,0,25,null,null,null,"Peanut Belt RPO",100,"","","","","01",100,"","","","",40,55,null,null,null,null,6.31,null,"Exceeds cap of $15 million for Statewide & Regional Projects cascading to Division Needs",8.2200000000000006,null,"Northampton",100,"","","","","","",1,"A","01, , ","Peanut Belt RPO, , ","Northampton, , , ",3.5,3.9067273600000001,"Two Lane Highway","Multi-Lane Highway",1,2,"Undivided","Divided",47,55,12.824748075914599,87.175251924085401,4204.2876770000003,15625.369189999999,0.26906805374497528,3665.0983740380284,539.18930296197209,119535.72994085884,17585.445280927532,137121.17522178637,3177924,28.277875479999999,8.9871338000000005,23.527961319999999,"","",0,0,"No","No",12,12,"No",1,2,"New Roadway","4A - 4 Lane Divided (46' Depressed Median) with Paved Shoulders","None","Partial",1,"Yes",26,47600000,7200000,0,54800000,"",54800000,54800000,""]
["H141662","Northampton","Peanut Belt RPO","Highway","Regional Impact","","NC-35 ","Hertford County Line ","Virginia State Line","Currently 2-lane major thoroughfare from the Hertford County line to the Virginia State Line, NC 35 in Northampton County is a major truck route with high truck percentage. It is recommended to upgrade the existing facility to 24 feet w/ paved shoulders and turn lanes at all major intersections; while also modifying curves in some sections. This will improve overall connectivity in Severn, Conway, Woodland.\n","1 - Widen Existing Roadway",69277000,null,null,8.16,40,null,48.16,6.27,null,null,5,0,1957.443714235656,0,{"$f":"IF(AA159=\"Yes\",15,0)","v":15},"Yes",10,"Yes",{"$f":"IF(AE159=\"Yes\",10,0)","v":10},"Yes",5,{"$f":"IF(BM157<999,20,IF(BM157<1499,15,IF(BM157<1999,10,IF(BM157<3999,5,IF(BM157>4000,0)))))","v":0},15,10,"Yes",15,"Minimal",10,"Yes",0,"No",0,"No",7.3733627816354605,0.12733198608484778,30.197608283831997,1.1098492973746994,"N/A",13.732099667873541,25,0,null,null,null,"Peanut Belt RPO",100,"","","","","01",100,"","","","",40,55,null,null,null,null,6.27,null,"Exceeds cap of $15 million for Statewide & Regional Projects cascading to Division Needs",8.16,null,"Northampton",100,"","","","","","",1,"A","01, , ","Peanut Belt RPO, , ","Northampton, , , ",20.43275423,20.43275423,"Two Lane Highway","Two Lane Highway",1,1,"Undivided","TWLTL",51.123057912261999,55,12.8150743050166,87.184925694983406,1732.0996678735401,15556.563670646099,0.11134204857476741,1510.1298083986001,221.96985947493988,331852.88318075956,48778.149690389968,380631.03287114954,8821178,28.494854069999999,27.026539769999999,35.080491199999997,"","","","","No","No",10,11,"No",0,0,"2 Lane Undivided","3A - 2 Lane with Two Way Left Turn Lane, and Paved Shoulders","None","None",1,"No",26,60103000,8191000,983000,69277000,"",69277000,69277000,""]
["H129112-B","Northampton","Peanut Belt RPO","Highway","Statewide Mobility","R-2582B","US-158 , NC-46 ","SR 1312 (St. John Church Road)","SR 1333 (Lynch Road) East of Jackson","Widen to Multi-Lanes with Bypass of Jackson, Part on New Location.","1 - Widen Existing Roadway",66800000,8.5075034871344801,null,6.6843160297359381,40,null,46.684316029735939,4.4558793576483104,null,null,0,0,3315.5475518357507,5,{"$f":"IF(AA160=\"Yes\",15,0)","v":15},"Yes",10,"Yes",{"$f":"IF(AE160=\"Yes\",10,0)","v":10},"Yes",0,{"$f":"IF(X160<999,20,IF(X160<1499,15,IF(X160<1999,10,IF(X160<3999,5,IF(X160>4000,0)))))","v":5},15,10,"Yes",15,"Minimal",10,"Yes",0,"No",0,"No",17.447583609263642,9.9398652694610776E-3,27.10127010195,2.7582020050072966,8.4790335780915993E-2,16.255478221000004,0,0,null,null,null,"Peanut Belt RPO",100,"","","","","01",100,"","","","",40,55,null,null,null,null,4.4558793576483104,null,"Exceeds cap of $15 million for Statewide & Regional Projects cascading to Division Needs",6.6843160297359381,null,"Northampton",100,"","","","","","",1,"A","01, , ","Peanut Belt RPO, , ","Northampton, , , ",4.9318765100000004,4.9318765100000004,"Two Lane Highway","Multi-Lane Highway",1,2,"Undivided","Divided",55,55,13.503522042645699,86.496477957354301,4085.1594070000001,15500.00043,0.26355866410772738,3533.5190059985407,551.64040100145928,24714.483489075938,3858.3371305809887,28572.820619656926,663983,37.272482830000001,20.230309649999999,23.80914902,"","",0,1.6958067156183199E-6,"No","No",12,12,"No",2,2,"2 Lane Undivided","4A - 4 Lane Divided (46' Depressed Median) with Paved Shoulders","None","Partial",1,"Yes",22,61400000,5400000,0,66800000,"",66800000,66800000,""]
["H090869","Camden","Albemarle RPO","Highway","Regional Impact","","NC-343 ","US 158","SR 1119 in Shiloh","Upgrade Roadway with Wider Shoulders and New Culvert(S).","16 - Modernize Roadway",17898000,null,null,14.28,35,4.95,54.230000000000004,11.19,6.75,null,5,10,902.06866756128704,0,{"$f":"IF(AA161=\"Yes\",20,0)","v":20},"Yes",0,"No",{"$f":"IF(AE161=\"Yes\",20,0)","v":0},"No",5,{"$f":"IF(BM159<999,20,IF(BM159<1499,15,IF(BM159<1999,10,IF(BM159<3999,5,IF(BM159>4000,0)))))","v":0},15,10,"No",{"$f":"IF(AL161=\"Minimal\",15,0)","v":15},"Minimal",10,"Yes",0,"No",0,"No",12.434121680232257,0,49.452596115812995,0.63988824624267526,"N/A",26.911312477999999,50,0,null,null,null,"Albemarle RPO",100,"","","","","01",100,"","","","",35,55,null,null,null,null,11.19,null,"Exceeds cap of $15 million for Statewide & Regional Projects cascading to Division Needs",14.28,null,"Camden",100,"","","","","","",1,"A","01, , ","Albemarle RPO, , ","Camden, , , ",6.8151604299999997,6.8151604299999997,"Two Lane Highway","Two Lane Highway",1,1,"Undivided","Undivided",55,55,4.3958747202722996,95.604125279727697,2911.3124779999998,15500,0.18782661148387095,2783.334828751465,127.97764924853506,0,0,0,0,55.740450629999998,49.081060229999999,43.551114750000004,"","","","","No","No",10,12,"No",0,0,"2 Lane Undivided","","None","None",1,"No",32,17898000,0,0,17898000,"",17898000,17898000,""]
["B141344","Tyrrell","Albemarle RPO","Bike & Ped","Division Needs",null,"Fonsoe Street","US 64/Scuppernong Drive","Main Street","Construct a pedestrian sidewalk on one side of Fonsoe Street to connect US 64/Scuppernong Drive to Main Street","5. Construct Sidewalk",100000,null,null,null,null,null,null,18.819570064834998,9.75,null,"N/A",null,20040.485829959514,null,null,"Yes",null,null,null,null,0,{"$f":"IF(X162<999,20,IF(X162<1499,15,IF(X162<1999,10,IF(X162<3999,5,IF(X162>4000,0)))))","v":0},15,{"$f":"IF(AJ162=\"Yes\",10,0)","v":10},"Yes",15,"Minimal",10,"Yes",0,"No",0,"No",null,null,22.5,null,null,null,null,null,null,null,null,"Albemarle RPO",null,null,null,null,null,null,null,null,null,null,null,null,{"$f":"SUM(AF162+AG162+AH162+AI162+AK162+AM162+AO162)","v":50},null,null,null,null,18.819570064834998,null,null,null,null,"Tyrrell County",null,null,null,null,null,null,null,null,null,null,null,null,null,0.25,null,null,null,null,null,null,null,null,null,null,494,null,null,null,null,null,null,null,null,null,null,null,null,null,null,null,null,null,null,null,null,null,null,null,null,null,null,null,null,null,85000,0,null,100000,0,2475000]
["B141340","Tyrrell","Albemarle RPO","Bike & Ped","Division Needs",null,"Main Street","Broad Street","Road Street","Construct 305 feet of pedestrian sidewalk on the north side of Main Street in front of Columbia Middle School.","5. Construct Sidewalk",100000,null,null,null,null,null,null,17.717965136690001,9.75,null,"N/A",null,6121.9440192433849,null,null,"Yes",null,null,null,null,0,0,15,10,"Yes",15,"Minimal",10,"Yes",0,"No",0,"No",null,null,12.5,null,null,null,null,null,null,null,null,"Albemarle RPO",null,null,null,null,null,null,null,null,null,null,null,null,50,null,null,null,null,17.717965136690001,null,null,null,null,"Tyrrell County",null,null,null,null,null,null,null,null,null,null,null,null,null,0.17,null,null,null,null,null,null,null,null,null,null,538,null,null,null,null,null,null,null,null,null,null,null,null,null,null,null,null,null,null,null,null,null,null,null,null,null,null,null,null,null,80000,0,null,100000,0,559913]
["B141755","Camden","Albemarle RPO","Bike & Ped","Division Needs",null,"Main St.","US 17","SR 1243-Mullen Drive","Widen existing pavement","2. Construct multi-use trail / greenway / sidepath or on-road bike lane on local roadway",345000,null,null,null,null,null,null,13.997229630050075,8.25,null,"N/A",null,76968.816067653272,null,null,"Yes",null,null,null,null,0,0,15,10,"Yes",15,"Minimal",10,"Yes",0,"No",0,"No",null,null,25,null,null,null,null,null,null,null,null,"Albemarle RPO",null,null,null,null,null,null,null,null,null,null,null,null,50,null,null,null,null,13.997229630050075,null,null,null,null,"Camden County",null,null,null,null,null,null,null,null,null,null,null,null,null,1.056,null,null,null,null,null,null,null,null,null,null,{"$f":"129*0.1","v":12.9},null,null,null,null,null,null,null,null,null,null,null,null,null,null,null,null,null,null,null,null,null,null,null,null,null,null,null,null,null,300000,0,null,345000,0,1048500]
["B141780","Dare","Albemarle RPO","Bike & Ped","Division Needs",null,"Colington Road Path",".3 miles west Baum St","Bridge","Construct Multi use path","2. Construct multi-use trail / greenway / sidepath or on-road bike lane on local roadway",410000,null,null,null,null,null,null,13.321441426829745,9.75,null,"N/A",null,14204.545454545452,null,null,"Yes",null,null,null,null,0,0,15,10,"Yes",15,"Minimal",10,"Yes",0,"No",0,"No",null,null,12.5,null,null,null,null,null,null,null,null,"Albemarle RPO",null,null,null,null,null,null,null,null,null,null,null,null,50,null,null,null,null,13.321441426829745,null,null,null,null,"Dare County",null,null,null,null,null,null,null,null,null,null,null,null,null,0.32,null,null,null,null,null,null,null,null,null,null,{"$f":"902*0.1","v":90.2},null,null,null,null,null,null,null,null,null,null,null,null,null,null,null,null,null,null,null,null,null,null,null,null,null,null,null,null,null,310000,0,null,410000,0,410000]
["B141940","Currituck","Albemarle RPO","Bike & Ped","Division Needs",null,"Currituck Multi-Use","Ocean Sands(K)","Seabird Way","Construct Multi-use path","2. Construct multi-use trail / greenway / sidepath or on-road bike lane on local roadway",460000,null,null,null,null,null,null,13.102509516759566,13.5,null,"N/A",null,22616.647819460151,null,null,"Yes",null,null,null,null,0,0,15,10,"Yes",15,"Minimal",10,"Yes",0,"No",0,"No",null,null,25,null,null,null,null,null,null,null,null,"Albemarle RPO",null,null,null,null,null,null,null,null,null,null,null,null,50,null,null,null,null,13.102509516759566,null,null,null,null,"Currituck County",null,null,null,null,null,null,null,null,null,null,null,null,null,4.7300000000000004,null,null,null,null,null,null,null,null,null,null,{"$f":"43*0.1","v":4.3},null,null,null,null,null,null,null,null,null,null,null,null,null,null,null,null,null,null,null,null,null,null,null,null,null,null,null,null,null,400000,0,null,460000,0,460000]
["B141963","Currituck","Albemarle RPO","Bike & Ped","Division Needs",null,"Corolla multi-use path","Ocean Sands Section A","Yaupon Lane/Old Stoney Road","Oceans Sands section A (.1 mile south of Ocean Way) to Yaupon Lane/Old stoney Road","2. Construct multi-use trail / greenway / sidepath or on-road bike lane on local roadway",400000,null,null,null,null,null,null,12.852200094756203,13.5,null,"N/A",null,126984.126984127,null,null,"Yes",null,null,null,null,0,0,15,10,"Yes",15,"Minimal",10,"Yes",0,"No",0,"No",null,null,25,null,null,null,null,null,null,null,null,"Albemarle RPO",null,null,null,null,null,null,null,null,null,null,null,null,50,null,null,null,null,12.852200094756203,null,null,null,null,"Currituck County",null,null,null,null,null,null,null,null,null,null,null,null,null,0.7,null,null,null,null,null,null,null,null,null,null,{"$f":"45*0.1","v":4.5},null,null,null,null,null,null,null,null,null,null,null,null,null,null,null,null,null,null,null,null,null,null,null,null,null,null,null,null,null,380000,0,null,400000,0,400000]
["B141961","Currituck","Albemarle RPO","Bike & Ped","Division Needs",null,"Corolla multi-use path","Ocean Sands section c","Ocean Sands section A","Ocean Sands Section C, .5 miles south of Sandhill Ln. to .1 miles south of Ocean Way.","2. Construct multi-use trail / greenway / sidepath or on-road bike lane on local roadway",420000,null,null,null,null,null,null,12.73396082381764,13.5,null,"N/A",null,190217.39130434778,null,null,"Yes",null,null,null,null,0,0,15,10,"Yes",15,"Minimal",10,"Yes",0,"No",0,"No",null,null,25,null,null,null,null,null,null,null,null,"Albemarle RPO",null,null,null,null,null,null,null,null,null,null,null,null,50,null,null,null,null,12.73396082381764,null,null,null,null,"Currituck County",null,null,null,null,null,null,null,null,null,null,null,null,null,0.46,null,null,null,null,null,null,null,null,null,null,{"$f":"48*0.1","v":4.8000000000000007},null,null,null,null,null,null,null,null,null,null,null,null,null,null,null,null,null,null,null,null,null,null,null,null,null,null,null,null,null,400000,380000,null,800000,0,420000]
["B141774","Dare","Albemarle RPO","Bike & Ped","Division Needs",null,"NC 12 Duck","Cook Drive","Ships Watch Drive","Construct Sidewalk and extend share use path","5. Construct Sidewalk",290800,null,null,null,null,null,null,12.669319420463816,13.5,null,"N/A",null,7133.0455259026676,null,null,"Yes",null,null,null,null,0,0,15,10,"Yes",15,"Minimal",10,"Yes",0,"No",0,"No",null,null,25,null,null,null,null,null,null,null,null,"Albemarle RPO",null,null,null,null,null,null,null,null,null,null,null,null,50,null,null,null,null,12.669319420463816,null,null,null,null,"Dare County",null,null,null,null,null,null,null,null,null,null,null,null,null,2.08,null,null,null,null,null,null,null,null,null,null,{"$f":"196*0.1","v":19.600000000000001},null,null,null,null,null,null,null,null,null,null,null,null,null,null,null,null,null,null,null,null,null,null,null,null,null,null,null,null,null,370000,0,null,426000,135200,290800]
["B141362","Dare","Albemarle RPO","Bike & Ped","Division Needs",null,"US 158","Gulfstream Road","Gull Street","Construct sidewalk from Gulfstream Road to Gull Street","2. Construct multi-use trail / greenway / sidepath or on-road bike lane on local roadway",415000,null,null,null,null,null,null,11.799247349397591,9.75,null,"N/A",null,312132.35294117645,null,null,"Yes",null,null,null,null,0,0,15,10,"Yes",15,"Minimal",10,"Yes",0,"No",0,"No",null,null,25,null,null,null,null,null,null,null,null,"Albemarle RPO",null,null,null,null,null,null,null,null,null,null,null,null,50,null,null,null,null,11.799247349397591,null,null,null,null,"Dare County",null,null,null,null,null,null,null,null,null,null,null,null,null,0.48,null,null,null,null,null,null,null,null,null,null,{"$f":"170*0.1","v":17},null,null,null,null,null,null,null,null,null,null,null,null,null,null,null,null,null,null,null,null,null,null,null,null,null,null,null,null,null,400000,0,null,415000,0,2547000]
["B141791","Camden","Albemarle RPO","Bike & Ped","Division Needs",null,"SR 1215","US 17","US 17","Construct Sidewalk on roads south side of US 17","5. Construct Sidewalk",370000,null,null,null,null,null,null,11.62296046708027,8.25,null,"N/A",null,14192.558496355963,null,null,"Yes",null,null,null,null,0,0,15,10,"Yes",15,"Minimal",10,"Yes",0,"No",0,"No",null,null,5,null,null,null,null,null,null,null,null,"Albemarle RPO",null,null,null,null,null,null,null,null,null,null,null,null,50,null,null,null,null,11.62296046708027,null,null,null,null,"Camden County",null,null,null,null,null,null,null,null,null,null,null,null,null,0.79,null,null,null,null,null,null,null,null,null,null,{"$f":"330*0.1","v":33},null,null,null,null,null,null,null,null,null,null,null,null,null,null,null,null,null,null,null,null,null,null,null,null,null,null,null,null,null,320000,0,null,370000,0,370000]
["B141762","Dare","Albemarle RPO","Bike & Ped","Division Needs",null,"Nags Head Multi use Path","Gull Street","Grouse St.","Construct Multi use Path","2. Construct multi-use trail / greenway / sidepath or on-road bike lane on local roadway",437000,null,null,null,null,null,null,11.368879191733225,9.75,null,"N/A",null,340460.52631578944,null,null,"Yes",null,null,null,null,0,0,15,10,"Yes",15,"Minimal",10,"Yes",0,"No",0,"No",null,null,25,null,null,null,null,null,null,null,null,"Albemarle RPO",null,null,null,null,null,null,null,null,null,null,null,null,50,null,null,null,null,11.368879191733225,null,null,null,null,"Dare County",null,null,null,null,null,null,null,null,null,null,null,null,null,0.32,null,null,null,null,null,null,null,null,null,null,{"$f":"190*0.1","v":19},null,null,null,null,null,null,null,null,null,null,null,null,null,null,null,null,null,null,null,null,null,null,null,null,null,null,null,null,null,380000,0,null,437000,0,2070000]
["B141776","Dare","Albemarle RPO","Bike & Ped","Division Needs",null,"Colington Road","SR 1452",".3 miles west","Construct Multi use path","2. Construct multi-use trail / greenway / sidepath or on-road bike lane on local roadway",400000,null,null,null,null,null,null,10.899780568313751,9.75,null,"N/A",null,16479.215589337946,null,null,"Yes",null,null,null,null,0,0,15,10,"Yes",15,"Minimal",10,"Yes",0,"No",0,"No",null,null,12.5,null,null,null,null,null,null,null,null,"Albemarle RPO",null,null,null,null,null,null,null,null,null,null,null,null,50,null,null,null,null,10.899780568313751,null,null,null,null,"Dare County",null,null,null,null,null,null,null,null,null,null,null,null,null,0.27,null,null,null,null,null,null,null,null,null,null,{"$f":"899*0.1","v":89.9},null,null,null,null,null,null,null,null,null,null,null,null,null,null,null,null,null,null,null,null,null,null,null,null,null,null,null,null,null,300000,0,null,400000,0,400000]
["B141954","Dare","Albemarle RPO","Bike & Ped","Division Needs",null,"NC 12-Hatteras-II","SR 1237",".8 miles south","Construct curb & gutter /Sidewalk","5. Construct Sidewalk",370000,null,null,null,null,null,null,10.804722947171893,9.75,null,"N/A",null,11725.186969197615,null,null,"Yes",null,null,null,null,0,0,15,10,"Yes",15,"Minimal",10,"Yes",0,"No",0,"No",null,null,5,null,null,null,null,null,null,null,null,"Albemarle RPO",null,null,null,null,null,null,null,null,null,null,null,null,50,null,null,null,null,10.804722947171893,null,null,null,null,"Dare County",null,null,null,null,null,null,null,null,null,null,null,null,null,0.49,null,null,null,null,null,null,null,null,null,null,{"$f":"644*0.1","v":64.400000000000006},null,null,null,null,null,null,null,null,null,null,null,null,null,null,null,null,null,null,null,null,null,null,null,null,null,null,null,null,null,320000,145000,null,515000,0,370000]
["B141947","Dare","Albemarle RPO","Bike & Ped","Division Needs",null,"NC 12-Hatteras","Bridge","SR 1237","Construct curb & gutter and sidewalk","5. Construct Sidewalk",406000,null,null,null,null,null,null,10.502334790371034,9.75,null,"N/A",null,8369.4083694083693,null,null,"Yes",null,null,null,null,0,0,15,10,"Yes",15,"Minimal",10,"Yes",0,"No",0,"No",null,null,5,null,null,null,null,null,null,null,null,"Albemarle RPO",null,null,null,null,null,null,null,null,null,null,null,null,50,null,null,null,null,10.502334790371034,null,null,null,null,"Dare County",null,null,null,null,null,null,null,null,null,null,null,null,null,0.77,null,null,null,null,null,null,null,null,null,null,{"$f":"630*0.1","v":63},null,null,null,null,null,null,null,null,null,null,null,null,null,null,null,null,null,null,null,null,null,null,null,null,null,null,null,null,null,356000,162000,null,568000,0,406000]
["B141860","Dare","Albemarle RPO","Bike & Ped","Division Needs",null,"Twiford Street","Twiford Street","The Woods Road","Connect existing The Woods Road and Twiford Street multi-use paths","2. Construct multi-use trail / greenway / sidepath or on-road bike lane on local roadway",162000,null,null,null,null,null,null,10.153627313669816,7.5,null,"N/A",null,35495.179666958808,null,null,"Yes",null,null,null,null,0,0,15,10,"Yes",15,"Minimal",10,"Yes",0,"No",0,"No",null,null,12.5,null,null,null,null,null,null,null,null,"Albemarle RPO",null,null,null,null,null,null,null,null,null,null,null,null,50,null,null,null,null,10.153627313669816,null,null,null,null,"Dare County",null,null,null,null,null,null,null,null,null,null,null,null,null,7.0000000000000007E-2,null,null,null,null,null,null,null,null,null,null,{"$f":"652*0.1","v":65.2},null,null,null,null,null,null,null,null,null,null,null,null,null,null,null,null,null,null,null,null,null,null,null,null,null,null,null,null,null,152000,0,null,162000,0,162000]
["B141955","Chowan","Albemarle RPO","Bike & Ped","Division Needs",null,"Edenton Multi-use path","Twiddy Avenue","Chowan River fising pier","Connect path where existing sidewalk stops near Twiddy Ave. and extend towards Pembroke to the west side of town, connecting  residential subdivisions and over the US 17 bypass overpass, terminating at the new Chowan River fishing pier. (Phase 2)","2. Construct multi-use trail / greenway / sidepath or on-road bike lane on local roadway",400000,null,null,null,null,null,null,5.4141769778944999,3.75,null,"N/A",null,38986.354775828462,null,null,"Yes",null,null,null,null,0,0,15,10,"Yes",15,"Minimal",10,"Yes",0,"No",0,"No",null,null,12.5,null,null,null,null,null,null,null,null,"Albemarle RPO",null,null,null,null,null,null,null,null,null,null,null,null,50,null,null,null,null,5.4141769778944999,null,null,null,null,"Chowan County",null,null,null,null,null,null,null,null,null,null,null,null,null,0.15,null,null,null,null,null,null,null,null,null,null,{"$f":"684*0.1","v":68.400000000000006},null,null,null,null,null,null,null,null,null,null,null,null,null,null,null,null,null,null,null,null,null,null,null,null,null,null,null,null,null,380000,0,null,400000,0,400000]
["H129070-B","Dare","Albemarle RPO","Highway","Statewide Mobility","R-2545B","US-64 ","West of Alligator River","East of SR 1153 (Old Ferry Landing Road)","Widen to Multi-Lanes and construct new multi-lane bridge","1 - Widen Existing Roadway",209520000,8.7940938845902572,null,10.91,{"$f":"(V178+W178+Y178+Z178+AB178+AD178)","v":55},6.3,{"$f":"O178+P178+Q178","v":72.209999999999994},8.11,9,null,{"$f":"IF(AU178<30,0,IF(AU178<50,5,IF(AU178<65,10,IF(AU178>66,15))))","v":5},{"$f":"IF(X178<499,15,IF(X178<999,10,IF(X178<1499,5,IF(X178>1500,0))))","v":0},{"$f":"(EI178/CZ178)/CO178","v":29096.895469661078},{"$f":"IF(DD178<500,0,IF(DD178<1000,5,IF(DD178>1000,10)))","v":0},{"$f":"IF(AA178=\"Yes\",20,0)","v":20},"Yes",{"$f":"IF(AC178=\"Yes\",10,0)","v":10},"Yes",{"$f":"IF(AE178=\"Yes\",20,0)","v":20},"Yes",{"$f":"IF(AU178<30,0,IF(AU178<50,5,IF(AU178<65,10,IF(AU178<79,15,IF(AU178>80,20)))))","v":5},{"$f":"IF(X178<999,20,IF(X178<1499,15,IF(X178<1999,10,IF(X178<3999,5,IF(X178>4000,0)))))","v":0},{"$f":"IF(AA178=\"Yes\",15,0)","v":15},10,"No",{"$f":"IF(AL178=\"Minimal\",15,0)","v":15},"Minimal",{"$f":"IF(AN178=\"Yes\",10,0)","v":10},"Yes",{"$f":"IF(AP178=\"Yes\",10,0)","v":0},"No",{"$f":"IF(AR178=\"Yes\",10,0)","v":0},"No",14.270585729083869,1.1163993890798015E-3,41.794293499331999,1.6490928707611838,3.3353219629360747E-2,16.910134090666666,25,0,null,null,null,"Albemarle RPO",100,"","","","","01",100,"","","","",{"$f":"SUM(V178+W178+Y178+Z178+AB178+AD178)","v":55},{"$f":"SUM(AF178+AG178+AH178+AI178+AK178+AM178+AO178+AQ178)","v":55},null,null,null,null,8.11,null,"Exceeds cap of $15 million for Statewide & Regional Projects cascading to Division Needs",{"$f":"O178+BT178*0.25","v":10.91},null,"Dare",100,"","","","","","",1,"A","01, , ","Albemarle RPO, , ","Dare, , , ",2.1550796399999999,2.1550796399999999,"Two Lane Highway","Multi-Lane Highway",1,2,"Undivided","Divided",55,55,9.8709647777421008,90.129035222257897,3341.3002839999999,15500,0.21556776025806451,3011.4817098477629,329.81857415223675,9203.9757762141344,1008.0227806517644,10211.998556865899,233908,51.108556550000003,38.599637540000003,35.687225949999998,"","",0,6.6706439258721495E-7,"No","No",12,12,"No",0,0,"2 Lane Undivided","4A - 4 Lane Divided (46' Depressed Median) with Paved Shoulders","None","Partial",2,"Yes",24,208200000,1220000,100000,209520000,"",209520000,209520000,""]
["H090124-A","Dare","Albemarle RPO","Highway","Statewide Mobility","R-2544A","US-64 ","East of SR 1153 (Old Ferry Landing Road)","West of SR 1102 (East Lake Road)","Widen to Multi-Lanes.","1 - Widen Existing Roadway",15800000,6.9067768278857349,null,6.2094234301841915,{"$f":"(V179+W179+Y179+Z179+AB179+AD179)","v":50},6.3,{"$f":"O179+P179+Q179","v":62.509423430184185},4.1396156201227949,9,null,{"$f":"IF(AU179<30,0,IF(AU179<50,5,IF(AU179<65,10,IF(AU179>66,15))))","v":0},{"$f":"IF(X179<499,15,IF(X179<999,10,IF(X179<1499,5,IF(X179>1500,0))))","v":0},2473.1357746167182,{"$f":"IF(DD179<500,0,IF(DD179<1000,5,IF(DD179>1000,10)))","v":0},{"$f":"IF(AA179=\"Yes\",20,0)","v":20},"Yes",{"$f":"IF(AC179=\"Yes\",10,0)","v":10},"Yes",{"$f":"IF(AE179=\"Yes\",20,0)","v":20},"Yes",0,5,15,10,"No",15,"Minimal",10,"Yes",0,"No",0,"No",12.385806333013942,0,29.010349868214,1.4499997058007565,0,15.733332549333333,0,0,null,null,null,"Albemarle RPO",100,"","","","","01",100,"","","","",{"$f":"SUM(V179+W179+Y179+Z179+AB179+AD179)","v":50},55,null,null,null,null,4.1396156201227949,null,"Exceeds cap of $15 million for Statewide & Regional Projects cascading to Division Needs",{"$f":"O179+BT179*0.25","v":6.2094234301841915},null,"Dare",100,"","","","","","",1,"A","01, , ","Albemarle RPO, , ","Dare, , , ",2.2029831400000002,2.2029831400000002,"Two Lane Highway","Multi-Lane Highway",1,2,"Undivided","Divided",55,55,9.9999989848327004,90.0000010151673,2899.9997060000001,15499.99843,0.18709677417689907,2609.9997648398489,289.99994116015131,0,0,0,0,46.148892490000001,0,40.890861090000001,"","",0,0,"No","No",12,12,"No",0,0,"2 Lane Undivided","4A - 4 Lane Divided (46' Depressed Median) with Paved Shoulders","None","Partial",2,"Yes",24,14700000,1030000,70000,15800000,"",15800000,15800000,""]
["H129208","Northampton","Peanut Belt RPO","Highway","Statewide Mobility","","I-95 ","Halifax/Northampton County Line","Virginia State Line","Widen Roadway to 6 Lanes.","1 - Widen Existing Roadway",301845000,28.416150288621655,null,16.180642213015471,{"$f":"(V180+W180+Y180+Z180+AB180+AD180)","v":60},null,{"$f":"O180+P180+Q180","v":76.180642213015474},10.783881430066547,null,null,{"$f":"IF(AU180<30,0,IF(AU180<50,5,IF(AU180<65,10,IF(AU180>66,15))))","v":10},{"$f":"IF(X180<499,15,IF(X180<999,10,IF(X180<1499,5,IF(X180>1500,0))))","v":5},1106.3946563455881,{"$f":"IF(DD180<500,0,IF(DD180<1000,5,IF(DD180>1000,10)))","v":10},{"$f":"IF(AA180=\"Yes\",15,0)","v":15},"Yes",{"$f":"IF(AC180=\"Yes\",10,0)","v":10},"Yes",{"$f":"IF(AE180=\"Yes\",10,0)","v":10},"Yes",10,{"$f":"IF(BM178<999,20,IF(BM178<1499,15,IF(BM178<1999,10,IF(BM178<3999,5,IF(BM178>4000,0)))))","v":0},15,0,"Yes",15,"Minimal",10,"Yes",0,"No",0,"No",47.900877747680426,9.640135831304146E-2,59.841535194671998,38.259352094788944,3.8094261839862646,40.362556689999998,0,0,null,null,null,"Peanut Belt RPO",100,"","","","","01",100,"","","04","",{"$f":"SUM(V180+W180+Y180+Z180+AB180+AD180)","v":60},50,null,null,null,null,10.783881430066547,null,"Exceeds cap of $15 million for Statewide & Regional Projects cascading to Division Needs",{"$f":"O180+BT180*0.25","v":16.180642213015471},null,"Northampton",100,"","","Halifax","","","",1,"A","01, , 04","Peanut Belt RPO, , ","Northampton, , Halifax, ",7.5027332400000004,7.5027332400000004,"Freeway","Freeway",2,3,"Divided","Divided",70,70,21.0432684483435,78.956731551656503,36362.556689999998,65408.408710000003,0.55593091786134041,28710.68627104221,7651.8704189577884,960106.99302050809,255884.31532331507,1215991.3083438231,29098268,57.640053430000002,53.200470930000002,68.702035480000006,"","",19,5.7188523679725298E-5,"No","No",12,12,"No",11,10,"4 Lane with Median - Full Control","6A - 6 Lane Divided (46' Depressed Median) with Paved Shoulders","Full","Full",1,"No",22,300960000,790000,95000,301845000,"",301845000,301845000,""]
["H141739","Bertie","Peanut Belt RPO","Highway","Statewide Mobility","","US-17 ","US 17A East of Windsor","South end of Chowan River Bridge","Upgrade roadway to Interstate","2 - Upgrade Arterial to Freeway/Expressway",120801000,5.0079009635828404,null,4.04,{"$f":"(V181+W181+Y181+Z181+AB181+AD181)","v":45},null,{"$f":"O181+P181+Q181","v":49.04},3.52,null,null,{"$f":"IF(AU181<30,0,IF(AU181<50,5,IF(AU181<65,10,IF(AU181>66,15))))","v":0},{"$f":"IF(X181<499,15,IF(X181<999,10,IF(X181<1499,5,IF(X181>1500,0))))","v":0},1916.4046364329799,{"$f":"IF(DD181<500,0,IF(DD181<1000,5,IF(DD181>1000,10)))","v":10},{"$f":"IF(AA181=\"Yes\",15,0)","v":15},"Yes",{"$f":"IF(AC181=\"Yes\",10,0)","v":10},"Yes",{"$f":"IF(AE181=\"Yes\",10,0)","v":10},"Yes",0,{"$f":"IF(X181<999,20,IF(X181<1499,15,IF(X181<1999,10,IF(X181<3999,5,IF(X181>4000,0)))))","v":10},15,0,"Yes",15,"Minimal",10,"Yes",0,"No",0,"No",9.7962399411793832,0.37251017789587837,0,6.6047609105597012,6.3632374574832147,42.364117748521622,0,25,null,null,null,"Peanut Belt RPO",100,"","","","","01",100,"","","","",{"$f":"SUM(V181+W181+Y181+Z181+AB181+AD181)","v":45},50,null,null,null,null,3.52,null,"Exceeds cap of $15 million for Statewide & Regional Projects cascading to Division Needs",{"$f":"O181+BT181*0.25","v":4.04},null,"Bertie",100,"","","","","","",1,"A","01, , ","Peanut Belt RPO, , ","Bertie, , , ",7.7616468999999997,7.7616468999999997,"Multi-Lane Highway","Freeway",2,2,"Divided","Divided",55.000291984953797,70,16.265134601790702,83.734865398209294,8121.3725828405404,74420.488354429806,0.10912818180071945,6800.4204007285998,1320.9521821119401,1603998.7142052867,311569.79668598284,1915568.5108912694,44999602,0,0,0,"","",29.776517950539802,9.7488231199124501E-5,"No","No",12,12,"No",3,4,"4 Lane with Median - Partial Control","4A - 4 Lane Divided (46' Depressed Median) with Paved Shoulders","None","Full",1,"Yes",29,94540000,23447000,2814000,120801000,"",120801000,120801000,""]
["H141220","Perquimans","Albemarle RPO","Highway","Division Needs","","SR-1200 ","NC 37","SR 1213","Widen and repave Perry's Bridge Road","16 - Modernize Roadway",1487000,null,null,null,null,null,null,7.89,4.5,null,"N/A",null,9466.3921313637402,null,null,"Yes",null,null,null,null,0,{"$f":"IF(X182<999,20,IF(X182<1499,15,IF(X182<1999,10,IF(X182<3999,5,IF(X182>4000,0)))))","v":0},15,10,"No",{"$f":"IF(AL182=\"Minimal\",15,0)","v":15},"Minimal",10,"Yes",0,"No",0,"No",0.38438709677419353,0,3.5375503362540002,0,"N/A","N/A",75,0,null,null,null,"Albemarle RPO",100,"","","","","01",100,"","","","",null,50,null,null,null,null,7.89,null,"Project Not Competitive",null,null,"Perquimans",100,"","","","","","",1,"A","01, , ","Albemarle RPO, , ","Perquimans, , , ",1.7453557799999999,1.7453557799999999,"Two Lane Highway","Two Lane Highway",1,1,"Undivided","Undivided",55,55,0,100,90,15500,5.8064516129032262E-3,90,0,0,0,0,0,7.0511415900000003,0,3.5625707900000001,"","","","","No","No",9,12,"No",0,0,"2 Lane Undivided","3A - 2 Lane with Two Way Left Turn Lane, and Paved Shoulders","None","None",2,"No",30,1487000,0,0,1487000,"",1487000,1487000,""]
["H090305","Washington","Albemarle RPO","Highway","Division Needs","R-4909","- New Route","SR 1126 (Newland Road)","SR 1125 (Millpond Road)","Construct Two Lane Facility on New Location.","5 - Construct Roadway on New Location",3830000," ",null," ",null,null,null,1.7543918552372901,6,null,"N/A",null,5466.922175852761,null,null,"Yes",null,null,null,null,0,{"$f":"IF(X183<999,20,IF(X183<1499,15,IF(X183<1999,10,IF(X183<3999,5,IF(X183>4000,0)))))","v":0},15,10,"No",{"$f":"IF(AL183=\"Minimal\",15,0)","v":15},"Minimal",10,"Yes",0,"No",0,"No",2.661746009269887,1.3004642297650131,13.581708313338,0,"N/A","N/A",0,0,null,null,null,"Albemarle RPO",100,"","","","","01",100,"","","","",null,50,null,null,null,null,1.7543918552372901,null,"Project Not Competitive",null,null,"Washington",100,"","","","","","",1,"A","01, , ","Albemarle RPO, , ","Washington, , , ",3.2,1.11833022,"Two Lane Highway","Two Lane Highway",1,1,"Undivided","Undivided",48,55,0,100,626.44914619999997,15588.69995,4.0186105846498121E-2,626.44914619999997,0,226398.99803106303,0,226398.99803106303,4980778,11.35602182,15.8078866,13.585291440000001,"","","","","No","No",11,11,"No",0,0,"New Roadway","2A - 2 Lane Undivided with Paved Shoulders, 55 mph","None","None",1,"No",32,3762000,61000,7000,3830000,"",3830000,3830000,""]
["H129515","Currituck","Albemarle RPO","Highway","Statewide Mobility","R-2576","- New Location Mid-Currituck Bridge","Coinjock","Corolla","Construct New Bridge Over Currituck Sound","5 - Construct Roadway on New Location",173304000,23.342830564038344,null,15.726629282408148,{"$f":"(V184+W184+Y184+Z184+AB184+AD184)","v":60},6.3,{"$f":"O184+P184+Q184","v":82.026629282408138},11.853563286896481,9,null,{"$f":"IF(AU184<30,0,IF(AU184<50,5,IF(AU184<65,10,IF(AU184>66,15))))","v":5},{"$f":"IF(X184<499,15,IF(X184<999,10,IF(X184<1499,5,IF(X184>1500,0))))","v":0},2285.8539293439476,{"$f":"IF(DD184<500,0,IF(DD184<1000,5,IF(DD184>1000,10)))","v":5},{"$f":"IF(AA184=\"Yes\",20,0)","v":20},"Yes",{"$f":"IF(AC184=\"Yes\",10,0)","v":10},"Yes",{"$f":"IF(AE184=\"Yes\",20,0)","v":20},"Yes",5,{"$f":"IF(BM182<999,20,IF(BM182<1499,15,IF(BM182<1999,10,IF(BM182<3999,5,IF(BM182>4000,0)))))","v":0},15,{"$f":"IF(AJ184=\"Yes\",10,0)","v":0},"No",{"$f":"IF(AL184=\"Minimal\",15,0)","v":15},"Minimal",10,"Yes",0,"No",0,"No",18.793795397608299,8.9256870412685227,40.816150430087994,4.7268539468324926,100,15.360235206666667,25,25,null,null,null,"Albemarle RPO",100,"","","","","01",100,"","","","",{"$f":"SUM(V184+W184+Y184+Z184+AB184+AD184)","v":60},45,null,null,null,null,11.853563286896481,null,"Exceeds cap of $15 million for Statewide & Regional Projects cascading to Division Needs",{"$f":"O184+BT184*0.25","v":15.726629282408148},null,"Currituck",100,"","","","","","",1,"A","01, , ","Albemarle RPO, , ","Currituck, , , ",43.4,6.8671598999999999,"Multi-Lane Highway","Two Lane Highway",2,1,"Undivided","Undivided",48,55,8.5628675608103002,91.437132439189696,11040.35281,46072.965450000003,0.23962757122680498,10094.982020633501,945.37078936649846,62075426.132216401,5813214.3755113408,67888640.507727742,1546857267,39.093044159999998,53.593429299999997,29.774223899999999,"","",2016,5.7389172778583896E-3,"No","No",11,12,"No",3,4,"New Roadway","2A - 2 Lane Undivided with Paved Shoulders, 55 mph","None","None",2,"No",24,383281000,25592000,1947000,410820000,237516000,173304000,173304000,"Toll Revenue less Roadway Maintenance and Financing"]
["H090442","Dare","Albemarle RPO","Highway","Statewide Mobility","U-3815","US-64 ","US 64 Business/NC 345","","US 64-US 64 Bypass-NC 345.  Improve intersection.","10 - Improve Intersection",1550000,26.823169613838097,null,21.9385617456722,{"$f":"(V185+W185+Y185+Z185+AB185+AD185)","v":60},5.85,{"$f":"O185+P185+Q185","v":87.788561745672197},13.654173443351365,9,null,{"$f":"IF(AU185<30,0,IF(AU185<50,5,IF(AU185<65,10,IF(AU185>66,15))))","v":15},{"$f":"IF(X185<499,15,IF(X185<999,10,IF(X185<1499,5,IF(X185>1500,0))))","v":15},139.0264115479155,{"$f":"IF(DD185<500,0,IF(DD185<1000,5,IF(DD185>1000,10)))","v":10},{"$f":"IF(AA185=\"Yes\",20,0)","v":20},"Yes",{"$f":"IF(AC185=\"Yes\",10,0)","v":0},"No",{"$f":"IF(AE185=\"Yes\",20,0)","v":0},"No",20,{"$f":"IF(BM183<999,20,IF(BM183<1499,15,IF(BM183<1999,10,IF(BM183<3999,5,IF(BM183>4000,0)))))","v":0},15,{"$f":"IF(AJ185=\"Yes\",10,0)","v":0},"No",{"$f":"IF(AL185=\"Minimal\",15,0)","v":0},"Significant",{"$f":"AQ185","v":0},"No",0,"No",0,"No",24.045702820610419,29.146031612903226,83.35,8.2540013041944356,8.7984902294512004,14.865280946666667,0,0,null,null,null,"Albemarle RPO",100,"","","","","01",100,"","","","",{"$f":"SUM(V185+W185+Y185+Z185+AB185+AD185)","v":60},35,null,null,null,null,13.654173443351365,null,"Minimal Local Support",{"$f":"O185+BT185*0.25","v":21.9385617456722},null,"Dare",100,"","","","","","",1,"A","01, , ","Albemarle RPO, , ","Dare, , , ",0.5,0.5,"Multi-Lane Highway","Multi-Lane Highway",2,2,"Undivided","Undivided",52.507045460133803,55,7.4033818208643005,92.596618179135703,22297.921419999999,88445.592550000001,0.25210890421017368,20647.121159161114,1650.800260838887,1844524.6341283831,147475.36587161687,1992000,45176349,"","","",66.7,100,33,1.4296980458902399E-4,"No","No",12,12,"No",4,4,"2 Lane Undivided","","Limited","Partial",2,"No",14.753019576345601,1250000,300000,0,1550000,"",1550000,1550000,""]
[null,null,null,null,null,null,null,null,null,null,null,null,null,null,null,null,null,null,null,null,null,null,null,null,null,null," ",null,null,null,null,null,null,0,null,null,null,null,null," "]

{"sheet":"Division Needs-Transit","index":6,"n_rows":186,"n_cols":141,"rows_kept":186,"cut":false,"hidden":false,"merged":[[1,4,1,45],[5,0,5,4],[5,6,5,40],[5,72,5,77],[6,21,6,30],[6,31,6,43]]}
[]
[null,null,null,null," "]
[]
[null,null,null,null,null,null,null,null,null,"Projects in blue are fully funded for construction and not eligible for local input point assignment ",null,"*Projects over $200M may be subject to the corridor cap",null,null,null,null,null,null,null,null,null,null,null,null,null,null,null,null,null,null,null,null,null,null,null,null,null,null,null,null,null,null,null,null,null,null,null,null,null,null,null,null,null,null,null,null,null,null,null,null,null,null,null,null,null,null,null,null,null,null,null,null,null,null,null,null,null,null,null,null,null,null,null,null,null,null,null,null,null,null,null,null,null,null,null,null,null,null,null,null,null,null,null,null,null,null,null,null,null,null,null,null,null,null,null,null,null,null,null,null,null,null,null,null,null,null,null,null,null,null,null,null,null,null,null,null,null,null,"*Projects over $200M may be subject to the corridor cap"]
[]
["DRAFT",null,null,null,null,null,"Division One Division Needs Point Assignment-Transit",null,null,null,null,null,null,null,null,null,null,null,null,null,null,null,null,null,null,null,null,null,null,null,null,null,null,null,null,null,null,null,null,null,null,null,null,null,null,null,null,null,null,null,null,null,null,null,null,null,null,null,null,null,null,null,null,null,null,null,null,null,null,null,null,null,"DRAFT"]
[null,null,null,null,null,null,null,null,null,null,null,null,null,null,null,null,null,null,null,null,null,"Regional Criteria",null,null,null,null,null,null,null,null,null,"Division Needs"]
["SPOT ID","County","RPO","MODE","Project Category","TIP","Route","From / Cross Street","To","Description","Specific Improvement Type","Cost to NCDOT","Statewide Mobility Quantiative Score\n(Out of 100)",null,"Regional Impact Quantiative Score\n(Out of 70)","Division Methodology Preliminary Ranking","Regional Impact RPO Score (Out of 15)","Total Regional Score(Out of 100)","Division Needs Quantiative Score\n(Out of 50)","Division Needs RPO Score (Out of 25)",null,"Safety Score (15pts)","Cost Effectiveness Score (15pts)","Cost Effectiveness","Freight Volume Score                (10pts)","Transportation Plan Consistency Score (20pts)","Transportation Plan Consistency (Yes/No)","Corridor Continuity Score (20pts)","Corridor Continuity (Yes/No)","Public Support Score (20pts)","Public Support","Safety Score (20pts)","Cost Effectiveness (20pts)","Transportation Plan Consistency (15pts)","Multimodal Accomodations (10pts)","Multimodal (Yes/No)","Project Feasibility (15pts)","Project Feasibility (Significant/Minimal)","Public Support (10pts)","Public Support (Yes/No)","Airport Safety (5pts)","Airport Safety (Yes/No)","Transit Expansion (5pts)","Transit (Yes/No)","Congestion","[Travel Time] Benefit/Cost","Safety","Multimodal + [Freight & Military]","Economic Competitiveness","Accessibility / Connectivity","Lane Width","[Paved] Shoulder Width",null,null,null," MPO/RPO","First MPO/RPO %","Second MPO/RPO","Second MPO/RPO %","Third MPO/RPO","Third MPO/RPO %","First Division","First Division %","Second Division","Second Division %","Third Division","Third Division %","Divisin Methodology Preliminary Ranking","Division Methodology Preliminary Ranking","Preliminary Ranking","Preliminary Ranking","Division Engineer Local Points REGIONAL","Division Engineer Local Points DIVISION NEEDS","SPOT + Division Points","SPOT + Division + RPO                 (Out of 100)","Comments","SPOT + Division Points","Comments","County","First County %","Second County","Second County %","Third County","Third County %","Fourth County","Fourth County %","Highest Division","Funding Region","All Divisions","All MPOs/RPOs","All Counties","Existing Length (Miles)","Project Length (Miles)","Existing Facility Type","Project Facility Type","Existing Lanes Per Direction","Project Lanes Per Direction","Existing Median Type","Project Median Type","Existing Speed Limit","Project Speed Limit","Truck %","Auto %","Existing Volume","Existing Capacity","Existing Volume / Capacity Ratio","Auto Volume","Truck Volume","Travel Time Savings Over 30 Years Autos (Hrs)","Travel Time Savings Over 30 Years Trucks (Hrs)","Travel Time Savings Over 30 Years Total (Hrs)","Travel Time Savings Over 30 Years Total ($)","Crash Density Points Segment","Crash Severity Points Segment","Critical Crash Rate Points Segment","Crash Frequency Points Intersection","Severity Index Points Intersection","Long Term Employment","Percent Change In Value Added","Non-Interstate STRAHNet Route","Direct Connection to Transportation Terminal","Existing Lane Width","DOT Design Standard Lane Width","Existing Roadway Has Curb & Gutter","Existing Paved Shoulder Width","DOT Design Paved Shoulder Width","Existing Cross Section","Project Cross Section","Existing Access Control","Project Access Control","County Tier","Upgrade Roadway Eligible","Census Average Commute Time","Construction Cost","Right-Of-Way Cost","Utilities Cost","Actual Project Cost","Other Funds","Cost to NCDOT","Cost Used in Benefit/Cost Analysis","Other Funds Source"]
["T130017","Pasquotank","Albemarle RPO","Transit","Regional Impact",null,null,null,null,"Expansion Vehicle-ARHS-ICPTA’s covers a little over 1000 square miles across five counties.  Our agency wants to purchase an expansion vehicle to meet client demand. ",null,8205,null,null,5.35,{"$f":"(V9+W9+Y9+Z9+AB9+AD9)","v":60},3.15,{"$f":"O9+P9+Q9","v":68.5},5.01,9.75,null,{"$f":"IF(AU9<30,0,IF(AU9<50,5,IF(AU9<65,10,IF(AU9>66,15))))","v":5},{"$f":"IF(X9<499,15,IF(X9<999,10,IF(X9<1499,5,IF(X9>1500,0))))","v":15},{"$f":"(EI9/CZ9)/CO9","v":2.0337951039078898E-5},0,{"$f":"IF(AA9=\"Yes\",20,0)","v":20},"Yes",{"$f":"IF(AC9=\"Yes\",20,0)","v":0},"No",{"$f":"IF(AE9=\"Yes\",20,0)","v":20},"Yes",{"$f":"IF(AU9<30,0,IF(AU9<50,5,IF(AU9<65,10,IF(AU9<79,15,IF(AU9>80,20)))))","v":5},{"$f":"IF(X9<999,20,IF(X9<1499,15,IF(X9<1999,10,IF(X9<3999,5,IF(X9>4000,0)))))","v":20},{"$f":"IF(AA9=\"Yes\",15,0)","v":15},{"$f":"IF(AJ9=\"Yes\",10,0)","v":10},"Yes",{"$f":"IF(AL9=\"Minimal\",15,0)","v":15},"Minimal",{"$f":"IF(AN9=\"Yes\",10,0)","v":10},"Yes",{"$f":"IF(AP9=\"Yes\",5,0)","v":0},"No",{"$f":"IF(AR9=\"Yes\",5,0)","v":5},"Yes",null,null,31.2,null,null,null,null,null,null,null,null,"Albemarle RPO",null,null,null,null,null,null,null,null,null,null,null,{"$f":"SUM(V9+W9+Y9+Z9+AB9+AD9)","v":60},{"$f":"SUM(AF9+AG9+AH9+AI9+AK9+AM9+AO9+AQ9)","v":80},null,null,null,0,{"$f":"S9+BU9*0.25","v":5.01},{"$f":"BV9+T9","v":14.76},"Not competitive",{"$f":"O9+BT9*0.25","v":5.35},null,"Pasquotank",null,null,null,null,null,null,null,null,null,null,null,null,null,870586,null,null,null,null,null,null,null,null,null,null,98611,null,null,null,null,null,null,null,null,null,null,null,null,null,null,null,null,null,null,null,null,null,null,null,null,null,null,null,null,null,null,null,null,82050,null,1746000,null,"Fed:$65,640                            Local:$8,205"]
["T130018","Pasquotank","Albemarle RPO","Transit","Regional Impact",null,null,null,null,"Expansion Vehicle-ARHS-ICPTA’s covers a little over 1000 square miles across five counties.  Our agency wants to purchase an expansion vehicle to meet client demand. ",null,8205,null,null,4.8,{"$f":"SUM(V10+W10+Y10+Z10+AB10+AD10)","v":60},3.15,{"$f":"O10+P10+Q10","v":67.95},4.46,9.75,null,5,{"$f":"IF(X10<499,15,IF(X10<999,10,IF(X10<1499,5,IF(X10>1500,0))))","v":15},9.5574391910448089E-8,0,{"$f":"IF(AA10=\"Yes\",20,0)","v":20},"Yes",{"$f":"IF(AC10=\"Yes\",20,0)","v":0},"No",{"$f":"IF(AE10=\"Yes\",20,0)","v":20},"Yes",5,20,15,10,"Yes",15,"Minimal",10,"Yes",0,"No",5,"Yes",null,null,31.2,null,null,null,null,null,null,null,null,"Albemarle RPO",null,null,null,null,null,null,null,null,null,null,null,{"$f":"SUM(V10+W10+Y10+Z10+AB10+AD10)","v":60},80,null,null,null,0,4.46,14.21,"Not competitive",{"$f":"O10+BT10*0.25","v":4.8},null,"Pasquotank",null,null,null,null,null,null,null,null,null,null,null,null,null,870586,null,null,null,null,null,null,null,null,null,null,98611,null,null,null,null,null,null,null,null,null,null,null,null,null,null,null,null,null,null,null,null,null,null,null,null,null,null,null,null,null,null,null,null,82050,null,8205,null,"Fed:$65,640                            Local:$8,205"]
["T130019","Pasquotank","Albemarle RPO","Transit","Regional Impact",null,null,null,null,"Expansion Vehicle-ARHS-ICPTA’s covers a little over 1000 square miles across five counties.  Our agency wants to purchase an expansion vehicle to meet client demand. ",null,8205,null,null,4.8,{"$f":"SUM(V11+W11+Y11+Z11+AB11+AD11)","v":60},3.15,{"$f":"O11+P11+Q11","v":67.95},4.46,9.75,null,5,{"$f":"IF(X11<499,15,IF(X11<999,10,IF(X11<1499,5,IF(X11>1500,0))))","v":15},9.5574391910448089E-8,0,{"$f":"IF(AA11=\"Yes\",20,0)","v":20},"Yes",{"$f":"IF(AC11=\"Yes\",20,0)","v":0},"No",{"$f":"IF(AE11=\"Yes\",20,0)","v":20},"Yes",5,20,15,10,"Yes",15,"Minimal",10,"Yes",0,"No",5,"Yes",null,null,31.2,null,null,null,null,"Fed:$65,640                            Local:$8,205",null,null,null,"Albemarle RPO",null,null,null,null,null,null,null,null,null,null,null,{"$f":"SUM(V11+W11+Y11+Z11+AB11+AD11)","v":60},80,null,null,null,0,4.46,14.21,"Not competitive",{"$f":"O11+BT11*0.25","v":4.8},null,"Pasquotank",null,null,null,null,null,null,null,null,null,null,null,null,null,870586,null,null,null,null,null,null,null,null,null,null,98611,null,null,null,null,null,null,null,null,null,null,null,null,null,null,null,null,null,null,null,null,null,null,null,null,null,null,null,null,null,null,null,null,82050,null,8205,null,"Fed:$65,640                            Local:$8,205"]
["T130020","Pasquotank","Albemarle RPO","Transit","Regional Impact",null,null,null,null,"Expansion Vehicle-ARHS-ICPTA’s covers a little over 1000 square miles across five counties.  Our agency wants to purchase an expansion vehicle to meet client demand. ",null,8205,null,null,4.8,{"$f":"SUM(V12+W12+Y12+Z12+AB12+AD12)","v":60},3.15,{"$f":"O12+P12+Q12","v":67.95},4.46,9.75,null,5,{"$f":"IF(X12<499,15,IF(X12<999,10,IF(X12<1499,5,IF(X12>1500,0))))","v":15},9.5574391910448089E-8,0,{"$f":"IF(AA12=\"Yes\",20,0)","v":20},"Yes",{"$f":"IF(AC12=\"Yes\",20,0)","v":0},"No",{"$f":"IF(AE12=\"Yes\",20,0)","v":20},"Yes",5,20,15,10,"Yes",15,"Minimal",10,"Yes",0,"No",5,"Yes",null,null,31.2,null,null,null,null,"Fed:$65,640                            Local:$8,205",null,null,null,"Albemarle RPO",null,null,null,null,null,null,null,null,null,null,null,{"$f":"SUM(V12+W12+Y12+Z12+AB12+AD12)","v":60},80,null,null,null,0,4.46,14.21,"Not competitive",{"$f":"O12+BT12*0.25","v":4.8},null,"Pasquotank",null,null,null,null,null,null,null,null,null,null,null,null,null,870586,null,null,null,null,null,null,null,null,null,null,98611,null,null,null,null,null,null,null,null,null,null,null,null,null,null,null,null,null,null,null,null,null,null,null,null,null,null,null,null,null,null,null,null,82050,null,8205,null,"Fed:$65,640                            Local:$8,205"]
["T130021","Pasquotank","Albemarle RPO","Transit","Regional Impact",null,null,null,null,"Expansion Vehicle-ARHS-ICPTA’s covers a little over 1000 square miles across five counties.  Our agency wants to purchase an expansion vehicle to meet client demand. ",null,8205,null,null,4.8,{"$f":"SUM(V13+W13+Y13+Z13+AB13+AD13)","v":60},3.15,{"$f":"O13+P13+Q13","v":67.95},4.46,9.75,null,5,{"$f":"IF(X13<499,15,IF(X13<999,10,IF(X13<1499,5,IF(X13>1500,0))))","v":15},9.5574391910448089E-8,0,{"$f":"IF(AA13=\"Yes\",20,0)","v":20},"Yes",{"$f":"IF(AC13=\"Yes\",20,0)","v":0},"No",{"$f":"IF(AE13=\"Yes\",20,0)","v":20},"Yes",5,20,15,10,"Yes",15,"Minimal",10,"Yes",0,"No",5,"Yes",null,null,31.2,null,null,null,null,"Fed:$65,640                            Local:$8,205",null,null,null,"Albemarle RPO",null,null,null,null,null,null,null,null,null,null,null,{"$f":"SUM(V13+W13+Y13+Z13+AB13+AD13)","v":60},80,null,null,null,0,4.46,14.21,"Not competitive",{"$f":"O13+BT13*0.25","v":4.8},null,"Pasquotank",null,null,null,null,null,null,null,null,null,null,null,null,null,870586,null,null,null,null,null,null,null,null,null,null,98611,null,null,null,null,null,null,null,null,null,null,null,null,null,null,null,null,null,null,null,null,null,null,null,null,null,null,null,null,null,null,null,null,82050,null,8205,null,"Fed:$65,640                            Local:$8,205"]
["T130121","Dare","Albemarle RPO","Transit","Division Needs",null,null,null,null,"Expansion Vehicle-Due to expected increased demand for public transportation within the community we would like to have a 13-passenger LTV as part of our fleet in FY 2018. For the period FY2011-FY2014, we have seen an approximate increase of 15% each year for demand, riders, and trips. This trend is expected to continue as the elderly population in the region increases.",null,6655,null,null,null,null,null,null,4.03,9.75,null,5,0,1.4999485992069509E-6,0," ","Yes",{"$f":"IF(AC14=\"Yes\",10,0)","v":0},"No",{"$f":"IF(AE14=\"Yes\",10,0)","v":0},"No",5,20,15,10,"Yes",15,"Minimal",10,"Yes",0,"No",5,"Yes",null,null,31.2,null,null,null,null,null,null,null,null,"Albemarle RPO",null,null,null,null,null,null,null,null,null,null,null,null,80,null,null,null,0,4.03,13.780000000000001,"Not competitive",null,null,"Dare",null,null,null,null,null,null,null,null,null,null,null,null,null,248868,null,null,null,null,null,null,null,null,null,null,17828,null,null,null,null,null,null,null,null,null,null,null,null,null,null,null,null,null,null,null,null,null,null,null,null,null,null,null,null,null,null,null,null,66550,null,6655,null,"Fed:$53,240                        Local:$6,655"]
["T130109","Martin","Mid-East RPO","Transit","Division Needs",null,null,null,null,"Expansion Vehicle-Martin County  Transit provides curb to curb public transportation service in a demand-response system.   Many of the riders are elderly and/or disabled that depend on Martin County Transit as his/her's only means of transportation to services and resources.   Martin County Transit works closely with Social Services to provide transportation for these vulnerable adults. ",null,6010," ",null," ",null,null,null,3.19,null,null,5,0,0,0," ","Yes",{"$f":"IF(AC15=\"Yes\",10,0)","v":0},"No",{"$f":"IF(AE15=\"Yes\",10,0)","v":0},"No",5,20,15,10,"Yes",15,"Minimal",10,"Yes",0,"No",5,"Yes",null,null,31.2,null,null,null,null,null,null,null,null,"Mid-East RPO",null,null,null,null,null,null,null,null,null,null,null,null,80,null,null,null,0,3.19,3.19,"Not competitive",null,null,"Martin",null,null,null,null,null,null,null,null,null,null,null,null,null,33392,null,null,null,null,null,null,null,null,null,null,2280,null,null,null,null,null,null,null,null,null,null,null,null,null,null,null,null,null,null,null,null,null,null,null,null,null,null,null,null,null,null,null,null,60100,null,6010,null,"Fed:$48,080 Local:$6,010"]
["T130072","Bertie","Peanut Belt RPO","Transit","Regional Impact",null,null,null,null,"Expansion Vehicle-Purpose of expanding routes for employment, education, and/or medical purposes. Etc.  ",null,6783,null,null,2.97,{"$f":"SUM(V16+W16+Y16+Z16+AB16+AD16)","v":60},3.15,{"$f":"O16+P16+Q16","v":66.12},2.85,null,null,5,{"$f":"IF(X16<499,15,IF(X16<999,10,IF(X16<1499,5,IF(X16>1500,0))))","v":15},{"$f":"(EI16/CZ16)/CO16","v":1.1956010382247026E-7},0,{"$f":"IF(AA16=\"Yes\",20,0)","v":20},"Yes",{"$f":"IF(AC16=\"Yes\",20,0)","v":0},"No",{"$f":"IF(AE16=\"Yes\",20,0)","v":20},"Yes",5,20,15,10,"Yes",15,"Minimal",10,"Yes",0,"No",5,"Yes",null,null,31.2,null,null,null,null,null,null,null,null,"Peanut Belt RPO",null,null,null,null,null,null,null,null,null,null,null,{"$f":"SUM(V16+W16+Y16+Z16+AB16+AD16)","v":60},80,null,null,null,0,2.85,2.85,"Not competitive",{"$f":"O16+BT16*0.25","v":2.97},null,"Bertie",null,null,null,null,null,null,null,null,null,null,null,null,null,1238603,null,null,null,null,null,null,null,null,null,null,45804,null,null,null,null,null,null,null,null,null,null,null,null,null,null,null,null,null,null,null,null,null,null,null,null,null,null,null,null,null,null,null,null,67830,null,6783,null,"Fed:$54,264              Local:$6,783"]
["H129676-A","Hertford","Peanut Belt RPO","Highway","Statewide Mobility","R-5311A","NC-11 ","SR 1213 (Old NC 11 Road)","","Upgrade At-Grade Intersecton to Interchange.","7 - Upgrade At-grade Intersection to Interchange or Grade Separation",9460000,15.194668034134692,null,13.574471535535771,{"$f":"(V17+W17+Y17+Z17+AB17+AD17)","v":70},null,{"$f":"O17+P17+Q17","v":83.574471535535764},8.9410226938807895,null,null,15,{"$f":"IF(X17<499,15,IF(X17<999,10,IF(X17<1499,5,IF(X17>1500,0))))","v":10},566.46164208284017,{"$f":"IF(DD17<500,0,IF(DD17<1000,5,IF(DD17>1000,10)))","v":10},{"$f":"IF(AA17=\"Yes\",15,0)","v":15},"Yes",{"$f":"IF(AC17=\"Yes\",10,0)","v":10},"Yes",{"$f":"IF(AE17=\"Yes\",10,0)","v":10},"Yes",15,{"$f":"IF(BM15<999,20,IF(BM15<1499,15,IF(BM15<1999,10,IF(BM15<3999,5,IF(BM15>4000,0)))))","v":20},15,10,"Yes",15,"Minimal",10,"Yes",{"$f":"IF(AP17=\"Yes\",10,0)","v":0},"No",{"$f":"IF(AR17=\"Yes\",10,0)","v":0},"No",19.501477044516125,3.2587498942917548,66.650000000000006,6.2469894638882204,4.5220205971468346,25.050239849999997,0,0,null,null,null,"Peanut Belt RPO",100,"","","","","01",100,"","","","",{"$f":"SUM(V17+W17+Y17+Z17+AB17+AD17)","v":70},85,null,null,100,100,33.94102269388079,null,null,{"$f":"O17+BT17*0.25","v":38.574471535535771},null,"Hertford",100,"","","","","","",1,"A","01, , ","Peanut Belt RPO, , ","Hertford, , , ",2,2,"Two Lane Highway","Multi-Lane Highway",1,1,"Undivided","Divided",49.999892227322199,55,14.962705749633502,85.0372942503665,8350.0799499999994,31000,0.26935741774193545,7100.6820572223551,1249.3978927776441,1121641.911162334,197358.08883766588,1319000,30827774,"","","",33.299999999999997,100,21,6.9440411942936698E-5,"No","No",12,12,"No",2,2,"2 Lane Undivided","","None","Full",1,"Yes",19.565219056081599,8900000,500000,60000,9460000,"",9460000,9460000,""]
["H129043","Dare","Albemarle RPO","Highway","Division Needs","R-5014","SR-1217 Collington Road","US 158","Dead End","Operational-Safety Improvements","16 - Modernize Roadway",4850000,null,null,null,null,null,null,23.32,9,null,"N/A",null,57.991491345712276,null,null,"Yes",null,null,null,null,15,{"$f":"IF(BM16<999,20,IF(BM16<1499,15,IF(BM16<1999,10,IF(BM16<3999,5,IF(BM16>4000,0)))))","v":20},15,10,"No",{"$f":"IF(AL18=\"Minimal\",15,0)","v":15},"Minimal",10,"Yes",{"$f":"IF(AP18=\"Yes\",10,0)","v":0},"No",{"$f":"IF(AR18=\"Yes\",10,0)","v":0},"No",41.974683544303801,0,66.21829770798,0,"N/A","N/A",25,100,null,null,null,"Albemarle RPO",100,"","","","","01",100,"","","","",null,85,null,null,null,100,48.32,null,null,null,null,"Dare",100,"","","","","","",1,"A","01, , ","Albemarle RPO, , ","Dare, , , ",4.3454650700000004,4.3454650700000004,"Arterial","Arterial",1,1,"Undivided","Undivided",33,33,0,100,10000,15800,0.63291139240506333,10000,0,0,0,0,0,95.975087430000002,64.447475030000007,38.252198139999997,"","","","","No","No",11,12,"No",0,4,"2 Lane Undivided","","None","None",2,"No",25,4350000,500000,0,4850000,"",2520000,4850000,""]
["H141222","Perquimans","Albemarle RPO","Highway","Division Needs","","SR-1301 ","SR 1302","SR 1303","Widen and repave New Hope Road (Phase 2)","16 - Modernize Roadway",1114000,null,null,null,null,null,null,14.9,5.25,null,"N/A",null,469.54674256434129,null,null,"Yes",null,null,null,null,15,{"$f":"IF(X19<999,20,IF(X19<1499,15,IF(X19<1999,10,IF(X19<3999,5,IF(X19>4000,0)))))","v":20},15,10,"No",{"$f":"IF(AL19=\"Minimal\",15,0)","v":15},"Minimal",10,"Yes",{"$f":"IF(AP19=\"Yes\",10,0)","v":0},"No",{"$f":"IF(AR19=\"Yes\",10,0)","v":0},"No",4.6980645161290324,0,69.325207669245003,0,"N/A","N/A",75,0,null,null,null,"Albemarle RPO",100,"","","","","01",100,"","","","",null,85,null,null,null,100,39.9,null,null,null,null,"Perquimans",100,"","","","","","",1,"A","01, , ","Albemarle RPO, , ","Perquimans, , , ",1.3068696,1.3068696,"Two Lane Highway","Two Lane Highway",1,1,"Undivided","Undivided",55,55,0,100,1100,15500,7.0967741935483872E-2,1100,0,0,0,0,0,75.594077170000006,94.347974910000005,38.054370570000003,"","","","","No","No",9,12,"No",0,0,"2 Lane Undivided","3A - 2 Lane with Two Way Left Turn Lane, and Paved Shoulders","None","None",2,"No",30,1114000,0,0,1114000,"",675000,1114000,""]
["H090289","Martin","Mid-East RPO","Highway","Division Needs","R-4705","SR-1142 ","NC 903","SR 1182","NC 903 to SR 1182.   Upgrade Facility.","16 - Modernize Roadway",11200000,null,null,null,null,null,null,10.09,null,null,"N/A",null,298.96243736795947,null,null,"Yes",null,null,null,null,10,20,15,{"$f":"IF(AJ20=\"Yes\",10,0)","v":10},"Yes",15,"Minimal",10,"Yes",{"$f":"IF(AP20=\"Yes\",10,0)","v":0},"No",{"$f":"IF(AR20=\"Yes\",10,0)","v":0},"No",16.672666819006448,0,59.268861974388003,0.78073851317326326,"N/A","N/A",25,0,null,null,null,"Mid-East RPO",100,"","","","","01",100,"","","","",null,80,null,null,null,100,35.090000000000003,null,null,null,null,"Martin",100,"","","","","","",1,"A","01, , ","Mid-East RPO, , ","Martin, , , ",9.5967154299999997,9.5967154299999997,"Two Lane Highway","Two Lane Highway",1,1,"Undivided","Undivided",55,55,3.9999707795377004,96.000029220462295,3903.7210829999999,15500,0.25185297309677418,3747.5733803653475,156.14770263465266,0,0,0,0,87.040487170000006,47.05679026,43.727090930000003,"","","","","No","No",11,12,"No",0,0,"2 Lane Undivided","","None","None",1,"No",21,7200000,4000000,0,11200000,"",11200000,11200000,""]
["F130003","Dare","Albemarle RPO","Ferry","Division Needs",null,"Hatteras - South Dock (NC 12)",null,null,"Replacement Vessel – River Class Ferry (Baum-H)",null,12000000,null,null,null,null,null,null,36.700000000000003,6.75,null,null,null,89.223959053811043,null,null,"Yes",null,null,null,null,5,20,15,10,"Yes",{"$f":"IF(AL21=\"Minimal\",15,0)","v":15},"Minimal",10,"Yes",{"$f":"IF(AP21=\"Yes\",5,0)","v":0},"No",{"$f":"IF(AR21=\"Yes\",5,0)","v":0},"No",null,null,47,null,null,null,null,null,null,null,null,"Albemarle RPO",null,null,null,null,null,null,null,null,null,null,null,null,{"$f":"SUM(AF21+AG21+AH21+AI21++AK21+AM21+AO21+AQ21)","v":75},null,null,null,100,61.7,null,null,null,null,"Dare",null,null,null,null,null,null,null,null,null,null,null,null,null,{"$f":"5*2","v":10},null,null,null,null,null,null,null,null,null,null,21687,null,null,null,null,null,null,null,null,null,null,null,null,null,null,null,null,null,null,null,null,null,null,null,null,null,null,null,null,null,null,null,null,12000000,null,19350000]
["T130063","Hyde","Albemarle RPO","Transit","Division Needs",null,null,null,null,"Facilities-Bus Shelter-This funding request is for 2 shelters and 20 benches to support the Ocracoke Park and Ride Project.  ",null,7600,null,null,null,null,null,null,31.19,12,null,0,0,2.8524159963489075E-7,0," ","Yes",{"$f":"IF(AC22=\"Yes\",10,0)","v":0},"No",{"$f":"IF(AE22=\"Yes\",10,0)","v":0},"No",0,20,15,10,"Yes",15,"Minimal",10,"Yes",0,"No",{"$f":"IF(AR22=\"Yes\",5,0)","v":5},"Yes",null,null,0,null,null,null,null,null,null,null,null,"Albemarle RPO",null,null,null,null,null,null,null,null,null,null,null,null,{"$f":"SUM(AF22+AG22+AH22+AI22+AK22+AM22+AO22+AQ22)","v":75},null,null,null,50,43.69,{"$f":"BV22+T22","v":55.69},"SPOT ID#T130063 & T130067 should be programmed together. Projects scored high in the Divisin Needs Quantitative Scoring",null,null,"Hyde",null,null,null,null,null,null,null,null,null,null,null,null,null,175290,null,null,null,null,null,null,null,null,null,null,152000,null,null,null,null,null,null,null,null,null,null,null,null,null,null,null,null,null,null,null,null,null,null,null,null,null,null,null,null,null,null,null,null,76000,null,7600,null,"Fed:$60,800                        Local:$7,600"]
["F130007","Dare","Albemarle RPO","Ferry","Division Needs",null,"Hatteras-South Dock",null,null,"Replacement Vessel-River Class Ferry( Chico)",null,12000000,null,null,null,null,null,null,29.6,7.5,null,null,null,4.6686955318854615,null,null,"Yes",null,null,null,null,5,20,15,10,"Yes",15,"Minimal",10,"Yes",0,"No",{"$f":"IF(AR23=\"Yes\",5,0)","v":0},"No",null,null,47,null,null,null,null,null,null,null,null,"Albemarle RPO",null,null,null,null,null,null,null,null,null,null,null,null,{"$f":"SUM(AF23+AG23+AH23+AI23++AK23+AM23+AO23+AQ23)","v":75},null,null,null,0,29.6,null,null,null,null,null,null,null,null,null,null,null,null,null,null,null,null,null,null,{"$f":"5*2","v":10},null,null,null,null,null,null,null,null,null,null,21687,null,null,null,null,null,null,null,null,null,null,null,null,null,null,null,null,null,null,null,null,null,null,null,null,null,null,null,null,null,null,null,null,12000000,null,1012500]
["F130008","Dare","Albemarle RPO","Ferry","Division Needs",null,"Hatteras-South Dock",null,null,"Replacement Vessel-River Class Ferry (Frisco)",null,12000000,null,null,null,null,null,null,28.3,7.5,null,null,null,1.8674782127541847,null,null,"Yes",null,null,null,null,5,20,15,10,"Yes",15,"Minimal",10,"Yes",0,"No",{"$f":"IF(AR24=\"Yes\",5,0)","v":0},"No",null,null,47,null,null,null,null,null,null,null,null,"Albemarle RPO",null,null,null,null,null,null,null,null,null,null,null,null,{"$f":"SUM(AF24+AG24+AH24+AI24++AK24+AM24+AO24+AQ24)","v":75},null,null,null,0,28.3,null,null,null,null,null,null,null,null,null,null,null,null,null,null,null,null,null,null,{"$f":"5*2","v":10},null,null,null,null,null,null,null,null,null,null,21687,null,null,null,null,null,null,null,null,null,null,null,null,null,null,null,null,null,null,null,null,null,null,null,null,null,null,null,null,null,null,null,null,12000000,null,405000]
["A130412","Hertford","Peanut Belt RPO","Aviation","Division Needs",null,"Tri-County",null,null,"Design",null,1602288,null,null,null,null,null,null,25.95,null,null,"N/A",null,52522.839394883056,null,null,"Yes",{"$f":"IF(AC25=\"Yes\",10,0)","v":0},null,{"$f":"IF(AE25=\"Yes\",10,0)","v":0},null,0,{"$f":"IF(BM23<999,20,IF(BM23<1499,15,IF(BM23<1999,10,IF(BM23<3999,5,IF(BM23>4000,0)))))","v":20},15,10,"Yes",15,"Minimal",10,"Yes",5,"Yes",{"$f":"IF(AR25=\"Yes\",10,0)","v":0},"No",null,null,null,null,null,null,null,null,null,null,null,"Peanut Belt RPO",null,null,null,null,null,null,null,null,null,null,null,null,{"$f":"SUM(AF25+AG25+AH25+AI25+AK25+AM25+AO25+AQ25)","v":75},null,null,null,100,null,null,null,null,null,"Hertford",null,null,null,null,null,null,null,null,null,null,null,null,null,0.85,null,null,null,null,null,null,null,null,null,null,35.89,null,null,null,null,null,null,null,null,null,null,null,null,null,null,null,null,null,null,null,null,null,null,null,null,null,null,null,null,null,null,null,null,1780320,null,1602288]
["F130011","Hyde","Albemarle RPO","Ferry","Division Needs",null,"Swan Quarter-Ocracoke",null,null,"Replacement Vessel-Sound Class Ferry (Pamlico)",null,16000000,null,null,null,null,null,null,14.4,7.5,null,null,null,185.57179308745071,null,null,"Yes",null,null,null,null,5,{"$f":"IF(X26<999,20,IF(X26<1499,15,IF(X26<1999,10,IF(X26<3999,5,IF(X26>4000,0)))))","v":20},15,10,"Yes",15,"Minimal",10,"Yes",0,"No",{"$f":"IF(AR26=\"Yes\",5,0)","v":0},"No",null,null,34,null,null,null,null,null,null,null,null,"Albemarle RPO",null,null,null,null,null,null,null,null,null,null,null,null,{"$f":"SUM(AF26+AG26+AH26+AI26++AK26+AM26+AO26+AQ26)","v":75},null,null,null,0,{"$f":"S26+BU26*0.25","v":14.4},null,null,null,null,"Hyde",null,null,null,null,null,null,null,null,null,null,null,null,null,{"$f":"30*2","v":60},null,null,null,null,null,null,null,null,null,null,1437,null,null,null,null,null,null,null,null,null,null,null,null,null,null,null,null,null,null,null,null,null,null,null,null,null,null,null,null,null,null,null,null,16000000,null,16000000]
["B141355","Perquimans","Albemarle RPO","Bike & Ped","Division Needs",null,"Harvey Point Road","US-17","N. Commerce Drive","Construct 5' wide multi-use path along eastern side of Harvey Point Road","2. Construct multi-use trail / greenway / sidepath or on-road bike lane on local roadway",400000,null,null,null,null,null,null,13.463021372661501,9.75,null,"N/A",null,1441.3118527042577,null,null,"Yes",null,null,null,null,10,15,15,10,"Yes",15,"Minimal",10,"Yes",{"$f":"IF(AP27=\"Yes\",10,0)","v":0},"No",{"$f":"IF(AR27=\"Yes\",10,0)","v":0},"No",null,null,50,null,null,null,null,null,null,null,null,"Albemarle RPO",null,null,null,null,null,null,null,null,null,null,null,null,{"$f":"SUM(AF27+AG27+AH27+AI27+AK27+AM27+AO27)","v":75},null,null,null,25,19.713021372661501,null,null,null,null,"Perquimans County",null,null,null,null,null,null,null,null,null,null,null,null,null,0.66,null,null,null,null,null,null,null,null,null,null,158,null,null,null,null,null,null,null,null,null,null,null,null,null,null,null,null,null,null,null,null,null,null,null,null,null,null,null,null,null,380000,0,null,400000,0,150300]
["F130012","Currituck","Albemarle RPO","Ferry","Division Needs",null,"Currituck - Knotts Island",null,null,"Replacement Vessel-River Class Ferry (Hunt)",null,12000000,null,null,null,null,null,null,12.3,7.5,null,null,null,660.42927903137047,null,null,"Yes",null,null,null,null,5,20,15,10,"Yes",15,"Minimal",10,"Yes",{"$f":"IF(AP28=\"Yes\",5,0)","v":0},"No",{"$f":"IF(AR28=\"Yes\",5,0)","v":0},"No",null,null,46,null,null,null,null,null,null,null,null,"Albemarle RPO",null,null,null,null,null,null,null,null,null,null,null,null,{"$f":"SUM(AF28+AG28+AH28+AI28++AK28+AM28+AO28+AQ28)","v":75},null,null,null,0,12.3,null,null,null,null,null,null,null,null,null,null,null,null,null,null,null,null,null,null,{"$f":"5*2","v":10},null,null,null,null,null,null,null,null,null,null,1817,null,null,null,null,null,null,null,null,null,null,null,null,null,null,null,null,null,null,null,null,null,null,null,null,null,null,null,null,null,null,null,null,12000000,null,12000000]
["T130067","Hyde","Albemarle RPO","Transit","Division Needs",null,null,null,null,"Expansion Vehicle-This funding request is for 6 LTV and 3 Trams to support the Ocracoke Park and Ride Project.",null,85500,null,null,null,null,null,null,11.36,12,null,{"$f":"IF(AU29<30,0,IF(AU29<50,5,IF(AU29<65,10,IF(AU29>66,15))))","v":0},0,3.2089679958925209E-6,0," ","Yes",{"$f":"IF(AC29=\"Yes\",10,0)","v":0},"No",{"$f":"IF(AE29=\"Yes\",10,0)","v":0},"No",0,20,15,10,"Yes",15,"Minimal",10,"Yes",{"$f":"IF(AP29=\"Yes\",5,0)","v":0},"No",{"$f":"IF(AR29=\"Yes\",5,0)","v":5},"Yes",null,null,20.6,null,null,null,null,null,null,null,null,"Albemarle RPO",null,null,null,null,null,null,null,null,null,null,null,null,{"$f":"SUM(AF29+AG29+AH29+AI29+AK29+AM29+AO29+AQ29)","v":75},null,null,null,50,23.86,{"$f":"BV29+T29","v":35.86},"SPOT ID#T130063 & T130067 should be programmed together. Projects scored high in the Divisin Needs Quantitative Scoring",null,null,"Hyde",null,null,null,null,null,null,null,null,null,null,null,null,null,175290,null,null,null,null,null,null,null,null,null,null,152000,null,null,null,null,null,null,null,null,null,null,null,null,null,null,null,null,null,null,null,null,null,null,null,null,null,null,null,null,null,null,null,null,855000,null,85500,null,"Fed:$684,000   Local:$85,500"]
["F130013","Hyde","Albemarle RPO","Ferry","Division Needs",null,"Cedar Island-Ocracoke",null,null,"Replacement Vessel-Sound Class Ferry (Silver Lake)",null,16000000,null,null,null,null,null,null,16.3,7.5,null,null,null,263.20984404816738,null,null,"Yes",null,null,null,null,5,20,15,10,"Yes",15,"Minimal",10,"Yes",{"$f":"IF(AP30=\"Yes\",5,0)","v":0},"No",{"$f":"IF(AR30=\"Yes\",5,0)","v":0},"No",null,null,38.5,null,null,null,null,null,null,null,null,"Albemarle RPO",null,null,null,null,null,null,null,null,null,null,null,null,{"$f":"SUM(AF30+AG30+AH30+AI30++AK30+AM30+AO30+AQ30)","v":75},null,null,null,0,16.3,null,null,null,null,null,null,null,null,null,null,null,null,null,null,null,null,null,null,{"$f":"13*2","v":26},null,null,null,null,null,null,null,null,null,null,2338,null,null,null,null,null,null,null,null,null,null,null,null,null,null,null,null,null,null,null,null,null,null,null,null,null,null,null,null,null,null,null,null,16000000,null,16000000]
["F130014","Hyde","Albemarle RPO","Ferry","Division Needs",null,"Cedar Island-Ocracoke",null,null,"Replacement Vessel-Sound Class Ferry (Carteret)",null,16000000,null,null,null,null,null,null,15.3,7.5,null,null,null,263.20984404816738,null,null,"Yes",null,null,null,null,5,20,15,10,"Yes",15,"Minimal",10,"Yes",{"$f":"IF(AP31=\"Yes\",5,0)","v":0},"No",{"$f":"IF(AR31=\"Yes\",5,0)","v":0},"No",null,null,38.5,null,null,null,null,null,null,null,null,"Albemarle RPO",null,null,null,null,null,null,null,null,null,null,null,null,{"$f":"SUM(AF31+AG31+AH31+AI31++AK31+AM31+AO31+AQ31)","v":75},null,null,null,0,15.3,null,null,null,null,"Currituck",null,null,null,null,null,null,null,null,null,null,null,null,null,{"$f":"13*2","v":26},null,null,null,null,null,null,null,null,null,null,2338,null,null,null,null,null,null,null,null,null,null,null,null,null,null,null,null,null,null,null,null,null,null,null,null,null,null,null,null,null,null,null,null,16000000,null,16000000]
["A130413","Hertford","Peanut Belt RPO","Aviation","Division Needs",null,"Tri-County",null,null,"Corporate & T-hanger Taxiways",null,230400,null,null,null,null,null,null,7.47,null,null,"N/A",null,7552.4888138593415,null,null,"Yes",{"$f":"IF(AC32=\"Yes\",10,0)","v":0},null,{"$f":"IF(AE32=\"Yes\",10,0)","v":0},null,0,{"$f":"IF(BM30<999,20,IF(BM30<1499,15,IF(BM30<1999,10,IF(BM30<3999,5,IF(BM30>4000,0)))))","v":20},15,10,"Yes",15,"Minimal",10,"Yes",{"$f":"IF(AP32=\"Yes\",5,0)","v":5},"Yes",{"$f":"IF(AR32=\"Yes\",10,0)","v":0},"No",null,null,null,null,null,null,null,null,null,null,null,"Peanut Belt RPO",null,null,null,null,null,null,null,null,null,null,null,null,{"$f":"SUM(AF32+AG32+AH32+AI32+AK32+AM32+AO32+AQ32)","v":75},null,null,null,null,null,null,null,null,null,"Hertford",null,null,null,null,null,null,null,null,null,null,null,null,null,0.85,null,null,null,null,null,null,null,null,null,null,35.89,null,null,null,null,null,null,null,null,null,null,null,null,null,null,null,null,null,null,null,null,null,null,null,null,null,null,null,null,null,null,null,null,256000,null,230400]
["H141724","Bertie","Peanut Belt RPO","Highway","Statewide Mobility","","US-17 , US-13 ","US 64 at Williamston","US 13 North at Windsor","Upgrade roadway to Interstate","2 - Upgrade Arterial to Freeway/Expressway",296415000,13.963177203030861,null,18.190000000000001,{"$f":"(V33+W33+Y33+Z33+AB33+AD33)","v":55},null,{"$f":"O33+P33+Q33","v":73.19},14.61,null,null,{"$f":"IF(AU33<30,0,IF(AU33<50,5,IF(AU33<65,10,IF(AU33>66,15))))","v":10},{"$f":"IF(X33<499,15,IF(X33<999,10,IF(X33<1499,5,IF(X33>1500,0))))","v":0},1821.1995352104639,{"$f":"IF(DD33<500,0,IF(DD33<1000,5,IF(DD33>1000,10)))","v":10},{"$f":"IF(AA33=\"Yes\",15,0)","v":15},"Yes",{"$f":"IF(AC33=\"Yes\",10,0)","v":10},"Yes",{"$f":"IF(AE33=\"Yes\",10,0)","v":10},"Yes",10,{"$f":"IF(BM31<999,20,IF(BM31<1499,15,IF(BM31<1999,10,IF(BM31<3999,5,IF(BM31>4000,0)))))","v":20},15,10,"Yes",15,"Minimal",10,"Yes",{"$f":"IF(AP33=\"Yes\",10,0)","v":0},"No",0,"No",13.832167036632629,0.39403603056525477,56.903493981509996,10.770627201140798,18.508414444923371,35.755430809828404,0,75,null,null,null,"Peanut Belt RPO",89.61,"Mid-East RPO",10.39,"","","01",100,"","","","",{"$f":"SUM(V33+W33+Y33+Z33+AB33+AD33)","v":55},{"$f":"SUM(AF33+AG33+AH33+AI33+AK33+AM33+AO33+AQ33)","v":80},null,null,null,null,{"$f":"S33+BU33*0.25","v":14.61},null,"Delay Prioritization pending outcome of Future Interstate Designation; Exceeds cap of $15 million for Statewide & Regional Projects cascading to Division Needs",{"$f":"O33+BT33*0.25","v":18.190000000000001},null,"Bertie",89.61,"Martin",10.39,"","","","",1,"A","01, , ","Peanut Belt RPO, Mid-East RPO, ","Bertie, Martin, , ",14.46506022,14.46506022,"Multi-Lane Highway","Freeway",2,2,"Divided","Divided",54.750299643765302,70,12.233633194568,87.766366805432,11251.8102699428,72347.719571150898,0.15552404881092519,9875.3050737692665,1376.5051961735337,4433453.3141525285,617972.96167929168,5051426.2758318204,116798190,56.167965979999998,51.059687429999997,63.499901289999997,"","",79.840633949681404,2.9032765494878602E-4,"Yes","No",12,12,"No",1,4,"4 Lane with Median - Partial Control","4A - 4 Lane Divided (46' Depressed Median) with Paved Shoulders","None","Full",1,"Yes",21,226794000,62162000,7459000,296415000,"",296415000,296415000,""]
["H111228","Camden","Albemarle RPO","Highway","Division Needs","","SR-1227 ","NC 168","NC 343 in Camden County","Widen to 24 Feet with Paved Shoulders and Turn Lanes Where Necessary from\nthe Camden County Line to the Location of the Proposed NC 168 Bypass.","16 - Modernize Roadway",12540000,null,null,null,null,null,null,10.43,9.75,null,"N/A",null,7.9858468392354567,null,null,"Yes",null,null,null,null,5,{"$f":"IF(X34<999,20,IF(X34<1499,15,IF(X34<1999,10,IF(X34<3999,5,IF(X34>4000,0)))))","v":20},15,10,"No",{"$f":"IF(AL34=\"Minimal\",15,0)","v":15},"Minimal",10,"Yes",{"$f":"IF(AP34=\"Yes\",10,0)","v":0},"No",0,"No",9.3998067385422761,0,44.936317592166006,0,"N/A","N/A",50,0,null,null,null,"Albemarle RPO",100,"","","","","01",100,"","","","",null,{"$f":"SUM(AF34+AG34+AH34+AI34+AK34+AM34+AO34+AQ34)","v":75},null,null,null,100,{"$f":"S34+BU34*0.25","v":35.43},null,null,null,null,"Camden",55.7,"Currituck",44.3,"","","","",1,"A","01, , ","Albemarle RPO, , ","Camden, Currituck, , ",11.004277439999999,11.004277439999999,"Two Lane Highway","Two Lane Highway",1,1,"Undivided","Undivided",54,54,0,100,2201.904411,15508.10743,0.14198408290237127,2201.904411,0,0,0,0,0,69.443972479999999,39.267785250000003,26.110677290000002,"","","","","No","No",10,12,"No",0,0,"2 Lane Undivided","","None","None",1,"No",34,12540000,0,0,12540000,"",193500,12540000,""]
["H129113-A","Northampton","Peanut Belt RPO","Highway","Statewide Mobility","R-2582A","US-158 , NC-46 ","I-95/NC 46 in Roanoke Rapids","SR 1312 (St. John Church Road)","Widen to Multi-Lanes.","1 - Widen Existing Roadway",61600000,10.75557238499411,null,10.87,{"$f":"(V35+W35+Y35+Z35+AB35+AD35)","v":45},null,{"$f":"O35+P35+Q35","v":55.87},8.0399999999999991,null,null,{"$f":"IF(AU35<30,0,IF(AU35<50,5,IF(AU35<65,10,IF(AU35>66,15))))","v":5},{"$f":"IF(X35<499,15,IF(X35<999,10,IF(X35<1499,5,IF(X35>1500,0))))","v":0},2091.14740608183,{"$f":"IF(DD35<500,0,IF(DD35<1000,5,IF(DD35>1000,10)))","v":5},{"$f":"IF(AA35=\"Yes\",15,0)","v":15},"Yes",{"$f":"IF(AC35=\"Yes\",10,0)","v":10},"Yes",{"$f":"IF(AE35=\"Yes\",10,0)","v":10},"Yes",5,{"$f":"IF(BM33<999,20,IF(BM33<1499,15,IF(BM33<1999,10,IF(BM33<3999,5,IF(BM33>4000,0)))))","v":0},15,{"$f":"IF(AJ35=\"Yes\",10,0)","v":10},"Yes",15,"Minimal",10,"Yes",{"$f":"IF(AP35=\"Yes\",10,0)","v":0},"No",0,"No",16.653337707758549,1.1873089610389611,37.553088508914001,2.7725679898764266,10.935559354881701,15.814667089,25,0,null,null,null,"Peanut Belt RPO",100,"","","","","01",100,"","","","",{"$f":"SUM(V35+W35+Y35+Z35+AB35+AD35)","v":45},{"$f":"SUM(AF35+AG35+AH35+AI35+AK35+AM35+AO35+AQ35)","v":55},null,null,null,null,{"$f":"S35+BU35*0.25","v":8.0399999999999991},null,"Exceeds cap of $15 million for Statewide & Regional Projects cascading to Division Needs",{"$f":"O35+BT35*0.25","v":10.87},null,"Northampton",100,"","","","","","",1,"A","01, , ","Peanut Belt RPO, , ","Northampton, , , ",7.4799006700000001,7.4799006700000001,"Arterial","Multi-Lane Highway",1,2,"Undivided","Divided",50,50,14.080301894199701,85.919698105800293,3938.2223629999999,15671.3475,0.25130081270930915,3383.7087650247145,554.51359797528528,2698025.2618860388,442145.52707987302,3140170.7889659116,73138232,40.937157169999999,38.616381390000001,33.11699402,"","",50,1.6871118709763401E-4,"No","No",11,12,"No",1,0,"2 Lane Undivided","4A - 4 Lane Divided (46' Depressed Median) with Paved Shoulders","None","Partial",1,"Yes",22,54000000,7600000,0,61600000,"",61600000,61600000,""]
["B141365","Dare","Albemarle RPO","Bike & Ped","Division Needs",null,"Us 158 sidewalk","Bennett Street","Worthington Lane","Construct 6000' of sidewalk on west side of US 158","5. Construct Sidewalk",282000,null,null,null,null,null,null,15.295680447883793,9.75,null,"N/A",null,3163.9556096077831,null,null,"Yes",null,null,null,null,15,{"$f":"IF(X36<999,20,IF(X36<1499,15,IF(X36<1999,10,IF(X36<3999,5,IF(X36>4000,0)))))","v":5},15,{"$f":"IF(AJ36=\"Yes\",10,0)","v":10},"Yes",{"$f":"IF(AL36=\"Minimal\",15,0)","v":15},"Minimal",10,"Yes",{"$f":"IF(AP36=\"Yes\",10,0)","v":0},"No",0,"No",null,null,65,null,null,null,null,null,null,null,null,"Albemarle RPO",null,null,null,null,null,null,null,null,null,null,null,null,{"$f":"SUM(AF36+AG36+AH36+AI36+AK36+AM36+AO36)","v":70},null,null,null,25,{"$f":"S36+BU36*0.25","v":21.545680447883793},null,null,null,null,"Dare County",null,null,null,null,null,null,null,null,null,null,null,null,null,1.56,null,null,null,null,null,null,null,null,null,null,{"$f":"1012*0.1","v":101.2},null,null,null,null,null,null,null,null,null,null,null,null,null,null,null,null,null,null,null,null,null,null,null,null,null,null,null,null,null,272000,0,null,282000,0,499500]
["A130011","Pasquotank","Albemarle RPO","Aviation","Division Needs",null,"Elizabeth City Coast Guard Air Station/Regional",null,null,"Hangers and Economic Development",null,150300,null,null,null,null,null,null,5.76,13.5,null,"N/A",null,1061.0615133292763,null,null,"Yes",{"$f":"IF(AC37=\"Yes\",10,0)","v":0},null,{"$f":"IF(AE37=\"Yes\",10,0)","v":0},null,0,{"$f":"IF(X37<999,20,IF(X37<1499,15,IF(X37<1999,10,IF(X37<3999,5,IF(X37>4000,0)))))","v":15},15,{"$f":"IF(AJ37=\"Yes\",10,0)","v":10},"Yes",{"$f":"IF(AL37=\"Minimal\",15,0)","v":15},"Minimal",10,"Yes",{"$f":"IF(AP37=\"Yes\",5,0)","v":5},"Yes",0,"No",null,null,null,null,null,null,null,null,null,null,null,"Albemarle RPO",null,null,null,null,null,null,null,null,null,null,null,null,{"$f":"SUM(AF37+AG37+AH37+AI37+AK37+AM37+AO37+AQ37)","v":70},null,null,null,null,null,null,null,null,null,"Pasquotank",null,null,null,null,null,null,null,null,null,null,null,null,null,0.86,null,null,null,null,null,null,null,null,null,null,164.71,null,null,null,null,null,null,null,null,null,null,null,null,null,null,null,null,null,null,null,null,null,null,null,null,null,null,null,null,null,null,null,null,167000,null,150300]
["H090139","Currituck","Albemarle RPO","Highway","Statewide Mobility","R-2574","US-158 ","East of NC 34 at Belcross in Camden County","NC 168 in Currituck County","Widen to Multi-Lanes.","1 - Widen Existing Roadway",124500000,12.917806507523943,null,15.32,{"$f":"(V38+W38+Y38+Z38+AB38+AD38)","v":60},5.85,{"$f":"O38+P38+Q38","v":81.169999999999987},11.88,9,null,{"$f":"IF(AU38<30,0,IF(AU38<50,5,IF(AU38<65,10,IF(AU38>66,15))))","v":5},{"$f":"IF(X38<499,15,IF(X38<999,10,IF(X38<1499,5,IF(X38>1500,0))))","v":0},1995.9908209645782,{"$f":"IF(DD38<500,0,IF(DD38<1000,5,IF(DD38>1000,10)))","v":5},{"$f":"IF(AA38=\"Yes\",20,0)","v":20},"Yes",{"$f":"IF(AC38=\"Yes\",10,0)","v":10},"Yes",{"$f":"IF(AE38=\"Yes\",20,0)","v":20},"Yes",5,{"$f":"IF(BM36<999,20,IF(BM36<1499,15,IF(BM36<1999,10,IF(BM36<3999,5,IF(BM36>4000,0)))))","v":20},15,10,"No",{"$f":"IF(AL38=\"Minimal\",15,0)","v":15},"Minimal",10,"Yes",{"$f":"IF(AP38=\"Yes\",10,0)","v":0},"No",0,"No",25.899192792202655,4.9311622489959836E-2,42.817742247555003,3.7513246389685184,1.0121603056695501,40.175551936000005,0,50,null,null,null,"Albemarle RPO",100,"","","","","01",100,"","","","",{"$f":"SUM(V38+W38+Y38+Z38+AB38+AD38)","v":60},75,null,null,100,null,{"$f":"S38+BU38*0.25","v":11.88},null,"Exceeds cap of $15 million for Statewide & Regional Projects cascading to Division Needs",{"$f":"O38+BT38*0.25","v":40.32},null,"Currituck",81.819999999999993,"Camden",18.18,"","","","",1,"A","01, , ","Albemarle RPO, , ","Currituck, Camden, , ",10.2830142,10.2830142,"Two Lane Highway","Multi-Lane Highway",1,2,"Undivided","Divided",55,55,12.3687060697064,87.631293930293594,6065.8319760000004,15505.137360000001,0.39121433336337758,5315.5670482062969,750.26492779370369,232553.67338973124,32823.753964834919,265377.42735456617,6139297,47.387447479999999,46.640021480000001,34.438604390000002,"","",4,1.6243206113391E-5,"No","No",12,12,"No",0,2,"2 Lane Undivided","4A - 4 Lane Divided (46' Depressed Median) with Paved Shoulders","None","Partial",2,"Yes",32,82500000,40600000,1400000,124500000,"",124500000,124500000,""]
["H090201","Bertie","Peanut Belt RPO","Highway","Regional Impact","R-2900","NC-11 ","NC 903 in Martin County","US 13 Bypass North of Ahoskie in Hertford County","Widen to Multi-Lanes","1 - Widen Existing Roadway",264678000,null,null,9.6828556939639139,{"$f":"(V39+W39+Y39+Z39+AB39+AD39)","v":45},null,{"$f":"O39+P39+Q39","v":54.682855693963916},6.4527639498232601,null,null,{"$f":"IF(AU39<30,0,IF(AU39<50,5,IF(AU39<65,10,IF(AU39>66,15))))","v":5},{"$f":"IF(X39<499,15,IF(X39<999,10,IF(X39<1499,5,IF(X39>1500,0))))","v":0},1767.5616600315998,{"$f":"IF(DD39<500,0,IF(DD39<1000,5,IF(DD39>1000,10)))","v":5},{"$f":"IF(AA39=\"Yes\",15,0)","v":15},"Yes",{"$f":"IF(AC39=\"Yes\",10,0)","v":10},"Yes",{"$f":"IF(AE39=\"Yes\",10,0)","v":10},"Yes",5,{"$f":"IF(BM37<999,20,IF(BM37<1499,15,IF(BM37<1999,10,IF(BM37<3999,5,IF(BM37>4000,0)))))","v":20},15,{"$f":"IF(AJ39=\"Yes\",10,0)","v":10},"Yes",15,"Minimal",10,"Yes",0,"No",0,"No",22.004158280104082,7.4195384580509144E-2,42.449285833548004,4.9984943886064652,"N/A",19.458886990000003,0,0,null,null,null,"Peanut Belt RPO",91.83,"Mid-East RPO",8.17,"","","01",100,"","","","",{"$f":"SUM(V39+W39+Y39+Z39+AB39+AD39)","v":45},75,null,null,null,null,6.4527639498232601,null,"Exceeds cap of $15 million for Statewide & Regional Projects cascading to Division Needs",{"$f":"O39+BT39*0.25","v":9.6828556939639139},null,"Bertie",60.05,"Hertford",31.78,"Martin",8.17,"","",1,"A","01, , ","Peanut Belt RPO, Mid-East RPO, ","Bertie, Hertford, Martin, ",29.059377309999999,29.059377309999999,"Two Lane Highway","Multi-Lane Highway",1,2,"Undivided","Divided",54,55,19.400469355290102,80.599530644709901,5152.9623300000003,15503.09146,0.33238288913506808,4153.2634522787075,999.698877721293,665630.52880070708,160218.60887587239,825849.13767657941,19637886,52.985728870000003,37.521074390000003,36.8537903,"","","","","No","No",12,12,"No",2,2,"2 Lane Undivided","4A - 4 Lane Divided (46' Depressed Median) with Paved Shoulders","Limited","Partial",1,"Yes",22,224808000,35598000,4272000,264678000,"",264678000,264678000,""]
["H090400","Pasquotank","Albemarle RPO","Highway","Division Needs","U-3420","SR-1309 New Route - Main Street Extension","Proposed US 17 Bypass","US 17","Proposed US 17 Bypass to US 17 Bypass (Hughes Boulevard). Upgrade Roadway, Some New Location with interchange at the  Proposed US 17 Bypass.","6 - Widen Existing Roadway and Construct Part on New Location",37604000,null,null,null,null,null,null,7.4926218010578971,9.75,null,"N/A",null,570.59042489894205,null,null,"Yes",null,null,null,null,10,{"$f":"IF(X40<999,20,IF(X40<1499,15,IF(X40<1999,10,IF(X40<3999,5,IF(X40>4000,0)))))","v":20},15,{"$f":"IF(AJ40=\"Yes\",10,0)","v":0},"No",{"$f":"IF(AL40=\"Minimal\",15,0)","v":15},"Minimal",10,"Yes",0,"No",0,"No",21.23955152748097,0,53.686666483098001,2.2125776482960196,"N/A","N/A",0,0,null,null,null,"Albemarle RPO",100,"","","","","01",100,"","","","",null,70,null,null,null,null,7.4926218010578971,null,"Exceeds cap of $15 million for Statewide & Regional Projects cascading to Division Needs",null,null,"Pasquotank",100,"","","","","","",1,"A","01, , ","Albemarle RPO, , ","Pasquotank, , , ",8.1,4.4965362500000001,"Multi-Lane Highway","Arterial",2,2,"Divided","Divided",53,45,3.0192359281745,96.980764071825504,14656.54027,57189.055699999997,0.25628225699134949,14214.024740340796,442.51552965920388,0,0,0,0,45.39256322,70.290980619999999,45.39256322,"","","","","No","No",12,12,"No",4,4,"New Roadway","4B - 4 Lane Divided (23' Raised Median) with Paved Shoulders and Sidewalks","None","Partial",2,"No",23,32490000,4566000,548000,37604000,"",37604000,37604000,""]
["H141863","Bertie","Peanut Belt RPO","Highway","Statewide Mobility","","US-17-BYP-Windsor Bypass","US 13 North at Windsor","US 17A East of Windsor","Upgrade freeway to interstate standards","17 - Upgrade Freeway to Interstate Standards",18115000,5.280522319769938,null,13.48,{"$f":"(V41+W41+Y41+Z41+AB41+AD41)","v":60},null,{"$f":"O41+P41+Q41","v":73.48},12.32,null,null,{"$f":"IF(AU41<30,0,IF(AU41<50,5,IF(AU41<65,10,IF(AU41>66,15))))","v":0},{"$f":"IF(X41<499,15,IF(X41<999,10,IF(X41<1499,5,IF(X41>1500,0))))","v":15},377.5845547580675,{"$f":"IF(DD41<500,0,IF(DD41<1000,5,IF(DD41>1000,10)))","v":10},{"$f":"IF(AA41=\"Yes\",15,0)","v":15},"Yes",{"$f":"IF(AC41=\"Yes\",10,0)","v":10},"Yes",{"$f":"IF(AE41=\"Yes\",10,0)","v":10},"Yes",{"$f":"IF(AU41<30,0,IF(AU41<50,5,IF(AU41<65,10,IF(AU41<79,15,IF(AU41>80,20)))))","v":0},20,{"$f":"IF(AA41=\"Yes\",15,0)","v":15},{"$f":"IF(AJ41=\"Yes\",10,0)","v":10},"Yes",15,"Minimal",{"$f":"IF(AN41=\"Yes\",10,0)","v":10},"Yes",0,"No",0,"No",8.9789540080974994,0,14.225955942132,5.8043325764056979,3.3740078463481447E-2,17.24548809831855,0,100,null,null,null,"Peanut Belt RPO",100,"","","","","01",100,"","","","",{"$f":"SUM(V41+W41+Y41+Z41+AB41+AD41)","v":60},70,null,null,null,null,12.32,null,"Delay Prioritization pending outcome of Future Interstate Designation; Exceeds cap of $15 million for Statewide & Regional Projects cascading to Division Needs",{"$f":"O41+BT41*0.25","v":13.48},null,"Bertie",100,"","","","","","",1,"A","01, , ","Peanut Belt RPO, , ","Bertie, , , ",6.6215013200000001,6.6215013200000001,"Freeway","Freeway",2,2,"Divided","Divided",69.868031583409305,69.868031583409305,16.0219228784675,83.978077121532493,7245.4880983185503,71492.605187994195,0.10134597947950133,6084.6215830374103,1160.8665152811395,0,0,0,0,15.056317160000001,7.53506316,20.090755720000001,"","",0.15711071904780799,5.1769085022182097E-7,"No","No",12,12,"No",0,4,"4 Lane with Median - Full Control","","Full","Full",1,"No",25,18115000,0,0,18115000,"",18115000,18115000,""]
["H090149-C","Northampton","Peanut Belt RPO","Highway","Statewide Mobility","R-2584C","US-158 ","East of SR 1365","Murfreesboro Bypass","Widen to Multi-Lanes, Part on New  Location.","1 - Widen Existing Roadway",15500000,9.3681981442180433,null,8.4421943032112416,{"$f":"(V42+W42+Y42+Z42+AB42+AD42)","v":45},null,{"$f":"O42+P42+Q42","v":53.442194303211238},5.627067316119323,null,null,{"$f":"IF(AU42<30,0,IF(AU42<50,5,IF(AU42<65,10,IF(AU42>66,15))))","v":5},{"$f":"IF(X42<499,15,IF(X42<999,10,IF(X42<1499,5,IF(X42>1500,0))))","v":5},1024.9810988969052,{"$f":"IF(DD42<500,0,IF(DD42<1000,5,IF(DD42>1000,10)))","v":0},{"$f":"IF(AA42=\"Yes\",15,0)","v":15},"Yes",{"$f":"IF(AC42=\"Yes\",10,0)","v":10},"Yes",{"$f":"IF(AE42=\"Yes\",10,0)","v":10},"Yes",5,15,15,{"$f":"IF(AJ42=\"Yes\",10,0)","v":10},"Yes",15,"Minimal",10,"Yes",0,"No",0,"No",16.471282630658063,3.1866580645161291E-2,39.767523949889998,2.1687150311144747,6.7579796151811991E-2,23.569707588,0,0,null,null,null,"Peanut Belt RPO",100,"","","","","01",100,"","","","",{"$f":"SUM(V42+W42+Y42+Z42+AB42+AD42)","v":45},70,null,null,null,null,5.627067316119323,null,"Exceeds cap of $15 million for Statewide & Regional Projects cascading to Division Needs",{"$f":"O42+BT42*0.25","v":8.4421943032112416},null,"Northampton",100,"","","","","","",1,"A","01, , ","Peanut Belt RPO, , ","Northampton, , , ",3.9211613500000002,3.9211613500000002,"Two Lane Highway","Multi-Lane Highway",1,2,"Undivided","Divided",55,55,11.2468617618159,88.753138238184107,3856.5691959999999,15500,0.24881091587096774,3422.8261897771054,433.74300622289491,19034.061700427039,2412.010042237323,21446.07174266436,493932,45.618827529999997,32.736669169999999,40.959006600000002,"","",0,1.3515959230362399E-6,"No","No",12,12,"No",2,0,"2 Lane Undivided","4A - 4 Lane Divided (46' Depressed Median) with Paved Shoulders","None","Partial",1,"Yes",26,10800000,4700000,0,15500000,"",15500000,15500000,""]
["H141650","Northampton","Peanut Belt RPO","Highway","Regional Impact","","US-258 ","Halifax County Line","Rich Square Town Limits","Currently a 2-lane major thoroughfare, it is recommended to widen to 24 feet w/ paved shoulders where necessary from Halifax County line to Rich Square town limits. Provides continuity with Halifax County CTP recommendations, which were based on recommendations in the Edgecombe County CTP.\n","16 - Modernize Roadway",701000,null,null,6.001844019965354,{"$f":"(V43+W43+Y43+Z43+AB43+AD43)","v":50},null,{"$f":"O43+P43+Q43","v":56.001844019965354},4.0012293466435693,null,null,{"$f":"IF(AU43<30,0,IF(AU43<50,5,IF(AU43<65,10,IF(AU43>66,15))))","v":0},{"$f":"IF(X43<499,15,IF(X43<999,10,IF(X43<1499,5,IF(X43>1500,0))))","v":15},45.604565057177851,{"$f":"IF(DD43<500,0,IF(DD43<1000,5,IF(DD43>1000,10)))","v":0},{"$f":"IF(AA43=\"Yes\",15,0)","v":15},"Yes",{"$f":"IF(AC43=\"Yes\",10,0)","v":10},"Yes",{"$f":"IF(AE43=\"Yes\",10,0)","v":10},"Yes",0,20,15,{"$f":"IF(AJ43=\"Yes\",10,0)","v":10},"Yes",15,"Minimal",10,"Yes",0,"No",0,"No",11.153476270105694,0,28.858817196330001,1.999890922488379,"N/A",12.61146520254281,0,0,null,null,null,"Peanut Belt RPO",100,"","","","","01",100,"04","","","",{"$f":"SUM(V43+W43+Y43+Z43+AB43+AD43)","v":50},70,null,null,null,100,29.001229346643569,null,null,{"$f":"O43+BT43*0.25","v":6.001844019965354},null,"Northampton",100,"Halifax","","","","","",1,"A","01, 04, ","Peanut Belt RPO, , ","Northampton, Halifax, , ",5.88607046,5.88607046,"Two Lane Highway","Two Lane Highway",1,1,"Undivided","Undivided",55.000040093698097,55.000040093698097,15.316236421921801,84.683763578078199,2611.4652025428099,15500.011299133101,0.16848150315147617,2211.4870180451339,399.97818449767578,0,0,0,0,29.796681070000002,26.991747960000001,29.796681070000002,"","","","","No","No",12,12,"No",4,0,"2 Lane Undivided","3A - 2 Lane with Two Way Left Turn Lane, and Paved Shoulders","None","None",1,"No",25,701000,0,0,701000,"",701000,701000,""]
["H090099-B","Gates","Albemarle RPO","Highway","Statewide Mobility","R-2507B","US-13 ","US 158 Bypass in Tarheel","SR 1202 (Eure Road/Gates School Road)","Widen to Multi-Lanes.","1 - Widen Existing Roadway",26200000,11.662716525966273,null,12.49,{"$f":"(V44+W44+Y44+Z44+AB44+AD44)","v":65},3.6,{"$f":"O44+P44+Q44","v":81.089999999999989},9.16,5.25,null,{"$f":"IF(AU44<30,0,IF(AU44<50,5,IF(AU44<65,10,IF(AU44>66,15))))","v":10},{"$f":"IF(X44<499,15,IF(X44<999,10,IF(X44<1499,5,IF(X44>1500,0))))","v":0},1700.8127716901893,{"$f":"IF(DD44<500,0,IF(DD44<1000,5,IF(DD44>1000,10)))","v":5},{"$f":"IF(AA44=\"Yes\",20,0)","v":20},"Yes",{"$f":"IF(AC44=\"Yes\",10,0)","v":10},"Yes",{"$f":"IF(AE44=\"Yes\",20,0)","v":20},"Yes",10,10,15,10,"No",{"$f":"IF(AL44=\"Minimal\",15,0)","v":15},"Minimal",10,"Yes",0,"No",0,"No",15.80258064516129,1.9666755725190839E-2,50.766884000546995,9.1677418804838702,5.8055295488545502E-2,45.1,25,0,null,null,null,"Albemarle RPO",100,"","","","","01",100,"","","","",{"$f":"SUM(V44+W44+Y44+Z44+AB44+AD44)","v":65},70,null,null,100,null,9.16,null,"Exceeds cap of $15 million for Statewide & Regional Projects cascading to Division Needs",{"$f":"O44+BT44*0.25","v":37.49},null,"Gates",100,"","","","","","",1,"A","01, , ","Albemarle RPO, , ","Gates, , , ",4.1633513100000004,4.1633513100000004,"Two Lane Highway","Multi-Lane Highway",1,2,"Undivided","Divided",55,55,17.297297,82.702703,3700,15500,0.23870967741935484,3060.0000110000001,639.99998900000003,18067.430804417563,3778.8089786008504,21846.239783018413,515269,59.821943230000002,36.671154739999999,55.822785619999998,"","",0,1.16110590977091E-6,"Yes","No",11,12,"No",2,0,"2 Lane Undivided","4A - 4 Lane Divided (46' Depressed Median) with Paved Shoulders","None","Partial",1,"Yes",37,23200000,1800000,1200000,26200000,"",26200000,26200000,""]
["H141218","Perquimans","Albemarle RPO","Highway","Division Needs","","SR-1329","SR 1331","SR 1300","Widen and repave Woodville Road Phase 2","16 - Modernize Roadway",734000,null,null,null,null,null,null,8.27,5.25,null,"N/A",null,548.01863437169857,null,null,"Yes",null,null,null,null,0,20,15,10,"No",15,"Minimal",10,"Yes",0,"No",0,"No",7.6877419354838707,0,0,0,"N/A","N/A",75,0,null,null,null,"Albemarle RPO",100,"","","","","01",100,"","","","",null,70,null,null,null,100,33.269999999999996,null,null,null,null,"Perquimans",100,"","","","","","",1,"A","01, , ","Albemarle RPO, , ","Perquimans, , , ",0.74409473000000004,0.74409473000000004,"Two Lane Highway","Two Lane Highway",1,1,"Undivided","Undivided",55,55,0,100,1800,15500,0.11612903225806452,1800,0,0,0,0,0,0,0,0,"","","","","No","No",9,12,"No",0,0,"2 Lane Undivided","3A - 2 Lane with Two Way Left Turn Lane, and Paved Shoulders","None","None",2,"No",30,734000,0,0,734000,"",734000,734000,""]
["H090099-C","Gates","Albemarle RPO","Highway","Statewide Mobility","R-2507C","US-13 ","SR 1202 (Eure Road/Gates School Road)","Virginia State Line","Widen to Multi-Lanes.","1 - Widen Existing Roadway",31000000,12.467522810856204,null,10.977776395583573,{"$f":"(V46+W46+Y46+Z46+AB46+AD46)","v":65},3.15,{"$f":"O46+P46+Q46","v":79.127776395583581},7.3178708035073292,5.25,null,{"$f":"IF(AU46<30,0,IF(AU46<50,5,IF(AU46<65,10,IF(AU46>66,15))))","v":10},{"$f":"IF(X46<499,15,IF(X46<999,10,IF(X46<1499,5,IF(X46>1500,0))))","v":0},1720.1381017321557,{"$f":"IF(DD46<500,0,IF(DD46<1000,5,IF(DD46>1000,10)))","v":5},{"$f":"IF(AA46=\"Yes\",20,0)","v":20},"Yes",{"$f":"IF(AC46=\"Yes\",10,0)","v":10},"Yes",{"$f":"IF(AE46=\"Yes\",20,0)","v":20},"Yes",10,10,15,10,"No",15,"Minimal",10,"Yes",0,"No",0,"No",16.327877726309676,1.9403806451612902E-2,56.831426502311999,9.3663279759304228,6.9301056105317504E-2,45.468977557000002,0,0,null,null,null,"Albemarle RPO",100,"","","","","01",100,"","","","",{"$f":"SUM(V46+W46+Y46+Z46+AB46+AD46)","v":65},70,null,null,100,null,7.3178708035073292,null,"Exceeds cap of $15 million for Statewide & Regional Projects cascading to Division Needs",{"$f":"O46+BT46*0.25","v":35.977776395583575},null,"Gates",100,"","","","","","",1,"A","01, , ","Albemarle RPO, , ","Gates, , , ",4.71405809,4.71405809,"Two Lane Highway","Multi-Lane Highway",1,2,"Undivided","Divided",55,55,16.741916150222998,83.258083849776995,3822.9925189999999,15500,0.24664467864516129,3182.9503170397215,640.04220196027802,21279.268908809252,4278.9326794035505,25558.201588212803,601518,71.452794549999993,31.798630360000001,67.25990573,"","",0,1.38602112210635E-6,"Yes","No",12,12,"No",0,0,"2 Lane Undivided","4A - 4 Lane Divided (46' Depressed Median) with Paved Shoulders","None","Partial",1,"Yes",37,23800000,6000000,1200000,31000000,"",31000000,31000000,""]
["F130002","Hyde","Albemarle RPO","Ferry","Division Needs",null,"Statewide: Support Vessel",null,null,"Replacement Vessel-Tug (Dare)",null,1725000,null,null,null,null,null,null,25.9,6,null,null,null,0.4157119961235074,null,null,"Yes",null,null,null,null,5,20,15,{"$f":"IF(AJ47=\"Yes\",10,0)","v":0},"No",15,"Minimal",10,"Yes",{"$f":"IF(AP47=\"Yes\",5,0)","v":0},"No",{"$f":"IF(AR47=\"Yes\",5,0)","v":0},"No",null,null,39.43,null,null,null,null,null,null,null,null,"Albemarle RPO",null,null,null,null,null,null,null,null,null,null,null,null,{"$f":"SUM(AF47+AG47+AH47+AI47++AK47+AM47+AO47+AQ47)","v":65},null,null,null,0,25.9,null,null,null,null,"Hyde",null,null,null,null,null,null,null,null,null,null,null,null,null,{"$f":"9.5*2","v":19},null,null,null,null,null,null,null,null,null,null,60391,null,null,null,null,null,null,null,null,null,null,null,null,null,null,null,null,null,null,null,null,null,null,null,null,null,null,null,null,null,null,null,null,1725000,null,477000]
["F130004",null,"Albemarle RPO","Ferry","Division Needs",null,"Statewide: Support Vessel",null,null,"Replacement Vessel-Tug  (Buxton Jr.)",null,1725000,null,null,null,null,null,null,23.4,6,null,null,null,{"$f":"(EI48/CZ48)/CO48","v":0.20079673775022244},null,null,"Yes",null,null,null,null,5,20,15,0,"No",15,"Minimal",10,"Yes",{"$f":"IF(AP48=\"Yes\",5,0)","v":0},"No",{"$f":"IF(AR48=\"Yes\",5,0)","v":0},"No",null,null,39.43,null,null,null,null,null,null,null,null,"Albemarle RPO",null,null,null,null,null,null,null,null,null,null,null,null,{"$f":"SUM(AF48+AG48+AH48+AI48++AK48+AM48+AO48+AQ48)","v":65},null,null,null,0,23.4,null,null,null,null,null,null,null,null,null,null,null,null,null,null,null,null,null,null,{"$f":"9.5*2","v":19},null,null,null,null,null,null,null,null,null,null,60391,null,null,null,null,null,null,null,null,null,null,null,null,null,null,null,null,null,null,null,null,null,null,null,null,null,null,null,null,null,null,null,null,1725000,null,230400]
["F130001","Hyde","Albemarle RPO","Ferry","Division Needs",null,"Statewide: Support Vessel",null,null,"Replacement Vessel-Tug(Albemarle)",null,5000000,null,null,null,null,null,null,19.3,6,null,null,null,1.0039836887511122,null,null,"Yes",null,null,null,null,5,20,15,0,"No",15,"Minimal",10,"Yes",{"$f":"IF(AP49=\"Yes\",5,0)","v":0},"No",{"$f":"IF(AR49=\"Yes\",5,0)","v":0},"No",null,null,39.43,null,null,null,null,null,null,null,null,"Albemarle RPO",null,null,null,null,null,null,null,null,null,null,null,null,{"$f":"SUM(AF49+AG49+AH49+AI49++AK49+AM49+AO49+AQ49)","v":65},null,null,null,0,19.3,null,null,null,null,"Hyde",null,null,null,null,null,null,null,null,null,null,null,null,null,{"$f":"9.5*2","v":19},null,null,null,null,null,null,null,null,null,null,60391,null,null,null,null,null,null,null,null,null,null,null,null,null,null,null,null,null,null,null,null,null,null,null,null,null,null,null,null,null,null,null,null,5000000,null,1152000]
["B141476","Dare","Albemarle RPO","Bike & Ped","Division Needs",null,"Kill Devil Hills Multi Use Path","Ocean Acres","Atlantic","Construct Multi-Use Path","2. Construct multi-use trail / greenway / sidepath or on-road bike lane on local roadway",356500,null,null,null,null,null,null,18.504548236546277,9.75,null,"N/A",null,7756.7101699088889,null,null,"Yes",null,null,null,null,15,0,15,10,"Yes",15,"Minimal",10,"Yes",{"$f":"IF(AP50=\"Yes\",10,0)","v":0},"No",{"$f":"IF(AR50=\"Yes\",10,0)","v":0},"No",null,null,75,null,null,null,null,null,null,null,null,"Albemarle RPO",null,null,null,null,null,null,null,null,null,null,null,null,{"$f":"SUM(AF50+AG50+AH50+AI50+AK50+AM50+AO50)","v":65},null,null,null,25,24.754548236546277,null,null,null,null,"Dare County",null,null,null,null,null,null,null,null,null,null,null,null,null,0.31,null,null,null,null,null,null,null,null,null,null,{"$f":"786*0.1","v":78.600000000000009},null,null,null,null,null,null,null,null,null,null,null,null,null,null,null,null,null,null,null,null,null,null,null,null,null,null,null,null,null,310000,0,null,356500,0,189000]
["F130005",null,"Albemarle RPO","Ferry","Division Needs",null,"Statewide: Support Vessel",null,null,"Replacement Vessel-Barge (NC-2 Fuel Barge)",null,200000,null,null,null,null,null,null,18.2,3,null,null,null,0.28609613318122518,null,null,"Yes",null,null,null,null,5,20,15,0,"No",15,"Minimal",10,"Yes",{"$f":"IF(AP51=\"Yes\",5,0)","v":0},"No",{"$f":"IF(AR51=\"Yes\",5,0)","v":0},"No",null,null,39.43,null,null,null,null,null,null,null,null,"Albemarle RPO",null,null,null,null,null,null,null,null,null,null,null,null,{"$f":"SUM(AF51+AG51+AH51+AI51++AK51+AM51+AO51+AQ51)","v":65},null,null,null,0,18.2,null,null,null,null,null,null,null,null,null,null,null,null,null,null,null,null,null,null,{"$f":"9.5*2","v":19},null,null,null,null,null,null,null,null,null,null,60391,null,null,null,null,null,null,null,null,null,null,null,null,null,null,null,null,null,null,null,null,null,null,null,null,null,null,null,null,null,null,null,null,200000,null,328275]
["B141349","Dare","Albemarle RPO","Bike & Ped","Division Needs",null,"NC 12","Gull Street","Jennettes Pier","Construct sidewalk on west side of NC 12 from Gull Street south to Jennets Pier","5. Construct Sidewalk",100000,null,null,null,null,null,null,15.642500000000002,6.75,null,"N/A",null,1461.0389610389611,null,null,"Yes",null,null,null,null,0,15,15,10,"Yes",15,"Minimal",10,"Yes",{"$f":"IF(AP52=\"Yes\",10,0)","v":0},"No",{"$f":"IF(AR52=\"Yes\",10,0)","v":0},"No",null,null,12.5,null,null,null,null,null,null,null,null,"Albemarle RPO",null,null,null,null,null,null,null,null,null,null,null,null,{"$f":"SUM(AF52+AG52+AH52+AI52+AK52+AM52+AO52)","v":65},null,null,null,25,21.892500000000002,null,null,null,null,"Dare County",null,null,null,null,null,null,null,null,null,null,null,null,null,0.3,null,null,null,null,null,null,null,null,null,null,308,null,null,null,null,null,null,null,null,null,null,null,null,null,null,null,null,null,null,null,null,null,null,null,null,null,null,null,null,null,90000,0,null,100000,0,135000]
["F130009","Hyde","Albemarle RPO","Ferry","Division Needs",null,"Statewide: Support Vessel",null,null,"Replacement Vessel-Barge (NC-1 Pipeline Barge)",null,185000,null,null,null,null,null,null,13.7,3,null,null,null,1.7255969650409739,null,null,"Yes",null,null,null,null,5,20,15,0,"No",15,"Minimal",10,"Yes",{"$f":"IF(AP53=\"Yes\",5,0)","v":0},"No",{"$f":"IF(AR53=\"Yes\",5,0)","v":0},"No",null,null,39.43,null,null,null,null,null,null,null,null,"Albemarle RPO",null,null,null,null,null,null,null,null,null,null,null,null,{"$f":"SUM(AF53+AG53+AH53+AI53++AK53+AM53+AO53+AQ53)","v":65},null,null,null,0,13.7,null,null,null,null,"Hyde",null,null,null,null,null,null,null,null,null,null,null,null,null,{"$f":"9.5*2","v":19},null,null,null,null,null,null,null,null,null,null,60391,null,null,null,null,null,null,null,null,null,null,null,null,null,null,null,null,null,null,null,null,null,null,null,null,null,null,null,null,null,null,null,null,185000,null,1980000]
["F130010","Hyde","Albemarle RPO","Ferry","Division Needs",null,"Statewide: Support Vessel",null,null,"Replacement Vessel-Barge (NC-3 Equipment Barge)",null,185000,null,null,null,null,null,null,13.7,3,null,null,null,0.5804280700592368,null,null,"Yes",null,null,null,null,5,20,15,0,"No",15,"Minimal",10,"Yes",{"$f":"IF(AP54=\"Yes\",5,0)","v":0},"No",{"$f":"IF(AR54=\"Yes\",5,0)","v":0},"No",null,null,39.43,null,null,null,null,null,null,null,null,"Albemarle RPO",null,null,null,null,null,null,null,null,null,null,null,null,{"$f":"SUM(AF54+AG54+AH54+AI54++AK54+AM54+AO54+AQ54)","v":65},null,null,null,0,13.7,null,null,null,null,"Hyde",null,null,null,null,null,null,null,null,null,null,null,null,null,{"$f":"9.5*2","v":19},null,null,null,null,null,null,null,null,null,null,60391,null,null,null,null,null,null,null,null,null,null,null,null,null,null,null,null,null,null,null,null,null,null,null,null,null,null,null,null,null,null,null,null,185000,null,666000]
["H090329","Northampton","Peanut Belt RPO","Highway","Regional Impact","U-2419","NC-48 ","Roanoke Avenue in Halifax County","NC 46 in Gaston in Northampton County","Roanoke Avenue in Halifax County to NC 46 in Gaston in Northampton County. Widen to Multi-Lanes.","1 - Widen Existing Roadway",30987000,null,null,20.72,{"$f":"(V55+W55+Y55+Z55+AB55+AD55)","v":40},null,{"$f":"O55+P55+Q55","v":60.72},17.12,null,null,{"$f":"IF(AU55<30,0,IF(AU55<50,5,IF(AU55<65,10,IF(AU55>66,15))))","v":0},{"$f":"IF(X55<499,15,IF(X55<999,10,IF(X55<1499,5,IF(X55>1500,0))))","v":0},1638.8925354054695,{"$f":"IF(DD55<500,0,IF(DD55<1000,5,IF(DD55>1000,10)))","v":5},{"$f":"IF(AA55=\"Yes\",15,0)","v":15},"Yes",{"$f":"IF(AC55=\"Yes\",10,0)","v":10},"Yes",{"$f":"IF(AE55=\"Yes\",10,0)","v":10},"Yes",0,{"$f":"IF(BM53<999,20,IF(BM53<1499,15,IF(BM53<1999,10,IF(BM53<3999,5,IF(BM53>4000,0)))))","v":20},15,10,"Yes",15,"Minimal",10,"Yes",{"$f":"IF(AP55=\"Yes\",10,0)","v":0},"No",{"$f":"IF(AR55=\"Yes\",10,0)","v":0},"No",46.280282747314516,0.8176696033820634,24.093813457691997,4.1616023981484593,"N/A",19.025870580000003,0,100,null,null,null,"Peanut Belt RPO",100,"","","","","01",79.88,"04",20.12,"","",{"$f":"SUM(V55+W55+Y55+Z55+AB55+AD55)","v":40},{"$f":"SUM(AF55+AG55+AH55+AI55+AK55+AM55+AO55+AQ55)","v":70},null,null,100,null,17.12,null,"Exceeds cap of $15 million for Statewide & Regional Projects cascading to Division Needs",{"$f":"O55+BT55*0.25","v":45.72},null,"Northampton",79.88,"Halifax",20.12,"","","","",1,"A","01, 04, ","Peanut Belt RPO, , ","Northampton, Halifax, , ",1.71481062,1.71481062,"Arterial","Arterial",1,2,"Undivided","Divided",43,45,7.5487960210548,92.451203978945202,11025.870580000001,15800.17362,0.69783224192190874,10193.550100370308,832.32047962969182,1032268.9976535406,84286.496733129708,1116555.4943866702,25337128,16.88552645,55.403142789999997,0,"","","","","No","No",12,12,"No",0,4,"2 Lane Undivided","4C - 4 Lane Divided (23' Raised Median) with Curb & Gutter, Wide Outside Lanes, and Sidewalks","None","Partial",1,"No",24,29754000,1101000,132000,30987000,"",30987000,30987000,""]
["H090285","Perquimans","Albemarle RPO","Highway","Statewide Mobility","R-4458","US-17 ","SR 1300 (New Hope Road)","","Convert at-Grade intersection to An interchange","7 - Upgrade At-grade Intersection to Interchange or Grade Separation",12906000,11.908335891675366,null,12.64,{"$f":"(V56+W56+Y56+Z56+AB56+AD56)","v":65},4.95,{"$f":"O56+P56+Q56","v":82.59},9.24,7.5,null,{"$f":"IF(AU56<30,0,IF(AU56<50,5,IF(AU56<65,10,IF(AU56>66,15))))","v":10},{"$f":"IF(X56<499,15,IF(X56<999,10,IF(X56<1499,5,IF(X56>1500,0))))","v":15},407.68760462512967,{"$f":"IF(DD56<500,0,IF(DD56<1000,5,IF(DD56>1000,10)))","v":10},{"$f":"IF(AA56=\"Yes\",20,0)","v":20},"Yes",10,"Yes",{"$f":"IF(AE56=\"Yes\",20,0)","v":0},"no",10,{"$f":"IF(BM54<999,20,IF(BM54<1499,15,IF(BM54<1999,10,IF(BM54<3999,5,IF(BM54>4000,0)))))","v":20},15,0,"No",{"$f":"IF(AL56=\"Minimal\",15,0)","v":15},"Minimal",10,"Yes",{"$f":"IF(AP56=\"Yes\",10,0)","v":0},"No",0,"No",16.727256327764458,0.67404679993801331,50,7.7049196029202633,1.46961032780572,63.408788800000011,0,25,null,null,null,"Albemarle RPO",100,"","","","","01",100,"","","","",{"$f":"SUM(V56+W56+Y56+Z56+AB56+AD56)","v":65},70,null,null,null,null,9.24,null,"Delay Prioritization pending outcome of Future Interstate Designation; Need to coordinate this project with SPOT ID#H141929",{"$f":"O56+BT56*0.25","v":12.64},"County Does not support project","Perquimans",100,"","","","","","",1,"A","01, , ","Albemarle RPO, , ","Perquimans, , , ",2,2,"Multi-Lane Highway","Freeway",2,2,"Divided","Divided",55,55,9.7356275119906002,90.2643724880094,15828.2958,91352.771370000002,0.17326563346274099,14287.311879415947,1540.9839205840526,343004.6154544357,36995.38454556428,380000,8699248,"","","",0,100,6,2.3392206556114398E-5,"no","No",12,12,"No",3,4,"2 Lane Undivided","","None","Full",2,"Yes",30.6,10716000,2190000,0,12906000,"",12906000,12906000,""]
["H090284","Dare","Albemarle RPO","Highway","Statewide Mobility","R-4457","US-158 ","NC 12","","Improve intersection ","7 - Upgrade At-grade Intersection to Interchange or Grade Separation",23870000,25.088572426440816,null,23.24,{"$f":"(V57+W57+Y57+Z57+AB57+AD57)","v":55},6.3,{"$f":"O57+P57+Q57","v":84.539999999999992},17.98,9,null,{"$f":"IF(AU57<30,0,IF(AU57<50,5,IF(AU57<65,10,IF(AU57>66,15))))","v":10},{"$f":"IF(X57<499,15,IF(X57<999,10,IF(X57<1499,5,IF(X57>1500,0))))","v":5},1254.6033770323088,{"$f":"IF(DD57<500,0,IF(DD57<1000,5,IF(DD57>1000,10)))","v":10},{"$f":"IF(AA57=\"Yes\",20,0)","v":20},"Yes",10,"Yes",{"$f":"IF(AE57=\"Yes\",20,0)","v":0},"No",10,{"$f":"IF(BM55<999,20,IF(BM55<1499,15,IF(BM55<1999,10,IF(BM55<3999,5,IF(BM55>4000,0)))))","v":20},15,0,"No",15,"Minimal",10,"Yes",{"$f":"IF(AP57=\"Yes\",10,0)","v":0},"No",0,"No",54.50533413736671,0.3082017176372015,50,17.576238950973607,1.2926387974492148,100,0,75,null,null,null,"Albemarle RPO",100,"","","","","01",100,"","","","",{"$f":"SUM(V57+W57+Y57+Z57+AB57+AD57)","v":55},70,null,null,null,null,17.98,null,null,{"$f":"O57+BT57*0.25","v":23.24},null,"Dare",100,"","","","","","",1,"A","01, , ","Albemarle RPO, , ","Dare, , , ",0.5,0.5,"Arterial","Arterial",2,2,"TWLTL","Divided",50.0000000000014,50.0000000000014,9.2380430429066998,90.761956957093304,38051.866329999997,58117.244420000003,0.6547431267561119,34536.618539805277,3515.2477901947218,292253.50140184048,29746.498598159575,322000.00000000006,7356775,"","","",66.7,33.299999999999997,5,2.0852775948984299E-5,"No","No",12,12,"No",1,4,"4 Lane with TWLTL (Five Lane)","","None","Partial",2,"Yes",18.899999992478101,19250000,4620000,0,23870000,"",23870000,23870000,""]
["A130008","Pasquotank","Albemarle RPO","Aviation","Division Needs",null,"Elizabeth City Coast Guard Air Station/Regional",null,null,"Land Acquisition-Apron Construction",null,1800000,null,null,null,null,null,null,8.59,13.5,null,"N/A",null,1588.4154391156831,null,null,"Yes",0,null,{"$f":"IF(AE58=\"Yes\",10,0)","v":0},null,0,{"$f":"IF(X58<999,20,IF(X58<1499,15,IF(X58<1999,10,IF(X58<3999,5,IF(X58>4000,0)))))","v":10},15,10,"Yes",15,"Minimal",10,"Yes",{"$f":"IF(AP58=\"Yes\",5,0)","v":5},"Yes",0,"No",null,null,null,null,null,null,null,null,null,null,null,"Albemarle RPO",null,null,null,null,null,null,null,null,null,null,null,null,65,null,null,null,null,null,null,null,null,null,"Pasquotank",null,null,null,null,null,null,null,null,null,null,null,null,null,0.86,null,null,null,null,null,null,null,null,null,null,164.71,null,null,null,null,null,null,null,null,null,null,null,null,null,null,null,null,null,null,null,null,null,null,null,null,null,null,null,null,null,null,null,null,2000000,null,225000]
["A130007","Pasquotank","Albemarle RPO","Aviation","Division Needs",null,"Elizabeth City Coast Guard Air Station/Regional",null,null,"Permitting/mitigation/preliminary",null,247500,null,null,null,null,null,null,7.89,13.5,null,"N/A",null,1747.2569830272516,null,null,"Yes",0,null,{"$f":"IF(AE59=\"Yes\",10,0)","v":0},null,0,{"$f":"IF(X59<999,20,IF(X59<1499,15,IF(X59<1999,10,IF(X59<3999,5,IF(X59>4000,0)))))","v":10},15,10,"Yes",15,"Minimal",10,"Yes",{"$f":"IF(AP59=\"Yes\",5,0)","v":5},"Yes",0,"No",null,null,null,null,null,null,null,null,null,null,null,"Albemarle RPO",null,null,null,null,null,null,null,null,null,null,null,null,65,null,null,null,null,null,null,null,null,null,"Pasquotank",null,null,null,null,null,null,null,null,null,null,null,null,null,0.86,null,null,null,null,null,null,null,null,null,null,164.71,null,null,null,null,null,null,null,null,null,null,null,null,null,null,null,null,null,null,null,null,null,null,null,null,null,null,null,null,null,null,null,null,275000,null,247500]
["A130036","Currituck","Albemarle RPO","Aviation","Division Needs",null,"Currituck County Regional",null,null,"Acquire Equipment Shelter",null,135000,null,null,null,null,null,null,5.56,15,null,"N/A",null,1895.2794905488729,null,null,"Yes",0,null,{"$f":"IF(AE60=\"Yes\",10,0)","v":0},null,0,{"$f":"IF(X60<999,20,IF(X60<1499,15,IF(X60<1999,10,IF(X60<3999,5,IF(X60>4000,0)))))","v":10},15,10,"Yes",15,"Minimal",10,"Yes",{"$f":"IF(AP60=\"Yes\",5,0)","v":5},"Yes",0,"No",null,null,null,null,null,null,null,null,null,null,null,"Albemarle RPO",null,null,null,null,null,null,null,null,null,null,null,null,65,null,null,null,null,null,null,null,null,null,"Currituck",null,null,null,null,null,null,null,null,null,null,null,null,null,1.04,null,null,null,null,null,null,null,null,null,null,68.489999999999995,null,null,null,null,null,null,null,null,null,null,null,null,null,null,null,null,null,null,null,null,null,null,null,null,null,null,null,null,null,null,null,null,150000,null,135000]
["H090230","Dare","Albemarle RPO","Highway","Statewide Mobility","R-3419","US-158 ","US 64-NC 12","Eastern End of Currituck Sound Bridge","Add Additional Lanes.","1 - Widen Existing Roadway",85428000,33.826595565109983,null,22.42,{"$f":"(V61+W61+Y61+Z61+AB61+AD61)","v":90},6.3,{"$f":"O61+P61+Q61","v":118.72},15.67,6.75,null,{"$f":"IF(AU61<30,0,IF(AU61<50,5,IF(AU61<65,10,IF(AU61>66,15))))","v":15},{"$f":"IF(X61<499,15,IF(X61<999,10,IF(X61<1499,5,IF(X61>1500,0))))","v":15},183.5913006327666,{"$f":"IF(DD61<500,0,IF(DD61<1000,5,IF(DD61>1000,10)))","v":10},{"$f":"IF(AA61=\"Yes\",20,0)","v":20},"Yes",10,"Yes",{"$f":"IF(AE61=\"Yes\",20,0)","v":20},"Yes",15,{"$f":"IF(BM59<999,20,IF(BM59<1499,15,IF(BM59<1999,10,IF(BM59<3999,5,IF(BM59>4000,0)))))","v":20},15,10,"No",15,"Minimal",10,"Yes",{"$f":"IF(AP61=\"Yes\",10,0)","v":0},"No",0,"No",61.663206108983005,3.1984238540057124,66.848834021375993,12.296076997726795,52.240077745304099,17.929986580000001,0,25,null,null,null,"Albemarle RPO",100,"","","","","01",100,"","","","",{"$f":"SUM(V61+W61+Y61+Z61+AB61+AD61)","v":90},85,null,null,100,null,{"$f":"S61+BU61*0.25","v":15.67},null,"Exceeds cap of $15 million for Statewide & Regional Projects cascading to Division Needs",{"$f":"O61+BT61*0.25","v":47.42},null,"Dare",100,"","","","","","",1,"A","01, , ","Albemarle RPO, , ","Dare, , , ",17.3012275,17.3012275,"Arterial","Arterial",2,3,"TWLTL","Divided",50,45,9.1437711105651012,90.856228889434902,26894.979869999999,31700.06882,0.8484202360163835,24435.76447045464,2459.2153995453591,10869853.540386515,1093942.0884352552,11963795.62882177,273234953,66.845883279999995,76.036630419999995,57.684045019999999,"","",200,8.4480155490608197E-4,"No","No",12,12,"No",3,4,"4 Lane with TWLTL (Five Lane)","6E - 6 Lane Divided (23' Raised Median) with Curb & Gutter, Wide Outside Lanes, and Sidewalks","None","Partial",2,"No",18,56202000,26095000,3131000,85428000,"",85428000,85428000,""]
["H141869","Chowan","Albemarle RPO","Highway","Statewide Mobility","","US-17-BYP-Edenton Bypass","South end of Chowan River Bridge","US 17 Business (North) in Edenton (Broad Street)","Upgrade freeway to interstate standards","17 - Upgrade Freeway to Interstate Standards",39943000,8.7484760417394707,null,13.199578131959568,75,4.95,93.149578131959572,10.466385421306379,7.5,null,5,10,527.48148407603003,10,{"$f":"IF(AA62=\"Yes\",20,0)","v":20},"Yes",10,"Yes",{"$f":"IF(AE62=\"Yes\",20,0)","v":20},"Yes",5,{"$f":"IF(X62<999,20,IF(X62<1499,15,IF(X62<1999,10,IF(X62<3999,5,IF(X62>4000,0)))))","v":20},15,{"$f":"IF(AJ62=\"Yes\",10,0)","v":0},"No",15,"Minimal",10,"Yes",0,"No",0,"No",10.143372066527785,0,44.520482146535997,5.8742929410305047,0.78557618921433359,18.241940617180788,25,25,null,null,null,"Albemarle RPO",90.31,"Peanut Belt RPO",9.69,"","","01",100,"","","","",75,65,null,null,100,null,10.466385421306379,null,"Delay Prioritization pending outcome of Future Interstate Designation; Exceeds cap of $15 million for Statewide & Regional Projects cascading to Division Needs",38.199578131959569,null,"Chowan",90.31,"Bertie",9.69,"","","","",1,"A","01, , ","Albemarle RPO, Peanut Belt RPO, ","Chowan, Bertie, , ",9.1876402099999996,9.1876402099999996,"Freeway","Freeway",2,2,"Divided","Divided",58.657857951946099,58.657857951946099,14.2546354405544,85.745364559445605,8241.9406171807896,72228.075098455607,0.11410993032759113,7067.0820289746889,1174.8585882061009,0,0,0,0,49.239147449999997,33.660043209999998,50.675613259999999,"","",3.5297729597742702,1.21817508245124E-5,"No","No",11,12,"No",3,4,"4 Lane with Median - Full Control","","Full","Full",1,"No",25,39943000,0,0,39943000,"",39943000,39943000,""]
["H111225","Currituck","Albemarle RPO","Highway","Statewide Mobility","","US-158 ","Proposed Mid Currituck Bridge","Dare County Line","Upgrade the Existing 5-Lane Boulevard to a 4-Lane Divided Boulevard fromtheproposed Mid-Currituck Bridge to the Dare County Line.","11 - Access Management",130843000,11.16234915458393,null,12.45,80,6.3,98.75,9.1300000000000008,9,null,5,15,484.12802715559553,10,{"$f":"IF(AA63=\"Yes\",20,0)","v":20},"Yes",10,"Yes",{"$f":"IF(AE63=\"Yes\",20,0)","v":20},"Yes",5,20,15,{"$f":"IF(AJ63=\"Yes\",10,0)","v":0},"No",15,"Minimal",10,"Yes",0,"No",0,"No",16.869019924360721,0,49.446054653357997,5.7851885596995665,0,19.311718553333336,0,25,null,null,null,"Albemarle RPO",100,"","","","","01",100,"","","","",80,65,null,null,0,null,9.1300000000000008,null,"Exceeds cap of $15 million for Statewide & Regional Projects cascading to Division Needs",12.45,null,"Currituck",100,"","","","","","",1,"A","01, , ","Albemarle RPO, , ","Currituck, , , ",19.349474180000001,19.349474180000001,"Multi-Lane Highway","Multi-Lane Highway",2,2,"TWLTL","Divided",55,55,8.2837391423356994,91.716260857664295,13967.57783,74282.529899999994,0.18803314653934533,12810.540118060086,1157.0377119399134,0,0,0,0,46.775181750000002,60.689393699999997,40.888423809999999,"","",0,0,"No","No",12,12,"No",3,4,"4 Lane with TWLTL (Five Lane)","4E - 4 Lane Divided (17'-6\"' Raised Median) with Paved Shoulders and Sidewalks","None","None",2,"No",25,125286000,4962000,595000,130843000,"",130843000,130843000,""]
["H111227","Currituck","Albemarle RPO","Highway","Statewide Mobility","","NC-168 ","Virginia Line","US 158","Upgrade the Existing 5-Lane Major Thoroughfare to a 4-Lane Divided Boulevardfrom the Virginia Line to US 158","11 - Access Management",122633000,9.259530084621499,null,10.46,70,6.3,86.76,7.81,9,null,5,10,512.62152970794932,5,{"$f":"IF(AA64=\"Yes\",20,0)","v":20},"Yes",10,"Yes",{"$f":"IF(AE64=\"Yes\",20,0)","v":20},"Yes",5,20,15,{"$f":"IF(AJ64=\"Yes\",10,0)","v":0},"No",15,"Minimal",10,"Yes",0,"No",0,"No",15.564629295984382,0,37.494202474773004,4.2036052417444214,0,36.707706353333336,0,25,null,null,null,"Albemarle RPO",100,"","","","","01",100,"","","","",70,65,null,null,null,null,7.81,null,"Exceeds cap of $15 million for Statewide & Regional Projects cascading to Division Needs",10.46,null,"Currituck",100,"","","","","","",1,"A","01, , ","Albemarle RPO, , ","Currituck, , , ",18.31536071,18.31536071,"Multi-Lane Highway","Multi-Lane Highway",2,2,"TWLTL","Divided",55,55,6.4366054177367005,93.5633945822633,13061.55953,75792.37487,0.17233342473307303,12220.838481651117,840.72104834888432,0,0,0,0,39.915379160000001,42.339522950000003,30.238954700000001,"","",0,0,"No","No",12,12,"No",3,4,"4 Lane with TWLTL (Five Lane)","4E - 4 Lane Divided (17'-6\"' Raised Median) with Paved Shoulders and Sidewalks","None","None",2,"No",34,120156000,2212000,265000,122633000,"",122633000,122633000,""]
["H090286","Perquimans","Albemarle RPO","Highway","Statewide Mobility","R-4459","US-17 ","SR 1336 (Harvey Point Road) and SR 1338 (Wayne Fork Road)","","Convert at-Grade intersection to An interchange","7 - Upgrade At-grade Intersection to Interchange or Grade Separation",17124000,11.326621906015168,null,10.49,60,4.95,75.44,7.79,7.5,null,5,15,485.15757135953902,10,{"$f":"IF(AA65=\"Yes\",20,0)","v":20},"Yes",10,"Yes",{"$f":"IF(AE65=\"Yes\",20,0)","v":0},"no",5,20,15,{"$f":"IF(AJ65=\"Yes\",10,0)","v":0},"No",15,"Minimal",10,"Yes",0,"No",0,"No",18.637613344626359,0.98769090165849105,33.299999999999997,9.1293282844147789,2.8316497524675701,58.660999040000007,0,25,null,null,null,"Albemarle RPO",100,"","","","","01",100,"","","","",60,65,null,null,null,null,7.79,null,"Exceeds cap of $15 million for Statewide & Regional Projects cascading to Division Needs",10.49,null,"Perquimans",100,"","","","","","",1,"A","01, , ","Albemarle RPO, , ","Perquimans, , , ",2,2,"Multi-Lane Highway","Freeway",2,2,"Divided","Divided",55,55,10.346093759894,89.653906240105997,17647.874640000002,91451.899420000002,0.19297439147710599,15822.008983117046,1825.8656568829558,660749.28898958117,76250.711010418774,737000,16913219,"","","",33.299999999999997,33.299999999999997,12,4.4632995049351403E-5,"No","No",12,12,"No",3,4,"2 Lane Undivided","","Limited","Full",2,"Yes",25.8,14934000,2190000,0,17124000,"",17124000,17124000,""]
["H090149-A","Northampton","Peanut Belt RPO","Highway","Statewide Mobility","R-2584A","US-158 ","SR 1333 (Mt. Caramel Road-Severn Road) East of Jackson","East of SR 1500","Widen to Multi-Lanes, Part on New  Location.","1 - Widen Existing Roadway",35400000,6.7665917857530138,null,6.1953666496314517,40,null,46.195366649631453,4.1302444330876344,null,null,0,5,1494.0486221150661,0,{"$f":"IF(AA66=\"Yes\",15,0)","v":15},"Yes",10,"Yes",{"$f":"IF(AE66=\"Yes\",10,0)","v":10},"Yes",0,15,15,10,"Yes",15,"Minimal",10,"Yes",0,"No",0,"No",11.375504147527343,0,29.926940183349,1.8062326157995514,0,19.990346666999997,0,0,null,null,null,"Peanut Belt RPO",100,"","","","","01",100,"","","","",40,65,null,null,null,null,4.1302444330876344,null,"Exceeds cap of $15 million for Statewide & Regional Projects cascading to Division Needs",6.1953666496314517,null,"Northampton",100,"","","","","","",1,"A","01, , ","Peanut Belt RPO, , ","Northampton, , , ",8.8959874899999996,8.8959874899999996,"Two Lane Highway","Multi-Lane Highway",1,2,"Undivided","Divided",55,55,13.563110771595898,86.436889228404098,2663.4488889999998,15500.00021,0.17183540986545573,2302.2023658400894,361.24652315991028,0,0,0,0,31.488997040000001,30.542237579999998,27.75856491,"","",0,0,"No","No",12,12,"No",2,0,"2 Lane Undivided","4A - 4 Lane Divided (46' Depressed Median) with Paved Shoulders","None","Partial",1,"Yes",26,31300000,4100000,0,35400000,"",35400000,35400000,""]
["B141773","Dare","Albemarle RPO","Bike & Ped","Division Needs",null,"NC 12 Duck","1174 Duck Road","Cook Drive","Construct Sidewalk on West side of NC 12","2. Construct multi-use trail / greenway / sidepath or on-road bike lane on local roadway",303600,null,null,null,null,null,null,20.72,13.5,null,"N/A",null,14426.229508196724,null,null,"Yes",null,null,null,null,10,0,15,{"$f":"IF(AJ67=\"Yes\",10,0)","v":10},"Yes",{"$f":"IF(AL67=\"Minimal\",15,0)","v":15},"Minimal",10,"Yes",0,"No",0,"No",null,null,62.5,null,null,null,null,null,null,null,null,"Albemarle RPO",null,null,null,null,null,null,null,null,null,null,null,null,{"$f":"SUM(AF67+AG67+AH67+AI67+AK67+AM67+AO67)","v":60},null,null,null,null,20.72,null,null,null,null,"Dare County",null,null,null,null,null,null,null,null,null,null,null,null,null,0.69,null,null,null,null,null,null,null,null,null,null,{"$f":"305*0.1","v":30.5},null,null,null,null,null,null,null,null,null,null,null,null,null,null,null,null,null,null,null,null,null,null,null,null,null,null,null,null,null,385000,0,null,442000,138400,303600]
["B141770","Dare","Albemarle RPO","Bike & Ped","Division Needs",null,"NC 12 Duck","Four Seasons Lane","Cook Drive","Connect share path and construct sidewalk","5. Construct Sidewalk",286000,null,null,null,null,null,null,19.84,13.5,null,"N/A",null,9712.7677237257158,null,null,"Yes",null,null,null,null,10,0,15,10,"Yes",15,"Minimal",10,"Yes",0,"No",0,"No",null,null,62.5,null,null,null,null,null,null,null,null,"Albemarle RPO",null,null,null,null,null,null,null,null,null,null,null,null,60,null,null,null,null,19.84,null,null,null,null,"Dare County",null,null,null,null,null,null,null,null,null,null,null,null,null,2.4700000000000002,null,null,null,null,null,null,null,null,null,null,{"$f":"317*0.1","v":31.700000000000003},null,null,null,null,null,null,null,null,null,null,null,null,null,null,null,null,null,null,null,null,null,null,null,null,null,null,null,null,null,365000,0,null,420000,134000,760500]
["B141788","Camden","Albemarle RPO","Bike & Ped","Division Needs",null,"SR 1216","US 17","End Pavement","Construct Sidewalks","5. Construct Sidewalk",200000,null,null,null,null,null,null,19.2234926866,8.25,null,"N/A",null,18705.574261129816,null,null,"Yes",null,null,null,null,10,0,15,10,"Yes",15,"Minimal",10,"Yes",0,"No",0,"No",null,null,50,null,null,null,null,null,null,null,null,"Albemarle RPO",null,null,null,null,null,null,null,null,null,null,null,null,60,null,null,null,null,19.2234926866,null,null,null,null,"Camden County",null,null,null,null,null,null,null,null,null,null,null,null,null,0.33,null,null,null,null,null,null,null,null,null,null,{"$f":"324*0.1","v":32.4},null,null,null,null,null,null,null,null,null,null,null,null,null,null,null,null,null,null,null,null,null,null,null,null,null,null,null,null,null,170000,0,null,200000,0,200000]
["B141479","Dare","Albemarle RPO","Bike & Ped","Division Needs",null,"Kill Devil Hills Multi Use Path","Eighth Street","Ocean Acres","Construct Multi use path","2. Construct multi-use trail / greenway / sidepath or on-road bike lane on local roadway",414000,null,null,null,null,null,null,15.233988893053294,9.75,null,"N/A",null,16290.726817042605,null,null,"Yes",null,null,null,null,10,0,15,10,"Yes",15,"Minimal",10,"Yes",0,"No",0,"No",null,null,55,null,null,null,null,null,null,null,null,"Albemarle RPO",null,null,null,null,null,null,null,null,null,null,null,null,60,null,null,null,null,15.233988893053294,null,null,null,null,"Dare County",null,null,null,null,null,null,null,null,null,null,null,null,null,0.36,null,null,null,null,null,null,null,null,null,null,{"$f":"798*0.1","v":79.800000000000011},null,null,null,null,null,null,null,null,null,null,null,null,null,null,null,null,null,null,null,null,null,null,null,null,null,null,null,null,null,360000,0,null,414000,0,468000]
["B141368","Dare","Albemarle RPO","Bike & Ped","Division Needs",null,"US 158","Worthington Lane","Jejac Street","Construct approximately 8200' of sidewalk on the west side of US 158","5. Construct Sidewalk",405375,null,null,null,null,null,null,14.980262092711737,9.75,null,"N/A",null,2732.7935222672068,null,null,"Yes",null,null,null,null,5,5,15,10,"Yes",15,"Minimal",10,"Yes",0,"No",0,"No",null,null,42.5,null,null,null,null,null,null,null,null,"Albemarle RPO",null,null,null,null,null,null,null,null,null,null,null,null,60,null,null,null,null,14.980262092711737,null,null,null,null,"Dare County",null,null,null,null,null,null,null,null,null,null,null,null,null,3.12,null,null,null,null,null,null,null,null,null,null,{"$f":"950*0.1","v":95},null,null,null,null,null,null,null,null,null,null,null,null,null,null,null,null,null,null,null,null,null,null,null,null,null,null,null,null,null,385375,0,null,405375,0,810000]
["B141956","Camden","Albemarle RPO","Bike & Ped","Division Needs",null,"Dismal Swamp Trail","McPherson Road",null,"Construct a 10' wide trail running between US 17 and the historic Dismal Swamp. (Phase 1)","2. Construct multi-use trail / greenway / sidepath or on-road bike lane on local roadway",400000,null,null,null,null,null,null,14.580441313826976,7.5,null,"N/A",null,94562.647754137128,null,null,"Yes",null,null,null,null,10,0,15,10,"Yes",15,"Minimal",10,"Yes",0,"No",0,"No",null,null,50,null,null,null,null,null,null,null,null,"Albemarle RPO",null,null,null,null,null,null,null,null,null,null,null,null,60,null,null,null,null,14.580441313826976,null,null,null,null,"Camden County",null,null,null,null,null,null,null,null,null,null,null,null,null,0.47,null,null,null,null,null,null,null,null,null,null,{"$f":"90*0.1","v":9},null,null,null,null,null,null,null,null,null,null,null,null,null,null,null,null,null,null,null,null,null,null,null,null,null,null,null,null,null,380000,0,null,400000,0,400000]
["B141965","Camden","Albemarle RPO","Bike & Ped","Division Needs",null,"Dismal Swamp Trail",null,null,"Construct a 10' wide trail running between US 17 and the historic Dismal Swamp (Phase 2)","2. Construct multi-use trail / greenway / sidepath or on-road bike lane on local roadway",400000,null,null,null,null,null,null,14.551587373051026,7.5,null,"N/A",null,120809.42313500452,null,null,"Yes",null,null,null,null,{"$f":"IF(AU73<30,0,IF(AU73<50,5,IF(AU73<65,10,IF(AU73<79,15,IF(AU73>80,20)))))","v":10},0,{"$f":"IF(AA73=\"Yes\",15,0)","v":15},10,"Yes",15,"Minimal",{"$f":"IF(AN73=\"Yes\",10,0)","v":10},"Yes",0,"No",0,"No",null,null,50,null,null,null,null,null,null,null,null,"Albemarle RPO",null,null,null,null,null,null,null,null,null,null,null,null,60,null,null,null,null,14.551587373051026,null,null,null,null,"Camden County",null,null,null,null,null,null,null,null,null,null,null,null,null,0.43,null,null,null,null,null,null,null,null,null,null,{"$f":"77*0.1","v":7.7},null,null,null,null,null,null,null,null,null,null,null,null,null,null,null,null,null,null,null,null,null,null,null,null,null,null,null,null,null,380000,0,null,400000,0,400000]
["H090146","Pasquotank","Albemarle RPO","Highway","Statewide Mobility","R-2579","US-158 ","NC 32 in Sunbury in Gates County","US 17 at Morgan's County in Pasquotank County","Widen to Multi-Lanes.","1 - Widen Existing Roadway",116900000,10.169185073380103,null,9.8457510643364152,{"$f":"(V74+W74+Y74+Z74+AB74+AD74)","v":55},3.6,{"$f":"O74+P74+Q74","v":68.445751064336406},6.5632928241854991,5.25,null,{"$f":"IF(AU74<30,0,IF(AU74<50,5,IF(AU74<65,10,IF(AU74>66,15))))","v":5},{"$f":"IF(X74<499,15,IF(X74<999,10,IF(X74<1499,5,IF(X74>1500,0))))","v":0},1998.9636506206675,{"$f":"IF(DD74<500,0,IF(DD74<1000,5,IF(DD74>1000,10)))","v":0},{"$f":"IF(AA74=\"Yes\",20,0)","v":20},"Yes",{"$f":"IF(AC74=\"Yes\",10,0)","v":10},"Yes",{"$f":"IF(AE74=\"Yes\",20,0)","v":20},"Yes",5,10,15,10,"No",15,"Minimal",10,"Yes",0,"No",0,"No",16.037487030331597,1.6236561163387512E-2,49.579204650359998,1.8147225661842494,0.32203017658757549,44.018879968,0,0,null,null,null,"Albemarle RPO",100,"","","","","01",100,"","","","",{"$f":"SUM(V74+W74+Y74+Z74+AB74+AD74)","v":55},{"$f":"SUM(AF74+AG74+AH74+AI74+AK74+AM74+AO74+AQ74)","v":65},null,null,null,null,6.5632928241854991,null,"Exceeds cap of $15 million for Statewide & Regional Projects cascading to Division Needs",{"$f":"O74+BT74*0.25","v":9.8457510643364152},null,"Pasquotank",50.79,"Gates",49.21,"","","","",1,"A","01, , ","Albemarle RPO, , ","Pasquotank, Gates, , ",15.565360119999999,15.565360119999999,"Two Lane Highway","Multi-Lane Highway",1,2,"Undivided","Divided",55,55,9.6602817719101992,90.339718228089794,3757.079988,15509.470209999999,0.24224425058552662,3394.1354747631499,362.9445132368499,74923.879907980401,8011.8225466282393,82935.702454608647,1898054,55.621653420000001,44.958995770000001,48.171840009999997,"","",1,5.4406035317515099E-6,"No","No",12,12,"No",1,0,"2 Lane Undivided","4A - 4 Lane Divided (46' Depressed Median) with Paved Shoulders","None","Partial",2,"Yes",37,91500000,20000000,5400000,116900000,"",116900000,116900000,""]
["B141867","Chowan","Albemarle RPO","Bike & Ped","Division Needs",null,";;",";;",";;","Connect path where existing sidewalk stops near Twiddy Ave. and extend towards Pembroke to the west side of town, connecting  residential subdivisions and over the US 17 bypass overpass, terminating at the new Chowan River fishing pier. (Phase 1)","2. Construct multi-use trail / greenway / sidepath or on-road bike lane on local roadway",400000,null,null,null,null,null,null,9.2594271087650011,3.75,null,"N/A",null,1871.3051080641271,null,null,"Yes",null,null,null,null,0,10,15,{"$f":"IF(AJ75=\"Yes\",10,0)","v":10},"Yes",15,"Minimal",10,"Yes",0,"No",0,"No",null,null,12.5,null,null,null,null,null,null,null,null,"Albemarle RPO",null,null,null,null,null,null,null,null,null,null,null,null,{"$f":"SUM(AF75+AG75+AH75+AI75+AK75+AM75+AO75)","v":60},null,null,null,null,9.2594271087650011,null,null,null,null,"Chowan County",null,null,null,null,null,null,null,null,null,null,null,null,null,0.96,null,null,null,null,null,null,null,null,null,null,{"$f":"2226.61*0.1","v":222.66100000000003},null,null,null,null,null,null,null,null,null,null,null,null,null,null,null,null,null,null,null,null,null,null,null,null,null,null,null,null,null,380000,0,null,400000,0,400000]
["H129070-AA","Tyrrell","Albemarle RPO","Highway","Statewide Mobility","R-2545AA","US-64 ","East of Columbia","West of SR 1229 (Old US 64) at Alligator River","Widen to Multi-Lanes.","1 - Widen Existing Roadway",20780000,5.3659988106159062,null,2.4071891913157408,{"$f":"(V76+W76+Y76+Z76+AB76+AD76)","v":55},6.3,{"$f":"O76+P76+Q76","v":63.707189191315734},1.6040208211594833,9,null,{"$f":"IF(AU76<30,0,IF(AU76<50,5,IF(AU76<65,10,IF(AU76>66,15))))","v":0},{"$f":"IF(X76<499,15,IF(X76<999,10,IF(X76<1499,5,IF(X76>1500,0))))","v":5},1402.7886202635034,{"$f":"IF(DD76<500,0,IF(DD76<1000,5,IF(DD76>1000,10)))","v":0},{"$f":"IF(AA76=\"Yes\",20,0)","v":20},"Yes",{"$f":"IF(AC76=\"Yes\",10,0)","v":10},"Yes",{"$f":"IF(AE76=\"Yes\",20,0)","v":20},"Yes",0,15,15,10,"No",15,"Minimal",10,"Yes",0,"No",0,"No",16.017049020064515,2.3159191530317612E-2,0,1.8563572953123741,1.8266488807498149,31.250646215000003,0,0,null,null,null,"Albemarle RPO",100,"","","","","01",100,"","","","",{"$f":"SUM(V76+W76+Y76+Z76+AB76+AD76)","v":55},{"$f":"SUM(AF76+AG76+AH76+AI76+AK76+AM76+AO76+AQ76)","v":65},null,null,null,null,1.6040208211594833,null,"Exceeds cap of $15 million for Statewide & Regional Projects cascading to Division Needs",{"$f":"O76+BT76*0.25","v":2.4071891913157408},null,"Tyrrell",100,"","","","","","",1,"A","01, , ","Albemarle RPO, , ","Tyrrell, , , ",3.95,3.95,"Two Lane Highway","Multi-Lane Highway",1,2,"Undivided","Divided",55,55,9.9000035722608004,90.0999964277392,3750.2154049999999,15500,0.24194938096774193,3378.9439459375253,371.27145906247483,18928.229631697483,2079.7952097663565,21008.024841463841,481248,0,0,0,"","",7,2.9532977614996302E-5,"No","No",12,12,"No",0,0,"2 Lane Undivided","4A - 4 Lane Divided (46' Depressed Median) with Paved Shoulders","None","Partial",1,"Yes",30,17800000,1730000,1250000,20780000,"",20780000,20780000,""]
["H129070-AB","Tyrrell","Albemarle RPO","Highway","Statewide Mobility","R-2545AB","US-64 ","West of SR 1229 (Old US 64) at Alligator River","West of Alligator River","Widen to Multi-Lanes.","1 - Widen Existing Roadway",44850000,5.2027678758907117,null,2.4071000419728881,{"$f":"(V77+W77+Y77+Z77+AB77+AD77)","v":55},6.3,{"$f":"O77+P77+Q77","v":63.707100041972886},1.6039762464880569,9,null,{"$f":"IF(AU77<30,0,IF(AU77<50,5,IF(AU77<65,10,IF(AU77>66,15))))","v":0},{"$f":"IF(X77<499,15,IF(X77<999,10,IF(X77<1499,5,IF(X77>1500,0))))","v":5},1430.3182031467043,{"$f":"IF(DD77<500,0,IF(DD77<1000,5,IF(DD77>1000,10)))","v":0},{"$f":"IF(AA77=\"Yes\",20,0)","v":20},"Yes",10,"Yes",{"$f":"IF(AE77=\"Yes\",20,0)","v":20},"Yes",0,15,15,10,"No",15,"Minimal",10,"Yes",0,"No",0,"No",16.017049020064515,2.2713444816053512E-2,0,1.8563572953123741,0.19567677364066899,31.250646215000003,0,0,null,null,null,"Albemarle RPO",100,"","","","","01",100,"","","","",{"$f":"SUM(V77+W77+Y77+Z77+AB77+AD77)","v":55},65,null,null,null,null,1.6039762464880569,null,"Exceeds cap of $15 million for Statewide & Regional Projects cascading to Division Needs",{"$f":"O77+BT77*0.25","v":2.4071000419728881},null,"Tyrrell",100,"","","","","","",1,"A","01, , ","Albemarle RPO, , ","Tyrrell, , , ",8.3612954199999994,8.3612954199999994,"Two Lane Highway","Multi-Lane Highway",1,2,"Undivided","Divided",55,55,9.9000035722608004,90.0999964277392,3750.2154049999999,15500,0.24194938096774193,3378.9439459375253,371.27145906247483,40066.96701980244,4402.4764966980465,44469.443516500483,1018698,0,0,0,"","",1,2.91353547281338E-6,"No","No",12,12,"No",0,0,"2 Lane Undivided","4A - 4 Lane Divided (46' Depressed Median) with Paved Shoulders","None","Partial",1,"Yes",30,41500000,1300000,2050000,44850000,"",44850000,44850000,""]
["H090376","Dare","Albemarle RPO","Highway","Regional Impact","U-2917","NC-12 ","Vicinity of SR 1206 in Kitty Hawk","","Roadway Improvements.","16 - Modernize Roadway",21318000,null,null,15.32,{"$f":"(V78+W78+Y78+Z78+AB78+AD78)","v":35},4.95,{"$f":"O78+P78+Q78","v":55.27},11.87,7.5,null,{"$f":"IF(AU78<30,0,IF(AU78<50,5,IF(AU78<65,10,IF(AU78>66,15))))","v":10},{"$f":"IF(X78<499,15,IF(X78<999,10,IF(X78<1499,5,IF(X78>1500,0))))","v":5},1416.5434087463095,{"$f":"IF(DD78<500,0,IF(DD78<1000,5,IF(DD78>1000,10)))","v":0},{"$f":"IF(AA78=\"Yes\",20,0)","v":20},"Yes",0,"No",{"$f":"IF(AE78=\"Yes\",20,0)","v":0},"No",10,{"$f":"IF(BM76<999,20,IF(BM76<1499,15,IF(BM76<1999,10,IF(BM76<3999,5,IF(BM76>4000,0)))))","v":0},15,10,"No",15,"Minimal",10,"Yes",0,"No",0,"No",15.607000817638772,0,53.139971694710994,0.88886058751024577,"N/A",2.4787958946666668,50,0,null,null,null,"Albemarle RPO",100,"","","","","01",100,"","","","",{"$f":"SUM(V78+W78+Y78+Z78+AB78+AD78)","v":35},60,null,null,null,null,11.87,null,"Exceeds cap of $15 million for Statewide & Regional Projects cascading to Division Needs",{"$f":"O78+BT78*0.25","v":15.32},null,"Dare",100,"","","","","","",1,"A","01, , ","Albemarle RPO, , ","Dare, , , ",4.04747843,4.04747843,"Arterial","Arterial",1,1,"Undivided","Undivided",35,35,4.7811417332246,95.218858266775399,3718.1938420000001,15800.000190000001,0.23532872134731284,3540.4217244979513,177.77211750204916,0,0,0,0,47.458223420000003,43.976591910000003,68.001043339999995,"","","","","No","No",10,12,"No",4,0,"2 Lane Undivided","","None","None",2,"No",19,21318000,0,0,21318000,"",21318000,21318000,""]
["A130009","Pasquotank","Albemarle RPO","Aviation","Division Needs",null,"Elizabeth City Coast Guard Air Station/Regional",null,null,"Install MALS/MALSF/MALSR",null,900000,null,null,null,null,null,null,12.05,13.5,null,"N/A",null,3176.8308782313661,null,null,"Yes",0,null,{"$f":"IF(AE79=\"Yes\",10,0)","v":0},null,0,{"$f":"IF(X79<999,20,IF(X79<1499,15,IF(X79<1999,10,IF(X79<3999,5,IF(X79>4000,0)))))","v":5},15,{"$f":"IF(AJ79=\"Yes\",10,0)","v":10},"Yes",15,"Minimal",10,"Yes",{"$f":"IF(AP79=\"Yes\",5,0)","v":5},"Yes",0,"No",null,null,null,null,null,null,null,null,null,null,null,"Albemarle RPO",null,null,null,null,null,null,null,null,null,null,null,null,60,null,null,null,null,null,null,null,null,null,"Pasquotank",null,null,null,null,null,null,null,null,null,null,null,null,null,0.86,null,null,null,null,null,null,null,null,null,null,164.71,null,null,null,null,null,null,null,null,null,null,null,null,null,null,null,null,null,null,null,null,null,null,null,null,null,null,null,null,null,null,null,null,1000000,null,450000]
["A130010","Pasquotank","Albemarle RPO","Aviation","Division Needs",null,"Elizabeth City Coast Guard Air Station/Regional",null,null,"Acquire Equipment Shelter",null,490500,null,null,null,null,null,null,7.11,13.5,null,"N/A",null,{"$f":"(EI80/CZ80)/CO80","v":3462.7456572721894},null,null,"Yes",0,null,{"$f":"IF(AE80=\"Yes\",10,0)","v":0},null,0,5,15,10,"Yes",15,"Minimal",10,"Yes",{"$f":"IF(AP80=\"Yes\",5,0)","v":5},"Yes",0,"No",null,null,null,null,null,null,null,null,null,null,null,"Albemarle RPO",null,null,null,null,null,null,null,null,null,null,null,null,60,null,null,null,null,null,null,null,null,null,"Pasquotank",null,null,null,null,null,null,null,null,null,null,null,null,null,0.86,null,null,null,null,null,null,null,null,null,null,164.71,null,null,null,null,null,null,null,null,null,null,null,null,null,null,null,null,null,null,null,null,null,null,null,null,null,null,null,null,null,null,null,null,545000,null,490500]
["H141929","Perquimans","Albemarle RPO","Highway","Statewide Mobility","","US-17","US 17 Business (North) in Edenton (Broad Street)","SR 1100 / 1140 (Okisko Road)","Upgrade roadway to Interstate","2 - Upgrade Arterial to Freeway/Expressway",362296000,12.231591398447446,null,9.98,{"$f":"(V81+W81+Y81+Z81+AB81+AD81)","v":70},4.95,{"$f":"O81+P81+Q81","v":84.93},7.47,7.5,null,{"$f":"IF(AU81<30,0,IF(AU81<50,5,IF(AU81<65,10,IF(AU81>66,15))))","v":5},{"$f":"IF(X81<499,15,IF(X81<999,10,IF(X81<1499,5,IF(X81>1500,0))))","v":5},1471.2174057748716,{"$f":"IF(DD81<500,0,IF(DD81<1000,5,IF(DD81>1000,10)))","v":10},{"$f":"IF(AA81=\"Yes\",20,0)","v":20},"Yes",10,"Yes",{"$f":"IF(AE81=\"Yes\",20,0)","v":20},"Yes",5,15,15,0,"No",15,"Minimal",10,"Yes",{"$f":"IF(AP81=\"Yes\",10,0)","v":0},"No",0,"No",15.310184131456303,0.46260251838275884,33.909394688070002,6.3722125822879949,28.343734182311298,50.155493607634938,0,25,null,null,null,"Albemarle RPO",100,"","","","","01",100,"","","","",{"$f":"SUM(V81+W81+Y81+Z81+AB81+AD81)","v":70},60,null,null,100,null,{"$f":"S81+BU81*0.25","v":7.47},null,"Delay Prioritization pending outcome of Future Interstate Designation; Exceeds cap of $15 million for Statewide & Regional Projects cascading to Division Needs",{"$f":"O81+BT81*0.25","v":34.980000000000004},null,"Perquimans",89.76,"Chowan",8.6,"Pasquotank",1.63,"","",1,"A","01, , ","Albemarle RPO, , ","Perquimans, Chowan, Pasquotank, ",19.226261770000001,19.226261770000001,"Multi-Lane Highway","Freeway",2,2,"Divided","Divided",55.267216771237202,70,9.9501222739189998,90.049877726081007,12808.310102863101,75440.184645582907,0.16978100150518441,11533.867586405504,1274.4425164575989,6586938.0592921842,727828.18539802916,7314766.2446902134,167599042,27.89512178,40.943156899999998,32.900079220000002,"","",116.79099750996799,4.5008368613625799E-4,"No","No",12,12,"No",3,4,"4 Lane with Median - Partial Control","4A - 4 Lane Divided (46' Depressed Median) with Paved Shoulders","None","None",2,"Yes",28,248047000,102008000,12241000,362296000,"",362296000,362296000,""]
["H141931","Camden","Albemarle RPO","Highway","Statewide Mobility","","US-17","US 17/158 north of Elizabeth City (North Road Street)","Virginia State LIne","Upgrade roadway to Interstate","2 - Upgrade Arterial to Freeway/Expressway",66692000,11.444817563368547,null,9.1,75,4.95,89.05,6.84,7.5,null,0,15,380.94657353193423,10,{"$f":"IF(AA82=\"Yes\",20,0)","v":20},"Yes",10,"Yes",{"$f":"IF(AE82=\"Yes\",20,0)","v":20},"Yes",0,20,15,0,"No",15,"Minimal",10,"Yes",0,"No",0,"No",16.058654438177065,1.8246393120614166,25.536049133033998,6.3980551436151325,22.466134962705745,64.340570639189394,0,25,null,null,null,"Albemarle RPO",100,"","","","","01",100,"","","","",75,60,null,null,null,null,6.84,null,"Delay Prioritization pending outcome of Future Interstate Designation; Exceeds cap of $15 million for Statewide & Regional Projects cascading to Division Needs",9.1,null,"Camden",73.67,"Pasquotank",26.33,"","","","",1,"A","01, , ","Albemarle RPO, , ","Camden, Pasquotank, , ",13.01933756,13.01933756,"Multi-Lane Highway","Freeway",2,2,"Divided","Divided",55,70,9.5160604457086997,90.483939554291297,13446.856879729799,75544.764459042606,0.17799852810475245,12167.245851006774,1279.6110287230265,4814002.4068682343,506281.42535790673,5320283.8322261414,121688845,16.545985770000001,37.384043830000003,22.68577938,"","",86.358414733329894,3.6296428452078499E-4,"No","No",12,12,"No",3,4,"4 Lane with Median - Limited Control","4A - 4 Lane Divided (46' Depressed Median) with Paved Shoulders","Limited","Limited",1,"Yes",32,54160000,11189000,1343000,66692000,"",66692000,66692000,""]
["H090124-B","Dare","Peanut Belt RPO","Highway","Statewide Mobility","R-2544B","US-64 ","West of SR 1102 (East Lake Road)","East of Dare County Landfill","Widen to Multi-Lanes.","1 - Widen Existing Roadway",26450000,7.7762964530412519,null,7.4354279530602927,60,6.3,73.735427953060295,4.9569519687068624,9,null,5,5,1021.2769561031048,0,{"$f":"IF(AA83=\"Yes\",20,0)","v":20},"Yes",10,"Yes",{"$f":"IF(AE83=\"Yes\",20,0)","v":20},"Yes",5,15,15,0,"No",15,"Minimal",10,"Yes",0,"No",0,"No",12.646326065699627,0,36.923193621368995,1.4503963559723212,0,15.895993893333333,0,0,null,null,null,"Albemarle RPO",100,"","","","","01",100,"","","","",60,60,null,null,null,null,4.9569519687068624,null,"Exceeds cap of $15 million for Statewide & Regional Projects cascading to Division Needs",7.4354279530602927,null,"Dare",100,"","","","","","",1,"A","01, , ","Albemarle RPO, , ","Dare, , , ",8.7466968000000005,8.7466968000000005,"Two Lane Highway","Multi-Lane Highway",1,2,"Undivided","Divided",55,55,9.796673270458701,90.203326729541303,2960.9977100000001,15499.99951,0.19103211636166045,2670.918438805536,290.07927119446424,0,0,0,0,44.270671739999997,26.617315269999999,39.892671919999998,"","",0,0,"No","No",12,12,"No",0,0,"2 Lane Undivided","4A - 4 Lane Divided (46' Depressed Median) with Paved Shoulders","None","Partial",2,"Yes",24,23300000,2100000,1050000,26450000,"",26450000,26450000,""]
["H141880","Pasquotank","Albemarle RPO","Highway","Statewide Mobility","","US-17-BYP-Elizabeth City Bypass","SR 1100 / 1140 (Okisko Road)","US 17/158 north of Elizabeth City (North Road Street)","Upgrade freeway to interstate standards","17 - Upgrade Freeway to Interstate Standards",16554000,7.4401437540013751,null,5.1586118755402079,75,6.3,86.4586118755402,3.4390745836934724,9,null,0,15,146.45742390673294,10,{"$f":"IF(AA84=\"Yes\",20,0)","v":20},"Yes",10,"Yes",{"$f":"IF(AE84=\"Yes\",20,0)","v":20},"Yes",0,20,15,0,"No",15,"Minimal",10,"Yes",0,"No",0,"No",13.968030206078721,0,20.422715630856001,5.5853239091258402,0.90398347266990298,13.553747511552267,0,0,null,null,null,"Albemarle RPO",100,"","","","","01",100,"","","","",75,60,null,null,null,null,3.4390745836934724,null,"Delay Prioritization pending outcome of Future Interstate Designation; Exceeds cap of $15 million for Statewide & Regional Projects cascading to Division Needs",5.1586118755402079,null,"Pasquotank",100,"","","","","","",1,"A","01, , ","Albemarle RPO, , ","Pasquotank, , , ",9.97557267,9.97557267,"Freeway","Freeway",2,2,"Divided","Divided",68.723659978444402,68.723659978444402,9.858813170697001,90.141186829302995,11330.621267328401,72048.855909959806,0.1572630283191227,10213.556485503232,1117.064781825168,0,0,0,0,23.95659736,8.3349116199999997,28.98276534,"","",3.7328922246088601,1.43467772287892E-5,"No","No",12,12,"No",4,4,"4 Lane with Median - Full Control","","Full","Full",2,"No",23,16554000,0,0,16554000,"",16554000,16554000,""]
["H090055","Bertie","Peanut Belt RPO","Highway","Statewide Mobility","R-2205","US-13 ","NC 42 at Powellsville. in Bertie County","US 13 Bypass North of Ahoskie in Hertford County","Construct Multi-Lanes with Bypass of Ahoskie on New Location.","1 - Widen Existing Roadway",49575000,16.451595973936445,null,15.16,45,null,60.16,10.94,null,null,10,0,4708.3774991272439,0,{"$f":"IF(AA85=\"Yes\",15,0)","v":15},"Yes",10,"Yes",{"$f":"IF(AE85=\"Yes\",10,0)","v":10},"Yes",10,{"$f":"IF(BM83<999,20,IF(BM83<1499,15,IF(BM83<1999,10,IF(BM83<3999,5,IF(BM83>4000,0)))))","v":0},15,10,"Yes",15,"Minimal",10,"Yes",0,"No",0,"No",27.533278106761291,2.989666162380232E-2,56.820126272447993,12.360755065048751,0.28479903166367554,27.339840362,25,0,null,null,null,"Peanut Belt RPO",100,"","","","","01",100,"","","","",45,60,null,null,null,null,10.94,null,"Exceeds cap of $15 million for Statewide & Regional Projects cascading to Division Needs",15.16,null,"Bertie",51.94,"Hertford",48.06,"","","","",1,"A","01, , ","Peanut Belt RPO, , ","Bertie, Hertford, , ",1.6332768900000001,1.6332768900000001,"Two Lane Highway","Multi-Lane Highway",1,2,"Undivided","Divided",50,50,6.0899926560569,93.910007343943107,6446.6134540000003,15500,0.41591054541935485,6054.0151680870249,392.59828591297605,61700.390330254988,4001.2234543961185,65701.613784651112,1482127,71.632139179999996,31.628654959999999,67.216632419999996,"","",1,4.6959806332735103E-6,"Yes","No",11,12,"No",3,2,"2 Lane Undivided","4A - 4 Lane Divided (46' Depressed Median) with Paved Shoulders","None","Limited",1,"Yes",24,46000000,3575000,0,49575000,"",49575000,49575000,""]
["H090098","Bertie","Peanut Belt RPO","Highway","Statewide Mobility","R-2506","US-13 ","US 13 Business North of Windsor","NC 42","Widen to Multi-Lanes.","1 - Widen Existing Roadway",99400000,11.136523875976859,null,12.4,45,null,57.4,9.1,null,null,10,0,1765.7073314003956,0,{"$f":"IF(AA86=\"Yes\",15,0)","v":15},"Yes",10,"Yes",{"$f":"IF(AE86=\"Yes\",10,0)","v":10},"Yes",10,{"$f":"IF(BM84<999,20,IF(BM84<1499,15,IF(BM84<1999,10,IF(BM84<3999,5,IF(BM84>4000,0)))))","v":0},15,10,"Yes",15,"Minimal",10,"Yes",0,"No",0,"No",14.914047600427818,6.1686539235412473E-2,50.994178142192993,7.1730424362549918,1.097773326075915,20.499871621,25,0,null,null,null,"Peanut Belt RPO",100,"","","","","01",100,"","","","",45,60,null,null,null,null,9.1,null,"Exceeds cap of $15 million for Statewide & Regional Projects cascading to Division Needs",12.4,null,"Bertie",100,"","","","","","",1,"A","01, , ","Peanut Belt RPO, , ","Bertie, , , ",16.084402399999998,16.084402399999998,"Two Lane Highway","Multi-Lane Highway",1,2,"Undivided","Divided",49,50,8.8125771032800007,91.187422896719994,3499.9572069999999,15539.176170000001,0.22523441196046365,3191.5207795513193,308.43642744868021,245144.62958747204,23691.38068680216,268836.01027427422,6131642,54.538307000000003,43.544452530000001,54.915074679999996,"","",4,1.7955466521518299E-5,"Yes","No",11,12,"No",0,0,"2 Lane Undivided","4A - 4 Lane Divided (46' Depressed Median) with Paved Shoulders","None","Partial",1,"Yes",25,61000000,35800000,2600000,99400000,"",99400000,99400000,""]
["H090182","Martin","Mid-East RPO","Highway","Regional Impact","R-2700","NC-11 ","US 64 Relocation North of Bethel","NC 903","Widen to Four Lanes with a Bypass of Oak City on New Location.","6 - Widen Existing Roadway and Construct Part on New Location",120488000,null,null,7.5066214316192408,45,null,52.506621431619237,5.0029548834901352,null,null,5,0,2117.0917484054085,5,{"$f":"IF(AA87=\"Yes\",15,0)","v":15},"Yes",10,"Yes",{"$f":"IF(AE87=\"Yes\",10,0)","v":10},"Yes",5,{"$f":"IF(X87<999,20,IF(X87<1499,15,IF(X87<1999,10,IF(X87<3999,5,IF(X87>4000,0)))))","v":5},15,10,"Yes",15,"Minimal",10,"Yes",0,"No",{"$f":"IF(AR87=\"Yes\",10,0)","v":0},"No",16.498670475081592,4.3782127680764893E-2,33.487096232138995,3.4346861968498441,"N/A",23.602926140999998,0,0,null,null,null,"Mid-East RPO",86.92,"Upper Coastal Plain RPO",13.08,"","","01",86.92,"04",13.08,"","",45,60,null,null,null,null,5.0029548834901352,null,"Exceeds cap of $15 million for Statewide & Regional Projects cascading to Division Needs",7.5066214316192408,null,"Martin",86.92,"Edgecombe",13.08,"","","","",1,"A","01, 04, ","Mid-East RPO, Upper Coastal Plain RPO, ","Martin, Edgecombe, , ",14.7,14.714917890000001,"Two Lane Highway","Multi-Lane Highway",1,2,"Undivided","Divided",54,55,17.761137949743897,82.238862050256103,3867.6420469999998,15520.633970000001,0.24919356093802653,3180.7048076300312,686.93723936996878,183602.25972227845,39652.60439546586,223254.86411774432,5275221,43.679475170000003,30.094417199999999,26.697443459999999,"","","","","No","No",12,12,"No",3,0,"New Roadway","4A - 4 Lane Divided (46' Depressed Median) with Paved Shoulders","None","Partial",1,"Yes",26,113088000,6607000,793000,120488000,"",120488000,120488000,""]
["H090399","Chowan","Albemarle RPO","Highway","Regional Impact","U-3419","NC-94 Soundside Road","NC 32","US 17 Bypass","NC 32  to US 17 Bypass. Two Lanes  on New Location.","5 - Construct Roadway on New Location",24738000,null,null,12.13,30,3.6,45.730000000000004,9.75,5.25,null,0,0,1818.1844987799473,0,{"$f":"IF(AA88=\"Yes\",20,0)","v":20},"Yes",10,"Yes",{"$f":"IF(AE88=\"Yes\",20,0)","v":0},"no",0,10,15,10,"No",{"$f":"IF(AL88=\"Minimal\",15,0)","v":15},"Minimal",10,"Yes",0,"No",0,"No",20.802069229215935,0,26.713074408734997,1.0562003183467636,"N/A",24.906870215000001,0,50,null,null,null,"Albemarle RPO",100,"","","","","01",100,"","","","",30,60,null,null,null,null,9.75,null,"Exceeds cap of $15 million for Statewide & Regional Projects cascading to Division Needs",12.13,null,"Chowan",100,"","","","","","",1,"A","01, , ","Albemarle RPO, , ","Chowan, , , ",3.7,2.77282246,"Two Lane Highway","Arterial",1,1,"Undivided","Undivided",46,45,4.3049857529063003,95.695014247093695,4906.8702149999999,15627.53831,0.31398868572026556,4695.6301513306471,211.24006366935274,0,0,0,0,29.14122888,21.864780190000001,29.14122888,"","","","","No","No",12,12,"No",0,2,"New Roadway","2B - 2 Lane Undivided with Paved Shoulders, 25-45 mph","None","None",1,"No",30,24510000,204000,24000,24738000,"",24738000,24738000,""]
["H112082","Dare","Albemarle RPO","Highway","Division Needs","","SR-1208 W. Kitty Hawk Road","SR 1210 (Bob Perry Road)","Ivy Lane","Modernize Roadway with Wide Shoulders For Bicyclists","16 - Modernize Roadway",2736000,null,null,null,null,null,null,9.57,6.75,null,"N/A",null,2827.9496762997946,null,null,"Yes",null,null,null,null,5,5,15,10,"No",15,"Minimal",10,"Yes",0,"No",0,"No",3.8196962025316457,0,41.863874847167999,0,"N/A","N/A",50,0,null,null,null,"Albemarle RPO",100,"","","","","01",100,"","","","",null,60,null,null,null,100,34.57,null,null,null,null,"Dare",100,"","","","","","",1,"A","01, , ","Albemarle RPO, , ","Dare, , , ",1.06317076,1.06317076,"Arterial","Arterial",1,1,"Undivided","Undivided",35,35,0,100,910,15800,5.7594936708860761E-2,910,0,0,0,0,0,31.412820159999999,47.095682400000001,47.095682400000001,"","","","","No","No",9,11,"No",0,0,"2 Lane Undivided","","None","None",2,"No",18,2736000,0,0,2736000,"",2736000,2736000,""]
["H090868","Gates","Albemarle RPO","Highway","Regional Impact","","NC-32 ","Chowan County","Virginia State Line","Widen to Multi-Lanes from Chowan County to Virginia Border","1 - Widen Existing Roadway",164732000,null,null,8.6051018168922653,{"$f":"(V90+W90+Y90+Z90+AB90+AD90)","v":55},3.6,{"$f":"O90+P90+Q90","v":67.205101816892267},5.7367345445948441,5.25,null,{"$f":"IF(AU90<30,0,IF(AU90<50,5,IF(AU90<65,10,IF(AU90>66,15))))","v":5},{"$f":"IF(X90<499,15,IF(X90<999,10,IF(X90<1499,5,IF(X90>1500,0))))","v":0},3736.084845243709,{"$f":"IF(DD90<500,0,IF(DD90<1000,5,IF(DD90>1000,10)))","v":0},{"$f":"IF(AA90=\"Yes\",20,0)","v":20},"Yes",{"$f":"IF(AC90=\"Yes\",10,0)","v":10},"Yes",{"$f":"IF(AE90=\"Yes\",20,0)","v":20},"Yes",5,5,15,10,"No",15,"Minimal",10,"Yes",0,"No",0,"No",11.331138193748444,0,46.036207252199993,1.1899936567631844,"N/A",43.959183177,0,0,null,null,null,"Albemarle RPO",100,"","","","","01",100,"","","","",{"$f":"SUM(V90+W90+Y90+Z90+AB90+AD90)","v":55},60,null,null,null,null,5.7367345445948441,null,"Exceeds cap of $15 million for Statewide & Regional Projects cascading to Division Needs",{"$f":"O90+BT90*0.25","v":8.6051018168922653},null,"Gates",100,"","","","","","",1,"A","01, , ","Albemarle RPO, , ","Gates, , , ",16.61934853,16.61934853,"Two Lane Highway","Multi-Lane Highway",1,2,"Undivided","Divided",55,55,8.9707219720884996,91.029278027911502,2653.0610590000001,15500.00001,0.17116522950247406,2415.0623276473634,237.99873135263687,0,0,0,0,52.038928579999997,41.030888079999997,45.052617339999998,"","","","","No","No",12,12,"No",0,0,"2 Lane Undivided","4A - 4 Lane Divided (46' Depressed Median) with Paved Shoulders","None","Partial",1,"Yes",38,106020000,52421000,6291000,164732000,"",164732000,164732000,""]
["H090145","Gates","Albemarle RPO","Highway","Statewide Mobility","R-2578","US-158 ","US 13","NC 32 in Sunbury","Widen to Multi-Lanes.","1 - Widen Existing Roadway",110400000,8.2154544470739186,null,8.1873220710655996,{"$f":"(V91+W91+Y91+Z91+AB91+AD91)","v":55},4.95,{"$f":"O91+P91+Q91","v":68.137322071065597},5.4582147140437334,7.5,null,{"$f":"IF(AU91<30,0,IF(AU91<50,5,IF(AU91<65,10,IF(AU91>66,15))))","v":5},{"$f":"IF(X91<499,15,IF(X91<999,10,IF(X91<1499,5,IF(X91>1500,0))))","v":0},2636.408006233883,{"$f":"IF(DD91<500,0,IF(DD91<1000,5,IF(DD91>1000,10)))","v":0},{"$f":"IF(AA91=\"Yes\",20,0)","v":20},"Yes",10,"Yes",{"$f":"IF(AE91=\"Yes\",20,0)","v":20},"Yes",5,5,15,10,"No",15,"Minimal",10,"Yes",0,"No",0,"No",11.950545640279334,0,42.631601500157998,1.8356530248715976,0,48.394265506000004,0,0,null,null,null,"Albemarle RPO",100,"","","","","01",100,"","","","",{"$f":"SUM(V91+W91+Y91+Z91+AB91+AD91)","v":55},60,null,null,null,null,5.4582147140437334,null,"Exceeds cap of $15 million for Statewide & Regional Projects cascading to Division Needs",{"$f":"O91+BT91*0.25","v":8.1873220710655996},null,"Gates",100,"","","","","","",1,"A","01, , ","Albemarle RPO, , ","Gates, , , ",14.96563003,14.96563003,"Two Lane Highway","Multi-Lane Highway",1,2,"Undivided","Divided",55,55,13.120764575956201,86.879235424043799,2798.0885020000001,15500.00013,0.18052183732465557,2430.9578970256807,367.13060497431951,0,0,0,0,42.384867309999997,36.449745309999997,49.072982639999999,"","",0,0,"No","No",12,12,"No",0,0,"2 Lane Undivided","4A - 4 Lane Divided (46' Depressed Median) with Paved Shoulders","None","Partial",1,"Yes",40,65000000,35500000,9900000,110400000,"",110400000,110400000,""]
["A130016","Dare","Albemarle RPO","Aviation","Division Needs",null,"Dare County Regional",null,null,"Land Acquisition-Runway Approach",null,428000,null,null,null,null,null,null,38.049999999999997,9.75,null,"N/A",null,11239.259679418501,null,{"$f":"IF(AA92=\"Yes\",15,0)","v":15},"Yes",0,null,{"$f":"IF(AE92=\"Yes\",10,0)","v":0},null,0,0,15,{"$f":"IF(AJ92=\"Yes\",10,0)","v":10},"Yes",15,"Minimal",10,"Yes",{"$f":"IF(AP92=\"Yes\",5,0)","v":5},"Yes",0,"No",null,null,null,null,null,null,null,null,null,null,null,"Albemarle RPO",null,null,null,null,null,null,null,null,null,null,null,null,55,null,null,null,null,null,null,null,null,null,"Dare",null,null,null,null,null,null,null,null,null,null,null,null,null,0.82,null,null,null,null,null,null,null,null,null,null,46.44,null,null,null,null,null,null,null,null,null,null,null,null,null,null,null,null,null,null,null,null,null,null,null,null,null,null,null,null,null,null,null,null,475555,null,428000]
["A130018","Dare","Albemarle RPO","Aviation","Division Needs",null,"Dare County Regional",null,null,"Land Acquisition-Runway Approach",null,454815,null,null,null,null,null,null,38.049999999999997,9.75,null,"N/A",null,11943.420306296088,null,{"$f":"IF(AA93=\"Yes\",15,0)","v":15},"Yes",0,null,{"$f":"IF(AE93=\"Yes\",10,0)","v":0},null,0,0,15,10,"Yes",15,"Minimal",10,"Yes",{"$f":"IF(AP93=\"Yes\",5,0)","v":5},"Yes",0,"No",null,null,null,null,null,null,null,null,null,null,null,"Albemarle RPO",null,null,null,null,null,null,null,null,null,null,null,null,55,null,null,null,null,null,null,null,null,null,"Dare",null,null,null,null,null,null,null,null,null,null,null,null,null,0.82,null,null,null,null,null,null,null,null,null,null,46.44,null,null,null,null,null,null,null,null,null,null,null,null,null,null,null,null,null,null,null,null,null,null,null,null,null,null,null,null,null,null,null,null,505350,null,454815]
["A130019","Dare","Albemarle RPO","Aviation","Division Needs",null,"Dare County Regional",null,null,"Land Acquisition-Runway Approach",null,3325500,null,null,null,null,null,null,38.049999999999997,9.75,null,"N/A",null,87327.47211193043,null,{"$f":"IF(AA94=\"Yes\",15,0)","v":15},"Yes",0,null,{"$f":"IF(AE94=\"Yes\",10,0)","v":0},null,0,0,15,10,"Yes",15,"Minimal",10,"Yes",{"$f":"IF(AP94=\"Yes\",5,0)","v":5},"Yes",0,"No",null,null,null,null,null,null,null,null,null,null,null,"Albemarle RPO",null,null,null,null,null,null,null,null,null,null,null,null,55,null,null,null,null,null,null,null,null,null,"Dare",null,null,null,null,null,null,null,null,null,null,null,null,null,0.82,null,null,null,null,null,null,null,null,null,null,46.44,null,null,null,null,null,null,null,null,null,null,null,null,null,null,null,null,null,null,null,null,null,null,null,null,null,null,null,null,null,null,null,null,3695000,null,3325500]
["A130028","Dare","Albemarle RPO","Aviation","Division Needs",null,"Dare County Regional",null,null,"Land Acquisition-Obstruction Removal",null,1152000,null,null,null,null,null,null,36.85,9.75,null,"N/A",null,30251.465305350732,null,{"$f":"IF(AA95=\"Yes\",15,0)","v":15},"Yes",0,null,{"$f":"IF(AE95=\"Yes\",10,0)","v":0},null,0,0,15,10,"Yes",15,"Minimal",10,"Yes",{"$f":"IF(AP95=\"Yes\",5,0)","v":5},"Yes",0,"No",null,null,null,null,null,null,null,null,null,null,null,"Albemarle RPO",null,null,null,null,null,null,null,null,null,null,null,null,55,null,null,null,null,null,null,null,null,null,"Dare",null,null,null,null,null,null,null,null,null,null,null,null,null,0.82,null,null,null,null,null,null,null,null,null,null,46.44,null,null,null,null,null,null,null,null,null,null,null,null,null,null,null,null,null,null,null,null,null,null,null,null,null,null,null,null,null,null,null,null,1280000,null,1152000]
["A130415","Hertford","Peanut Belt RPO","Aviation","Division Needs",null,"Tri-County",null,null,"Land Acquisition-Runway Approach",null,450000,null,null,null,null,null,null,35.35,null,null,"N/A",null,14750.954714569027,null,{"$f":"IF(AA96=\"Yes\",15,0)","v":15},"Yes",0,null,{"$f":"IF(AE96=\"Yes\",10,0)","v":0},null,0,0,15,10,"Yes",15,"Minimal",10,"Yes",{"$f":"IF(AP96=\"Yes\",5,0)","v":5},"Yes",0,"No",null,null,null,null,null,null,null,null,null,null,null,"Peanut Belt RPO",null,null,null,null,null,null,null,null,null,null,null,null,55,null,null,null,null,null,null,null,null,null,"Hertford",null,null,null,null,null,null,null,null,null,null,null,null,null,0.85,null,null,null,null,null,null,null,null,null,null,35.89,null,null,null,null,null,null,null,null,null,null,null,null,null,null,null,null,null,null,null,null,null,null,null,null,null,null,null,null,null,null,null,null,500000,null,450000]
["B142220","Chowan","Albemarle RPO","Bike & Ped","Division Needs",null,"North Broad Street","Church Street","Water Street","North Broad Street Bike Path","2. Construct multi-use trail / greenway / sidepath or on-road bike lane on local roadway",400000,null,null,null,null,null,null,21.145250000000001,9.75,null,"N/A",null,4205.3913116615495,null,null,"Yes",null,null,null,null,5,0,15,10,"Yes",15,"Minimal",10,"Yes",{"$f":"IF(AP97=\"Yes\",10,0)","v":0},"No",0,"No",null,null,32.5,null,null,null,null,null,null,null,null,"Albemarle RPO",null,null,null,null,null,null,null,null,null,null,null,null,{"$f":"SUM(AF97+AG97+AH97+AI97+AK97+AM97+AO97)","v":55},null,null,null,null,{"$f":"S97+BU97*0.25","v":21.145250000000001},null,null,null,null,"Chowan County",null,null,null,null,null,null,null,null,null,null,null,null,null,0.28000000000000003,null,null,null,null,null,null,null,null,null,null,{"$f":"3397*0.1","v":339.70000000000005},null,null,null,null,null,null,null,null,null,null,null,null,null,null,null,null,null,null,null,null,null,null,null,null,null,null,null,null,null,380000,0,null,400000,0,400000]
["B141529","Dare","Albemarle RPO","Bike & Ped","Division Needs",null,"US 158","Atlantic","Baum","Construct Sidewalk","5. Construct Sidewalk",345000,null,null,null,null,null,null,21.058673913043478,9.75,null,"N/A",null,5058.8550026752273,null,null,"Yes",null,null,null,null,5,0,15,10,"Yes",15,"Minimal",10,"Yes",{"$f":"IF(AP98=\"Yes\",10,0)","v":0},"No",0,"No",null,null,45,null,null,null,null,null,null,null,null,"Albemarle RPO",null,null,null,null,null,null,null,null,null,null,null,null,{"$f":"SUM(AF98+AG98+AH98+AI98+AK98+AM98+AO98)","v":55},null,null,null,null,{"$f":"S98+BU98*0.25","v":21.058673913043478},null,null,null,null,"Dare County",null,null,null,null,null,null,null,null,null,null,null,null,null,0.89,null,null,null,null,null,null,null,null,null,null,{"$f":"1512*0.1","v":151.20000000000002},null,null,null,null,null,null,null,null,null,null,null,null,null,null,null,null,null,null,null,null,null,null,null,null,null,null,null,null,null,300000,0,null,345000,0,680760]
["B141937","Currituck","Albemarle RPO","Bike & Ped","Division Needs",null,"Currituck Multiuse","Albacore St","Driftwood Way","Construct Mult-use Path","2. Construct multi-use trail / greenway / sidepath or on-road bike lane on local roadway",460000,null,null,null,null,null,null,16.10631928977989,13.5,null,"N/A",null,158402.20385674931,null,null,"Yes",null,null,null,null,5,0,15,10,"Yes",15,"Minimal",10,"Yes",{"$f":"IF(AP99=\"Yes\",10,0)","v":0},"No",0,"No",null,null,45,null,null,null,null,null,null,null,null,"Albemarle RPO",null,null,null,null,null,null,null,null,null,null,null,null,{"$f":"SUM(AF99+AG99+AH99+AI99+AK99+AM99+AO99)","v":55},null,null,null,null,{"$f":"S99+BU99*0.25","v":16.10631928977989},null,null,null,null,"Currituck County",null,null,null,null,null,null,null,null,null,null,null,null,null,0.66,null,null,null,null,null,null,null,null,null,null,{"$f":"44*0.1","v":4.4000000000000004},null,null,null,null,null,null,null,null,null,null,null,null,null,null,null,null,null,null,null,null,null,null,null,null,null,null,null,null,null,400000,0,null,460000,0,460000]
["A130029","Dare","Albemarle RPO","Aviation","Division Needs",null,"Dare County Regional",null,null,"Design",null,1620000,null,null,null,null,null,null,35.229999999999997,9.75,null,"N/A",null,42541.123085649466,null,{"$f":"IF(AA100=\"Yes\",15,0)","v":15},"Yes",{"$f":"IF(AC100=\"Yes\",10,0)","v":0},null,{"$f":"IF(AE100=\"Yes\",10,0)","v":0},null,0,0,15,10,"Yes",15,"Minimal",10,"Yes",{"$f":"IF(AP100=\"Yes\",5,0)","v":5},"Yes",0,"No",null,null,null,null,null,null,null,null,null,null,null,"Albemarle RPO",null,null,null,null,null,null,null,null,null,null,null,null,{"$f":"SUM(AF100+AG100+AH100+AI100+AK100+AM100+AO100+AQ100)","v":55},null,null,null,null,null,null,null,null,null,"Dare",null,null,null,null,null,null,null,null,null,null,null,null,null,0.82,null,null,null,null,null,null,null,null,null,null,46.44,null,null,null,null,null,null,null,null,null,null,null,null,null,null,null,null,null,null,null,null,null,null,null,null,null,null,null,null,null,null,null,null,1800000,null,1620000]
["A130006","Pasquotank","Albemarle RPO","Aviation","Division Needs",null,"Elizabeth City Coast Guard Air Station/Regional",null,null,"Permitting/mitigation/preliminary",null,3659719,null,null,null,null,null,null,27.7,13.5,null,"N/A",null,25836.240721888931,null,null,"Yes",{"$f":"IF(AC101=\"Yes\",10,0)","v":0},null,{"$f":"IF(AE101=\"Yes\",10,0)","v":0},null,0,0,15,10,"Yes",15,"Minimal",10,"Yes",{"$f":"IF(AP101=\"Yes\",5,0)","v":5},"Yes",0,"No",null,null,null,null,null,null,null,null,null,null,null,"Albemarle RPO",null,null,null,null,null,null,null,null,null,null,null,null,{"$f":"SUM(AF101+AG101+AH101+AI101+AK101+AM101+AO101+AQ101)","v":55},null,null,null,100,{"$f":"S101+BU101*0.25","v":52.7},null,null,null,null,"Pasquotank",null,null,null,null,null,null,null,null,null,null,null,null,null,0.86,null,null,null,null,null,null,null,null,null,null,164.71,null,null,null,null,null,null,null,null,null,null,null,null,null,null,null,null,null,null,null,null,null,null,null,null,null,null,null,null,null,null,null,null,4066354,null,3659719]
["A130042","Washington","Albemarle RPO","Aviation","Division Needs",null,"Plymouth Municipal Airport",null,null,"Design",null,477000,null,null,null,null,null,null,26.37,6,null,"N/A",null,12610.773883801105,null,null,"Yes",{"$f":"IF(AC102=\"Yes\",10,0)","v":0},null,{"$f":"IF(AE102=\"Yes\",10,0)","v":0},null,0,0,15,10,"Yes",15,"Minimal",10,"Yes",{"$f":"IF(AP102=\"Yes\",5,0)","v":5},"Yes",0,"No",null,null,null,null,null,null,null,null,null,null,null,"Albemarle RPO",null,null,null,null,null,null,null,null,null,null,null,null,{"$f":"SUM(AF102+AG102+AH102+AI102+AK102+AM102+AO102+AQ102)","v":55},null,null,null,100,{"$f":"S102+BU102*0.25","v":51.370000000000005},null,null,null,null,"Washington",null,null,null,null,null,null,null,null,null,null,null,null,null,1.04,null,null,null,null,null,null,null,null,null,null,36.369999999999997,null,null,null,null,null,null,null,null,null,null,null,null,null,null,null,null,null,null,null,null,null,null,null,null,null,null,null,null,null,null,null,null,530000,null,477000]
["B141941","Currituck","Albemarle RPO","Bike & Ped","Division Needs",null,"Currituck Multi use","Comrmonrant Ct.","Harris Teeter","Construct Multi use path","2. Construct multi-use trail / greenway / sidepath or on-road bike lane on local roadway",460000,null,null,null,null,null,null,14.62143146722117,13.5,null,"N/A",null,130718.95424836602,null,null,"Yes",null,null,null,null,5,0,15,10,"Yes",15,"Minimal",10,"Yes",{"$f":"IF(AP103=\"Yes\",10,0)","v":0},"No",0,"No",null,null,35,null,null,null,null,null,null,null,null,"Albemarle RPO",null,null,null,null,null,null,null,null,null,null,null,null,{"$f":"SUM(AF103+AG103+AH103+AI103+AK103+AM103+AO103)","v":55},null,null,null,null,{"$f":"S103+BU103*0.25","v":14.62143146722117},null,null,null,null,"Currituck County",null,null,null,null,null,null,null,null,null,null,null,null,null,0.69,null,null,null,null,null,null,null,null,null,null,{"$f":"51*0.1","v":5.1000000000000005},null,null,null,null,null,null,null,null,null,null,null,null,null,null,null,null,null,null,null,null,null,null,null,null,null,null,null,null,null,400000,0,null,460000,0,460000]
["A130032","Currituck","Albemarle RPO","Aviation","Division Needs",null,"Currituck County Regional",null,null,"Clearing/grading/Drainage/paving/marking/lighting/signage",null,2520000,null,null,null,null,null,null,26.33,0,null,"N/A",null,35378.55049024563,null,null,"Yes",{"$f":"IF(AC104=\"Yes\",10,0)","v":0},null,{"$f":"IF(AE104=\"Yes\",10,0)","v":0},null,0,0,15,10,"Yes",15,"Minimal",10,"Yes",{"$f":"IF(AP104=\"Yes\",5,0)","v":5},"Yes",0,"No",null,null,null,null,null,null,null,null,null,null,null,"Albemarle RPO",null,null,null,null,null,null,null,null,null,null,null,null,{"$f":"SUM(AF104+AG104+AH104+AI104+AK104+AM104+AO104+AQ104)","v":55},null,null,null,null,null,null,null,null,null,"Currituck",null,null,null,null,null,null,null,null,null,null,null,null,null,1.04,null,null,null,null,null,null,null,null,null,null,68.489999999999995,null,null,null,null,null,null,null,null,null,null,null,null,null,null,null,null,null,null,null,null,null,null,null,null,null,null,null,null,null,null,null,null,2800000,null,2520000]
["B141958","Currituck","Albemarle RPO","Bike & Ped","Division Needs",null,"Currituck Multi use","Harris Teeter","Sandbucket","Construct Multi use trail","2. Construct multi-use trail / greenway / sidepath or on-road bike lane on local roadway",460000,null,null,null,null,null,null,14.378002237428664,13.5,null,"N/A",null,161857.84658691063,null,null,"Yes",null,null,null,null,{"$f":"IF(AU105<30,0,IF(AU105<50,5,IF(AU105<65,10,IF(AU105<79,15,IF(AU105>80,20)))))","v":5},0,{"$f":"IF(AA105=\"Yes\",15,0)","v":15},10,"Yes",15,"Minimal",{"$f":"IF(AN105=\"Yes\",10,0)","v":10},"Yes",{"$f":"IF(AP105=\"Yes\",10,0)","v":0},"No",0,"No",null,null,35,null,null,null,null,null,null,null,null,"Albemarle RPO",null,null,null,null,null,null,null,null,null,null,null,null,{"$f":"SUM(AF105+AG105+AH105+AI105+AK105+AM105+AO105)","v":55},null,null,null,null,{"$f":"S105+BU105*0.25","v":14.378002237428664},null,null,null,null,"Currituck County",null,null,null,null,null,null,null,null,null,null,null,null,null,0.57999999999999996,null,null,null,null,null,null,null,null,null,null,{"$f":"49*0.1","v":4.9000000000000004},null,null,null,null,null,null,null,null,null,null,null,null,null,null,null,null,null,null,null,null,null,null,null,null,null,null,null,null,null,400000,0,null,460000,0,460000]
["A130033","Currituck","Albemarle RPO","Aviation","Division Needs",null,"Currituck County Regional",null,null,"Design",null,1746000,null,null,null,null,null,null,25,13.5,null,"N/A",null,24512.281411098757,null,null,"Yes",{"$f":"IF(AC106=\"Yes\",10,0)","v":0},null,{"$f":"IF(AE106=\"Yes\",10,0)","v":0},null,0,0,15,10,"Yes",15,"Minimal",10,"Yes",{"$f":"IF(AP106=\"Yes\",5,0)","v":5},"Yes",0,"No",null,null,null,null,null,null,null,null,null,null,null,"Albemarle RPO",null,null,null,null,null,null,null,null,null,null,null,null,{"$f":"SUM(AF106+AG106+AH106+AI106+AK106+AM106+AO106+AQ106)","v":55},null,null,null,null,null,null,null,null,null,"Currituck",null,null,null,null,null,null,null,null,null,null,null,null,null,1.04,null,null,null,null,null,null,null,null,null,null,68.489999999999995,null,null,null,null,null,null,null,null,null,null,null,null,null,null,null,null,null,null,null,null,null,null,null,null,null,null,null,null,null,null,null,null,1940000,null,1746000]
["B141764","Dare","Albemarle RPO","Bike & Ped","Division Needs",null,"Nags Head Multi Use Path","Grouse Street","Forbes Street","Construct Multi use path","2. Construct multi-use trail / greenway / sidepath or on-road bike lane on local roadway",335000,null,null,null,null,null,null,13.578235911783022,6.75,null,"N/A",null,41823.814655172406,null,null,"Yes",null,null,null,null,5,0,15,10,"Yes",15,"Minimal",10,"Yes",{"$f":"IF(AP107=\"Yes\",10,0)","v":0},"No",0,"No",null,null,35,null,null,null,null,null,null,null,null,"Albemarle RPO",null,null,null,null,null,null,null,null,null,null,null,null,{"$f":"SUM(AF107+AG107+AH107+AI107+AK107+AM107+AO107)","v":55},null,null,null,null,{"$f":"S107+BU107*0.25","v":13.578235911783022},null,null,null,null,"Dare County",null,null,null,null,null,null,null,null,null,null,null,null,null,0.32,null,null,null,null,null,null,null,null,null,null,{"$f":"232*0.1","v":23.200000000000003},null,null,null,null,null,null,null,null,null,null,null,null,null,null,null,null,null,null,null,null,null,null,null,null,null,null,null,null,null,290000,0,null,335000,0,310500]
["B141531","Camden","Albemarle RPO","Bike & Ped","Division Needs",null,"US 158","Atlantic","Eighth","Construct Sidewalk","5. Construct Sidewalk",410100,null,null,null,null,null,null,13.560226164350158,9.75,null,"N/A",null,5436.1832356162604,null,null,"Yes",null,null,null,null,5,0,15,10,"Yes",15,"Minimal",10,"Yes",{"$f":"IF(AP108=\"Yes\",10,0)","v":0},"No",0,"No",null,null,45,null,null,null,null,null,null,null,null,"Albemarle RPO",null,null,null,null,null,null,null,null,null,null,null,null,{"$f":"SUM(AF108+AG108+AH108+AI108+AK108+AM108+AO108)","v":55},null,null,null,null,{"$f":"S108+BU108*0.25","v":13.560226164350158},null,null,null,null,"Dare County",null,null,null,null,null,null,null,null,null,null,null,null,null,0.68,null,null,null,null,null,null,null,null,null,null,{"$f":"1826*0.1","v":182.60000000000002},null,null,null,null,null,null,null,null,null,null,null,null,null,null,null,null,null,null,null,null,null,null,null,null,null,null,null,null,null,355100,0,null,410100,0,675000]
["B141346","Tyrrell","Albemarle RPO","Bike & Ped","Division Needs",null,"US 64","Etheridge Road","Ludington Drive","Apply brick pavers or brick stamping on the north side of the Scuppernong River bridge, paint the existing guardrail and erect an entry sign to the existing pedestrian promenade leading to Veterans Park","7. Construct Streetscape Improvements",160000,null,null,null,null,null,null,12.590571576383752,9.75,null,"N/A",null,3803.5049627791564,null,null,"Yes",null,null,null,null,0,5,15,10,"Yes",15,"Minimal",10,"Yes",{"$f":"IF(AP109=\"Yes\",10,0)","v":0},"No",0,"No",null,null,12.5,null,null,null,null,null,null,null,null,"Albemarle RPO",null,null,null,null,null,null,null,null,null,null,null,null,{"$f":"SUM(AF109+AG109+AH109+AI109+AK109+AM109+AO109)","v":55},null,null,null,0,{"$f":"S109+BU109*0.25","v":12.590571576383752},null,null,null,null,"Tyrrell County",null,null,null,null,null,null,null,null,null,null,null,null,null,0.32,null,null,null,null,null,null,null,null,null,null,403,null,null,null,null,null,null,null,null,null,null,null,null,null,null,null,null,null,null,null,null,null,null,null,null,null,null,null,null,null,155000,0,null,160000,0,490500]
["A130030","Dare","Albemarle RPO","Aviation","Division Needs",null,"Dare County Regional",null,null,"Runway Overlay",null,3060000,null,null,null,null,null,null,15.85,9.75,null,"N/A",null,80355.454717337881,null,null,"Yes",{"$f":"IF(AC110=\"Yes\",10,0)","v":0},null,{"$f":"IF(AE110=\"Yes\",10,0)","v":0},null,0,0,15,10,"Yes",15,"Minimal",10,"Yes",{"$f":"IF(AP110=\"Yes\",5,0)","v":5},"Yes",0,"No",null,null,null,null,null,null,null,null,null,null,null,"Albemarle RPO",null,null,null,null,null,null,null,null,null,null,null,null,{"$f":"SUM(AF110+AG110+AH110+AI110+AK110+AM110+AO110+AQ110)","v":55},null,null,null,null,null,null,null,null,null,"Dare",null,null,null,null,null,null,null,null,null,null,null,null,null,0.82,null,null,null,null,null,null,null,null,null,null,46.44,null,null,null,null,null,null,null,null,null,null,null,null,null,null,null,null,null,null,null,null,null,null,null,null,null,null,null,null,null,null,null,null,3400000,null,3060000]
["A130031","Currituck","Albemarle RPO","Aviation","Division Needs",null,"Currituck County Regional",null,null,"Land Acquisition-Runway Approach",null,19350000,null,null,null,null,null,null,15.64,15,null,"N/A",null,271656.7269786718,null,null,"Yes",{"$f":"IF(AC111=\"Yes\",10,0)","v":0},null,{"$f":"IF(AE111=\"Yes\",10,0)","v":0},null,0,0,15,10,"Yes",15,"Minimal",10,"Yes",{"$f":"IF(AP111=\"Yes\",5,0)","v":5},"Yes",0,"No",null,null,null,null,null,null,null,null,null,null,null,"Albemarle RPO",null,null,null,null,null,null,null,null,null,null,null,null,{"$f":"SUM(AF111+AG111+AH111+AI111+AK111+AM111+AO111+AQ111)","v":55},null,null,null,null,null,null,null,null,null,"Currituck",null,null,null,null,null,null,null,null,null,null,null,null,null,1.04,null,null,null,null,null,null,null,null,null,null,68.489999999999995,null,null,null,null,null,null,null,null,null,null,null,null,null,null,null,null,null,null,null,null,null,null,null,null,null,null,null,null,null,null,null,null,21500000,null,19350000]
["B141363","Dare","Albemarle RPO","Bike & Ped","Division Needs",null,"US 158","Cypress Knee Lane","Bennett Street","Construct 6000' of sidewalk on west side of US 158","5. Construct Sidewalk",282000,null,null,null,null,null,null,10.244104110930639,9.75,null,"N/A",null,{"$f":"(EI112/CZ112)/CO112","v":9170.2063106796122},null,null,"Yes",null,null,null,null,5,0,15,10,"Yes",15,"Minimal",10,"Yes",{"$f":"IF(AP112=\"Yes\",10,0)","v":0},"No",0,"No",null,null,35,null,null,null,null,null,null,null,null,"Albemarle RPO",null,null,null,null,null,null,null,null,null,null,null,null,{"$f":"SUM(AF112+AG112+AH112+AI112+AK112+AM112+AO112)","v":55},null,null,null,null,{"$f":"S112+BU112*0.25","v":10.244104110930639},null,null,null,null,"Dare County",null,null,null,null,null,null,null,null,null,null,null,null,null,2.06,null,null,null,null,null,null,null,null,null,null,{"$f":"960*0.1","v":96},null,null,null,null,null,null,null,null,null,null,null,null,null,null,null,null,null,null,null,null,null,null,null,null,null,null,null,null,null,272000,0,null,282000,0,1813500]
["A130046","Washington","Albemarle RPO","Aviation","Division Needs",null,"Plymouth Municipal Airport",null,null,"Land Acquisition-Obstruction Removal",null,315000,null,null,null,null,null,null,14.65,6,null,"N/A",null,9755.5043252046289,null,null,"Yes",{"$f":"IF(AC113=\"Yes\",10,0)","v":0},null,{"$f":"IF(AE113=\"Yes\",10,0)","v":0},null,0,0,15,10,"Yes",15,"Minimal",10,"Yes",{"$f":"IF(AP113=\"Yes\",5,0)","v":5},"Yes",0,"No",null,null,null,null,null,null,null,null,null,null,null,"Albemarle RPO",null,null,null,null,null,null,null,null,null,null,null,null,{"$f":"SUM(AF113+AG113+AH113+AI113+AK113+AM113+AO113+AQ113)","v":55},null,null,null,null,null,null,null,null,null,"Washington",null,null,null,null,null,null,null,null,null,null,null,null,null,1.04,null,null,null,null,null,null,null,null,null,null,36.369999999999997,null,null,null,null,null,null,null,null,null,null,null,null,null,null,null,null,null,null,null,null,null,null,null,null,null,null,null,null,null,null,null,null,350000,null,369000]
["A130416","Hertford","Peanut Belt RPO","Aviation","Division Needs",null,"Tri-County",null,null,"Design",null,559913,null,null,null,null,null,null,14.48,null,null,"N/A",null,18353.891793552193,null,null,"Yes",{"$f":"IF(AC114=\"Yes\",10,0)","v":0},null,{"$f":"IF(AE114=\"Yes\",10,0)","v":0},null,0,0,15,10,"Yes",15,"Minimal",10,"Yes",{"$f":"IF(AP114=\"Yes\",5,0)","v":5},"Yes",0,"No",null,null,null,null,null,null,null,null,null,null,null,"Peanut Belt RPO",null,null,null,null,null,null,null,null,null,null,null,null,{"$f":"SUM(AF114+AG114+AH114+AI114+AK114+AM114+AO114+AQ114)","v":55},null,null,null,null,null,null,null,null,null,"Hertford",null,null,null,null,null,null,null,null,null,null,null,null,null,0.85,null,null,null,null,null,null,null,null,null,null,35.89,null,null,null,null,null,null,null,null,null,null,null,null,null,null,null,null,null,null,null,null,null,null,null,null,null,null,null,null,null,null,null,null,622125,null,559913]
["A130005","Hyde","Albemarle RPO","Aviation","Division Needs",null,"Hyde County",null,null,"Design",null,328275,null,null,null,null,null,null,14.08,6.75,null,"N/A",null,33229.577892499241,null,null,"Yes",{"$f":"IF(AC115=\"Yes\",10,0)","v":0},null,{"$f":"IF(AE115=\"Yes\",10,0)","v":0},null,0,0,15,10,"Yes",15,"Minimal",10,"Yes",{"$f":"IF(AP115=\"Yes\",5,0)","v":5},"Yes",0,"No",null,null,null,null,null,null,null,null,null,null,null,"Albemarle RPO",null,null,null,null,null,null,null,null,null,null,null,null,{"$f":"SUM(AF115+AG115+AH115+AI115+AK115+AM115+AO115+AQ115)","v":55},null,null,null,null,null,null,null,null,null,"Hyde",null,null,null,null,null,null,null,null,null,null,null,null,null,0.89,null,null,null,null,null,null,null,null,null,null,11.1,null,null,null,null,null,null,null,null,null,null,null,null,null,null,null,null,null,null,null,null,null,null,null,null,null,null,null,null,null,null,null,null,364750,null,328275]
["A130043","Washington","Albemarle RPO","Aviation","Division Needs",null,"Plymouth Municipal Airport",null,null,"Design",null,666000,null,null,null,null,null,null,11.07,6,null,"N/A",null,17607.495611344937,null,null,"Yes",{"$f":"IF(AC116=\"Yes\",10,0)","v":0},null,{"$f":"IF(AE116=\"Yes\",10,0)","v":0},null,0,0,15,10,"Yes",15,"Minimal",10,"Yes",{"$f":"IF(AP116=\"Yes\",5,0)","v":5},"Yes",0,"No",null,null,null,null,null,null,null,null,null,null,null,"Albemarle RPO",null,null,null,null,null,null,null,null,null,null,null,null,{"$f":"SUM(AF116+AG116+AH116+AI116+AK116+AM116+AO116+AQ116)","v":55},null,null,null,null,null,null,null,null,null,"Washington",null,null,null,null,null,null,null,null,null,null,null,null,null,1.04,null,null,null,null,null,null,null,null,null,null,36.369999999999997,null,null,null,null,null,null,null,null,null,null,null,null,null,null,null,null,null,null,null,null,null,null,null,null,null,null,null,null,null,null,null,null,740000,null,666000]
["A130035","Currituck","Albemarle RPO","Aviation","Division Needs",null,"Currituck County Regional",null,null,"Install MALS/MALSF/MALSR",null,450000,null,null,null,null,null,null,10.42,13.5,null,"N/A",null,6317.5983018295765,null,null,"Yes",{"$f":"IF(AC117=\"Yes\",10,0)","v":0},null,{"$f":"IF(AE117=\"Yes\",10,0)","v":0},null,0,0,15,10,"Yes",15,"Minimal",10,"Yes",{"$f":"IF(AP117=\"Yes\",5,0)","v":5},"Yes",0,"No",null,null,null,null,null,null,null,null,null,null,null,"Albemarle RPO",null,null,null,null,null,null,null,null,null,null,null,null,{"$f":"SUM(AF117+AG117+AH117+AI117+AK117+AM117+AO117+AQ117)","v":55},null,null,null,null,null,null,null,null,null,"Currituck",null,null,null,null,null,null,null,null,null,null,null,null,null,1.04,null,null,null,null,null,null,null,null,null,null,68.489999999999995,null,null,null,null,null,null,null,null,null,null,null,null,null,null,null,null,null,null,null,null,null,null,null,null,null,null,null,null,null,null,null,null,500000,null,450000]
["B141353","Pasquotank","Albemarle RPO","Bike & Ped","Division Needs",null,"River Road","Weeksville Road - NC-344  ","Ehringhaus Street","Construct multi-use path and pedestrian crosswalks to connect Middle School and subdivisions","2. Construct multi-use trail / greenway / sidepath or on-road bike lane on local roadway",420000,null,null,null,null,null,null,8.4542459855749996,8.25,null,"N/A",null,2004.7520047520045,null,null,"Yes",null,null,null,null,0,5,15,10,"Yes",15,"Minimal",10,"Yes",{"$f":"IF(AP118=\"Yes\",10,0)","v":0},"No",0,"No",null,null,12.5,null,null,null,null,null,null,null,null,"Albemarle RPO",null,null,null,null,null,null,null,null,null,null,null,null,{"$f":"SUM(AF118+AG118+AH118+AI118+AK118+AM118+AO118)","v":55},null,null,null,null,{"$f":"S118+BU118*0.25","v":8.4542459855749996},null,null,null,null,"Pasquotank County",null,null,null,null,null,null,null,null,null,null,null,null,null,1.1200000000000001,null,null,null,null,null,null,null,null,null,null,481,null,null,null,null,null,null,null,null,null,null,null,null,null,null,null,null,null,null,null,null,null,null,null,null,null,null,null,null,null,400000,300000,null,720000,0,1080000]
["A130376","Martin","Mid-East RPO","Aviation","Division Needs",null,"Martin County ",null,null,"Land Acquisition",null,459000,null,null,null,null,null,null,10.199999999999999,null,null,"N/A",null,39185.555128697662,null,null,"Yes",{"$f":"IF(AC119=\"Yes\",10,0)","v":0},null,{"$f":"IF(AE119=\"Yes\",10,0)","v":0},null,0,{"$f":"IF(X119<999,20,IF(X119<1499,15,IF(X119<1999,10,IF(X119<3999,5,IF(X119>4000,0)))))","v":0},15,10,"Yes",15,"Minimal",10,"Yes",{"$f":"IF(AP119=\"Yes\",5,0)","v":5},"Yes",{"$f":"IF(AR119=\"Yes\",10,0)","v":0},"No",null,null,null,null,null,null,null,null,null,null,null,"Mid-East RPO",null,null,null,null,null,null,null,null,null,null,null,null,{"$f":"SUM(AF119+AG119+AH119+AI119+AK119+AM119+AO119+AQ119)","v":55},null,null,null,null,null,null,null,null,null,"Martin",null,null,null,null,null,null,null,null,null,null,null,null,null,0.95,null,null,null,null,null,null,null,null,null,null,12.33,null,null,null,null,null,null,null,null,null,null,null,null,null,null,null,null,null,null,null,null,null,null,null,null,null,null,null,null,null,null,null,null,510000,null,459000]
["A130024","Dare","Albemarle RPO","Aviation","Division Needs",null,"Dare County Regional",null,null,"Construct/expand or repair",null,499500,null,null,null,null,null,null,9.1300000000000008,9.75,null,"N/A",null,13116.846284741918,null,null,"Yes",0,null,0,null,0,0,15,10,"Yes",{"$f":"IF(AL120=\"Minimal\",15,0)","v":15},"Minimal",10,"Yes",5,"Yes",0,"No",null,null,null,null,null,null,null,null,null,null,null,"Albemarle RPO",null,null,null,null,null,null,null,null,null,null,null,null,55,null,null,null,null,null,null,null,null,null,"Dare",null,null,null,null,null,null,null,null,null,null,null,null,null,0.82,null,null,null,null,null,null,null,null,null,null,46.44,null,null,null,null,null,null,null,null,null,null,null,null,null,null,null,null,null,null,null,null,null,null,null,null,null,null,null,null,null,null,null,null,555000,null,499500]
["A130015","Chowan","Albemarle RPO","Aviation","Division Needs",null,"Northeastern Regional",null,null,"Reconstruct/Rehabilitate/Overlay",null,801000,null,null,null,null,null,null,9.06,8.25,null,"N/A",null,18316.777344821909,null,null,"Yes",0,null,0,null,0,0,15,10,"Yes",15,"Minimal",10,"Yes",5,"Yes",0,"No",null,null,null,null,null,null,null,null,null,null,null,"Albemarle RPO",null,null,null,null,null,null,null,null,null,null,null,null,55,null,null,null,null,null,null,null,null,null,"Chowan",null,null,null,null,null,null,null,null,null,null,null,null,null,1.1399999999999999,null,null,null,null,null,null,null,null,null,null,38.36,null,null,null,null,null,null,null,null,null,null,null,null,null,null,null,null,null,null,null,null,null,null,null,null,null,null,null,null,null,null,null,null,890000,null,801000]
["A130020","Dare","Albemarle RPO","Aviation","Division Needs",null,"Dare County Regional",null,null,"Design",null,810000,null,null,null,null,null,null,8.7799999999999994,9.75,null,"N/A",null,21270.561542824733,null,null,"Yes",0,null,0,null,0,0,15,10,"Yes",15,"Minimal",10,"Yes",5,"Yes",0,"No",null,null,null,null,null,null,null,null,null,null,null,"Albemarle RPO",null,null,null,null,null,null,null,null,null,null,null,null,55,null,null,null,null,null,null,null,null,null,"Dare",null,null,null,null,null,null,null,null,null,null,null,null,null,0.82,null,null,null,null,null,null,null,null,null,null,46.44,null,null,null,null,null,null,null,null,null,null,null,null,null,null,null,null,null,null,null,null,null,null,null,null,null,null,null,null,null,null,null,null,900000,null,810000]
["A130021","Dare","Albemarle RPO","Aviation","Division Needs",null,"Dare County Regional",null,null,"Clearing/grading/Drainage/paving/marking/lighting/signage",null,189000,null,null,null,null,null,null,8.74,9.75,null,"N/A",null,4963.1310266591045,null,null,"Yes",0,null,0,null,0,0,15,10,"Yes",15,"Minimal",10,"Yes",5,"Yes",0,"No",null,null,null,null,null,null,null,null,null,null,null,"Albemarle RPO",null,null,null,null,null,null,null,null,null,null,null,null,55,null,null,null,null,null,null,null,null,null,"Dare",null,null,null,null,null,null,null,null,null,null,null,null,null,0.82,null,null,null,null,null,null,null,null,null,null,46.44,null,null,null,null,null,null,null,null,null,null,null,null,null,null,null,null,null,null,null,null,null,null,null,null,null,null,null,null,null,null,null,null,210000,null,189000]
["A130023","Dare","Albemarle RPO","Aviation","Division Needs",null,"Dare County Regional",null,null,"Install Taxiway edge lighting",null,405000,null,null,null,null,null,null,8.1999999999999993,9.75,null,"N/A",null,10635.280771412366,null,null,"Yes",0,null,0,null,0,0,15,{"$f":"IF(AJ124=\"Yes\",10,0)","v":10},"Yes",15,"Minimal",10,"Yes",5,"Yes",0,"No",null,null,null,null,null,null,null,null,null,null,null,"Albemarle RPO",null,null,null,null,null,null,null,null,null,null,null,null,55,null,null,null,null,null,null,null,null,null,"Dare",null,null,null,null,null,null,null,null,null,null,null,null,null,0.82,null,null,null,null,null,null,null,null,null,null,46.44,null,null,null,null,null,null,null,null,null,null,null,null,null,null,null,null,null,null,null,null,null,null,null,null,null,null,null,null,null,null,null,null,450000,null,405000]
["A130041","Currituck","Albemarle RPO","Aviation","Division Needs",null,"Currituck County Regional",null,null,"Runway Overlay",null,3105000,null,null,null,null,null,null,8.17,13.5,null,"N/A",null,43591.428282624081,null,null,"Yes",0,null,0,null,0,0,15,10,"Yes",15,"Minimal",10,"Yes",5,"Yes",0,"No",null,null,null,null,null,null,null,null,null,null,null,"Albemarle RPO",null,null,null,null,null,null,null,null,null,null,null,null,55,null,null,null,null,null,null,null,null,null,"Currituck",null,null,null,null,null,null,null,null,null,null,null,null,null,1.04,null,null,null,null,null,null,null,null,null,null,68.489999999999995,null,null,null,null,null,null,null,null,null,null,null,null,null,null,null,null,null,null,null,null,null,null,null,null,null,null,null,null,null,null,null,null,3450000,null,3105000]
["A130017","Dare","Albemarle RPO","Aviation","Division Needs",null,"Dare County Regional",null,null,"Land Acquisition - Runway Approach",null,1980000,null,null,null,null,null,null,8.0500000000000007,9.75,null,"N/A",null,51994.705993571573,null,null,"Yes",0,null,0,null,0,0,15,10,"Yes",15,"Minimal",10,"Yes",5,"Yes",0,"No",null,null,null,null,null,null,null,null,null,null,null,"Albemarle RPO",null,null,null,null,null,null,null,null,null,null,null,null,55,null,null,null,null,null,null,null,null,null,"Dare",null,null,null,null,null,null,null,null,null,null,null,null,null,0.82,null,null,null,null,null,null,null,null,null,null,46.44,null,null,null,null,null,null,null,null,null,null,null,null,null,null,null,null,null,null,null,null,null,null,null,null,null,null,null,null,null,null,null,null,2200000,null,1980000]
["A130012","Chowan","Albemarle RPO","Aviation","Division Needs",null,"Northeastern Regional",null,null,"Design",null,420368,null,null,null,null,null,null,8.0399999999999991,8.25,null,"N/A",null,9612.7179262023674,null,null,"Yes",0,null,0,null,0,0,15,10,"Yes",15,"Minimal",10,"Yes",5,"Yes",0,"No",null,null,null,null,null,null,null,null,null,null,null,"Albemarle RPO",null,null,null,null,null,null,null,null,null,null,null,null,55,null,null,null,null,null,null,null,null,null,"Chowan",null,null,null,null,null,null,null,null,null,null,null,null,null,1.1399999999999999,null,null,null,null,null,null,null,null,null,null,38.36,null,null,null,null,null,null,null,null,null,null,null,null,null,null,null,null,null,null,null,null,null,null,null,null,null,null,null,null,null,null,null,null,467075,null,420368]
["A130022","Dare","Albemarle RPO","Aviation","Division Needs",null,"Dare County Regional",null,null,"Upgrade Existing Terminal Bldg.",null,675000,null,null,null,null,null,null,7.97,9.75,null,"N/A",null,17725.467952353945,null,null,"Yes",0,null,0,null,0,0,15,10,"Yes",15,"Minimal",10,"Yes",5,"Yes",0,"No",null,null,null,null,null,null,null,null,null,null,null,"Albemarle RPO",null,null,null,null,null,null,null,null,null,null,null,null,55,null,null,null,null,null,null,null,null,null,"Dare",null,null,null,null,null,null,null,null,null,null,null,null,null,0.82,null,null,null,null,null,null,null,null,null,null,46.44,null,null,null,null,null,null,null,null,null,null,null,null,null,null,null,null,null,null,null,null,null,null,null,null,null,null,null,null,null,null,null,null,750000,null,675000]
["A130002","Hyde","Albemarle RPO","Aviation","Division Needs",null,"Hyde County",null,null,"Upgrade Existing Terminal Bldg.",null,675000,null,null,null,null,null,null,7.95,6.75,null,"N/A",null,68326.753720012144,null,null,"Yes",0,null,0,null,0,0,15,10,"Yes",15,"Minimal",10,"Yes",5,"Yes",0,"No",null,null,null,null,null,null,null,null,null,null,null,"Albemarle RPO",null,null,null,null,null,null,null,null,null,null,null,null,55,null,null,null,null,null,null,null,null,null,"Hyde",null,null,null,null,null,null,null,null,null,null,null,null,null,0.89,null,null,null,null,null,null,null,null,null,null,11.1,null,null,null,null,null,null,null,null,null,null,null,null,null,null,null,null,null,null,null,null,null,null,null,null,null,null,null,null,null,null,null,null,750000,null,675000]
["A130027","Dare","Albemarle RPO","Aviation","Division Needs",null,"Dare County Regional",null,null,"Relocate TVOR",null,382500,null,null,null,null,null,null,7.87,9.75,null,"N/A",null,10044.431839667235,null,null,"Yes",0,null,0,null,0,0,15,10,"Yes",15,"Minimal",10,"Yes",5,"Yes",0,"No",null,null,null,null,null,null,null,null,null,null,null,"Albemarle RPO",null,null,null,null,null,null,null,null,null,null,null,null,55,null,null,null,null,null,null,null,null,null,"Dare",null,null,null,null,null,null,null,null,null,null,null,null,null,0.82,null,null,null,null,null,null,null,null,null,null,46.44,null,null,null,null,null,null,null,null,null,null,null,null,null,null,null,null,null,null,null,null,null,null,null,null,null,null,null,null,null,null,null,null,425000,null,382500]
["A130040","Currituck","Albemarle RPO","Aviation","Division Needs",null,"Currituck County Regional",null,null,"Environmental Assessment",null,2475000,null,null,null,null,null,null,7.86,13.5,null,"N/A",null,34746.790660062674,null,null,"Yes",0,null,0,null,0,0,15,10,"Yes",15,"Minimal",10,"Yes",5,"Yes",0,"No",null,null,null,null,null,null,null,null,null,null,null,"Albemarle RPO",null,null,null,null,null,null,null,null,null,null,null,null,55,null,null,null,null,null,null,null,null,null,"Currituck",null,null,null,null,null,null,null,null,null,null,null,null,null,1.04,null,null,null,null,null,null,null,null,null,null,68.489999999999995,null,null,null,null,null,null,null,null,null,null,null,null,null,null,null,null,null,null,null,null,null,null,null,null,null,null,null,null,null,null,null,null,2750000,null,2475000]
["A130026","Dare","Albemarle RPO","Aviation","Division Needs",null,"Dare County Regional",null,null,"Hangers and Economic Development",null,270000,null,null,null,null,null,null,6.97,9.75,null,"N/A",null,7090.1871809415779,null,null,"Yes",0,null,0,null,0,0,15,10,"Yes",15,"Minimal",10,"Yes",5,"Yes",0,"No",null,null,null,null,null,null,null,null,null,null,null,"Albemarle RPO",null,null,null,null,null,null,null,null,null,null,null,null,55,null,null,null,null,null,null,null,null,null,"Dare",null,null,null,null,null,null,null,null,null,null,null,null,null,0.82,null,null,null,null,null,null,null,null,null,null,46.44,null,null,null,null,null,null,null,null,null,null,null,null,null,null,null,null,null,null,null,null,null,null,null,null,null,null,null,null,null,null,null,null,300000,null,270000]
["A130013","Chowan","Albemarle RPO","Aviation","Division Needs",null,"Northeastern Regional",null,null,"Design",null,680760,null,null,null,null,null,null,6.68,8.25,null,"N/A",null,15567.202678228419,null,null,"Yes",0,null,0,null,0,0,15,10,"Yes",15,"Minimal",10,"Yes",5,"Yes",0,"No",null,null,null,null,null,null,null,null,null,null,null,"Albemarle RPO",null,null,null,null,null,null,null,null,null,null,null,null,55,null,null,null,null,null,null,null,null,null,"Chowan",null,null,null,null,null,null,null,null,null,null,null,null,null,1.1399999999999999,null,null,null,null,null,null,null,null,null,null,38.36,null,null,null,null,null,null,null,null,null,null,null,null,null,null,null,null,null,null,null,null,null,null,null,null,null,null,null,null,null,null,null,null,756400,null,680760]
["A130414","Hertford","Peanut Belt RPO","Aviation","Division Needs",null,"Tri-County",null,null,"Upgrade Existing Terminal Bldg.",null,225000,null,null,null,null,null,null,6.66,null,null,"N/A",null,7375.4773572845133,null,null,"Yes",0,null,0,null,0,0,15,10,"Yes",15,"Minimal",10,"Yes",5,"Yes",0,"No",null,null,null,null,null,null,null,null,null,null,null,"Peanut Belt RPO",null,null,null,null,null,null,null,null,null,null,null,null,55,null,null,null,null,null,null,null,null,null,"Hertford",null,null,null,null,null,null,null,null,null,null,null,null,null,0.85,null,null,null,null,null,null,null,null,null,null,35.89,null,null,null,null,null,null,null,null,null,null,null,null,null,null,null,null,null,null,null,null,null,null,null,null,null,null,null,null,null,null,null,null,250000,null,225000]
["A130373","Martin","Mid-East RPO","Aviation","Division Needs",null,"Martin County ",null,null,"Design",null,369000,null,null,null,null,null,null,6.54,null,null,"N/A",null,31502.112946600078,null,null,"Yes",0,null,0,null,0,0,15,10,"Yes",15,"Minimal",10,"Yes",5,"Yes",0,"No",null,null,null,null,null,null,null,null,null,null,null,"Mid-East RPO",null,null,null,null,null,null,null,null,null,null,null,null,55,null,null,null,null,null,null,null,null,null,"Martin",null,null,null,null,null,null,null,null,null,null,null,null,null,0.95,null,null,null,null,null,null,null,null,null,null,12.33,null,null,null,null,null,null,null,null,null,null,null,null,null,null,null,null,null,null,null,null,null,null,null,null,null,null,null,null,null,null,null,null,410000,null,369000]
["A130047","Washington","Albemarle RPO","Aviation","Division Needs",null,"Plymouth Municipal Airport",null,null,"AWOS Installation",null,193500,null,null,null,null,null,null,6.1,6,null,"N/A",null,5102.4724519362962,null,null,"Yes",0,null,0,null,0,0,15,10,"Yes",15,"Minimal",10,"Yes",5,"Yes",0,"No",null,null,null,null,null,null,null,null,null,null,null,"Albemarle RPO",null,null,null,null,null,null,null,null,null,null,null,null,55,null,null,null,null,null,null,null,null,null,"Washington",null,null,null,null,null,null,null,null,null,null,null,null,null,1.04,null,null,null,null,null,null,null,null,null,null,36.369999999999997,null,null,null,null,null,null,null,null,null,null,null,null,null,null,null,null,null,null,null,null,null,null,null,null,null,null,null,null,null,null,null,null,215000,null,193000]
["A130025","Dare","Albemarle RPO","Aviation","Division Needs",null,"Dare County Regional",null,null,"Hangers and Economic Development",null,468000,null,null,null,null,null,null,5.56,9.75,null,"N/A",null,12289.657780298734,null,null,"Yes",0,null,0,null,{"$f":"IF(AU137<30,0,IF(AU137<50,5,IF(AU137<65,10,IF(AU137<79,15,IF(AU137>80,20)))))","v":0},0,{"$f":"IF(AA137=\"Yes\",15,0)","v":15},10,"Yes",15,"Minimal",{"$f":"IF(AN137=\"Yes\",10,0)","v":10},"Yes",5,"Yes",0,"No",null,null,null,null,null,null,null,null,null,null,null,"Albemarle RPO",null,null,null,null,null,null,null,null,null,null,null,null,55,null,null,null,null,null,null,null,null,null,"Dare",null,null,null,null,null,null,null,null,null,null,null,null,null,0.82,null,null,null,null,null,null,null,null,null,null,46.44,null,null,null,null,null,null,null,null,null,null,null,null,null,null,null,null,null,null,null,null,null,null,null,null,null,null,null,null,null,null,null,null,520000,null,468000]
["A130037","Currituck","Albemarle RPO","Aviation","Division Needs",null,"Currituck County Regional",null,null,"Hangers and Economic Development",null,1080000,null,null,null,null,null,null,5.56,15,null,"N/A",null,15162.235924390983,null,null,"Yes",0,null,0,null,0,0,15,10,"Yes",15,"Minimal",10,"Yes",5,"Yes",0,"No",null,null,null,null,null,null,null,null,null,null,null,"Albemarle RPO",null,null,null,null,null,null,null,null,null,null,null,null,55,null,null,null,null,null,null,null,null,null,"Currituck",null,null,null,null,null,null,null,null,null,null,null,null,null,1.04,null,null,null,null,null,null,null,null,null,null,68.489999999999995,null,null,null,null,null,null,null,null,null,null,null,null,null,null,null,null,null,null,null,null,null,null,null,null,null,null,null,null,null,null,null,null,1125000,null,1080000]
["A130038","Currituck","Albemarle RPO","Aviation","Division Needs",null,"Currituck County Regional",null,null,"Hangers and Economic Development",null,1012500,null,null,null,null,null,null,5.56,13.5,null,"N/A",null,14214.596179116548,null,null,"Yes",0,null,0,null,0,0,15,10,"Yes",15,"Minimal",10,"Yes",5,"Yes",0,"No",null,null,null,null,null,null,null,null,null,null,null,"Albemarle RPO",null,null,null,null,null,null,null,null,null,null,null,null,55,null,null,null,null,null,null,null,null,null,"Currituck",null,null,null,null,null,null,null,null,null,null,null,null,null,1.04,null,null,null,null,null,null,null,null,null,null,68.489999999999995,null,null,null,null,null,null,null,null,null,null,null,null,null,null,null,null,null,null,null,null,null,null,null,null,null,null,null,null,null,null,null,null,1125000,null,1012500]
["A130039","Currituck","Albemarle RPO","Aviation","Division Needs",null,"Currituck County Regional",null,null,"Hangers and Economic Development",null,1813500,null,null,null,null,null,null,5.56,13.5,null,"N/A",null,25459.921156373195,null,null,"Yes",0,null,0,null,0,0,15,10,"Yes",15,"Minimal",10,"Yes",5,"Yes",0,"No",null,null,null,null,null,null,null,null,null,null,null,"Albemarle RPO",null,null,null,null,null,null,null,null,null,null,null,null,55,null,null,null,null,null,null,null,null,null,"Currituck",null,null,null,null,null,null,null,null,null,null,null,null,null,1.04,null,null,null,null,null,null,null,null,null,null,68.489999999999995,null,null,null,null,null,null,null,null,null,null,null,null,null,null,null,null,null,null,null,null,null,null,null,null,null,null,null,null,null,null,null,null,2015000,null,1813500]
["A130034","Currituck","Albemarle RPO","Aviation","Division Needs",null,"Currituck County Regional",null,null,"Corporate & T-hanger Taxiways",null,2547000,null,null,null,null,null,null,4.26,15,null,"N/A",null,35757.606388355402,null,null,"Yes",0,null,0,null,0,0,15,10,"Yes",15,"Minimal",10,"Yes",5,"Yes",0,"No",null,null,null,null,null,null,null,null,null,null,null,"Albemarle RPO",null,null,null,null,null,null,null,null,null,null,null,null,55,null,null,null,null,null,null,null,null,null,"Currituck",null,null,null,null,null,null,null,null,null,null,null,null,null,1.04,null,null,null,null,null,null,null,null,null,null,68.489999999999995,null,null,null,null,null,null,null,null,null,null,null,null,null,null,null,null,null,null,null,null,null,null,null,null,null,null,null,null,null,null,null,null,2830000,null,2547000]
["A130014","Chowan","Albemarle RPO","Aviation","Division Needs",null,"Northeastern Regional",null,null,"Hangers and Economic Development",null,1048500,null,null,null,null,null,null,4.0599999999999996,8.25,null,"N/A",null,23976.455737884862,null,null,"Yes",0,null,0,null,0,0,15,10,"Yes",15,"Minimal",10,"Yes",5,"Yes",0,"No",null,null,null,null,null,null,null,null,null,null,null,"Albemarle RPO",null,null,null,null,null,null,null,null,null,null,null,null,55,null,null,null,null,null,null,null,null,null,"Chowan",null,null,null,null,null,null,null,null,null,null,null,null,null,1.1399999999999999,null,null,null,null,null,null,null,null,null,null,38.36,null,null,null,null,null,null,null,null,null,null,null,null,null,null,null,null,null,null,null,null,null,null,null,null,null,null,null,null,null,null,null,null,1165000,null,1048500]
["A130044","Washington","Albemarle RPO","Aviation","Division Needs",null,"Plymouth Municipal Airport",null,null,"Hangers and Economic Development",null,310500,null,null,null,null,null,null,3.56,6,null,"N/A",null,8208.8999809648703,null,null,"Yes",0,null,0,null,0,0,15,10,"Yes",15,"Minimal",10,"Yes",5,"Yes",0,"No",null,null,null,null,null,null,null,null,null,null,null,"Albemarle RPO",null,null,null,null,null,null,null,null,null,null,null,null,55,null,null,null,null,null,null,null,null,null,"Washington",null,null,null,null,null,null,null,null,null,null,null,null,null,1.04,null,null,null,null,null,null,null,null,null,null,36.369999999999997,null,null,null,null,null,null,null,null,null,null,null,null,null,null,null,null,null,null,null,null,null,null,null,null,null,null,null,null,null,null,null,null,345000,null,310500]
["A130045","Washington","Albemarle RPO","Aviation","Division Needs",null,"Plymouth Municipal Airport",null,null,"Hangers and Economic Development",null,760500," ",null," ",null,null,null,3.56,6,null,"N/A",null,{"$f":"(EI144/CZ144)/CO144","v":5115.6912924853541},null,null,"Yes",0,null,0,null,0,0,15,10,"Yes",15,"Minimal",10,"Yes",5,"Yes",0,"No",null,null,null,null,null,null,null,null,null,null,null,"Albemarle RPO",null,null,null,null,null,null,null,null,null,null,null,null,55,null,null,null,null,null,null,null,null,null,"Washington",null,null,null,null,null,null,null,null,null,null,null,null,null,1.04,null,null,null,null,null,null,null,null,null,null,36.369999999999997,null,null,null,null,null,null,null,null,null,null,null,null,null,null,null,null,null,null,null,null,null,null,null,null,null,null,null,null,null,null,null,null,845000,null,193500]
["A130375","Martin","Mid-East RPO","Aviation","Division Needs",null,"Martin County ",null,null,"Hangers and Economic Development",null,535500," ",null," ",null,null,null,3.5,null,null,"N/A",null,45716.4809834806,null,null,"Yes",0,null,0,null,0,0,15,10,"Yes",15,"Minimal",10,"Yes",5,"Yes",0,"No",null,null,null,null,null,null,null,null,null,null,null,"Mid-East RPO",null,null,null,null,null,null,null,null,null,null,null,null,55,null,null,null,null,null,null,null,null,null,"Martin",null,null,null,null,null,null,null,null,null,null,null,null,null,0.95,null,null,null,null,null,null,null,null,null,null,12.33,null,null,null,null,null,null,null,null,null,null,null,null,null,null,null,null,null,null,null,null,null,null,null,null,null,null,null,null,null,null,null,null,595000,null,535500]
["A130003","Hyde","Albemarle RPO","Aviation","Division Needs",null,"Hyde County",null,null,"Hangers and Economic Development",null,990000," ",null," ",null,null,null,3.16,6.75,null,"N/A",null,100212.57212268448,null,null,"Yes",0,null,0,null,0,0,15,10,"Yes",15,"Minimal",10,"Yes",5,"Yes",0,"No",null,null,null,null,null,null,null,null,null,null,null,"Albemarle RPO",null,null,null,null,null,null,null,null,null,null,null,null,55,null,null,null,null,null,null,null,null,null,"Hyde",null,null,null,null,null,null,null,null,null,null,null,null,null,0.89,null,null,null,null,null,null,null,null,null,null,11.1,null,null,null,null,null,null,null,null,null,null,null,null,null,null,null,null,null,null,null,null,null,null,null,null,null,null,null,null,null,null,null,null,1100000,null,990000]
["A130004","Hyde","Albemarle RPO","Aviation","Division Needs",null,"Hyde County",null,null,"other",null,2070000," ",null," ",null,null,null,3.16,6.75,null,"N/A",null,209535.37807470391,null,null,"Yes",0,null,0,null,0,0,15,10,"Yes",15,"Minimal",10,"Yes",5,"Yes",0,"No",null,null,null,null,null,null,null,null,null,null,null,"Albemarle RPO",null,null,null,null,null,null,null,null,null,null,null,null,55,null,null,null,null,null,null,null,null,null,"Hyde",null,null,null,null,null,null,null,null,null,null,null,null,null,0.89,null,null,null,null,null,null,null,null,null,null,11.1,null,null,null,null,null,null,null,null,null,null,null,null,null,null,null,null,null,null,null,null,null,null,null,null,null,null,null,null,null,null,null,null,2300000,null,2070000]
["A130374","Martin","Mid-East RPO","Aviation","Division Needs",null,"Martin County ",null,null,"Hangers and Economic Development",null,211500," ",null," ",null,null,null,3.16,null,null,"N/A",null,18056.08912792931,null,null,"Yes",0,null,0,null,0,0,15,10,"Yes",15,"Minimal",10,"Yes",5,"Yes",0,"No",null,null,null,null,null,null,null,null,null,null,null,"Mid-East RPO",null,null,null,null,null,null,null,null,null,null,null,null,55,null,null,null,null,null,null,null,null,null,"Martin",null,null,null,null,null,null,null,null,null,null,null,null,null,0.95,null,null,null,null,null,null,null,null,null,null,12.33,null,null,null,null,null,null,null,null,null,null,null,null,null,null,null,null,null,null,null,null,null,null,null,null,null,null,null,null,null,null,null,null,235000,null,211500]
["A130001",null,null,"Aviation","Division Needs",null,"Hyde County",null,null,"Design",null,622440,null,null,null,null,null,null,25.97,6.75,null,"N/A",null,63006.37716368054,null,null,"Yes",0,null,0,null,0,0,15,10,"Yes",15,"Minimal",10,"Yes",5,"Yes",0,"No",null,null,null,null,null,null,null,null,null,null,null,"Albemarle RPO",null,null,null,null,null,null,null,null,null,null,null,null,55,null,null,null,null,null,null,null,null,null,"Hyde",null,null,null,null,null,null,null,null,null,null,null,null,null,0.89,null,null,null,null,null,null,null,null,null,null,11.1,null,null,null,null,null,null,null,null,null,null,null,null,null,null,null,null,null,null,null,null,null,null,null,null,null,null,null,null,null,null,null,null,691600,null,622440]
["H129108","Martin","Mid-East RPO","Highway","Regional Impact","R-3826","NC-125 NC 125","SR 1182 (East of College Road)","NC 125 Northwest of Williamston","Construct Two Lanes, Part on New Location","5 - Construct Roadway on New Location",13455000,null,null,16.96,{"$f":"(V150+W150+Y150+Z150+AB150+AD150)","v":50},null,{"$f":"O150+P150+Q150","v":66.960000000000008},13.65,null,null,{"$f":"IF(AU150<30,0,IF(AU150<50,5,IF(AU150<65,10,IF(AU150>66,15))))","v":5},{"$f":"IF(X150<499,15,IF(X150<999,10,IF(X150<1499,5,IF(X150>1500,0))))","v":10},807.05092750951746,{"$f":"IF(DD150<500,0,IF(DD150<1000,5,IF(DD150>1000,10)))","v":0},{"$f":"IF(AA150=\"Yes\",15,0)","v":15},"Yes",10,"Yes",10,"Yes",5,{"$f":"IF(BM148<999,20,IF(BM148<1499,15,IF(BM148<1999,10,IF(BM148<3999,5,IF(BM148>4000,0)))))","v":20},15,10,"Yes",15,"Minimal",10,"Yes",{"$f":"IF(AP150=\"Yes\",10,0)","v":0},"No",0,"No",22.757972274033232,4.6692109996283913,34.092816780692999,2.0332975245396128,"N/A",11.222159958999999,25,50,null,null,null,"Mid-East RPO",100,"","","","","01",100,"","","","",{"$f":"SUM(V150+W150+Y150+Z150+AB150+AD150)","v":50},75,null,null,100,100,{"$f":"S150+BU150*0.25","v":38.65},null,null,{"$f":"O150+BT150*0.25","v":41.96},null,"Martin",100,"","","","","","",1,"A","01, , ","Mid-East RPO, , ","Martin, , , ",3.6,2.3084244100000002,"Arterial","Arterial",1,1,"Undivided","Undivided",42,40,5.6307186107274996,94.369281389272501,7222.1599589999996,21809.21213,0.33115180484055384,6815.5004540920772,406.65950490792255,2633056.1127941757,157106.18793675935,2790162.3007309353,62824234,27.046175269999999,38.234234950000001,37.008268989999998,"","","","","No","No",11,12,"No",0,2,"New Roadway","2B - 2 Lane Undivided with Paved Shoulders, 25-45 mph","None","None",1,"No",22,10800000,2400000,255000,13455000,"",13455000,13455000,""]
["H141741","Bertie","Peanut Belt RPO","Highway","Regional Impact","","NC-45 ","Hertford County Line","Washington County Line","Currently a 2- lane major thoroughfare with high truck percentage, this project recommends road be widened to 24 feet with paved shoulders and turn lanes where necessary through Bertie County, with safety and mobility the primary purpose.\n","1 - Widen Existing Roadway",130375000,null,null,9.07,{"$f":"(V151+W151+Y151+Z151+AB151+AD151)","v":45},null,{"$f":"O151+P151+Q151","v":54.07},6.88,null,null,{"$f":"IF(AU151<30,0,IF(AU151<50,5,IF(AU151<65,10,IF(AU151>66,15))))","v":5},{"$f":"IF(X151<499,15,IF(X151<999,10,IF(X151<1499,5,IF(X151>1500,0))))","v":0},2103.5491872249895,{"$f":"IF(DD151<500,0,IF(DD151<1000,5,IF(DD151>1000,10)))","v":5},{"$f":"IF(AA151=\"Yes\",15,0)","v":15},"Yes",10,"Yes",10,"Yes",5,{"$f":"IF(BM149<999,20,IF(BM149<1499,15,IF(BM149<1999,10,IF(BM149<3999,5,IF(BM149>4000,0)))))","v":20},15,10,"Yes",15,"Minimal",10,"Yes",0,"No",{"$f":"IF(AR151=\"Yes\",10,0)","v":0},"No",10.66617998102131,1.6161204218600192E-2,33.133862619032996,2.6845429695994789,"N/A",16.497368424559369,25,0,null,null,null,"Peanut Belt RPO",100,"Albemarle RPO","","","","01",100,"","","","",{"$f":"SUM(V151+W151+Y151+Z151+AB151+AD151)","v":45},75,null,null,null,null,6.88,null,"Exceeds cap of $15 million for Statewide & Regional Projects cascading to Division Needs",{"$f":"O151+BT151*0.25","v":9.07},null,"Bertie",100,"Washington","","","","","",1,"A","01, , ","Peanut Belt RPO, Albemarle RPO, ","Bertie, Washington, , ",24.817557310000002,24.817557310000002,"Two Lane Highway","Two Lane Highway",1,1,"Undivided","TWLTL",55,55,21.498974225824398,78.501025774175602,2497.3684245593699,15500,0.16112054351995936,1960.4598306394741,536.90859391989579,68999.968866657597,18896.932079771112,87896.900946428708,2107017,34.606511580000003,28.184745840000001,36.620271590000002,"","","","","No","No",11,12,"No",0,0,"2 Lane Undivided","3A - 2 Lane with Two Way Left Turn Lane, and Paved Shoulders","None","None",1,"No",27,108729000,19327000,2319000,130375000,"",130375000,130375000,""]
["H141680","Northampton","Peanut Belt RPO","Highway","Regional Impact","","NC-46 ","Virginia State Line","NC 48 in Gaston","Currently a 2-lane major thoroughfare from the Virginia State Line to NC 48 (TIP#U-2419), this project recommends to upgrade the existing facility to 24 feet w/ paved shoulders; while modifying sharp horizontal curves. This would provide safer maneuvering in a 12-foot lane; while tying in bike lane recommendations.\n","16 - Modernize Roadway",8587000,null,null,12.09,{"$f":"(V152+W152+Y152+Z152+AB152+AD152)","v":55},null,{"$f":"O152+P152+Q152","v":67.09},8.89,null,null,{"$f":"IF(AU152<30,0,IF(AU152<50,5,IF(AU152<65,10,IF(AU152>66,15))))","v":5},{"$f":"IF(X152<499,15,IF(X152<999,10,IF(X152<1499,5,IF(X152>1500,0))))","v":15},226.17036161740458,{"$f":"IF(DD152<500,0,IF(DD152<1000,5,IF(DD152>1000,10)))","v":0},{"$f":"IF(AA152=\"Yes\",15,0)","v":15},"Yes",10,"Yes",10,"Yes",5,{"$f":"IF(BM150<999,20,IF(BM150<1499,15,IF(BM150<1999,10,IF(BM150<3999,5,IF(BM150>4000,0)))))","v":0},15,10,"Yes",15,"Minimal",10,"Yes",0,"No",0,"No",15.582930485979688,0,48.359228950130998,1.1083439460534406,"N/A",17.64857133735174,25,0,null,null,null,"Peanut Belt RPO",100,"","","","","01",100,"","","","",{"$f":"SUM(V152+W152+Y152+Z152+AB152+AD152)","v":55},55,null,null,100,100,33.89,null,null,{"$f":"O152+BT152*0.25","v":37.090000000000003},null,"Northampton",100,"","","","","","",1,"A","01, , ","Peanut Belt RPO, , ","Northampton, , , ",10.4059785999999,10.4059785999999,"Two Lane Highway","Two Lane Highway",1,1,"Undivided","Undivided",55,55,6.0754955492136,93.924504450786401,3648.5713373517401,15500,0.23539169918398323,3426.9025481410522,221.66878921068809,0,0,0,0,52.554759300000001,46.363860670000001,46.173576099999998,"","","","","No","No",11,12,"No",2,0,"2 Lane Undivided","3A - 2 Lane with Two Way Left Turn Lane, and Paved Shoulders","None","None",1,"No",27,8587000,0,0,8587000,"",8587000,8587000,""]
["H129676-B","Hertford","Peanut Belt RPO","Highway","Statewide Mobility","R-5311B","US-13 , NC-11 ","NC 11/NC 561 Near Ahoskie","US 158/NC 45 Near Winton","Widen to Multi-Lanes.","1 - Widen Existing Roadway",78190000,14.294078398139709,null,10.371087217043794,{"$f":"(V153+W153+Y153+Z153+AB153+AD153)","v":45},null,{"$f":"O153+P153+Q153","v":55.371087217043794},6.9127386775858319,null,null,{"$f":"IF(AU153<30,0,IF(AU153<50,5,IF(AU153<65,10,IF(AU153>66,15))))","v":5},{"$f":"IF(X153<499,15,IF(X153<999,10,IF(X153<1499,5,IF(X153>1500,0))))","v":0},1789.7333075371355,{"$f":"IF(DD153<500,0,IF(DD153<1000,5,IF(DD153>1000,10)))","v":5},{"$f":"IF(AA153=\"Yes\",15,0)","v":15},"Yes",10,"Yes",10,"Yes",5,{"$f":"IF(BM151<999,20,IF(BM151<1499,15,IF(BM151<1999,10,IF(BM151<3999,5,IF(BM151>4000,0)))))","v":0},15,10,"Yes",15,"Minimal",10,"Yes",0,"No",0,"No",24.001832373834379,3.9584013300933626E-2,45.085970388722998,12.62287902978008,0.48480637170798752,24.870691912999998,0,0,null,null,null,"Peanut Belt RPO",100,"","","","","01",100,"","","","",{"$f":"SUM(V153+W153+Y153+Z153+AB153+AD153)","v":45},55,null,null,null,null,6.9127386775858319,null,"Exceeds cap of $15 million for Statewide & Regional Projects cascading to Division Needs",{"$f":"O153+BT153*0.25","v":10.371087217043794},null,"Hertford",100,"","","","","","",1,"A","01, , ","Peanut Belt RPO, , ","Hertford, , , ",7.7687519099999998,7.7687519099999998,"Two Lane Highway","Multi-Lane Highway",1,2,"Undivided","Divided",51,51,12.658791545258499,87.341208454741505,5623.5639709999996,15511.563459999999,0.36254011309057299,4911.6887304968486,711.87524050315096,116717.64369008195,16916.462999159405,133634.10668924137,3095074,59.757713440000003,36.965768650000001,38.547956220000003,"","",2.1084775792553301,7.5876498549044201E-6,"Yes","No",12,12,"No",4,2,"2 Lane Undivided","4A - 4 Lane Divided (46' Depressed Median) with Paved Shoulders","None","Partial",1,"Yes",24,73100000,4425000,665000,78190000,"",78190000,78190000,""]
["H141224","Currituck","Albemarle RPO","Highway","Division Needs","","Ponderosa Drive","US 17","NC 168","Upgrade Ponderosa Drive to provide direct connection between US 17 and NC 168 to alleviate existing traffic","6 - Widen Existing Roadway and Construct Part on New Location",46069000,null,null,null,null,null,null,11.1,7.5,null,"N/A",null,1967.3398086522786,null,null,"Yes",null,null,null,null,5,{"$f":"IF(X154<999,20,IF(X154<1499,15,IF(X154<1999,10,IF(X154<3999,5,IF(X154>4000,0)))))","v":10},15,0,"No",{"$f":"IF(AL154=\"Minimal\",15,0)","v":15},"Minimal",10,"Yes",0,"No",0,"No",9.7560748992085635,1.3002594152249887,49.966063520603996,0,"N/A","N/A",50,0,null,null,null,"Albemarle RPO",100,"","","","","01",100,"","","","",null,55,null,null,null,null,11.1,null,"Exceeds cap of $15 million for Statewide & Regional Projects cascading to Division Needs",null,null,"Currituck",63.5,"Camden",36.5,"","","","",1,"A","01, , ","Albemarle RPO, , ","Currituck, Camden, , ",17.899999999999999,10.223092530000001,"Two Lane Highway","Two Lane Highway",1,1,"Undivided","Undivided",53.1532929418469,55,0,100,2290.5886992880501,15547.2645412783,0.1473306569915557,2290.5886992880501,0,2722802.3267137692,0,2722802.3267137692,59901651,78.457510429999999,43.696003040000001,27.75966841,"","","","","No","No",10,12,"No",0,0,"New Roadway","2A - 2 Lane Undivided with Paved Shoulders, 55 mph","None","None",1,"No",34,44934000,1013000,122000,46069000,"",46069000,46069000,""]
["H090505","Chowan","Albemarle RPO","Highway","Division Needs","U-5001","- New Route - Western Connector (Luke Street)","Albania Stree","Virginia Street","Albania Street to Virginia Street.  Construct Multi-Lanes, Some New Location.","5 - Construct Roadway on New Location",9681000," ",null," ",null,null,null,3.3389965257502841,4.5,null,"N/A",null,1484.2014063804211,null,null,"Yes",null,null,null,null,0,{"$f":"IF(X155<999,20,IF(X155<1499,15,IF(X155<1999,10,IF(X155<3999,5,IF(X155>4000,0)))))","v":15},15,{"$f":"IF(AJ155=\"Yes\",10,0)","v":0},"No",{"$f":"IF(AL155=\"Minimal\",15,0)","v":15},"Minimal",10,"Yes",0,"No",0,"No",21.672837154252885,1.44483162896395,10.272296474286,1.0195217718000875,"N/A","N/A",0,0,null,null,null,"Albemarle RPO",100,"","","","","01",100,"","","","",null,55,null,null,null,null,3.3389965257502841,null,"Minimal Local Support",null,null,"Chowan",100,"","","","","","",1,"A","01, , ","Albemarle RPO, , ","Chowan, , , ",1.5,1.11961556,"Arterial","Arterial",1,2,"Undivided","Divided",38,35,3.5000000000003002,96.499999999999702,5825.8386959999998,18071.619050000001,0.32237502793088146,5621.9343416399824,203.90435436001749,604716.87205310084,21932.736292083333,626649.60834518413,13987415,7.8258291699999996,15.168313080000001,7.8258291699999996,"","","","","No","No",12,12,"Yes",0,2,"New Roadway","4C - 4 Lane Divided (23' Raised Median) with Curb & Gutter, Wide Outside Lanes, and Sidewalks","None","Partial",1,"No",24,5928000,3351000,402000,9681000,"",9681000,9681000,""]
["H090102","Martin","Mid-East RPO","Highway","Statewide Mobility","R-2511","US-17 ","Washington Bypass North of NC 171","Multi-Lanes South of Williamston","Widen to Multi-Lanes.","1 - Widen Existing Roadway",72100000,13.736271562618974,null,13.18,{"$f":"(V156+W156+Y156+Z156+AB156+AD156)","v":50},null,{"$f":"O156+P156+Q156","v":63.18},9.6199999999999992,null,null,{"$f":"IF(AU156<30,0,IF(AU156<50,5,IF(AU156<65,10,IF(AU156>66,15))))","v":5},{"$f":"IF(X156<499,15,IF(X156<999,10,IF(X156<1499,5,IF(X156>1500,0))))","v":5},1431.1007695384499,{"$f":"IF(DD156<500,0,IF(DD156<1000,5,IF(DD156>1000,10)))","v":5},{"$f":"IF(AA156=\"Yes\",15,0)","v":15},"Yes",{"$f":"IF(AC156=\"Yes\",10,0)","v":10},"Yes",{"$f":"IF(AE156=\"Yes\",10,0)","v":10},"Yes",5,{"$f":"IF(BM154<999,20,IF(BM154<1499,15,IF(BM154<1999,10,IF(BM154<3999,5,IF(BM154>4000,0)))))","v":0},15,10,"Yes",15,"Minimal",10,"Yes",0,"No",0,"No",21.525655987638711,4.5849292649098476E-2,49.622986325087993,11.243927572853604,0.53735831453110849,17.119984946000002,0,25,null,null,null,"Mid-East RPO",100,"","","","","01",61.75,"02",38.25,"","",{"$f":"SUM(V156+W156+Y156+Z156+AB156+AD156)","v":50},55,null,null,100,null,9.6199999999999992,null,"Exceeds cap of $15 million for Statewide & Regional Projects cascading to Division Needs",{"$f":"O156+BT156*0.25","v":38.18},null,"Martin",61.75,"Beaufort",38.25,"","","","",1,"A","01, 02, ","Mid-East RPO, , ","Martin, Beaufort, , ",9.9962002000000005,9.9962002000000005,"Two Lane Highway","Multi-Lane Highway",1,2,"Undivided","Divided",55,55,12.3607401176475,87.639259882352505,5039.9949820000002,15500,0.32516096658064519,4417.0143003325056,622.98068166749499,125234.98255004203,17663.283270730833,142898.26582077285,3305734,70.895399049999995,20.985946729999998,57.002501580000001,"","",2,8.7471662906221696E-6,"Yes","No",12,12,"No",1,2,"2 Lane Undivided","4A - 4 Lane Divided (46' Depressed Median) with Paved Shoulders","None","Partial",1,"Yes",21,51700000,16000000,4400000,72100000,"",72100000,72100000,""]
["H141684","Northampton","Peanut Belt RPO","Highway","Regional Impact","","NC-305 ","Seaboard Town Limits","Hertford County Line","Currently a 2-lane major thoroughfare from Seaboard to Hertford County, NC 305 is recommended to be upgrade from its existing facility to 24 feet w/ paved shoulders. This would provides improved mobility between Jackson and Rich Square, while tying in with bike lane recommendations.  \n","16 - Modernize Roadway",340000,null,null,8.93,55,null,63.93,6.78,null,null,5,15,6.4567141369090955,0,{"$f":"IF(AA157=\"Yes\",15,0)","v":15},"Yes",10,"Yes",{"$f":"IF(AE157=\"Yes\",10,0)","v":10},"Yes",5,{"$f":"IF(BM155<999,20,IF(BM155<1499,15,IF(BM155<1999,10,IF(BM155<3999,5,IF(BM155>4000,0)))))","v":0},15,10,"Yes",15,"Minimal",10,"Yes",0,"No",0,"No",9.1026580263264592,0,33.738719173995001,1.2485128352237644,"N/A",12.13739033746937,25,0,null,null,null,"Peanut Belt RPO",100,"","","","","01",100,"","","","",55,55,null,null,null,100,31.78,null,null,8.93,"Estimated costs too low.","Northampton",100,"","","","","","",1,"A","01, , ","Peanut Belt RPO, , ","Northampton, , , ",24.636755659999899,24.636755659999899,"Two Lane Highway","Two Lane Highway",1,1,"Undivided","Undivided",51.703662517699499,51.703662517699499,11.682590805589401,88.317409194410601,2137.39033746937,15548.988304589,0.13746169818897852,1887.6877704246172,249.7025670447529,0,0,0,0,34.662762260000001,27.896578810000001,38.666939079999999,"","","","","No","No",11,12,"No",0,0,"2 Lane Undivided","3A - 2 Lane with Two Way Left Turn Lane, and Paved Shoulders","None","None",1,"No",25,340000,0,0,340000,"",340000,340000,""]
["H090149-B","Northampton","Peanut Belt RPO","Highway","Statewide Mobility","R-2584B","US-158 ","East of SR 1500","East of SR 1365","Widen to Multi-Lanes, Part on New  Location.","6 - Widen Existing Roadway and Construct Part on New Location",54800000,7.9305558958701106,null,8.2200000000000006,40,null,48.22,6.31,null,null,0,0,3336.37631613444,5,{"$f":"IF(AA158=\"Yes\",15,0)","v":15},"Yes",10,"Yes",{"$f":"IF(AE158=\"Yes\",10,0)","v":10},"Yes",0,{"$f":"IF(X158<999,20,IF(X158<1499,15,IF(X158<1999,10,IF(X158<3999,5,IF(X158>4000,0)))))","v":5},15,10,"Yes",15,"Minimal",10,"Yes",0,"No",0,"No",17.825798295498515,5.7991313868613135E-2,20.262297100979996,2.6959465148098603,0,24.612863031,0,25,null,null,null,"Peanut Belt RPO",100,"","","","","01",100,"","","","",40,55,null,null,null,null,6.31,null,"Exceeds cap of $15 million for Statewide & Regional Projects cascading to Division Needs",8.2200000000000006,null,"Northampton",100,"","","","","","",1,"A","01, , ","Peanut Belt RPO, , ","Northampton, , , ",3.5,3.9067273600000001,"Two Lane Highway","Multi-Lane Highway",1,2,"Undivided","Divided",47,55,12.824748075914599,87.175251924085401,4204.2876770000003,15625.369189999999,0.26906805374497528,3665.0983740380284,539.18930296197209,119535.72994085884,17585.445280927532,137121.17522178637,3177924,28.277875479999999,8.9871338000000005,23.527961319999999,"","",0,0,"No","No",12,12,"No",1,2,"New Roadway","4A - 4 Lane Divided (46' Depressed Median) with Paved Shoulders","None","Partial",1,"Yes",26,47600000,7200000,0,54800000,"",54800000,54800000,""]
["H141662","Northampton","Peanut Belt RPO","Highway","Regional Impact","","NC-35 ","Hertford County Line ","Virginia State Line","Currently 2-lane major thoroughfare from the Hertford County line to the Virginia State Line, NC 35 in Northampton County is a major truck route with high truck percentage. It is recommended to upgrade the existing facility to 24 feet w/ paved shoulders and turn lanes at all major intersections; while also modifying curves in some sections. This will improve overall connectivity in Severn, Conway, Woodland.\n","1 - Widen Existing Roadway",69277000,null,null,8.16,40,null,48.16,6.27,null,null,5,0,1957.443714235656,0,{"$f":"IF(AA159=\"Yes\",15,0)","v":15},"Yes",10,"Yes",{"$f":"IF(AE159=\"Yes\",10,0)","v":10},"Yes",5,{"$f":"IF(BM157<999,20,IF(BM157<1499,15,IF(BM157<1999,10,IF(BM157<3999,5,IF(BM157>4000,0)))))","v":0},15,10,"Yes",15,"Minimal",10,"Yes",0,"No",0,"No",7.3733627816354605,0.12733198608484778,30.197608283831997,1.1098492973746994,"N/A",13.732099667873541,25,0,null,null,null,"Peanut Belt RPO",100,"","","","","01",100,"","","","",40,55,null,null,null,null,6.27,null,"Exceeds cap of $15 million for Statewide & Regional Projects cascading to Division Needs",8.16,null,"Northampton",100,"","","","","","",1,"A","01, , ","Peanut Belt RPO, , ","Northampton, , , ",20.43275423,20.43275423,"Two Lane Highway","Two Lane Highway",1,1,"Undivided","TWLTL",51.123057912261999,55,12.8150743050166,87.184925694983406,1732.0996678735401,15556.563670646099,0.11134204857476741,1510.1298083986001,221.96985947493988,331852.88318075956,48778.149690389968,380631.03287114954,8821178,28.494854069999999,27.026539769999999,35.080491199999997,"","","","","No","No",10,11,"No",0,0,"2 Lane Undivided","3A - 2 Lane with Two Way Left Turn Lane, and Paved Shoulders","None","None",1,"No",26,60103000,8191000,983000,69277000,"",69277000,69277000,""]
["H129112-B","Northampton","Peanut Belt RPO","Highway","Statewide Mobility","R-2582B","US-158 , NC-46 ","SR 1312 (St. John Church Road)","SR 1333 (Lynch Road) East of Jackson","Widen to Multi-Lanes with Bypass of Jackson, Part on New Location.","1 - Widen Existing Roadway",66800000,8.5075034871344801,null,6.6843160297359381,40,null,46.684316029735939,4.4558793576483104,null,null,0,0,3315.5475518357507,5,{"$f":"IF(AA160=\"Yes\",15,0)","v":15},"Yes",10,"Yes",{"$f":"IF(AE160=\"Yes\",10,0)","v":10},"Yes",0,{"$f":"IF(X160<999,20,IF(X160<1499,15,IF(X160<1999,10,IF(X160<3999,5,IF(X160>4000,0)))))","v":5},15,10,"Yes",15,"Minimal",10,"Yes",0,"No",0,"No",17.447583609263642,9.9398652694610776E-3,27.10127010195,2.7582020050072966,8.4790335780915993E-2,16.255478221000004,0,0,null,null,null,"Peanut Belt RPO",100,"","","","","01",100,"","","","",40,55,null,null,null,null,4.4558793576483104,null,"Exceeds cap of $15 million for Statewide & Regional Projects cascading to Division Needs",6.6843160297359381,null,"Northampton",100,"","","","","","",1,"A","01, , ","Peanut Belt RPO, , ","Northampton, , , ",4.9318765100000004,4.9318765100000004,"Two Lane Highway","Multi-Lane Highway",1,2,"Undivided","Divided",55,55,13.503522042645699,86.496477957354301,4085.1594070000001,15500.00043,0.26355866410772738,3533.5190059985407,551.64040100145928,24714.483489075938,3858.3371305809887,28572.820619656926,663983,37.272482830000001,20.230309649999999,23.80914902,"","",0,1.6958067156183199E-6,"No","No",12,12,"No",2,2,"2 Lane Undivided","4A - 4 Lane Divided (46' Depressed Median) with Paved Shoulders","None","Partial",1,"Yes",22,61400000,5400000,0,66800000,"",66800000,66800000,""]
["H090869","Camden","Albemarle RPO","Highway","Regional Impact","","NC-343 ","US 158","SR 1119 in Shiloh","Upgrade Roadway with Wider Shoulders and New Culvert(S).","16 - Modernize Roadway",17898000,null,null,14.28,35,4.95,54.230000000000004,11.19,6.75,null,5,10,902.06866756128704,0,{"$f":"IF(AA161=\"Yes\",20,0)","v":20},"Yes",0,"No",{"$f":"IF(AE161=\"Yes\",20,0)","v":0},"No",5,{"$f":"IF(BM159<999,20,IF(BM159<1499,15,IF(BM159<1999,10,IF(BM159<3999,5,IF(BM159>4000,0)))))","v":0},15,10,"No",{"$f":"IF(AL161=\"Minimal\",15,0)","v":15},"Minimal",10,"Yes",0,"No",0,"No",12.434121680232257,0,49.452596115812995,0.63988824624267526,"N/A",26.911312477999999,50,0,null,null,null,"Albemarle RPO",100,"","","","","01",100,"","","","",35,55,null,null,null,null,11.19,null,"Exceeds cap of $15 million for Statewide & Regional Projects cascading to Division Needs",14.28,null,"Camden",100,"","","","","","",1,"A","01, , ","Albemarle RPO, , ","Camden, , , ",6.8151604299999997,6.8151604299999997,"Two Lane Highway","Two Lane Highway",1,1,"Undivided","Undivided",55,55,4.3958747202722996,95.604125279727697,2911.3124779999998,15500,0.18782661148387095,2783.334828751465,127.97764924853506,0,0,0,0,55.740450629999998,49.081060229999999,43.551114750000004,"","","","","No","No",10,12,"No",0,0,"2 Lane Undivided","","None","None",1,"No",32,17898000,0,0,17898000,"",17898000,17898000,""]
["B141344","Tyrrell","Albemarle RPO","Bike & Ped","Division Needs",null,"Fonsoe Street","US 64/Scuppernong Drive","Main Street","Construct a pedestrian sidewalk on one side of Fonsoe Street to connect US 64/Scuppernong Drive to Main Street","5. Construct Sidewalk",100000,null,null,null,null,null,null,18.819570064834998,9.75,null,"N/A",null,20040.485829959514,null,null,"Yes",null,null,null,null,0,{"$f":"IF(X162<999,20,IF(X162<1499,15,IF(X162<1999,10,IF(X162<3999,5,IF(X162>4000,0)))))","v":0},15,{"$f":"IF(AJ162=\"Yes\",10,0)","v":10},"Yes",15,"Minimal",10,"Yes",0,"No",0,"No",null,null,22.5,null,null,null,null,null,null,null,null,"Albemarle RPO",null,null,null,null,null,null,null,null,null,null,null,null,{"$f":"SUM(AF162+AG162+AH162+AI162+AK162+AM162+AO162)","v":50},null,null,null,null,18.819570064834998,null,null,null,null,"Tyrrell County",null,null,null,null,null,null,null,null,null,null,null,null,null,0.25,null,null,null,null,null,null,null,null,null,null,494,null,null,null,null,null,null,null,null,null,null,null,null,null,null,null,null,null,null,null,null,null,null,null,null,null,null,null,null,null,85000,0,null,100000,0,2475000]
["B141340","Tyrrell","Albemarle RPO","Bike & Ped","Division Needs",null,"Main Street","Broad Street","Road Street","Construct 305 feet of pedestrian sidewalk on the north side of Main Street in front of Columbia Middle School.","5. Construct Sidewalk",100000,null,null,null,null,null,null,17.717965136690001,9.75,null,"N/A",null,6121.9440192433849,null,null,"Yes",null,null,null,null,0,0,15,10,"Yes",15,"Minimal",10,"Yes",0,"No",0,"No",null,null,12.5,null,null,null,null,null,null,null,null,"Albemarle RPO",null,null,null,null,null,null,null,null,null,null,null,null,50,null,null,null,null,17.717965136690001,null,null,null,null,"Tyrrell County",null,null,null,null,null,null,null,null,null,null,null,null,null,0.17,null,null,null,null,null,null,null,null,null,null,538,null,null,null,null,null,null,null,null,null,null,null,null,null,null,null,null,null,null,null,null,null,null,null,null,null,null,null,null,null,80000,0,null,100000,0,559913]
["B141755","Camden","Albemarle RPO","Bike & Ped","Division Needs",null,"Main St.","US 17","SR 1243-Mullen Drive","Widen existing pavement","2. Construct multi-use trail / greenway / sidepath or on-road bike lane on local roadway",345000,null,null,null,null,null,null,13.997229630050075,8.25,null,"N/A",null,76968.816067653272,null,null,"Yes",null,null,null,null,0,0,15,10,"Yes",15,"Minimal",10,"Yes",0,"No",0,"No",null,null,25,null,null,null,null,null,null,null,null,"Albemarle RPO",null,null,null,null,null,null,null,null,null,null,null,null,50,null,null,null,null,13.997229630050075,null,null,null,null,"Camden County",null,null,null,null,null,null,null,null,null,null,null,null,null,1.056,null,null,null,null,null,null,null,null,null,null,{"$f":"129*0.1","v":12.9},null,null,null,null,null,null,null,null,null,null,null,null,null,null,null,null,null,null,null,null,null,null,null,null,null,null,null,null,null,300000,0,null,345000,0,1048500]
["B141780","Dare","Albemarle RPO","Bike & Ped","Division Needs",null,"Colington Road Path",".3 miles west Baum St","Bridge","Construct Multi use path","2. Construct multi-use trail / greenway / sidepath or on-road bike lane on local roadway",410000,null,null,null,null,null,null,13.321441426829745,9.75,null,"N/A",null,14204.545454545452,null,null,"Yes",null,null,null,null,0,0,15,10,"Yes",15,"Minimal",10,"Yes",0,"No",0,"No",null,null,12.5,null,null,null,null,null,null,null,null,"Albemarle RPO",null,null,null,null,null,null,null,null,null,null,null,null,50,null,null,null,null,13.321441426829745,null,null,null,null,"Dare County",null,null,null,null,null,null,null,null,null,null,null,null,null,0.32,null,null,null,null,null,null,null,null,null,null,{"$f":"902*0.1","v":90.2},null,null,null,null,null,null,null,null,null,null,null,null,null,null,null,null,null,null,null,null,null,null,null,null,null,null,null,null,null,310000,0,null,410000,0,410000]
["B141940","Currituck","Albemarle RPO","Bike & Ped","Division Needs",null,"Currituck Multi-Use","Ocean Sands(K)","Seabird Way","Construct Multi-use path","2. Construct multi-use trail / greenway / sidepath or on-road bike lane on local roadway",460000,null,null,null,null,null,null,13.102509516759566,13.5,null,"N/A",null,22616.647819460151,null,null,"Yes",null,null,null,null,0,0,15,10,"Yes",15,"Minimal",10,"Yes",0,"No",0,"No",null,null,25,null,null,null,null,null,null,null,null,"Albemarle RPO",null,null,null,null,null,null,null,null,null,null,null,null,50,null,null,null,null,13.102509516759566,null,null,null,null,"Currituck County",null,null,null,null,null,null,null,null,null,null,null,null,null,4.7300000000000004,null,null,null,null,null,null,null,null,null,null,{"$f":"43*0.1","v":4.3},null,null,null,null,null,null,null,null,null,null,null,null,null,null,null,null,null,null,null,null,null,null,null,null,null,null,null,null,null,400000,0,null,460000,0,460000]
["B141963","Currituck","Albemarle RPO","Bike & Ped","Division Needs",null,"Corolla multi-use path","Ocean Sands Section A","Yaupon Lane/Old Stoney Road","Oceans Sands section A (.1 mile south of Ocean Way) to Yaupon Lane/Old stoney Road","2. Construct multi-use trail / greenway / sidepath or on-road bike lane on local roadway",400000,null,null,null,null,null,null,12.852200094756203,13.5,null,"N/A",null,126984.126984127,null,null,"Yes",null,null,null,null,0,0,15,10,"Yes",15,"Minimal",10,"Yes",0,"No",0,"No",null,null,25,null,null,null,null,null,null,null,null,"Albemarle RPO",null,null,null,null,null,null,null,null,null,null,null,null,50,null,null,null,null,12.852200094756203,null,null,null,null,"Currituck County",null,null,null,null,null,null,null,null,null,null,null,null,null,0.7,null,null,null,null,null,null,null,null,null,null,{"$f":"45*0.1","v":4.5},null,null,null,null,null,null,null,null,null,null,null,null,null,null,null,null,null,null,null,null,null,null,null,null,null,null,null,null,null,380000,0,null,400000,0,400000]
["B141961","Currituck","Albemarle RPO","Bike & Ped","Division Needs",null,"Corolla multi-use path","Ocean Sands section c","Ocean Sands section A","Ocean Sands Section C, .5 miles south of Sandhill Ln. to .1 miles south of Ocean Way.","2. Construct multi-use trail / greenway / sidepath or on-road bike lane on local roadway",420000,null,null,null,null,null,null,12.73396082381764,13.5,null,"N/A",null,190217.39130434778,null,null,"Yes",null,null,null,null,0,0,15,10,"Yes",15,"Minimal",10,"Yes",0,"No",0,"No",null,null,25,null,null,null,null,null,null,null,null,"Albemarle RPO",null,null,null,null,null,null,null,null,null,null,null,null,50,null,null,null,null,12.73396082381764,null,null,null,null,"Currituck County",null,null,null,null,null,null,null,null,null,null,null,null,null,0.46,null,null,null,null,null,null,null,null,null,null,{"$f":"48*0.1","v":4.8000000000000007},null,null,null,null,null,null,null,null,null,null,null,null,null,null,null,null,null,null,null,null,null,null,null,null,null,null,null,null,null,400000,380000,null,800000,0,420000]
["B141774","Dare","Albemarle RPO","Bike & Ped","Division Needs",null,"NC 12 Duck","Cook Drive","Ships Watch Drive","Construct Sidewalk and extend share use path","5. Construct Sidewalk",290800,null,null,null,null,null,null,12.669319420463816,13.5,null,"N/A",null,7133.0455259026676,null,null,"Yes",null,null,null,null,{"$f":"IF(AU169<30,0,IF(AU169<50,5,IF(AU169<65,10,IF(AU169<79,15,IF(AU169>80,20)))))","v":0},0,{"$f":"IF(AA169=\"Yes\",15,0)","v":15},10,"Yes",15,"Minimal",{"$f":"IF(AN169=\"Yes\",10,0)","v":10},"Yes",0,"No",0,"No",null,null,25,null,null,null,null,null,null,null,null,"Albemarle RPO",null,null,null,null,null,null,null,null,null,null,null,null,50,null,null,null,null,12.669319420463816,null,null,null,null,"Dare County",null,null,null,null,null,null,null,null,null,null,null,null,null,2.08,null,null,null,null,null,null,null,null,null,null,{"$f":"196*0.1","v":19.600000000000001},null,null,null,null,null,null,null,null,null,null,null,null,null,null,null,null,null,null,null,null,null,null,null,null,null,null,null,null,null,370000,0,null,426000,135200,290800]
["B141362","Dare","Albemarle RPO","Bike & Ped","Division Needs",null,"US 158","Gulfstream Road","Gull Street","Construct sidewalk from Gulfstream Road to Gull Street","2. Construct multi-use trail / greenway / sidepath or on-road bike lane on local roadway",415000,null,null,null,null,null,null,11.799247349397591,9.75,null,"N/A",null,312132.35294117645,null,null,"Yes",null,null,null,null,0,0,15,10,"Yes",15,"Minimal",10,"Yes",0,"No",0,"No",null,null,25,null,null,null,null,null,null,null,null,"Albemarle RPO",null,null,null,null,null,null,null,null,null,null,null,null,50,null,null,null,null,11.799247349397591,null,null,null,null,"Dare County",null,null,null,null,null,null,null,null,null,null,null,null,null,0.48,null,null,null,null,null,null,null,null,null,null,{"$f":"170*0.1","v":17},null,null,null,null,null,null,null,null,null,null,null,null,null,null,null,null,null,null,null,null,null,null,null,null,null,null,null,null,null,400000,0,null,415000,0,2547000]
["B141791","Camden","Albemarle RPO","Bike & Ped","Division Needs",null,"SR 1215","US 17","US 17","Construct Sidewalk on roads south side of US 17","5. Construct Sidewalk",370000,null,null,null,null,null,null,11.62296046708027,8.25,null,"N/A",null,14192.558496355963,null,null,"Yes",null,null,null,null,0,0,15,10,"Yes",15,"Minimal",10,"Yes",0,"No",0,"No",null,null,5,null,null,null,null,null,null,null,null,"Albemarle RPO",null,null,null,null,null,null,null,null,null,null,null,null,50,null,null,null,null,11.62296046708027,null,null,null,null,"Camden County",null,null,null,null,null,null,null,null,null,null,null,null,null,0.79,null,null,null,null,null,null,null,null,null,null,{"$f":"330*0.1","v":33},null,null,null,null,null,null,null,null,null,null,null,null,null,null,null,null,null,null,null,null,null,null,null,null,null,null,null,null,null,320000,0,null,370000,0,370000]
["B141762","Dare","Albemarle RPO","Bike & Ped","Division Needs",null,"Nags Head Multi use Path","Gull Street","Grouse St.","Construct Multi use Path","2. Construct multi-use trail / greenway / sidepath or on-road bike lane on local roadway",437000,null,null,null,null,null,null,11.368879191733225,9.75,null,"N/A",null,340460.52631578944,null,null,"Yes",null,null,null,null,0,0,15,10,"Yes",15,"Minimal",10,"Yes",0,"No",0,"No",null,null,25,null,null,null,null,null,null,null,null,"Albemarle RPO",null,null,null,null,null,null,null,null,null,null,null,null,50,null,null,null,null,11.368879191733225,null,null,null,null,"Dare County",null,null,null,null,null,null,null,null,null,null,null,null,null,0.32,null,null,null,null,null,null,null,null,null,null,{"$f":"190*0.1","v":19},null,null,null,null,null,null,null,null,null,null,null,null,null,null,null,null,null,null,null,null,null,null,null,null,null,null,null,null,null,380000,0,null,437000,0,2070000]
["B141776","Dare","Albemarle RPO","Bike & Ped","Division Needs",null,"Colington Road","SR 1452",".3 miles west","Construct Multi use path","2. Construct multi-use trail / greenway / sidepath or on-road bike lane on local roadway",400000,null,null,null,null,null,null,10.899780568313751,9.75,null,"N/A",null,16479.215589337946,null,null,"Yes",null,null,null,null,0,0,15,10,"Yes",15,"Minimal",10,"Yes",0,"No",0,"No",null,null,12.5,null,null,null,null,null,null,null,null,"Albemarle RPO",null,null,null,null,null,null,null,null,null,null,null,null,50,null,null,null,null,10.899780568313751,null,null,null,null,"Dare County",null,null,null,null,null,null,null,null,null,null,null,null,null,0.27,null,null,null,null,null,null,null,null,null,null,{"$f":"899*0.1","v":89.9},null,null,null,null,null,null,null,null,null,null,null,null,null,null,null,null,null,null,null,null,null,null,null,null,null,null,null,null,null,300000,0,null,400000,0,400000]
["B141954","Dare","Albemarle RPO","Bike & Ped","Division Needs",null,"NC 12-Hatteras-II","SR 1237",".8 miles south","Construct curb & gutter /Sidewalk","5. Construct Sidewalk",370000,null,null,null,null,null,null,10.804722947171893,9.75,null,"N/A",null,11725.186969197615,null,null,"Yes",null,null,null,null,0,0,15,10,"Yes",15,"Minimal",10,"Yes",0,"No",0,"No",null,null,5,null,null,null,null,null,null,null,null,"Albemarle RPO",null,null,null,null,null,null,null,null,null,null,null,null,50,null,null,null,null,10.804722947171893,null,null,null,null,"Dare County",null,null,null,null,null,null,null,null,null,null,null,null,null,0.49,null,null,null,null,null,null,null,null,null,null,{"$f":"644*0.1","v":64.400000000000006},null,null,null,null,null,null,null,null,null,null,null,null,null,null,null,null,null,null,null,null,null,null,null,null,null,null,null,null,null,320000,145000,null,515000,0,370000]
["B141947","Dare","Albemarle RPO","Bike & Ped","Division Needs",null,"NC 12-Hatteras","Bridge","SR 1237","Construct curb & gutter and sidewalk","5. Construct Sidewalk",406000,null,null,null,null,null,null,10.502334790371034,9.75,null,"N/A",null,8369.4083694083693,null,null,"Yes",null,null,null,null,0,0,15,10,"Yes",15,"Minimal",10,"Yes",0,"No",0,"No",null,null,5,null,null,null,null,null,null,null,null,"Albemarle RPO",null,null,null,null,null,null,null,null,null,null,null,null,50,null,null,null,null,10.502334790371034,null,null,null,null,"Dare County",null,null,null,null,null,null,null,null,null,null,null,null,null,0.77,null,null,null,null,null,null,null,null,null,null,{"$f":"630*0.1","v":63},null,null,null,null,null,null,null,null,null,null,null,null,null,null,null,null,null,null,null,null,null,null,null,null,null,null,null,null,null,356000,162000,null,568000,0,406000]
["B141860","Dare","Albemarle RPO","Bike & Ped","Division Needs",null,"Twiford Street","Twiford Street","The Woods Road","Connect existing The Woods Road and Twiford Street multi-use paths","2. Construct multi-use trail / greenway / sidepath or on-road bike lane on local roadway",162000,null,null,null,null,null,null,10.153627313669816,7.5,null,"N/A",null,35495.179666958808,null,null,"Yes",null,null,null,null,0,0,15,10,"Yes",15,"Minimal",10,"Yes",0,"No",0,"No",null,null,12.5,null,null,null,null,null,null,null,null,"Albemarle RPO",null,null,null,null,null,null,null,null,null,null,null,null,50,null,null,null,null,10.153627313669816,null,null,null,null,"Dare County",null,null,null,null,null,null,null,null,null,null,null,null,null,7.0000000000000007E-2,null,null,null,null,null,null,null,null,null,null,{"$f":"652*0.1","v":65.2},null,null,null,null,null,null,null,null,null,null,null,null,null,null,null,null,null,null,null,null,null,null,null,null,null,null,null,null,null,152000,0,null,162000,0,162000]
["B141955","Chowan","Albemarle RPO","Bike & Ped","Division Needs",null,"Edenton Multi-use path","Twiddy Avenue","Chowan River fising pier","Connect path where existing sidewalk stops near Twiddy Ave. and extend towards Pembroke to the west side of town, connecting  residential subdivisions and over the US 17 bypass overpass, terminating at the new Chowan River fishing pier. (Phase 2)","2. Construct multi-use trail / greenway / sidepath or on-road bike lane on local roadway",400000,null,null,null,null,null,null,5.4141769778944999,3.75,null,"N/A",null,38986.354775828462,null,null,"Yes",null,null,null,null,0,0,15,10,"Yes",15,"Minimal",10,"Yes",0,"No",0,"No",null,null,12.5,null,null,null,null,null,null,null,null,"Albemarle RPO",null,null,null,null,null,null,null,null,null,null,null,null,50,null,null,null,null,5.4141769778944999,null,null,null,null,"Chowan County",null,null,null,null,null,null,null,null,null,null,null,null,null,0.15,null,null,null,null,null,null,null,null,null,null,{"$f":"684*0.1","v":68.400000000000006},null,null,null,null,null,null,null,null,null,null,null,null,null,null,null,null,null,null,null,null,null,null,null,null,null,null,null,null,null,380000,0,null,400000,0,400000]
["H129070-B","Dare","Albemarle RPO","Highway","Statewide Mobility","R-2545B","US-64 ","West of Alligator River","East of SR 1153 (Old Ferry Landing Road)","Widen to Multi-Lanes and construct new multi-lane bridge","1 - Widen Existing Roadway",209520000,8.7940938845902572,null,10.91,{"$f":"(V178+W178+Y178+Z178+AB178+AD178)","v":55},6.3,{"$f":"O178+P178+Q178","v":72.209999999999994},8.11,9,null,{"$f":"IF(AU178<30,0,IF(AU178<50,5,IF(AU178<65,10,IF(AU178>66,15))))","v":5},{"$f":"IF(X178<499,15,IF(X178<999,10,IF(X178<1499,5,IF(X178>1500,0))))","v":0},{"$f":"(EI178/CZ178)/CO178","v":29096.895469661078},{"$f":"IF(DD178<500,0,IF(DD178<1000,5,IF(DD178>1000,10)))","v":0},{"$f":"IF(AA178=\"Yes\",20,0)","v":20},"Yes",{"$f":"IF(AC178=\"Yes\",10,0)","v":10},"Yes",{"$f":"IF(AE178=\"Yes\",20,0)","v":20},"Yes",{"$f":"IF(AU178<30,0,IF(AU178<50,5,IF(AU178<65,10,IF(AU178<79,15,IF(AU178>80,20)))))","v":5},{"$f":"IF(X178<999,20,IF(X178<1499,15,IF(X178<1999,10,IF(X178<3999,5,IF(X178>4000,0)))))","v":0},{"$f":"IF(AA178=\"Yes\",15,0)","v":15},10,"No",{"$f":"IF(AL178=\"Minimal\",15,0)","v":15},"Minimal",{"$f":"IF(AN178=\"Yes\",10,0)","v":10},"Yes",{"$f":"IF(AP178=\"Yes\",10,0)","v":0},"No",{"$f":"IF(AR178=\"Yes\",10,0)","v":0},"No",14.270585729083869,1.1163993890798015E-3,41.794293499331999,1.6490928707611838,3.3353219629360747E-2,16.910134090666666,25,0,null,null,null,"Albemarle RPO",100,"","","","","01",100,"","","","",{"$f":"SUM(V178+W178+Y178+Z178+AB178+AD178)","v":55},{"$f":"SUM(AF178+AG178+AH178+AI178+AK178+AM178+AO178+AQ178)","v":55},null,null,null,null,8.11,null,"Exceeds cap of $15 million for Statewide & Regional Projects cascading to Division Needs",{"$f":"O178+BT178*0.25","v":10.91},null,"Dare",100,"","","","","","",1,"A","01, , ","Albemarle RPO, , ","Dare, , , ",2.1550796399999999,2.1550796399999999,"Two Lane Highway","Multi-Lane Highway",1,2,"Undivided","Divided",55,55,9.8709647777421008,90.129035222257897,3341.3002839999999,15500,0.21556776025806451,3011.4817098477629,329.81857415223675,9203.9757762141344,1008.0227806517644,10211.998556865899,233908,51.108556550000003,38.599637540000003,35.687225949999998,"","",0,6.6706439258721495E-7,"No","No",12,12,"No",0,0,"2 Lane Undivided","4A - 4 Lane Divided (46' Depressed Median) with Paved Shoulders","None","Partial",2,"Yes",24,208200000,1220000,100000,209520000,"",209520000,209520000,""]
["H090124-A","Dare","Albemarle RPO","Highway","Statewide Mobility","R-2544A","US-64 ","East of SR 1153 (Old Ferry Landing Road)","West of SR 1102 (East Lake Road)","Widen to Multi-Lanes.","1 - Widen Existing Roadway",15800000,6.9067768278857349,null,6.2094234301841915,{"$f":"(V179+W179+Y179+Z179+AB179+AD179)","v":50},6.3,{"$f":"O179+P179+Q179","v":62.509423430184185},4.1396156201227949,9,null,{"$f":"IF(AU179<30,0,IF(AU179<50,5,IF(AU179<65,10,IF(AU179>66,15))))","v":0},{"$f":"IF(X179<499,15,IF(X179<999,10,IF(X179<1499,5,IF(X179>1500,0))))","v":0},2473.1357746167182,{"$f":"IF(DD179<500,0,IF(DD179<1000,5,IF(DD179>1000,10)))","v":0},{"$f":"IF(AA179=\"Yes\",20,0)","v":20},"Yes",{"$f":"IF(AC179=\"Yes\",10,0)","v":10},"Yes",{"$f":"IF(AE179=\"Yes\",20,0)","v":20},"Yes",0,5,15,10,"No",15,"Minimal",10,"Yes",0,"No",0,"No",12.385806333013942,0,29.010349868214,1.4499997058007565,0,15.733332549333333,0,0,null,null,null,"Albemarle RPO",100,"","","","","01",100,"","","","",{"$f":"SUM(V179+W179+Y179+Z179+AB179+AD179)","v":50},55,null,null,null,null,4.1396156201227949,null,"Exceeds cap of $15 million for Statewide & Regional Projects cascading to Division Needs",{"$f":"O179+BT179*0.25","v":6.2094234301841915},null,"Dare",100,"","","","","","",1,"A","01, , ","Albemarle RPO, , ","Dare, , , ",2.2029831400000002,2.2029831400000002,"Two Lane Highway","Multi-Lane Highway",1,2,"Undivided","Divided",55,55,9.9999989848327004,90.0000010151673,2899.9997060000001,15499.99843,0.18709677417689907,2609.9997648398489,289.99994116015131,0,0,0,0,46.148892490000001,0,40.890861090000001,"","",0,0,"No","No",12,12,"No",0,0,"2 Lane Undivided","4A - 4 Lane Divided (46' Depressed Median) with Paved Shoulders","None","Partial",2,"Yes",24,14700000,1030000,70000,15800000,"",15800000,15800000,""]
["H129208","Northampton","Peanut Belt RPO","Highway","Statewide Mobility","","I-95 ","Halifax/Northampton County Line","Virginia State Line","Widen Roadway to 6 Lanes.","1 - Widen Existing Roadway",301845000,28.416150288621655,null,16.180642213015471,{"$f":"(V180+W180+Y180+Z180+AB180+AD180)","v":60},null,{"$f":"O180+P180+Q180","v":76.180642213015474},10.783881430066547,null,null,{"$f":"IF(AU180<30,0,IF(AU180<50,5,IF(AU180<65,10,IF(AU180>66,15))))","v":10},{"$f":"IF(X180<499,15,IF(X180<999,10,IF(X180<1499,5,IF(X180>1500,0))))","v":5},1106.3946563455881,{"$f":"IF(DD180<500,0,IF(DD180<1000,5,IF(DD180>1000,10)))","v":10},{"$f":"IF(AA180=\"Yes\",15,0)","v":15},"Yes",{"$f":"IF(AC180=\"Yes\",10,0)","v":10},"Yes",{"$f":"IF(AE180=\"Yes\",10,0)","v":10},"Yes",10,{"$f":"IF(BM178<999,20,IF(BM178<1499,15,IF(BM178<1999,10,IF(BM178<3999,5,IF(BM178>4000,0)))))","v":0},15,0,"Yes",15,"Minimal",10,"Yes",0,"No",0,"No",47.900877747680426,9.640135831304146E-2,59.841535194671998,38.259352094788944,3.8094261839862646,40.362556689999998,0,0,null,null,null,"Peanut Belt RPO",100,"","","","","01",100,"","","04","",{"$f":"SUM(V180+W180+Y180+Z180+AB180+AD180)","v":60},50,null,null,null,null,10.783881430066547,null,"Exceeds cap of $15 million for Statewide & Regional Projects cascading to Division Needs",{"$f":"O180+BT180*0.25","v":16.180642213015471},null,"Northampton",100,"","","Halifax","","","",1,"A","01, , 04","Peanut Belt RPO, , ","Northampton, , Halifax, ",7.5027332400000004,7.5027332400000004,"Freeway","Freeway",2,3,"Divided","Divided",70,70,21.0432684483435,78.956731551656503,36362.556689999998,65408.408710000003,0.55593091786134041,28710.68627104221,7651.8704189577884,960106.99302050809,255884.31532331507,1215991.3083438231,29098268,57.640053430000002,53.200470930000002,68.702035480000006,"","",19,5.7188523679725298E-5,"No","No",12,12,"No",11,10,"4 Lane with Median - Full Control","6A - 6 Lane Divided (46' Depressed Median) with Paved Shoulders","Full","Full",1,"No",22,300960000,790000,95000,301845000,"",301845000,301845000,""]
["H141739","Bertie","Peanut Belt RPO","Highway","Statewide Mobility","","US-17 ","US 17A East of Windsor","South end of Chowan River Bridge","Upgrade roadway to Interstate","2 - Upgrade Arterial to Freeway/Expressway",120801000,5.0079009635828404,null,4.04,{"$f":"(V181+W181+Y181+Z181+AB181+AD181)","v":45},null,{"$f":"O181+P181+Q181","v":49.04},3.52,null,null,{"$f":"IF(AU181<30,0,IF(AU181<50,5,IF(AU181<65,10,IF(AU181>66,15))))","v":0},{"$f":"IF(X181<499,15,IF(X181<999,10,IF(X181<1499,5,IF(X181>1500,0))))","v":0},1916.4046364329799,{"$f":"IF(DD181<500,0,IF(DD181<1000,5,IF(DD181>1000,10)))","v":10},{"$f":"IF(AA181=\"Yes\",15,0)","v":15},"Yes",{"$f":"IF(AC181=\"Yes\",10,0)","v":10},"Yes",{"$f":"IF(AE181=\"Yes\",10,0)","v":10},"Yes",0,{"$f":"IF(X181<999,20,IF(X181<1499,15,IF(X181<1999,10,IF(X181<3999,5,IF(X181>4000,0)))))","v":10},15,0,"Yes",15,"Minimal",10,"Yes",0,"No",0,"No",9.7962399411793832,0.37251017789587837,0,6.6047609105597012,6.3632374574832147,42.364117748521622,0,25,null,null,null,"Peanut Belt RPO",100,"","","","","01",100,"","","","",{"$f":"SUM(V181+W181+Y181+Z181+AB181+AD181)","v":45},50,null,null,null,null,3.52,null,"Exceeds cap of $15 million for Statewide & Regional Projects cascading to Division Needs",{"$f":"O181+BT181*0.25","v":4.04},null,"Bertie",100,"","","","","","",1,"A","01, , ","Peanut Belt RPO, , ","Bertie, , , ",7.7616468999999997,7.7616468999999997,"Multi-Lane Highway","Freeway",2,2,"Divided","Divided",55.000291984953797,70,16.265134601790702,83.734865398209294,8121.3725828405404,74420.488354429806,0.10912818180071945,6800.4204007285998,1320.9521821119401,1603998.7142052867,311569.79668598284,1915568.5108912694,44999602,0,0,0,"","",29.776517950539802,9.7488231199124501E-5,"No","No",12,12,"No",3,4,"4 Lane with Median - Partial Control","4A - 4 Lane Divided (46' Depressed Median) with Paved Shoulders","None","Full",1,"Yes",29,94540000,23447000,2814000,120801000,"",120801000,120801000,""]
["H141220","Perquimans","Albemarle RPO","Highway","Division Needs","","SR-1200 ","NC 37","SR 1213","Widen and repave Perry's Bridge Road","16 - Modernize Roadway",1487000,null,null,null,null,null,null,7.89,4.5,null,"N/A",null,9466.3921313637402,null,null,"Yes",null,null,null,null,0,{"$f":"IF(X182<999,20,IF(X182<1499,15,IF(X182<1999,10,IF(X182<3999,5,IF(X182>4000,0)))))","v":0},15,10,"No",{"$f":"IF(AL182=\"Minimal\",15,0)","v":15},"Minimal",10,"Yes",0,"No",0,"No",0.38438709677419353,0,3.5375503362540002,0,"N/A","N/A",75,0,null,null,null,"Albemarle RPO",100,"","","","","01",100,"","","","",null,50,null,null,null,null,7.89,null,"Project Not Competitive",null,null,"Perquimans",100,"","","","","","",1,"A","01, , ","Albemarle RPO, , ","Perquimans, , , ",1.7453557799999999,1.7453557799999999,"Two Lane Highway","Two Lane Highway",1,1,"Undivided","Undivided",55,55,0,100,90,15500,5.8064516129032262E-3,90,0,0,0,0,0,7.0511415900000003,0,3.5625707900000001,"","","","","No","No",9,12,"No",0,0,"2 Lane Undivided","3A - 2 Lane with Two Way Left Turn Lane, and Paved Shoulders","None","None",2,"No",30,1487000,0,0,1487000,"",1487000,1487000,""]
["H090305","Washington","Albemarle RPO","Highway","Division Needs","R-4909","- New Route","SR 1126 (Newland Road)","SR 1125 (Millpond Road)","Construct Two Lane Facility on New Location.","5 - Construct Roadway on New Location",3830000," ",null," ",null,null,null,1.7543918552372901,6,null,"N/A",null,5466.922175852761,null,null,"Yes",null,null,null,null,0,{"$f":"IF(X183<999,20,IF(X183<1499,15,IF(X183<1999,10,IF(X183<3999,5,IF(X183>4000,0)))))","v":0},15,10,"No",{"$f":"IF(AL183=\"Minimal\",15,0)","v":15},"Minimal",10,"Yes",0,"No",0,"No",2.661746009269887,1.3004642297650131,13.581708313338,0,"N/A","N/A",0,0,null,null,null,"Albemarle RPO",100,"","","","","01",100,"","","","",null,50,null,null,null,null,1.7543918552372901,null,"Project Not Competitive",null,null,"Washington",100,"","","","","","",1,"A","01, , ","Albemarle RPO, , ","Washington, , , ",3.2,1.11833022,"Two Lane Highway","Two Lane Highway",1,1,"Undivided","Undivided",48,55,0,100,626.44914619999997,15588.69995,4.0186105846498121E-2,626.44914619999997,0,226398.99803106303,0,226398.99803106303,4980778,11.35602182,15.8078866,13.585291440000001,"","","","","No","No",11,11,"No",0,0,"New Roadway","2A - 2 Lane Undivided with Paved Shoulders, 55 mph","None","None",1,"No",32,3762000,61000,7000,3830000,"",3830000,3830000,""]
["H129515","Currituck","Albemarle RPO","Highway","Statewide Mobility","R-2576","- New Location Mid-Currituck Bridge","Coinjock","Corolla","Construct New Bridge Over Currituck Sound","5 - Construct Roadway on New Location",173304000,23.342830564038344,null,15.726629282408148,{"$f":"(V184+W184+Y184+Z184+AB184+AD184)","v":60},6.3,{"$f":"O184+P184+Q184","v":82.026629282408138},11.853563286896481,9,null,{"$f":"IF(AU184<30,0,IF(AU184<50,5,IF(AU184<65,10,IF(AU184>66,15))))","v":5},{"$f":"IF(X184<499,15,IF(X184<999,10,IF(X184<1499,5,IF(X184>1500,0))))","v":0},2285.8539293439476,{"$f":"IF(DD184<500,0,IF(DD184<1000,5,IF(DD184>1000,10)))","v":5},{"$f":"IF(AA184=\"Yes\",20,0)","v":20},"Yes",{"$f":"IF(AC184=\"Yes\",10,0)","v":10},"Yes",{"$f":"IF(AE184=\"Yes\",20,0)","v":20},"Yes",5,{"$f":"IF(BM182<999,20,IF(BM182<1499,15,IF(BM182<1999,10,IF(BM182<3999,5,IF(BM182>4000,0)))))","v":0},15,{"$f":"IF(AJ184=\"Yes\",10,0)","v":0},"No",{"$f":"IF(AL184=\"Minimal\",15,0)","v":15},"Minimal",10,"Yes",0,"No",0,"No",18.793795397608299,8.9256870412685227,40.816150430087994,4.7268539468324926,100,15.360235206666667,25,25,null,null,null,"Albemarle RPO",100,"","","","","01",100,"","","","",{"$f":"SUM(V184+W184+Y184+Z184+AB184+AD184)","v":60},45,null,null,null,null,11.853563286896481,null,"Exceeds cap of $15 million for Statewide & Regional Projects cascading to Division Needs",{"$f":"O184+BT184*0.25","v":15.726629282408148},null,"Currituck",100,"","","","","","",1,"A","01, , ","Albemarle RPO, , ","Currituck, , , ",43.4,6.8671598999999999,"Multi-Lane Highway","Two Lane Highway",2,1,"Undivided","Undivided",48,55,8.5628675608103002,91.437132439189696,11040.35281,46072.965450000003,0.23962757122680498,10094.982020633501,945.37078936649846,62075426.132216401,5813214.3755113408,67888640.507727742,1546857267,39.093044159999998,53.593429299999997,29.774223899999999,"","",2016,5.7389172778583896E-3,"No","No",11,12,"No",3,4,"New Roadway","2A - 2 Lane Undivided with Paved Shoulders, 55 mph","None","None",2,"No",24,383281000,25592000,1947000,410820000,237516000,173304000,173304000,"Toll Revenue less Roadway Maintenance and Financing"]
["H090442","Dare","Albemarle RPO","Highway","Statewide Mobility","U-3815","US-64 ","US 64 Business/NC 345","","US 64-US 64 Bypass-NC 345.  Improve intersection.","10 - Improve Intersection",1550000,26.823169613838097,null,21.9385617456722,{"$f":"(V185+W185+Y185+Z185+AB185+AD185)","v":60},5.85,{"$f":"O185+P185+Q185","v":87.788561745672197},13.654173443351365,9,null,{"$f":"IF(AU185<30,0,IF(AU185<50,5,IF(AU185<65,10,IF(AU185>66,15))))","v":15},{"$f":"IF(X185<499,15,IF(X185<999,10,IF(X185<1499,5,IF(X185>1500,0))))","v":15},139.0264115479155,{"$f":"IF(DD185<500,0,IF(DD185<1000,5,IF(DD185>1000,10)))","v":10},{"$f":"IF(AA185=\"Yes\",20,0)","v":20},"Yes",{"$f":"IF(AC185=\"Yes\",10,0)","v":0},"No",{"$f":"IF(AE185=\"Yes\",20,0)","v":0},"No",20,{"$f":"IF(BM183<999,20,IF(BM183<1499,15,IF(BM183<1999,10,IF(BM183<3999,5,IF(BM183>4000,0)))))","v":0},15,{"$f":"IF(AJ185=\"Yes\",10,0)","v":0},"No",{"$f":"IF(AL185=\"Minimal\",15,0)","v":0},"Significant",{"$f":"AQ185","v":0},"No",0,"No",0,"No",24.045702820610419,29.146031612903226,83.35,8.2540013041944356,8.7984902294512004,14.865280946666667,0,0,null,null,null,"Albemarle RPO",100,"","","","","01",100,"","","","",{"$f":"SUM(V185+W185+Y185+Z185+AB185+AD185)","v":60},35,null,null,null,null,13.654173443351365,null,"Minimal Local Support",{"$f":"O185+BT185*0.25","v":21.9385617456722},null,"Dare",100,"","","","","","",1,"A","01, , ","Albemarle RPO, , ","Dare, , , ",0.5,0.5,"Multi-Lane Highway","Multi-Lane Highway",2,2,"Undivided","Undivided",52.507045460133803,55,7.4033818208643005,92.596618179135703,22297.921419999999,88445.592550000001,0.25210890421017368,20647.121159161114,1650.800260838887,1844524.6341283831,147475.36587161687,1992000,45176349,"","","",66.7,100,33,1.4296980458902399E-4,"No","No",12,12,"No",4,4,"2 Lane Undivided","","Limited","Partial",2,"No",14.753019576345601,1250000,300000,0,1550000,"",1550000,1550000,""]
[null,null,null,null,null,null,null,null,null,null,null,null,null,null,null,null,null,null,null,null,null,null,null,null,null,null," ",null,null,null,null,null,null,0,null,null,null,null,null," "]